Workbook
Name _tab10: #REF!
Name _tab10: #REF!
Name _tab10: #REF!
Name _tab11: #REF!
Name _tab11: #REF!
Name _tab11: #REF!
Name _tab12: #REF!
Name _tab12: #REF!
Name _tab12: #REF!
Name _tab13: #REF!
Name _tab13: #REF!
Name _tab13: #REF!
Name _tab14: #REF!
Name _tab14: #REF!
Name _tab14: #REF!
Name _tab15: #REF!
Name _tab15: #REF!
Name _tab15: #REF!
Name _tab16: #REF!
Name _tab16: #REF!
Name _tab16: #REF!
Name _tab17: #REF!
Name _tab17: #REF!
Name _tab17: #REF!
Name _tab18: #REF!
Name _tab18: #REF!
Name _tab18: #REF!
Name _tab19: #REF!
Name _tab19: #REF!
Name _tab19: #REF!
Name _tab20: #REF!
Name _tab20: #REF!
Name _tab20: #REF!
Name _tab21: #REF!
Name _tab21: #REF!
Name _tab21: #REF!
Name _tab22: #REF!
Name _tab22: #REF!
Name _tab22: #REF!
Name _tab22222: #REF!
Name _tab22222: #REF!
Name _tab23: #REF!
Name _tab23: #REF!
Name _tab23: #REF!
Name _tab24: #REF!
Name _tab24: #REF!
Name _tab24: #REF!
Name _tab5: #REF!
Name _tab5: #REF!
Name _tab5: #REF!
Name _tab6: #REF!
Name _tab6: #REF!
Name _tab6: #REF!
Name _tab7: #REF!
Name _tab7: #REF!
Name _tab7: #REF!
Name _tab8: #REF!
Name _tab8: #REF!
Name _tab8: #REF!
Name _tab9: #REF!

Sheet 1
B1: Հավելված № 1
B2: ՀՀ կառավարության 2023 թվականի
B3: __________ «____» -ի
B4: N_____ -Ն որոշման
B5: ՀԱՅԱՍՏԱՆԻ ՀԱՆՐԱՊԵՏՈՒԹՅԱՆ ԿԱՌԱՎԱՐՈՒԹՅԱՆ 2022 ԹՎԱԿԱՆԻ ԴԵԿՏԵՄԲԵՐԻ 29-Ի № 2111-Ն ՈՐՈՇՄԱՆ №№ 3 և 4 ՀԱՎԵԼՎԱԾՆԵՐՈՒՄ ԿԱՏԱՐՎՈՂ ՓՈՓՈԽՈՒԹՅՈՒՆՆԵՐԸ ԵՎ ԼՐԱՑՈՒՄՆԵՐԸ
B6: (հազար դրամ)
B7: Գործառական դասիչը | E7: Ծրագրային դասիչը | G7: Բյուջետային հատկացումների գլխավոր կարգադրիչների, ծրագրերի, միջոցառումների և միջոցառումները կատարող պետական մարմինների անվանումները | H7: Ցուցանիշների փոփոխությունները (ավելացումները նշված են դրական նշանով, իսկ նվազեցումները` փակագծերում)
B8: բաժին | C8: խումբ | D8: դաս | E8: Ծրագիր | F8: Միջոցառում | H8: Տարի
B9: ԸՆԴԱՄԵՆԸ | H9: =+H10 -> 0
B10: 07 | G10: ԱՌՈՂՋԱՊԱՀՈՒԹՅՈՒՆ | H10: =+H12 -> 0
G11: այդ թվում՝
C12: 06 | G12: Առողջապահություն (այլ դասերին չպատկանող) | H12: =+H14 -> 0
G13: այդ թվում՝
D14: 02 | G14: Առողջապահություն (այլ դասերին չպատկանող) | H14: =+H16 -> 0
G15: այդ թվում՝
G16: ՀՀ Առողջապահության նախարարություն | H16: =+H18 -> 0
G17: այդ թվում`
E18: 1126 | G18: Առողջապահության ոլորտում պետական քաղաքականության մշակում, ծրագրերի համակարգում և մոնիտորինգ | H18: =+H20+H29 -> 0
G19: այդ թվում՝
F20: 31002 | G20: Առողջապահական կազմակերպությունների վերազինում | H20: =H24 -> 1098049.8
G21: այդ թվում ըստ կատարողների
G22: ՀՀ առողջապահության նախարարություն | H22: =H24 -> 1098049.8
G23: այդ թվում` բյուջետային ծախսերի տնտեսագիտական դասակարգման հոդվածներ
G24: ԸՆԴԱՄԵՆԸ ԾԱԽՍԵՐ | H24: =H25 -> 1098049.8
G25: ՈՉ ՖԻՆԱՆՍԱԿԱՆ ԱԿՏԻՎՆԵՐԻ ԳԾՈՎ ԾԱԽՍԵՐ | H25: =H26 -> 1098049.8
G26: ՀԻՄՆԱԿԱՆ ՄԻՋՈՑՆԵՐ | H26: =H27 -> 1098049.8
G27: ՄԵՔԵՆԱՆԵՐ ԵՎ ՍԱՐՔԱՎՈՐՈՒՄՆԵՐ | H27: =+H28 -> 1098049.8
G28: -վարչական սարքավորումներ | H28: 1098049.8
F29: 31003 | G29: Առողջապահական կազմակերպությունների կառուցում, վերակառուցում | H29: =+H31 -> -1098049.8
G30: այդ թվում ըստ կատարողների
G31: ՀՀ կառավարություն | H31: =+H33 -> -1098049.8
G32: այդ թվում` բյուջետային ծախսերի տնտեսագիտական դասակարգման հոդվածներ
G33: ԸՆԴԱՄԵՆԸ ԾԱԽՍԵՐ | H33: =H34 -> -1098049.8
G34: ՈՉ ՖԻՆԱՆՍԱԿԱՆ ԱԿՏԻՎՆԵՐԻ ԳԾՈՎ ԾԱԽՍԵՐ | H34: =H35 -> -1098049.8
G35: ՀԻՄՆԱԿԱՆ ՄԻՋՈՑՆԵՐ | H35: =H36 -> -1098049.8
G36: ՇԵՆՔԵՐ ԵՎ ՇԻՆՈՒԹՅՈՒՆՆԵՐ | H36: =+H37 -> -1098049.8
G37: - Շենքերի և շինությունների կապիտալ վերանորոգում | H37: -1098049.8

Sheet 2
B1: Հավելված № 2
B2: ՀՀ կառավարության 2023 թվականի
B3: __________ «____» -ի
B4: N_____ -Ն որոշման
B6: «ՀԱՅԱՍՏԱՆԻ ՀԱՆՐԱՊԵՏՈՒԹՅԱՆ 2023 ԹՎԱԿԱՆԻ ՊԵՏԱԿԱՆ ԲՅՈՒՋԵԻ ՄԱՍԻՆ» ՀԱՅԱՍՏԱՆԻ ՀԱՆՐԱՊԵՏՈՒԹՅԱՆ ՕՐԵՆՔԻ N 1 ՀԱՎԵԼՎԱԾԻ N 2 ԱՂՅՈՒՍԱԿՈՒՄ ԿԱՏԱՐՎՈՂ ՎԵՐԱԲԱՇԽՈՒՄԸ ԵՎ ՀԱՅԱՍՏԱՆԻ ՀԱՆՐԱՊԵՏՈՒԹՅԱՆ ԿԱՌԱՎԱՐՈՒԹՅԱՆ 2022 ԹՎԱԿԱՆԻ ԴԵԿՏԵՄԲԵՐԻ 29-Ի № 2111-Ն ՈՐՈՇՄԱՆ № 5 ՀԱՎԵԼՎԱԾԻ № 1 ԱՂՅՈՒՍԱԿՈՒՄ ԿԱՏԱՐՎՈՂ ՓՈՓՈԽՈՒԹՅՈՒՆՆԵՐԸ ԵՎ ԼՐԱՑՈՒՄՆԵՐԸ
B7: (հազ. դրամ)
B8: Ծրագրային դասիչը | D8: Բյուջետային հատկացումների գլխավոր կարգադրիչների, ծրագրերի և միջոցառումների անվանումները | E8: Ցուցանիշների փոփոխությունները (ավելացումները նշված են դրական նշանով, իսկ նվազեցումները` փակագծերում)
B9: Ծրագիր | C9: Միջոցառում | E9: Տարի
D10: ԸՆԴԱՄԵՆԸ | E10: =E12 -> 0
D11: ՀՀ առողջապահության նախարարություն
B12: 1126 | D12: Ծրագրի անվանումը | E12: =+E19+E25 -> 0
D13: Առողջապահության ոլորտում պետական քաղաքականության մշակում, ծրագրերի համակարգում և մոնիտորինգ
D14: Ծրագրի նպատակը
D15: Մարդու և հանրության առողջության պահպանում, բնակչության առողջության բարելավում, հիվանդությունների կանխարգելում, հաշմանդամության և մահացության ցուցանիշների նվազեցում
D16: Վերջնական արդյունքի նկարագրությունը
D17: Առողջապահության ոլորտում իրականացվող ծրագրերի ազդեցության և արդյունավետության բարելավում
B18: Ծրագրի միջոցառումներ
C19: 31002 | D19: Միջոցառման անվանումը | E19: =+'1'!H28 -> 1098049.8
D20: Առողջապահական կազմակերպությունների վերազինում
D21: Միջոցառման նկարագրությունը
D22: Բնակչությանը որակյալ բժշկական օգնության և սպասարկման ծառայություններ մատուցելու նպատակով առողջապահական կազմակերպությունների վերազինում
D23: Միջոցառման տեսակը
D24: Պետական մարմինների կողմից օգտագործվող ոչ ֆինանսական ակտիվների հետ գործառնություններ
C25: 31003 | D25: Միջոցառման անվանումը` | E25: =+'1'!H37 -> -1098049.8
D26: Առողջապահական կազմակերպությունների կառուցում, վերակառուցում
D27: Միջոցառման նկարագրությունը`
D28: Բնակչությանը որակյալ բժշկական օգնության և սպասարկման ծառայություններ մատուցելու նպատակով առողջապահական կազմակերպությունների կառուցում, վերակառուցում
D29: Միջոցառման տեսակը
D30: Պետական մարմինների կողմից օգտագործվող ոչ ֆինանսական ակտիվների հետ գործառնություններ

Sheet 3
B1: Հավելված № 3
B2: ՀՀ կառավարության 2023 թվականի
B3: __________ «____» -ի
B4: N_____ -Ն որոշման
B6: ՀԱՅԱՍՏԱՆԻ ՀԱՆՐԱՊԵՏՈՒԹՅԱՆ ԿԱՌԱՎԱՐՈՒԹՅԱՆ 2022 ԹՎԱԿԱՆԻ ԴԵԿՏԵՄԲԵՐԻ 29-Ի № 2111-Ն ՈՐՈՇՄԱՆ № 5 ՀԱՎԵԼՎԱԾԻ № 2 ԱՂՅՈՒՍԱԿՈՒՄ ԿԱՏԱՐՎՈՂ ՓՈՓՈԽՈՒԹՅՈՒՆՆԵՐԸ
B7: (հազ. դրամ)
B8: Ծրագրային դասիչ | D8: Բյուջետային գլխավոր կարգադրիչների, ծրագրերի, միջոցառումների և ուղղությունների անվանումները | E8: Ցուցանիշների փոփոխությունները (ավելացումները նշված են դրական նշանով, իսկ նվազեցումները` փակագծերում)
B9: Ծրագիր | C9: Միջոցառում | E9: Տարի
D10: ՀՀ ԱՌՈՂՋԱՊԱՀՈՒԹՅԱՆ ՆԱԽԱՐԱՐՈՒԹՅՈՒՆ | E10: =E12 -> 1098049.8
D11: այդ թվում`
B12: 1126 | C12: 31002 | D12: Առողջապահական կազմակերպությունների վերազինում | E12: =+E16+E18 -> 1098049.8
D13: այդ թվում ըստ կատարողների
D14: ՀՀ առողջապահության նախարարություն | E14: =+E16+E18 -> 1098049.8
D15: այդ թվում ըստ ուղղությունների
D16: ՀՀ Արագածոտնի մարզ | E16: =+E17 -> 580709
D17: «Թալինի բժշկական կենտրոն» ՓԲԸ | E17: 580709
D18: ՀՀ Վայոց Ձորի մարզ | E18: =+E19 -> 517340.82
D19: Վայոց Ձորի մարզային հիվանդանոց | E19: 517340.82
C20: 31003 | D20: Առողջապահական կազմակերպությունների կառուցում, վերակառուցում | E20: =E22 -> -1098049.8
D21: այդ թվում ըստ կատարողների
D22: ՀՀ կառավարություն | E22: =+E23 -> -1098049.8
D23: Առողջապահական կազմակերպությունների կառուցում, վերակառուցում | E23: -1098049.8

Sheet 4
B1: Հավելված № 4
B2: ՀՀ կառավարության 2023 թվականի
B3: __________ «____» -ի
B4: N_____ -Ն որոշման
B6: (հազ. դրամ)
B7: «ՀԱՅԱՍՏԱՆԻ ՀԱՆՐԱՊԵՏՈՒԹՅԱՆ 2023 ԹՎԱԿԱՆԻ ՊԵՏԱԿԱՆ ԲՅՈՒՋԵԻ ՄԱՍԻՆ» ՀԱՅԱՍՏԱՆԻ ՀԱՆՐԱՊԵՏՈՒԹՅԱՆ ՕՐԵՆՔԻ № 1 ՀԱՎԵԼՎԱԾԻ № 3 ԱՂՅՈՒՍԱԿՈՒՄ ԿԱՏԱՐՎՈՂ ՓՈՓՈԽՈՒԹՅՈՒՆՆԵՐԸ
B8: Ծրագրային դասիչ | D8: Բյուջետային գլխավոր կարգադրիչների, ծրագրերի, միջոցառումների և ուղղությունների անվանումները | E8: Ցուցանիշների փոփոխությունները (ավելացումները նշված են դրական նշանով, իսկ նվազեցումները` փակագծերում)
E9: Ընդամենը | F9: այդ թվում
B10: Ծրագիր | C10: Միջոցառում | F10: Կառուցման աշխատանքներ | G10: Վերակառուցման, վերանորոգման և վերականգնման աշխատանքներ | H10: Նախագծահե- տազոտական, գեոդեզիա- քարտեզագրա- կան աշխա- տանքներ | I10: Ոչ ֆինանսական այլ ակտիվների ձեռքբերում
D11: ՀՀ ԱՌՈՂՋԱՊԱՀՈՒԹՅԱՆ ՆԱԽԱՐԱՐՈՒԹՅՈՒՆ | E11: =+E13+E21 -> -81.18468 | F11: =+F13+F21 -> 0 | G11: =+G13+G21 -> -1098131 | H11: =+H13+H21 -> 0 | I11: =+I13+I21 -> 1098049.8
D12: այդ թվում`
B13: 1126 | C13: 31002 | D13: Առողջապահական կազմակերպությունների վերազինում | E13: =+E15 -> 1098049.8 | F13: =+F15 -> 0 | G13: =+G15 -> 0 | H13: =+H15 -> 0 | I13: =+I15 -> 1098049.8
D14: այդ թվում`
D15: ՀՀ առողջապահության նախարարություն | E15: =+E17+E19 -> 1098049.8 | F15: =+F17+F19 -> 0 | G15: =+G17+G19 -> 0 | H15: =+H17+H19 -> 0 | I15: =+I17+I19 -> 1098049.8
D16: այդ թվում ըստ ուղղությունների
D17: ՀՀ Արագածոտնի մարզ | E17: =+E18 -> 580709 | F17: =+F18 -> 0 | G17: =+G18 -> 0 | H17: =+H18 -> 0 | I17: =+I18 -> 580709
D18: «Թալինի բժշկական կենտրոն» ՓԲԸ | E18: =+F18+G18+H18+I18 -> 580709 | I18: =+'3'!E17 -> 580709
D19: ՀՀ Վայոց Ձորի մարզ | E19: =+E20 -> 517340.82 | F19: =+F20 -> 0 | G19: =+G20 -> 0 | H19: =+H20 -> 0 | I19: =+I20 -> 517340.82
D20: Վայոց Ձորի մարզային հիվանդանոց | E20: =+F20+G20+H20+I20 -> 517340.82 | I20: 517340.82
C21: 31003 | D21: Առողջապահական կազմակերպությունների կառուցում, վերակառուցում | E21: =+E23 -> -1098131 | F21: =+F23 -> 0 | G21: =+G23 -> -1098131 | H21: =+H23 -> 0 | I21: =+I23 -> 0
D22: այդ թվում`
D23: ՀՀ կառավարություն | E23: =+F23+G23+H23+I23 -> -1098131 | F23: 0 | G23: =+G24 -> -1098131 | H23: 0 | I23: 0
D24: Առողջապահական կազմակերպությունների կառուցում, վերակառուցում | E24: =+F24+G24+H24+I24 -> -1098131 | G24: =-1098049-82 -> -1098131

Sheet 5
B1: Հավելված № 5
B2: ՀՀ կառավարության 2023 թվականի
B3: __________ «____» -ի
B4: N_____ -Ն որոշման
B6: ՀԱՅԱՍՏԱՆԻ ՀԱՆՐԱՊԵՏՈՒԹՅԱՆ ԿԱՌԱՎԱՐՈՒԹՅԱՆ 2022 ԹՎԱԿԱՆԻ ԴԵԿՏԵՄԲԵՐԻ 29-Ի № 2111-Ն ՈՐՈՇՄԱՆ № 9 ՀԱՎԵԼՎԱԾԻ № 9.8 ԱՂՅՈՒՍԱԿՈՒՄ ԿԱՏԱՐՎՈՂ ՓՈՓՈԽՈՒԹՅՈՒՆՆԵՐԸ ԵՎ ԼՐԱՑՈՒՄՆԵՐԸ
B7: ՀՀ Առողջապահության նախարարություն
B8: ՄԱՍ 2. ՊԵՏԱԿԱՆ ՄԱՐՄՆԻ ԳԾՈՎ ԱՐԴՅՈՒՆՔԱՅԻՆ (ԿԱՏԱՐՈՂԱԿԱՆ) ՑՈՒՑԱՆԻՇՆԵՐԸ
B9: (հազ. դրամ)
B10: Ծրագրի դասիչը | C10: Ծրագրի անվանումը
B11: 1126 | C11: Առողջապահության ոլորտում պետական քաղաքականության մշակում, ծրագրերի համակարգում և մոնիտորինգ
B12: Ծրագրի միջոցառումները
B14: Ծրագրի դասիչը` | C14: 1126 | D14: Ցուցանիշների փոփոխությունները (ավելացումները նշված են դրական նշանով)
B15: Միջոցառման դասիչը` | C15: 31002 | D15: Տարի
B16: Միջոցառման անվանումը` | C16: Առողջապահական կազմակերպությունների վերազինում
B17: Նկարագրությունը` | C17: Բնակչությանը որակյալ բժշկական օգնության և սպասարկման ծառայություններ մատուցելու նպատակով առողջապահական կազմակերպությունների վերազինում
B18: Միջոցառման տեսակը` | C18: Պետական մարմինների կողմից օգտագործվող ոչ ֆինանսական ակտիվների հետ գործառնություններ
B19: Ակտիվն օգտագործող կազմակերպության (ների) անվանում(ներ)ը | C19: ՀՀ գնումների մասին օրենսդրությանը համապատասխան ընտրված կազմակերպություններ
B20: Արդյունքի չափորոշիչներ
B21: Կազմակերպությունների թիվը, որտեղ կատարվում են վերազինումներ (հատ) | D21: 2
B22: Միջոցառման վրա կատարվող ծախսը (հազար դրամ) | D22: =+'1'!H20 -> 1098049.8
B24: Ծրագրի դասիչը` | C24: 1126 | D24: Ցուցանիշների փոփոխությունը (նվազեցումները նշված են փակագծերում)
B25: Միջոցառման դասիչը` | C25: 31003 | D25: Տարի
B26: Միջոցառման անվանումը` | C26: Առողջապահական կազմակերպությունների կառուցում, վերակառուցում
B27: Նկարագրությունը` | C27: Բնակչությանը որակյալ բժշկական օգնության և սպասարկման ծառայություններ մատուցելու նպատակով առողջապահական կազմակերպությունների կառուցում, վերակառուցում
B28: Միջոցառման տեսակը` | C28: Պետական մարմինների կողմից օգտագործվող ոչ ֆինանսական ակտիվների հետ գործառնություններ
B29: Միջոցառումն իրականացնողի անվանումը | C29: ՀՀ գնումների մասին օրենսդրությանը համապատասխան ընտրված կազմակերպություններ
B30: Արդյունքի չափորոշիչներ
B32: Միջոցառման վրա կատարվող ծախսը (հազար դրամ) | D32: =+'1'!H37 -> -1098049.8

Sheet 6
B1: Հավելված № 6
B2: ՀՀ կառավարության 2023 թվականի
B3: __________ «____» -ի
B4: N_____ -Ն որոշման
B6: ՀԱՅԱՍՏԱՆԻ ՀԱՆՐԱՊԵՏՈՒԹՅԱՆ ԿԱՌԱՎԱՐՈՒԹՅԱՆ 2022 ԹՎԱԿԱՆԻ ԴԵԿՏԵՄԲԵՐԻ 29-Ի № 2111-Ն ՈՐՈՇՄԱՆ № 9.1 ՀԱՎԵԼՎԱԾԻ № 9.1.8 ԱՂՅՈՒՍԱԿՈՒՄ ԿԱՏԱՐՎՈՂ ՓՈՓՈԽՈՒԹՅՈՒՆՆԵՐԸ ԵՎ ԼՐԱՑՈՒՄՆԵՐԸ
B7: ՀՀ Առողջապահության նախարարություն
B8: ՄԱՍ 1. ՊԵՏԱԿԱՆ ՄԱՐՄՆԻ ԳԾՈՎ ԱՐԴՅՈՒՆՔԱՅԻՆ (ԿԱՏԱՐՈՂԱԿԱՆ) ՑՈՒՑԱՆԻՇՆԵՐԸ
B9: (հազ. դրամ)
B10: Ծրագրի դասիչը | C10: Ծրագրի անվանումը
B11: 1126 | C11: Առողջապահության ոլորտում պետական քաղաքականության մշակում, ծրագրերի համակարգում և մոնիտորինգ
B12: Ծրագրի միջոցառումները
B14: Ծրագրի դասիչը` | C14: 1126 | D14: Ցուցանիշների փոփոխությունները (ավելացումները նշված են դրական նշանով)
B15: Միջոցառման դասիչը` | C15: 31002 | D15: Տարի
B16: Միջոցառման անվանումը` | C16: Առողջապահական կազմակերպությունների վերազինում
B17: Նկարագրությունը` | C17: Բնակչությանը որակյալ բժշկական օգնության և սպասարկման ծառայություններ մատուցելու նպատակով առողջապահական կազմակերպությունների վերազինում
B18: Միջոցառման տեսակը` | C18: Պետական մարմինների կողմից օգտագործվող ոչ ֆինանսական ակտիվների հետ գործառնություններ
B19: Ակտիվն օգտագործող կազմակերպության (ների) անվանում(ներ)ը | C19: ՀՀ գնումների մասին օրենսդրությանը համապատասխան ընտրված կազմակերպություններ
B20: Արդյունքի չափորոշիչներ
B21: Կազմակերպությունների թիվը, որտեղ կատարվում են վերազինումներ (հատ) | D21: 2
B22: Միջոցառման վրա կատարվող ծախսը (հազար դրամ) | D22: =+'1'!H20 -> 1098049.8
B24: ՀԱՅԱՍՏԱՆԻ ՀԱՆՐԱՊԵՏՈՒԹՅԱՆ ԿԱՌԱՎԱՐՈՒԹՅԱՆ 2022 ԹՎԱԿԱՆԻ ԴԵԿՏԵՄԲԵՐԻ 29-Ի № 2111-Ն ՈՐՈՇՄԱՆ № 9.1 ՀԱՎԵԼՎԱԾԻ № 9.1.58 ԱՂՅՈՒՍԱԿՈՒՄ ԿԱՏԱՐՎՈՂ ՓՈՓՈԽՈՒԹՅՈՒՆՆԵՐԸ ԵՎ ԼՐԱՑՈՒՄՆԵՐԸ
B25: ՀՀ կառավարություն
B26: ՄԱՍ 1. ՊԵՏԱԿԱՆ ՄԱՐՄՆԻ ԳԾՈՎ ԱՐԴՅՈՒՆՔԱՅԻՆ (ԿԱՏԱՐՈՂԱԿԱՆ) ՑՈՒՑԱՆԻՇՆԵՐԸ
B27: (հազ. դրամ)
B28: Ծրագրի դասիչը` | C28: 1126 | D28: Ցուցանիշների փոփոխությունը (նվազեցումները նշված են փակագծերում)
B29: Միջոցառման դասիչը` | C29: 31003 | D29: Տարի
B30: Միջոցառման անվանումը` | C30: Առողջապահական կազմակերպությունների կառուցում, վերակառուցում
B31: Նկարագրությունը` | C31: Բնակչությանը որակյալ բժշկական օգնության և սպասարկման ծառայություններ մատուցելու նպատակով առողջապահական կազմակերպությունների կառուցում, վերակառուցում
B32: Միջոցառման տեսակը` | C32: Պետական մարմինների կողմից օգտագործվող ոչ ֆինանսական ակտիվների հետ գործառնություններ
B33: Միջոցառումն իրականացնողի անվանումը | C33: ՀՀ գնումների մասին օրենսդրությանը համապատասխան ընտրված կազմակերպություններ
B34: Արդյունքի չափորոշիչներ
B36: Միջոցառման վրա կատարվող ծախսը (հազար դրամ) | D36: =+'1'!H37 -> -1098049.8

Sheet 7
B1: Հավելված № 7
B2: ՀՀ կառավարության 2023 թվականի
B3: __________ «____» -ի
B4: N_____ -Ն որոշման
B5: ՀԱՅԱՍՏԱՆԻ ՀԱՆՐԱՊԵՏՈՒԹՅԱՆ ԿԱՌԱՎԱՐՈՒԹՅԱՆ 2022 ԹՎԱԿԱՆԻ ԴԵԿՏԵՄԲԵՐԻ 29-Ի № 2111-Ն ՈՐՈՇՄԱՆ № 10 ՀԱՎԵԼՎԱԾՈՒՄ ԿԱՏԱՐՎՈՂ ԼՐԱՑՈՒՄՆԵՐԸ
B6: Կոդը | C6: Անվանումը | F6: Գնման ձևը | G6: Չափման միավորը | H6: Ցուցանիշների փոփոխությունները (ավելացումները նշված են դրական նշանով)
H7: Միավորի գինը | I7: Քանակը | J7: Գումարը (հազար դրամով)
B8: ՀՀ Առողջապահության նախարարություն | J8: =+J10 -> 1098049.8
B9: 1 | C9: 2 | F9: 3 | G9: 4 | H9: 5 | I9: 6 | J9: 7
B10: Բաժին 07 | C10: Խումբ 06 | D10: Դաս 02 | E10: Առողջապահություն (այլ դասերին չպատկանող) | J10: =+J11 -> 1098049.8
B11: 1126 31002 | C11: Առողջապահական կազմակերպությունների վերազինում | J11: =+J12+J201+J204 -> 1098049.8
C12: ՄԱՍ I. ԱՊՐԱՆՔՆԵՐ | J12: =SUM(J13:J200) -> 1034828.8
B13: 33111150-501 | C13: ռենտգենադիտման սարքեր | F13: ԷԱՃ | G13: հատ | H13: 86000 | I13: 5 | J13: =H13*I13/1000 -> 430
B14: 33141174-501 | C14: բժշկական սարքերի հավաքածուներ | F14: ԷԱՃ | G14: հատ | H14: 160000 | I14: 3 | J14: =H14*I14/1000 -> 480
B15: 42931100-501 | C15: լաբորատորիական ցենտրիֆուգներ և պարագաներ | F15: ԷԱՃ | G15: հատ | H15: 360000 | I15: 3 | J15: =H15*I15/1000 -> 1080
B16: 33141174-503 | C16: բժշկական սարքերի հավաքածուներ | F16: ԷԱՃ | G16: հատ | H16: 396000 | I16: 5 | J16: =H16*I16/1000 -> 1980
B17: 33141224-501 | C17: վիրաբուժական գործիքներ բազմակոմպոնենտ | F17: ԷԱՃ | G17: լրակազմ | H17: 3996666.7 | I17: 3 | J17: =H17*I17/1000 -> 11990
B18: 33141224-502 | C18: վիրաբուժական գործիքներ բազմակոմպոնենտ | F18: ԷԱՃ | G18: լրակազմ | H18: 270000 | I18: 1 | J18: =H18*I18/1000 -> 270
B19: 42921180-504 | C19: կշեռքներ | F19: ԷԱՃ | G19: հատ | H19: 57000 | I19: 4 | J19: =H19*I19/1000 -> 228
B20: 33161180-504 | C20: վիրաբուժական լույսեր | F20: ԷԱՃ | G20: հատ | H20: 200000 | I20: 9 | J20: =H20*I20/1000 -> 1800
B21: 33161180-502 | C21: վիրաբուժական լույսեր | F21: ԷԱՃ | G21: հատ | H21: 1666666.7 | I21: 3 | J21: =H21*I21/1000 -> 5000
B22: 33191540-501 | C22: հիվանդների վիճակի հսկողության համակարգ | F22: ԷԱՃ | G22: հատ | H22: 363636.36 | I22: 11 | J22: =H22*I22/1000 -> 4000
B23: 33191540-502 | C23: հիվանդների վիճակի հսկողության համակարգ | F23: ԷԱՃ | G23: հատ | H23: 550000 | I23: 2 | J23: =H23*I23/1000 -> 1100
B24: 33161180-503 | C24: վիրաբուժական լույսեր | F24: ԷԱՃ | G24: հատ | H24: 131175 | I24: 1 | J24: =H24*I24/1000 -> 131.175
... B200: 33911110-502 | C200: դիահերձման գործիքների հավաքածու | F200: գհ | G200: հատ | H200: 600000 | I200: 1 | J200: =H200*I200/1000 -> 600
C201: ՄԱՍ II. ԱՇԽԱՏԱՆՔՆԵՐ | J201: =J202+J203 -> 53221
B202: 45421140-501 | C202: կահույքի պատրաստման աշխատանքներ | F202: գհ | G202: դրամ | H202: 24810000 | I202: 1 | J202: =H202*I202/1000 -> 24810
B203: 45421140-502 | C203: կահույքի պատրաստման աշխատանքներ | F203: գհ | G203: դրամ | H203: 28411000 | I203: 1 | J203: =H203*I203/1000 -> 28411
C204: ՄԱՍ III. ԾԱՌԱՅՈՒԹՅՈՒՆՆԵՐ | J204: =J205+J206 -> 10000
B205: 79931300-503 | C205: դիզայնի օժանդակ ծառայություններ | F205: ԷԱՃ | G205: դրամ | H205: 5000000 | I205: 1 | J205: =H205*I205/1000 -> 5000
B206: 79931300-504 | C206: դիզայնի օժանդակ ծառայություններ | F206: ԷԱՃ | G206: դրամ | H206: 5000000 | I206: 1 | J206: =H206*I206/1000 -> 5000

Sheet 8
E1: Հավելված № 8
D2: ՀՀ կառավարության 2023 թվականի
D3: __________ «____» -ի
D4: N_____ -Ն որոշման
B5: ՑԱՆԿ
B6: Հայաստանի Հանրապետության առողջապահության նախարարության կողմից ձեռք բերված և «Թալինի բժշկական կենտրոն» փակ բաժնետիրական ընկերությանը և Վայոց Ձորի մարզային հիվանդանոցին նվիրատվության կարգով հանձնվող գույքի
A7: Հ/Հ | B7: Անվանումը | C7: Չափման միավորը | D7: Միավորի գինը | E7: Քանակը | F7: Գումարը (հազար դրամով)
A8: Վայոց Ձորի մարզային հիվանդանոց
A9: 1 | B9: ռենտգենադիտման սարքեր | C9: հատ | D9: 86000 | E9: 5 | F9: =D9*E9/1000 -> 430
A10: 2 | B10: բժշկական սարքերի հավաքածուներ | C10: հատ | D10: 160000 | E10: 3 | F10: =D10*E10/1000 -> 480
A11: 3 | B11: լաբորատորիական ցենտրիֆուգներ և պարագաներ | C11: հատ | D11: 360000 | E11: 3 | F11: =D11*E11/1000 -> 1080
A12: 4 | B12: բժշկական սարքերի հավաքածուներ | C12: հատ | D12: 396000 | E12: 5 | F12: =D12*E12/1000 -> 1980
A13: 5 | B13: վիրաբուժական գործիքներ բազմակոմպոնենտ | C13: լրակազմ | D13: 3996666.7 | E13: 3 | F13: =D13*E13/1000 -> 11990
A14: 6 | B14: վիրաբուժական գործիքներ բազմակոմպոնենտ | C14: լրակազմ | D14: 270000 | E14: 1 | F14: =D14*E14/1000 -> 270
A15: 7 | B15: կշեռքներ | C15: հատ | D15: 57000 | E15: 4 | F15: =D15*E15/1000 -> 228
A16: 8 | B16: վիրաբուժական լույսեր | C16: հատ | D16: 200000 | E16: 9 | F16: =D16*E16/1000 -> 1800
A17: 9 | B17: վիրաբուժական լույսեր | C17: հատ | D17: 1666666.7 | E17: 3 | F17: =D17*E17/1000 -> 5000
A18: 10 | B18: հիվանդների վիճակի հսկողության համակարգ | C18: հատ | D18: 363636.36 | E18: 11 | F18: =D18*E18/1000 -> 4000
A19: 11 | B19: հիվանդների վիճակի հսկողության համակարգ | C19: հատ | D19: 550000 | E19: 2 | F19: =D19*E19/1000 -> 1100
A20: 12 | B20: վիրաբուժական լույսեր | C20: հատ | D20: 131175 | E20: 1 | F20: =D20*E20/1000 -> 131.175
... A98: 90 | B98: կահույքի պատրաստման աշխատանքներ | C98: դրամ | D98: 24810000 | E98: 1 | F98: =D98*E98/1000 -> 24810
F99: =SUM(F9:F98) -> 512340.82
A100: «Թալինի բժշկական կենտրոն» ՓԲԸ
A101: 1 | B101: ռենտգենադիտման սարքեր | C101: հատ | D101: 151000 | E101: 6 | F101: =D101*E101/1000 -> 906
A102: 2 | B102: ուլտրաձայնային ախտորոշման սարքեր | C102: հատ | D102: 6000000 | E102: 1 | F102: =D102*E102/1000 -> 6000
A103: 3 | B103: ուլտրաձայնային ախտորոշման սարքեր | C103: հատ | D103: 14000000 | E103: 1 | F103: =D103*E103/1000 -> 14000
A104: 4 | B104: ուլտրաձայնային ախտորոշման սարքեր | C104: հատ | D104: 15500000 | E104: 1 | F104: =D104*E104/1000 -> 15500
A105: 5 | B105: արյունաբանական վերլուծիչներ | C105: հատ | D105: 3500000 | E105: 1 | F105: =D105*E105/1000 -> 3500
A106: 6 | B106: բժշկական սարքերի հավաքածուներ | C106: հատ | D106: 2910000 | E106: 1 | F106: =D106*E106/1000 -> 2910
A107: 7 | B107: քիմիական վերլուծիչներ | C107: հատ | D107: 3600000 | E107: 1 | F107: =D107*E107/1000 -> 3600
A108: 8 | B108: բժշկական սարքերի հավաքածուներ | C108: հատ | D108: 575000 | E108: 2 | F108: =D108*E108/1000 -> 1150
A109: 9 | B109: ընկղման կայունաջերմոց (թերմոստատ) | C109: հատ | D109: 705000 | E109: 1 | F109: =D109*E109/1000 -> 705
A110: 10 | B110: արյան վերլուծիչներ | C110: հատ | D110: 1000000 | E110: 1 | F110: =D110*E110/1000 -> 1000
A111: 11 | B111: վերլուծիչներ | C111: հատ | D111: 1000000 | E111: 1 | F111: =D111*E111/1000 -> 1000
A112: 12 | B112: ջրի մաքրման սարքավորումներ | C112: հատ | D112: 915000 | E112: 1 | F112: =D112*E112/1000 -> 915
... A200: 100 | B200: կահույքի պատրաստման աշխատանքներ | C200: դրամ | D200: 28411000 | E200: 1 | F200: =D200*E200/1000 -> 28411
