Workbook

Sheet 1
A1: Հավելված N 1 ՀՀ կառավարության 2023 թվականի սեպտեմբերի -ի N -Ն որոշման
A3: «ՀԱՅԱՍՏԱՆԻ ՀԱՆՐԱՊԵՏՈՒԹՅԱՆ 2023 ԹՎԱԿԱՆԻ ՊԵՏԱԿԱՆ ԲՅՈՒՋԵԻ ՄԱՍԻՆ» ՀԱՅԱՍՏԱՆԻ ՀԱՆՐԱՊԵՏՈՒԹՅԱՆ ՕՐԵՆՔԻ N 3 ՀԱՎԵԼՎԱԾԻ N 1 ԱՂՅՈՒՍԱԿՈՒՄ ԵՎ ՀԱՅԱՍՏԱՆԻ ՀԱՆՐԱՊԵՏՈՒԹՅԱՆ ԿԱՌԱՎԱՐՈՒԹՅԱՆ 2022 ԹՎԱԿԱՆԻ ԴԵԿՏԵՄԲԵՐԻ 29-Ի N 2111-Ն ՈՐՈՇՄԱՆ N 1 ՀԱՎԵԼՎԱԾԻ N 1 ԱՂՅՈՒՍԱԿՈՒՄ ԿԱՏԱՐՎՈՂ ՓՈՓՈԽՈՒԹՅՈՒՆՆԵՐԸ
B5: հազ. դրամ
A6: Պետական բյուջեի դեֆիցիտի ֆինանսավորման աղբյուրներն ու դրանց տարրերի անվանումները | B6: Ցուցանիշների փոփոխությունը (ավելացումները նշված են դրական նշանով, իսկ նվազեցումները` փակագծերում)
B7: Տարի
A8: ԸՆԴԱՄԵՆԸ | B8: =B12 -> 0
A9: այդ թվում՝
A10: Ա.Ներքին աղբյուրներ-ընդամենը | B10: =B12 -> 0
A11: այդ թվում՝
A12: 2. Ֆինանսական զուտ ակտիվներ | B12: =B14+B15 -> 0
A13: այդ թվում՝
A14: 2.3. Ելքերի ֆինանսավորմանն ուղղվող պետական բյուջեի տարեսկզբի ազատ մնացորդի միջոցներ | B14: =-B17 -> 2000000
A15: 2.4. Վարկերի և փոխատվությունների տրամադրում | B15: =+B17 -> -2000000
A16: այդ թվում
A17: Բյուջետային վարկերի տրամադրում տնտեսվարող սուբյեկտներին | B17: -2000000

Sheet 2
A1: Հավելված N 2 ՀՀ կառավարության 2023 թվականի սեպտեմբերի -ի N -Ն որոշման
B2: «ՀԱՅԱՍՏԱՆԻ ՀԱՆՐԱՊԵՏՈՒԹՅԱՆ 2023 ԹՎԱԿԱՆԻ ՊԵՏԱԿԱՆ ԲՅՈՒՋԵԻ ՄԱՍԻՆ» ՀԱՅԱՍՏԱՆԻ ՀԱՆՐԱՊԵՏՈՒԹՅԱՆ ՕՐԵՆՔԻ N 3 ՀԱՎԵԼՎԱԾԻ N 1.1 ԱՂՅՈՒՍԱԿՈՒՄ ԵՎ ՀԱՅԱՍՏԱՆԻ ՀԱՆՐԱՊԵՏՈՒԹՅԱՆ ԿԱՌԱՎԱՐՈՒԹՅԱՆ ԴԵԿՏԵՄԲԵՐԻ 29-Ի N 2111-Ն N 1 ՀԱՎԵԼՎԱԾԻ N 2 ԱՂՅՈՒՍԱԿՈՒՄ ԿԱՏԱՐՎՈՂ ԼՐԱՑՈՒՄԸ
E4: հազ. դրամ
B5: Ծրագրային դասիչ | D5: Բյուջետային գլխավոր կարգադրիչների, ծրագրերի և միջոցառումների անվանումները | E5: Ցուցանիշների փոփոխությունը (ավելացումները նշված են դրական նշանով)
B6: Ծրագիր | C6: Միջոցառում | E6: Տարի
D7: ԸՆԴԱՄԵՆԸ այդ թվում | E7: =+E9 -> 2000000
B8: ՀՀ էկոնոմիկայի նախարարություն
B9: 1226 | D9: Ծրագրի անվանումը՝ | E9: =E16 -> 2000000
D10: Տնտեսական երկարաժամկետ զարգացմանն ուղղված ծրագիր
D11: Ծրագրի նպատակը՝ Մասնավոր ներդրումների աճի խթանում
D13: Վերջնական արդյունքի նկարագրությունը՝ Ներդրումների ծավալների աճ
B15: Ֆինանսական ակտիվների կառավարման միջոցառումներ
C16: 42001 | D16: Միջոցառման անվանումը՝ | E16: =-'1'!B17 -> 2000000
D17: «Հայ-Ալմաստ» փակ բաժնետիրական ընկերությանը բյուջետային վարկի տրամադրում
D18: Նկարագրությունը՝
D19: Խաղողի մթերումների աջակցության նպատակով բյուջետային վարկի տրամադրում
D20: Միջոցառման տեսակը՝ Վարկերի տրամադրում

Sheet 3
A1: Հավելված N 3 ՀՀ կառավարության 2023 թվականի սեպտեմբերի -ի N -Ն որոշման
A2: «ՀԱՅԱՍՏԱՆԻ ՀԱՆՐԱՊԵՏՈՒԹՅԱՆ 2023 ԹՎԱԿԱՆԻ ՊԵՏԱԿԱՆ ԲՅՈՒՋԵԻ ՄԱՍԻՆ» ՀԱՅԱՍՏԱՆԻ ՀԱՆՐԱՊԵՏՈՒԹՅԱՆ ՕՐԵՆՔԻ N 3 ՀԱՎԵԼՎԱԾՈՒՄ N1.1.1 ԱՂՅՈՒՍԱԿԻ ԵՎ ՀԱՅԱՍՏԱՆԻ ՀԱՆՐԱՊԵՏՈՒԹՅԱՆ ԿԱՌԱՎԱՐՈՒԹՅԱՆ ԴԵԿՏԵՄԲԵՐԻ 29-Ի N 2111-Ն ՈՐՈՇՄԱՆ N 1 ՀԱՎԵԼՎԱԾՈՒՄ N 4 ԱՂՅՈՒՍԱԿԻ ԼՐԱՑՈՒՄՆԵՐԸ
D3: հազ․ դրամ
A4: Ծրագրային դասիչ | C4: Պետական բյուջեի դեֆիցիտի ֆինանսավորման աղբյուրներն ու դրանց տարրերի անվանումները | D4: Ցուցանիշների փոփոխությունը (ավելացումները նշված են դրական նշանով)
D5: Տարի
A6: Ծրագիր | B6: Միջոցառում | C6: ԸՆԴԱՄԵՆԸ | D6: =+D8 -> 2000000
C7: այդ թվում՝
C8: ՀՀ էկոնոմիկայի նախարարություն | D8: =+D9 -> 2000000
A9: =+'2'!B9 -> 1226 | C9: =+'2'!D10 -> Տնտեսական երկարաժամկետ զարգացմանն ուղղված ծրագիր | D9: =+D10 -> 2000000
B10: =+'2'!C16 -> 42001 | C10: =+'2'!D17 -> «Հայ-Ալմաստ» փակ բաժնետիրական ընկերությանը բյուջետային վարկի տրամադրում | D10: =+D14 -> 2000000
C11: այդ թվում՝ ըստ կատարողների
C12: ՀՀ ֆինանսների նախարարություն | D12: =+D10 -> 2000000
C13: այդ թվում՝ ըստ տնտեսագիտական դասակարգման հոդվածների՝
C14: ՀԻՄՆԱԿԱՆ ԳՈՒՄԱՐԻ ՄԱՐՄԱՆ ԵՎ ՖԻՆԱՆՍԱԿԱՆ ԱԿՏԻՎՆԵՐԻ ՁԵՌՔԲԵՐՄԱՆ ԳԾՈՎ ԾԱԽՍԵՐ, այդ թվում` | D14: =+D15 -> 2000000
C15: ՖԻՆԱՆՍԱԿԱՆ ԱԿՏԻՎՆԵՐԻ ՁԵՌՔԲԵՐՈՒՄ, այդ թվում | D15: =+D16 -> 2000000
C16: ՆԵՐՔԻՆ ՖԻՆԱՆՍԱԿԱՆ ԱԿՏԻՎՆԵՐԻ ՁԵՌՔԲԵՐՈՒՄ, այդ թվում` | D16: =+D17 -> 2000000
C17: Ներքին վարկեր և փոխատվություններ | D17: =+'2'!E16 -> 2000000

Sheet 4
A1: Հավելված N 4 ՀՀ կառավարության 2023 թվականի սեպտեմբերի -ի N -Ն որոշման
A2: «ՀԱՅԱՍՏԱՆԻ ՀԱՆՐԱՊԵՏՈՒԹՅԱՆ 2023 ԹՎԱԿԱՆԻ ՊԵՏԱԿԱՆ ԲՅՈՒՋԵԻ ՄԱՍԻՆ» ՀԱՅԱՍՏԱՆԻ ՀԱՆՐԱՊԵՏՈՒԹՅԱՆ ՕՐԵՆՔԻ N 3 ՀԱՎԵԼՎԱԾՈՒՄ N 1.1.1.1 ԱՂՅՈՒՍԱԿԻ ԵՎ ՀԱՅԱՍՏԱՆԻ ՀԱՆՐԱՊԵՏՈՒԹՅԱՆ ԿԱՌԱՎԱՐՈՒԹՅԱՆ ԴԵԿՏԵՄԲԵՐԻ 29-Ի N 2111-Ն ՈՐՈՇՄԱՆ N 1 ՀԱՎԵԼՎԱԾՈՒՄ N 5 ԱՂՅՈՒՍԱԿԻ ԼՐԱՑՈՒՄՆԵՐԸ
A4: ՄԱՍ 2. ՊԵՏԱԿԱՆ ՄԱՐՄՆԻ ԳԾՈՎ ԱՐԴՅՈՒՆՔԱՅԻՆ (ԿԱՏԱՐՈՂԱԿԱՆ) ՑՈՒՑԱՆԻՇՆԵՐԸ
A6: Ծրագրի դասիչը | B6: Ծրագրի անվանումը
A7: =+'2'!B9 -> 1226 | B7: =+'2'!D10 -> Տնտեսական երկարաժամկետ զարգացմանն ուղղված ծրագիր
A8: Ծրագրի միջոցառումները
A9: Ծրագրի դասիչը՝ | B9: =+'2'!B9 -> 1226 | C9: Ցուցանիշների փոփոխությունը (ավելացումները նշված են դրական նշանով)
A10: Միջոցառման դասիչը՝ | B10: =+'2'!C16 -> 42001 | C10: Տարի
A11: Միջոցառման անվանումը՝ | B11: =+'2'!D17 -> «Հայ-Ալմաստ» փակ բաժնետիրական ընկերությանը բյուջետային վարկի տրամադրում
A12: Նկարագրությունը՝ | B12: =+'2'!D19 -> Խաղողի մթերումների աջակցության նպատակով բյուջետային վարկի տրամադրում
A13: Միջոցառման տեսակը՝ | B13: Վարկերի տրամադրում
A14: Միջոցառումն իրականացնողի անվանումը՝ | B14: ՀՀ էկոնոմիկայի նախարարություն
B15: Արդյունքի չափորոշիչներ
A16: Տրամադրված բյուջետային վարկ | C16: 1
A17: Միջոցառման վրա կատարվող ծախսը (հազար դրամ) | C17: ='1'!B14 -> 2000000

Sheet 5
A1: Հավելված N 5 ՀՀ կառավարության 2023 թվականի սեպտեմբերի -ի N -Ն որոշման
A3: «ՀԱՅԱՍՏԱՆԻ ՀԱՆՐԱՊԵՏՈՒԹՅԱՆ 2023 ԹՎԱԿԱՆԻ ՊԵՏԱԿԱՆ ԲՅՈՒՋԵԻ ՄԱՍԻՆ» ՀԱՅԱՍՏԱՆԻ ՀԱՆՐԱՊԵՏՈՒԹՅԱՆ ՕՐԵՆՔԻ N 1 ՀԱՎԵԼՎԱԾԻ N 2 ԱՂՅՈՒՍԱԿՈՒՄ ԿԱՏԱՐՎՈՂ ՎԵՐԱԲԱՇԽՈՒՄԸ, ԼՐԱՑՈՒՄԸ ԵՎ ՀԱՅԱՍՏԱՆԻ ՀԱՆՐԱՊԵՏՈՒԹՅԱՆ ԿԱՌԱՎԱՐՈՒԹՅԱՆ 2022 ԹՎԱԿԱՆԻ ԴԵԿՏԵՄԲԵՐԻ 29-Ի N 2111-Ն ՈՐՈՇՄԱՆ N 5 ՀԱՎԵԼՎԱԾԻ N 1 ԱՂՅՈՒՍԱԿՈՒՄ ԿԱՏԱՐՎՈՂ ՓՈՓՈԽՈՒԹՅՈՒՆԸ և ԼՐԱՑՈՒՄԸ
A5: Ծրագրային դասիչը | C5: Բյուջետային գլխավոր կարգադրիչների, ծրագրերի և միջոցառումների անվանումները | D5: Ցուցանիշների փոփոխությունը (ավելացումները նշված են դրական նշանով, իսկ նվազեցումները փակագծերում)
A6: Ծրագիր | B6: Միջոցառում | D6: Տարի
C7: ԸՆԴԱՄԵՆԸ ԾԱԽՍԵՐ | D7: =+D8+D22 -> 0 | G7: -280460.5 | H7: -477820.7
C8: ՀՀ էկոնոմիկայի նախարարություն | D8: =+D9 -> 870000
A9: 1022 | C9: Ծրագրի անվանումը` | D9: =+D16 -> 870000
C10: Գյուղատնտեսության խթանման ծրագիր
C11: Ծրագրի նպատակը`
C12: Գյուղատնտեսական մթերքի և դրանց վերամշակումից ստացվող սննդամթերքի ծավալների ավելացում
C13: Վերջնական արդյունքի նկարագրությունը`
C14: Գյուղատնտեսական մթերքների ծավալների ավելացում: Օգտագործվող վարելահողերի ավելացում: Պտուղբանջարեղենի և խաղողի վերամշակումից ստացված արտադրանքի ծավալների աճ
A15: Ծրագրի միջոցառումներ
B16: 12014 | C16: Միջոցառման անվանումը` | D16: 870000
C17: Խաղողի մթերումներ իրականացնող տնտեսավարող սուբյեկտներին սուբսիդավորում
C18: Միջոցառման նկարագրությունը`
C19: Խաղողի մթերումներ իրականացնող տնտեսավարող սուբյեկտներին սուբսիդավորում
C20: Միջոցառման տեսակը
C21: Տրանսֆերտների տրամադրում
C22: ՀՀ կառավարություն | D22: =+D23 -> -870000
A23: 1139 | C23: Ծրագրի անվանումը` | D23: =+D30 -> -870000
C24: ՀՀ կառավարության պահուստային ֆոնդ
C25: Ծրագրի նպատակը`
C26: Պետական բյուջեում չկանխատեսված, ինչպես նաև բյուջետային երաշխիքների ապահովման ծախսերի ֆինանսավորման ապահովում_x000D_
C27: Վերջնական արդյունքի նկարագրությունը`
C28: Պահուստային ֆոնդի կառավարման արդյունավետության և թափանցիկության ապահովում_x000D_
A29: Ծրագրի միջոցառումներ
B30: 11001 | C30: Միջոցառման անվանումը` | D30: =+D16*-1 -> -870000
C31: ՀՀ կառավարության պահուստային ֆոնդ
C32: Միջոցառման նկարագրությունը`
C33: ՀՀ պետական բյուջեում նախատեսված ելքերի լրացուցիչ ֆինանսավորման, պետական բյուջեում չկանխատեսված ելքերի, ինչպես նաև բյուջետային երաշխիքների ապահովման ելքերի ֆինանսավորման ապահովում
C34: Միջոցառման տեսակը
C35: Ծառայությունների մատուցում

Sheet 6
A1: Հավելված N 6 ՀՀ կառավարության 2023 թվականի սեպտեմբերի -ի N -Ն որոշման
A2: ՀԱՅԱՍՏԱՆԻ ՀԱՆՐԱՊԵՏՈՒԹՅԱՆ ԿԱՌԱՎԱՐՈՒԹՅԱՆ 2022 ԹՎԱԿԱՆԻ ԴԵԿՏԵՄԲԵՐԻ 29-Ի N 2111-Ն ՈՐՈՇՄԱՆ N 3 ԵՎ 4 ՀԱՎԵԼՎԱԾՆԵՐՈՒՄ ԿԱՏԱՐՎՈՂ ՓՈՓՈԽՈՒԹՅՈՒՆԸ և ԼՐԱՑՈՒՄԸ
A4: Գործառական դասիչը | D4: Ծրագրային դասիչը | F4: Բյուջետային ծախսերի գործառական դասակարգման բաժինների, խմբերի և դասերի, բյուջետային ծրագրերի միջոցառումների, բյուջետային հատկացումների գլխավոր կարգադրիչների անվանումները | G4: Ցուցանիշների փոփոխությունը (ավելացումները նշված են դրական նշանով, իսկ նվազեցումները փակագծերում)
A5: Բաժին | B5: Խումբ | C5: Դաս | D5: Ծրագիր | E5: Միջոցառում | G5: Տարի
F6: ԸՆԴԱՄԵՆԸ ԾԱԽՍԵՐ | G6: =+G7+G28 -> 0
F7: ՀՀ էկոնոմիկայի նախարարություն | G7: =+G9 -> 870000
F8: այդ թվում`
A9: 04 | F9: ՏՆՏԵՍԱԿԱՆ ՀԱՐԱԲԵՐՈՒԹՅՈՒՆՆԵՐ | G9: =SUM(G11) -> 870000
F10: այդ թվում`
B11: 02 | F11: Գյուղատնտեսություն, անտառային տնտեսություն, ձկնորսություն և որսորդություն | G11: =+G13 -> 870000
F12: այդ թվում`
C13: 01 | F13: Գյուղատնտեսություն | G13: =G15 -> 870000
F14: այդ թվում`
F15: ՀՀ էկոնոմիկայի նախարարություն | G15: =+G17 -> 870000
F16: այդ թվում`
D17: 1022 | F17: Գյուղատնտեսության խթանման ծրագիր | G17: =+G19 -> 870000
F18: այդ թվում`
E19: 12014 | F19: =+'5'!C17 -> Խաղողի մթերումներ իրականացնող տնտեսավարող սուբյեկտներին սուբսիդավորում | G19: =+G21 -> 870000
F20: այդ թվում` ըստ կատարողների
F21: ՀՀ էկոնոմիկայի նախարարություն | G21: =+G23 -> 870000
F22: այդ թվում` բյուջետային ծախսերի տնտեսագիտական դասակարգման հոդվածներ
F23: ԸՆԴԱՄԵՆԸ ԾԱԽՍԵՐ | G23: =+G24 -> 870000
F24: ԸՆԹԱՑԻԿ ԾԱԽՍԵՐ | G24: =+G25 -> 870000
F25: ՍՈՒԲՍԻԴԻԱՆԵՐ | G25: =+G26 -> 870000
F26: Սուբսիդիաներ ոչ պետական կազմակերպություններին | G26: =+G27 -> 870000
F27: - Սուբսիդիաներ ոչ պետական ոչ ֆինանսական կազմակերպություններին | G27: =+'5'!D16 -> 870000
A28: 11 | F28: ՀԻՄՆԱԿԱՆ ԲԱԺԻՆՆԵՐԻՆ ՉԴԱՍՎՈՂ ՊԱՀՈՒՍՏԱՅԻՆ ՖՈՆԴԵՐ | G28: =SUM(G30) -> -870000
F29: այդ թվում`
B30: 01 | F30: ՀՀ կառավարության և համայնքների պահուստային ֆոնդ | G30: =G32 -> -870000
F31: այդ թվում`
C32: 01 | F32: ՀՀ կառավարության պահուստային ֆոնդ | G32: =G34 -> -870000
F33: այդ թվում`
F34: ՀՀ կառավարություն | G34: =+G36 -> -870000
F35: այդ թվում`
D36: 1139 | F36: =+'5'!C24 -> ՀՀ կառավարության պահուստային ֆոնդ | G36: =+G38 -> -870000
F37: այդ թվում`
E38: 11001 | F38: =+'5'!C31 -> ՀՀ կառավարության պահուստային ֆոնդ | G38: =+G40 -> -870000
F39: այդ թվում` ըստ կատարողների
F40: ՀՀ կառավարություն | G40: =+G42 -> -870000
F41: այդ թվում` բյուջետային ծախսերի տնտեսագիտական դասակարգման հոդվածներ
F42: ԸՆԴԱՄԵՆԸ ԾԱԽՍԵՐ | G42: =+G43 -> -870000
F43: ԸՆԹԱՑԻԿ ԾԱԽՍԵՐ | G43: =+G44 -> -870000
F44: ԱՅԼ ԾԱԽՍԵՐ | G44: =+G45 -> -870000
F45: Պահուստային միջոցներ | G45: =+'5'!D30 -> -870000

Sheet 7
A1: Հավելված N 7 ՀՀ կառավարության 2023 թվականի սեպտեմբերի -ի N -Ն որոշման
A3: ՀԱՅԱՍՏԱՆԻ ՀԱՆՐԱՊԵՏՈՒԹՅԱՆ ԿԱՌԱՎԱՐՈՒԹՅԱՆ 2022 ԹՎԱԿԱՆԻ ԴԵԿՏԵՄԲԵՐԻ 29-Ի N 2111-Ն ՈՐՈՇՄԱՆ N 9 ՀԱՎԵԼՎԱԾԻ N 9.10 ԱՂՅՈՒՍԱԿՈՒՄ ԵՎ N 9.1 ՀԱՎԵԼՎԱԾԻ N 9.1.10 ԱՂՅՈՒՍԱԿՈՒՄ ԿԱՏԱՐՎՈՂ ՓՈՓՈԽՈՒԹՅՈՒՆԸ ԵՎ ԼՐԱՑՈՒՄԸ
A4: ՀՀ էկոնոմիկայի նախարարություն
A5: ՄԱՍ 2. ՊԵՏԱԿԱՆ ՄԱՐՄՆԻ ԳԾՈՎ ԱՐԴՅՈՒՆՔԱՅԻՆ (ԿԱՏԱՐՈՂԱԿԱՆ) ՑՈՒՑԱՆԻՇՆԵՐԸ
A6: Ծրագրի դասիչը | B6: Ծրագրի անվանումը
A7: 1022 | B7: Գյուղատնտեսության խթանման ծրագիր
A9: Ծրագրի դասիչը` | B9: 1022 | C9: Ցուցանիշների փոփոխությունը (ավելացումները նշված են դրական նշանով)
A10: Միջոցառման դասիչը` | B10: 12014 | C10: Տարի
A11: Միջոցառման անվանումը` | B11: =+'[1]1'!C17 -> Խաղողի մթերումներ իրականացնող տնտեսավարող սուբյեկտներին սուբսիդավորում
A12: Նկարագրությունը` | B12: =+'[1]1'!C19 -> Խաղողի մթերումներ իրականացնող տնտեսավարող սուբյեկտներին սուբսիդավորում
A13: Միջոցառման տեսակը` | B13: =+'[1]1'!C21 -> Տրանսֆերտների տրամադրում
A14: Շահառուների ընտրության չափանիշները | B14: Խաղողի մթերումներ իրականացնող տնտեսավարող սուբյեկտներ
A15: Արդյունքի չափորոշիչներ
A16: Սուբսիդավորվող տնտեսավարողների թիվը | C16: 3
A17: Միջոցառման վրա կատարվող ծախսը (հազար դրամ) | C17: =+'5'!D16 -> 870000
A21: ՀԱՅԱՍՏԱՆԻ ՀԱՆՐԱՊԵՏՈՒԹՅԱՆ ԿԱՌԱՎԱՐՈՒԹՅԱՆ 2022 ԹՎԱԿԱՆԻ ԴԵԿՏԵՄԲԵՐԻ 29-Ի N 2111-Ն ՈՐՈՇՄԱՆ N 9 ՀԱՎԵԼՎԱԾԻ N 9.47 ԱՂՅՈՒՍԱԿՈՒՄ ԵՎ N 9.1 ՀԱՎԵԼՎԱԾԻ N 9.1.58 ԱՂՅՈՒՍԱԿՈՒՄԿԱՏԱՐՎՈՂ ՓՈՓՈԽՈՒԹՅՈՒՆԸ
A22: ՀՀ կառավարություն
A23: ՄԱՍ 2. ՊԵՏԱԿԱՆ ՄԱՐՄՆԻ ԳԾՈՎ ԱՐԴՅՈՒՆՔԱՅԻՆ (ԿԱՏԱՐՈՂԱԿԱՆ) ՑՈՒՑԱՆԻՇՆԵՐԸ
A24: Ծրագրի դասիչը | B24: Ծրագրի անվանումը
A25: 1139 | B25: ՀՀ կառավարության պահուստային ֆոնդ
A27: Ծրագրի դասիչը` | B27: 1139 | C27: Ցուցանիշների փոփոխությունը (նվազեցումները նշված են փակագծերում)
A28: Միջոցառման դասիչը` | B28: 11001 | C28: Տարի
A29: Միջոցառման անվանումը` | B29: ՀՀ կառավարության պահուստային ֆոնդ
A30: Նկարագրությունը` | B30: ՀՀ պետական բյուջեում նախատեսված ելքերի լրացուցիչ ֆինանսավորման, պետական բյուջեում չկանխատեսված ելքերի, ինչպես նաև բյուջետային երաշխիքների ապահովման ելքերի ֆինանսավորման ապահովում
A31: Միջոցառման տեսակը` | B31: Ծառայությունների մատուցում
A32: Միջոցառումն իրականացնողի անվանումը | B32: ՀՀ կառավարություն
A33: Միջոցառման վրա կատարվող ծախսը (հազար դրամ) | C33: =+'5'!D30 -> -870000
