Workbook

Sheet Հավելված 1
D1: Հավելված N 1
D2: ՀՀ կառավարության 2023 թվականի
D3: ___________ ___-ի N _______ որոշման
A4: «ՀԱՅԱՍՏԱՆԻ ՀԱՆՐԱՊԵՏՈՒԹՅԱՆ 2023 ԹՎԱԿԱՆԻ ՊԵՏԱԿԱՆ ԲՅՈՒՋԵԻ ՄԱՍԻՆ» ՀԱՅԱՍՏԱՆԻ ՀԱՆՐԱՊԵՏՈՒԹՅԱՆ ՕՐԵՆՔԻ N 1 ՀԱՎԵԼՎԱԾԻ N 2 ԱՂՅՈՒՍԱԿՈՒՄ ԿԱՏԱՐՎՈՂ ՎԵՐԱԲԱՇԽՈՒՄԸ ԵՎ ՀԱՅԱՍՏԱՆԻ ՀԱՆՐԱՊԵՏՈՒԹՅԱՆ ԿԱՌԱՎԱՐՈՒԹՅԱՆ 2022 ԹՎԱԿԱՆԻ ԴԵԿՏԵՄԲԵՐԻ 29-Ի N 2111-Ն ՈՐՈՇՄԱՆ N 5 ՀԱՎԵԼՎԱԾԻ N 1 ԱՂՅՈՒՍԱԿՈՒՄ ԿԱՏԱՐՎՈՂ ՓՈՓՈԽՈՒԹՅՈՒՆՆԵՐԸ
D5: հազ. դրամներով
A6: Ծրագրային դասիչը | C6: Բյուջետային հատկացումների գլխավոր կարգադրիչների, ծրագրերի և միջոցառումների անվանումները | D6: Ցուցանիշների փոփոխությունը (ավելացումները նշված են դրական նշանով, իսկ նվազեցումները՝ փակագծերում)
A7: Ծրագիր | B7: Միջոցառում | D7: Տարի
C8: ԸՆԴԱՄԵՆԸ | D8: =D9+D41 -> 0.014
C9: ՀՀ պետական եկամուտների կոմիտե | D9: =D10 -> -715034.79
A10: 1023 | C10: Ծրագրի անվանումը՝ | D10: =SUM(D17:D40) -> -715034.79
C11: Հարկային և մաքսային ծառայություններ
C12: Ծրագրի նպատակը՝
C13: Հարկային և մաքսային միասնական պետական քաղաքականության իրականացում, հարկային և մաքսային օրենսդրության ամբողջական և համահավասար կիրառում
C14: Վերջնական արդյունքի նկարագրությունը՝
C15: Արդյունավետ հարկային և մաքսային հսկողության իրականացում, պետական բյուջեի եկամուտների ապահովում
A16: Ծրագրի միջոցառումներ
B17: 11001 | C17: Միջոցառման անվանումը` | D17: ='Հավելված 3'!G19 -> -80025.606
C18: Հարկային և մաքսային ծառայություններ
C19: Միջոցառման նկարագրությունը`
C20: Հարկային և մաքսային քաղաքականության մշակման, պլանավորման, մոնիտորինգի, ծրագրերի համակարգման, գանձման, վերահսկողության և աջակցության ծառայություններ
C21: Միջոցառման տեսակը
C22: Ծառայությունների մատուցում
B23: 11005 | C23: Միջոցառման անվանումը` | D23: ='Հավելված 3'!G28 -> 46052
C24: Փորձաքննությունների ծառայություններ
C25: Միջոցառման նկարագրությունը`
C26: Փորձաքննությունների կատարում և եզրակացությունների տրամադրում, անվճարունակ քաղաքացիներին իրավական ծառայությունների տրամադրում
C27: Միջոցառման տեսակը
C28: Ծառայությունների մատուցում
B29: 31001 | C29: Միջոցառման անվանումը՝ | D29: ='Հավելված 3'!G37 -> 11314.92
C30: ՀՀ պետական եկամուտների կոմիտեի տեխնիկական հագեցվածության բարելավում
C31: Միջոցառման նկարագրությունը`
C32: ՀՀ պետական եկամուտների կոմիտեի տեխնիկական հագեցվածության բարելավում
C33: Միջոցառման տեսակը
C34: Պետական մարմինների կողմից օգտագործվող ոչ ֆինանսական ակտիվների հետ գործառնություններ
B35: 31003 | C35: Միջոցառման անվանումը` | D35: ='Հավելված 3'!G46 -> -692376.1
C36: ՀՀ պետական եկամուտների կոմիտեի շենքային ապահովվածության բարելավում_x000D_
C37: Միջոցառման նկարագրությունը`
C38: ՀՀ պետական եկամուտների կոմիտեի նոր շենքերի և շինությունների շինարարություն, նախագծային աշխատանքների ձեռքբերում
C39: Միջոցառման տեսակը
C40: Պետական մարմինների կողմից օգտագործվող ոչ ֆինանսական ակտիվների հետ գործառնություններ
C41: ՀՀ կառավարություն | D41: =D42 -> 715034.8
A42: 1139 | C42: Ծրագրի անվանումը` | D42: =D49 -> 715034.8
C43: ՀՀ կառավարության պահուստային ֆոնդ
C44: Ծրագրի նպատակը`
C45: Պետական բյուջեում չկանխատեսված, ինչպես նաեւ բյուջետային երաշխիքների ապահովման ծախսերի ֆինանսավորման ապահովում
C46: Վերջնական արդյունքի նկարագրությունը`
C47: Պահուստային ֆոնդի կառավարման արդյունավետության և թափանցիկության ապահովում
A48: Ծրագրի միջոցառումներ
B49: 11001 | C49: Միջոցառման անվանումը` | D49: =+'Հավելված 3'!G64 -> 715034.8
C50: ՀՀ կառավարության պահուստային ֆոնդ
C51: Միջոցառման նկարագրությունը`
C52: ՀՀ պետական բյուջեում նախատեսված ելքերի լրացուցիչ ֆինանսավորման, պետական բյուջեում չկանխատեսված ելքերի, ինչպես նաև բյուջետային երաշխիքների ապահովման ելքերի ֆինանսավորման ապահովում
C53: Միջոցառման տեսակը
C54: Ծառայությունների մատուցում

Sheet Հավելված 2
H1: Հավելված N 2
H2: ՀՀ կառավարության 2023 թվականի
H3: ___________ ___-ի N _______ որոշման
A4: «ՀԱՅԱՍՏԱՆԻ ՀԱՆՐԱՊԵՏՈՒԹՅԱՆ 2023 ԹՎԱԿԱՆԻ ՊԵՏԱԿԱՆ ԲՅՈՒՋԵԻ ՄԱՍԻՆ» ՀԱՅԱՍՏԱՆԻ ՀԱՆՐԱՊԵՏՈՒԹՅԱՆ ՕՐԵՆՔԻ N 1 ՀԱՎԵԼՎԱԾԻ N 3 ԱՂՅՈՒՍԱԿՈՒՄ ԿԱՏԱՐՎՈՂ ՓՈՓՈԽՈՒԹՅՈՒՆՆԵՐԸ
H5: հազ. դրամներով
A6: Ծրագրային դասիչ | C6: Բյուջետային գլխավոր կարգադրիչների, ծրագրերի, միջոցառումների և ուղղությունների անվանումները | D6: Ցուցանիշների փոփոխությունը (ավելացումները նշված են դրական նշանով, իսկ նվազեցումները՝ փակագծերում)
D7: Ընդամենը | E7: այդ թվում՝
E8: Կառուցման աշխատանքներ | F8: Վերակառուցման, վերանորոգման և վերականգնման աշխատանքներ | G8: Նախագծահետազոտական, գեոդեզա-քարտեզագրական աշխատանքներ | H8: Ոչ ֆինանսական այլ ակտիվների ձեռքբերում
A9: Ծրագիր | B9: Միջոցառում
C10: ԸՆԴԱՄԵՆԸ | D10: =D12 -> -681061.18 | E10: =E12 -> -692376.1 | F10: =F12 -> 0 | G10: =G12 -> 0 | H10: =H12 -> 11314.92
C11: այդ թվում՝
C12: ՀՀ ՊԵՏԱԿԱՆ ԵԿԱՄՈՒՏՆԵՐԻ ԿՈՄԻՏԵ | D12: =D14+D15 -> -681061.18 | E12: =E14+E15 -> -692376.1 | F12: =F14+F15 -> 0 | G12: =G14+G15 -> 0 | H12: =H14+H15 -> 11314.92
C13: այդ թվում`
A14: 1023 | B14: 31001 | C14: ՀՀ պետական եկամուտների կոմիտեի տեխնիկական հագեցվածության բարելավում | D14: =E14+F14+G14+H14 -> 11314.92 | H14: ='Հավելված 3'!G37 -> 11314.92
A15: 1023 | B15: 31003 | C15: ՀՀ պետական եկամուտների կոմիտեի շենքային ապահովվածության բարելավում | D15: =D16 -> -692376.1 | E15: =E16 -> -692376.1 | F15: =F16 -> 0 | G15: =G16 -> 0 | H15: =H16 -> 0
C16: ՀՀ ՊԵԿ Երևան քաղաքի արտաքին տնտեսական գործունեության կենտրոնի կառուցման աշխատանքներ | D16: =E16+F16+G16+H16 -> -692376.1 | E16: ='Հավելված 4'!D19 -> -692376.1

Sheet Հավելված 3
G1: Հավելված N 3
G2: ՀՀ կառավարության 2023 թվականի
G3: ___________ ___-ի N _______ որոշման
A4: ՀԱՅԱՍՏԱՆԻ ՀԱՆՐԱՊԵՏՈՒԹՅԱՆ ԿԱՌԱՎԱՐՈՒԹՅԱՆ 2022 ԹՎԱԿԱՆԻ ԴԵԿՏԵՄԲԵՐԻ 29-Ի N 2111-Ն ՈՐՈՇՄԱՆ NN 3 ԵՎ 4 ՀԱՎԵԼՎԱԾՆԵՐԻ ԱՂՅՈՒՍԱԿՆԵՐՈՒՄ ԿԱՏԱՐՎՈՂ ՓՈՓՈԽՈՒԹՅՈՒՆՆԵՐԸ ԵՎ ԼՐԱՑՈՒՄՆԵՐ
G5: հազ. դրամներով
A6: Գործառնական դասիչը | D6: Ծրագրային դասիչը | F6: Բյուջետային ծախսերի գործառնական դասակարգման բաժինների, խմբերի և դասերի, բյուջետային ծրագրերի միջոցառումների, բյուջետային հատկացումների գլխավոր կարգադրիչների անվանումները | G6: Ցուցանիշների փոփոխությունը (ավելացումները նշված են դրական նշանով, իսկ նվազեցումները՝ փակագծերում)
A7: բաժին | B7: խումբ | C7: դաս | D7: ծրագիր | E7: միջոցառում | G7: Տարի
F8: ԸՆԴԱՄԵՆԸ ԾԱԽՍԵՐ | G8: =G10+G55 -> 0.014
F9: այդ թվում՝
A10: 01 | F10: ԸՆԴՀԱՆՈՒՐ ԲՆՈՒՅԹԻ ՀԱՆՐԱՅԻՆ ԾԱՌԱՅՈՒԹՅՈՒՆՆԵՐ | G10: =G12 -> -715034.79
F11: այդ թվում՝
B12: 01 | F12: Օրենսդիր և գործադիր մարմիններ, պետական կառավարում, ֆինանսական և հարկաբյուջետային հարաբերություններ, արտաքին հարաբերություններ | G12: =G14 -> -715034.79
F13: այդ թվում՝
C14: 02 | F14: Ֆինանսական և հարկաբյուջետային հարաբերություններ | G14: =G16 -> -715034.79
F15: այդ թվում՝
F16: ՀՀ պետական եկամուտների կոմիտե | G16: =G17 -> -715034.79
D17: 1023 | F17: Հարկային և մաքսային ծառայություններ | G17: =G19+G28+G37+G46 -> -715034.79
F18: այդ թվում՝
E19: 11001 | F19: Հարկային և մաքսային ծառայություններ | G19: =G21 -> -80025.606
F20: այդ թվում` ըստ կատարողների
F21: ՀՀ պետական եկամուտների կոմիտե | G21: =G23 -> -80025.606
F22: այդ թվում` բյուջետային ծախսերի տնտեսագիտական դասակարգման հոդվածներ
F23: ԸՆԴԱՄԵՆԸ ԾԱԽՍԵՐ | G23: =G24 -> -80025.606
F24: ԸՆԹԱՑԻԿ ԾԱԽՍԵՐ | G24: =G25 -> -80025.606
F25: ԾԱՌԱՅՈՒԹՅՈՒՆՆԵՐԻ ԵՎ ԱՊՐԱՆՔՆԵՐԻ ՁԵՌՔԲԵՐՈՒՄ | G25: =G26 -> -80025.606
F26: Պայմանագրային այլ ծառայությունների ձեռքբերում | G26: =G27 -> -80025.606
F27: - Համակարգչային ծառայություններ | G27: ='Հավելված 6'!G12+'Հավելված 6'!G13+'Հավելված 6'!G14+'Հավելված 6'!G15+'Հավելված 6'!G16 -> -80025.606
E28: 11005 | F28: Փորձաքննությունների ծառայություններ | G28: =G30 -> 46052
F29: այդ թվում` ըստ կատարողների
F30: ՀՀ պետական եկամուտների կոմիտե | G30: =G32 -> 46052
F31: այդ թվում` բյուջետային ծախսերի տնտեսագիտական դասակարգման հոդվածներ
F32: ԸՆԴԱՄԵՆԸ ԾԱԽՍԵՐ | G32: =G33 -> 46052
F33: ԸՆԹԱՑԻԿ ԾԱԽՍԵՐ | G33: =G34 -> 46052
F34: ԾԱՌԱՅՈՒԹՅՈՒՆՆԵՐԻ ԵՎ ԱՊՐԱՆՔՆԵՐԻ ՁԵՌՔԲԵՐՈՒՄ | G34: =G35 -> 46052
F35: Պայմանագրային այլ ծառայությունների ձեռքբերում | G35: =G36 -> 46052
F36: - Կառավարչական ծառայություններ | G36: 46052
E37: 31001 | F37: ՀՀ պետական եկամուտների կոմիտեի տեխնիկական հագեցվածության բարելավում | G37: =G39 -> 11314.92
F38: այդ թվում` ըստ կատարողների
F39: ՀՀ պետական եկամուտների կոմիտե | G39: =G41 -> 11314.92
F40: այդ թվում` բյուջետային ծախսերի տնտեսագիտական դասակարգման հոդվածներ
F41: ԸՆԴԱՄԵՆԸ ԾԱԽՍԵՐ | G41: =G42 -> 11314.92
F42: ՈՉ ՖԻՆԱՆՍԱԿԱՆ ԱԿՏԻՎՆԵՐԻ ԳԾՈՎ ԾԱԽՍԵՐ | G42: =G43 -> 11314.92
F43: ՀԻՄՆԱԿԱՆ ՄԻՋՈՑՆԵՐ | G43: =G44 -> 11314.92
F44: ՄԵՔԵՆԱՆԵՐ ԵՎ ՍԱՐՔԱՎՈՐՈՒՄՆԵՐ | G44: =G45 -> 11314.92
F45: - Այլ մեքենաներ և սարքավորումներ | G45: ='Հավելված 6'!G19+'Հավելված 6'!G20+'Հավելված 6'!G21 -> 11314.92
E46: 31003 | F46: ՀՀ պետական եկամուտների կոմիտեի շենքային ապահովվածության բարելավում | G46: =G48 -> -692376.1
F47: այդ թվում` ըստ կատարողների
F48: ՀՀ պետական եկամուտների կոմիտե | G48: =G50 -> -692376.1
F49: այդ թվում` բյուջետային ծախսերի տնտեսագիտական դասակարգման հոդվածներ
F50: ԸՆԴԱՄԵՆԸ ԾԱԽՍԵՐ | G50: =G51 -> -692376.1
F51: ՈՉ ՖԻՆԱՆՍԱԿԱՆ ԱԿՏԻՎՆԵՐԻ ԳԾՈՎ ԾԱԽՍԵՐ | G51: =G52 -> -692376.1
F52: ՀԻՄՆԱԿԱՆ ՄԻՋՈՑՆԵՐ | G52: =G53 -> -692376.1
F53: ՇԵՆՔԵՐ ԵՎ ՇԻՆՈՒԹՅՈՒՆՆԵՐ | G53: =G54 -> -692376.1
F54: - Շենքերի և շինությունների շինարարություն | G54: -692376.1
A55: 11 | F55: ՀԻՄՆԱԿԱՆ ԲԱԺԻՆՆԵՐԻՆ ՉԴԱՍՎՈՂ ՊԱՀՈՒՍՏԱՅԻՆ ՖՈՆԴԵՐ | G55: =G57 -> 715034.8
F56: այդ թվում`
B57: 01 | F57: ՀՀ կառավարության և համայնքների պահուստային ֆոնդ | G57: =G59 -> 715034.8
F58: այդ թվում`
C59: 01 | F59: ՀՀ կառավարության պահուստային ֆոնդ | G59: =G61 -> 715034.8
F60: այդ թվում`
F61: ՀՀ կառավարություն | G61: =G62 -> 715034.8
D62: 1139 | F62: ՀՀ կառավարության պահուստային ֆոնդ | G62: =G64 -> 715034.8
F63: այդ թվում`
E64: 11001 | F64: ՀՀ կառավարության պահուստային ֆոնդ | G64: =G66 -> 715034.8
F65: այդ թվում` ըստ կատարողների
F66: ՀՀ կառավարություն | G66: =G68 -> 715034.8
F67: այդ թվում` բյուջետային ծախսերի տնտեսագիտական դասակարգման հոդվածներ
F68: ԸՆԴԱՄԵՆԸ ԾԱԽՍԵՐ | G68: =G69 -> 715034.8
F69: ԸՆԹԱՑԻԿ ԾԱԽՍԵՐ | G69: =G70 -> 715034.8
F70: ԱՅԼ ԾԱԽՍԵՐ | G70: =G71 -> 715034.8
F71: Պահուստային միջոցներ | G71: =662574.2-2000+54460.6 -> 715034.8

Sheet Հավելված 4
D1: Հավելված N 4
D2: ՀՀ կառավարության 2023 թվականի
D3: ___________ ___-ի N _______ որոշման
A4: ՀԱՅԱՍՏԱՆԻ ՀԱՆՐԱՊԵՏՈՒԹՅԱՆ ԿԱՌԱՎԱՐՈՒԹՅԱՆ 2022 ԹՎԱԿԱՆԻ ԴԵԿՏԵՄԲԵՐԻ 29-Ի N 2111-Ն ՈՐՈՇՄԱՆ N 5 ՀԱՎԵԼՎԱԾԻ N 2 ԱՂՅՈՒՍԱԿՈՒՄ ԿԱՏԱՐՎՈՂ ՓՈՓՈԽՈՒԹՅՈՒՆՆԵՐԸ
D5: հազ. դրամներով
A6: Ծրագրային դասիչը | C6: Բյուջետային գլխավոր կարգադրիչների, ծրագրերի, միջոցառումների, միջոցառումները կատարող պետական մարմինների և ուղղությունների անվանումները | D6: Ցուցանիշների փոփոխությունը (ավելացումները նշված են դրական նշանով, իսկ նվազեցումները՝ փակագծերում)
A7: Ծրագիրը | B7: Միջոցառումը | D7: Տարի
C8: ԸՆԴԱՄԵՆԸ | D8: =D10 -> -681061.18
C9: այդ թվում՝
C10: ՀՀ ՊԵՏԱԿԱՆ ԵԿԱՄՈՒՏՆԵՐԻ ԿՈՄԻՏԵ | D10: =D12+D15 -> -681061.18
C11: այդ թվում`
A12: 1023 | B12: 31001 | C12: ՀՀ պետական եկամուտների կոմիտեի տեխնիկական հագեցվածության բարելավում | D12: =D14 -> 11314.92
C13: այդ թվում` ըստ կատարողների
C14: ՀՀ պետական եկամուտների կոմիտե | D14: ='Հավելված 3'!G37 -> 11314.92
A15: 1023 | B15: 31003 | C15: ՀՀ պետական եկամուտների կոմիտեի շենքային ապահովվածության բարելավում | D15: =D17 -> -692376.1
C16: այդ թվում` ըստ կատարողների
C17: ՀՀ պետական եկամուտների կոմիտե | D17: =D19 -> -692376.1
C18: այդ թվում` ըստ ուղղությունների
C19: ՀՀ ՊԵԿ Երևան քաղաքի արտաքին տնտեսական գործունեության կենտրոնի կառուցման աշխատանքներ | D19: ='Հավելված 3'!G54 -> -692376.1

Sheet Հավելված 5 աղյուսակներ 1,2
C1: Հավելված N 5
C2: ՀՀ կառավարության 2023 թվականի
C3: ___________ ___-ի N _______ որոշման
C4: Աղյուսակ N 1
A5: ՀԱՅԱՍՏԱՆԻ ՀԱՆՐԱՊԵՏՈՒԹՅԱՆ ԿԱՌԱՎԱՐՈՒԹՅԱՆ 2022 ԹՎԱԿԱՆԻ ԴԵԿՏԵՄԲԵՐԻ 29-Ի N 2111-Ն ՈՐՈՇՄԱՆ N 9 ՀԱՎԵԼՎԱԾԻ N 9.25 ԵՎ N 9.47 ԱՂՅՈՒՍԱԿՆԵՐՈՒՄ ԿԱՏԱՐՎՈՂ ՓՈՓՈԽՈՒԹՅՈՒՆՆԵՐԸ ԵՎ ԼՐԱՑՈՒՄՆԵՐԸ
A7: ՀՀ պետական եկամուտների կոմիտե
A9: ՄԱՍ 2. ՊԵՏԱԿԱՆ ՄԱՐՄՆԻ ԳԾՈՎ ԱՐԴՅՈՒՆՔԱՅԻՆ (ԿԱՏԱՐՈՂԱԿԱՆ) ՑՈՒՑԱՆԻՇՆԵՐԸ
A11: Ծրագրի դասիչը | B11: Ծրագրի անվանումը
A12: 1023 | B12: Հարկային և մաքսային ծառայություններ
A14: Ծրագրի միջոցառումները
A16: Ծրագրի դասիչը՝ | B16: 1023 | C16: Ցուցանիշների փոփոխությունը (նվազեցումները նշված են փակագծերում)
A17: Միջոցառման դասիչը՝ | B17: 11001 | C17: Տարի
A18: Միջոցառման անվանումը՝ | B18: Հարկային և մաքսային ծառայություններ
A19: Նկարագրությունը՝ | B19: Հարկային և մաքսային քաղաքականության մշակման, պլանավորման, մոնիտորինգի, ծրագրերի համակարգման, գանձման, վերահսկողության և աջակցության ծառայություններ
A20: Միջոցառման տեսակը՝ | B20: Ծառայությունների մատուցում
A21: Ծառայությունը մատուցող կազմակերպության անվանումը | B21: ՀՀ պետական եկամուտների կոմիտե
A22: Արդյունքի չափորոշիչներ
A23: Միջոցառման վրա կատարվող ծախսը (հազար դրամ) | C23: ='Հավելված 3'!G19 -> -80025.606
A25: Ծրագրի դասիչը` | B25: 1023 | C25: Ցուցանիշների փոփոխությունը (ավելացումները նշված են դրական նշանով, իսկ նվազեցումները՝ փակագծերում)
A26: Միջոցառման դասիչը` | B26: 11005 | C26: Տարի
A27: Միջոցառման անվանումը` | B27: Փորձաքննությունների ծառայություններ
A28: Նկարագրությունը` | B28: Փորձաքննությունների կատարում և եզրակացությունների տրամադրում, անվճարունակ քաղաքացիներին իրավական ծառայությունների տրամադրում
A29: Միջոցառման տեսակը` | B29: Ծառայությունների մատուցում
A30: Ծառայությունը մատուցող կազմակերպության(ների) անվանում(ներ)ը՛ | B30: Մրցույթի արդյունքում ընտրված կազմակերպություն
A31: Արդյունքի չափորոշիչներ
A32: Ընդամենը փորձաքննությունների քանակ, հատ | C32: =SUM(C33:C42) -> 962
A33: Նյութագիտական փորձաքննությունների քանակ, հատ | C33: 294
A34: Հողագիտական և կենսաբանական փորձաքննությունների քանակ, հատ | C34: 18
A35: Հետքաբանական փորձաքննությունների քանակ, հատ | C35: 71
A36: Ձգաբանական փորձաքննությունների քանակ, հատ | C36: 2
A37: Ապրանքագիտական փորձաքննությունների քանակ, հատ | C37: =258+639 -> 897
A38: Փաստաթղթաբանական փորձաքննությունների քանակ, հատ | C38: =177+6 -> 183
A39: Մտավոր սեփականության օբյեկտների փորձաքննությունների քանակ, հատ | C39: =-2-24 -> -26
A40: Սննդամթերքի և խմիչքների փորձաքննությունների քանակ, հատ | C40: =119+26 -> 145
A41: Մշակութային արժեքների փորձաքննությունների քանակ, հատ | C41: 25
A42: Տնտեսագիտական փորձաքննությունների քանակ, հատ | C42: -647
A43: Միջոցառման վրա կատարվող ծախսը (հազար դրամ) | C43: ='Հավելված 3'!G28 -> 46052
A45: Ծրագրի դասիչը` | B45: 1023 | C45: Ցուցանիշների փոփոխությունը (ավելացումները նշված են դրական նշանով)
A46: Միջոցառման դասիչը` | B46: 31001 | C46: Տարի
A47: Միջոցառման անվանումը` | B47: ՀՀ պետական եկամուտների կոմիտեի տեխնիկական հագեցվածության բարելավում
A48: Նկարագրությունը` | B48: ՀՀ պետական եկամուտների կոմիտեի տեխնիկական հագեցվածության բարելավում_x000D_
A49: Միջոցառման տեսակը` | B49: Պետական մարմինների կողմից օգտագործվող ոչ ֆինանսական ակտիվների հետ գործառնություններ
A50: Ակտիվն օգտագործող կազմակերպության անվանումը | B50: ՀՀ պետական եկամուտների կոմիտե
A51: Արդյունքի չափորոշիչներ
A52: Այլ սարքավորումների քանակ, հատ | C52: 12
A53: Միջոցառման վրա կատարվող ծախսը (հազար դրամ) | C53: ='Հավելված 3'!G37 -> 11314.92
A55: Ծրագրի դասիչը` | B55: 1023 | C55: Ցուցանիշների փոփոխությունը (նվազեցումները նշված են փակագծերում)
A56: Միջոցառման դասիչը` | B56: 31003 | C56: Տարի
A57: Միջոցառման անվանումը` | B57: ՀՀ պետական եկամուտների կոմիտեի շենքային ապահովվածության բարելավում
A58: Նկարագրությունը` | B58: ՀՀ պետական եկամուտների կոմիտեի նոր շենքերի և շինությունների շինարարություն, նախագծային աշխատանքների ձեռքբերում
A59: Միջոցառման տեսակը` | B59: Պետական մարմինների կողմից օգտագործվող ոչ ֆինանսական ակտիվների հետ գործառնություններ
A60: Միջոցառումն իրականացնողի անվանումը | B60: ՀՀ պետական եկամուտների կոմիտե
A61: Արդյունքի չափորոշիչներ
A62: Բյուջետային տարում կառուցապատման մակերես, քմ | C62: -3793.2
A63: Շինարարական աշխատանքների ավարտվածության աստիճանը, տոկոս | C63: -36.6
A64: Միջոցառման վրա կատարվող ծախսը (հազար դրամ) | C64: ='Հավելված 3'!G46 -> -692376.1
A66: ՀՀ կառավարություն
A68: ՄԱՍ 2. ՊԵՏԱԿԱՆ ՄԱՐՄՆԻ ԳԾՈՎ ԱՐԴՅՈՒՆՔԱՅԻՆ (ԿԱՏԱՐՈՂԱԿԱՆ) ՑՈՒՑԱՆԻՇՆԵՐԸ
A70: Ծրագրի դասիչը | B70: Ծրագրի անվանումը
A71: 1139 | B71: ՀՀ կառավարության պահուստային ֆոնդ
A73: Ծրագրի միջոցառումները
A75: Ծրագրի դասիչը` | B75: 1139 | C75: Ցուցանիշների փոփոխությունը (ավելացումները նշված են դրական նշանով)
A76: Միջոցառման դասիչը` | B76: 11001 | C76: Տարի
A77: Միջոցառման անվանումը` | B77: ՀՀ կառավարության պահուստային ֆոնդ
A78: Նկարագրությունը` | B78: ՀՀ պետական բյուջեում նախատեսված ելքերի լրացուցիչ ֆինանսավորման, պետական բյուջեում չկանխատեսված ելքերի, ինչպես նաև բյուջետային երաշխիքների ապահովման ելքերի ֆինանսավորման ապահովում
A79: Միջոցառման տեսակը` | B79: Ծառայությունների մատուցում
A80: Միջոցառումն իրականացնողի անվանումը | B80: ՀՀ կառավարություն
A81: Արդյունքի չափորոշիչներ
A82: Միջոցառման վրա կատարվող ծախսը (հազար դրամ) | C82: ='Հավելված 3'!G64 -> 715034.8
C84: Աղյուսակ N 2
A85: ՀԱՅԱՍՏԱՆԻ ՀԱՆՐԱՊԵՏՈՒԹՅԱՆ ԿԱՌԱՎԱՐՈՒԹՅԱՆ 2022 ԹՎԱԿԱՆԻ ԴԵԿՏԵՄԲԵՐԻ 29-Ի N 2111-Ն ՈՐՈՇՄԱՆ N 9.1 ՀԱՎԵԼՎԱԾԻ N 9.1.27 ԵՎ N 9.1.58 ԱՂՅՈՒՍԱԿՆԵՐՈՒՄ ԿԱՏԱՐՎՈՂ ՓՈՓՈԽՈՒԹՅՈՒՆՆԵՐԸ ԵՎ ԼՐԱՑՈՒՄՆԵՐԸ
A87: ՀՀ պետական եկամուտների կոմիտե
A89: ՄԱՍ 1. ՊԵՏԱԿԱՆ ՄԱՐՄՆԻ ԳԾՈՎ ԱՐԴՅՈՒՆՔԱՅԻՆ (ԿԱՏԱՐՈՂԱԿԱՆ) ՑՈՒՑԱՆԻՇՆԵՐԸ
A91: Ծրագրի դասիչը | B91: Ծրագրի անվանումը
A92: 1023 | B92: Հարկային և մաքսային ծառայություններ
A94: Ծրագրի միջոցառումները
A96: Ծրագրի դասիչը՝ | B96: 1023 | C96: Ցուցանիշների փոփոխությունը (նվազեցումները նշված են փակագծերում)
A97: Միջոցառման դասիչը՝ | B97: 11001 | C97: Տարի
A98: Միջոցառման անվանումը՝ | B98: Հարկային և մաքսային ծառայություններ
A99: Նկարագրությունը՝ | B99: Հարկային և մաքսային քաղաքականության մշակման, պլանավորման, մոնիտորինգի, ծրագրերի համակարգման, գանձման, վերահսկողության և աջակցության ծառայություններ
A100: Միջոցառման տեսակը՝ | B100: Ծառայությունների մատուցում
A101: Ծառայությունը մատուցող կազմակերպության անվանումը | B101: ՀՀ պետական եկամուտների կոմիտե
A102: Արդյունքի չափորոշիչներ
A103: Միջոցառման վրա կատարվող ծախսը (հազար դրամ) | C103: ='Հավելված 3'!G19 -> -80025.606
A105: Ծրագրի դասիչը` | B105: 1023 | C105: Ցուցանիշների փոփոխությունը (ավելացումները նշված են դրական նշանով, իսկ նվազեցումները՝ փակագծերում)
A106: Միջոցառման դասիչը` | B106: 11005 | C106: Տարի
A107: Միջոցառման անվանումը` | B107: Փորձաքննությունների ծառայություններ
A108: Նկարագրությունը` | B108: Փորձաքննությունների կատարում և եզրակացությունների տրամադրում, անվճարունակ քաղաքացիներին իրավական ծառայությունների տրամադրում
A109: Միջոցառման տեսակը` | B109: Ծառայությունների մատուցում
A110: Ծառայությունը մատուցող կազմակերպության(ների) անվանում(ներ)ը՛ | B110: Մրցույթի արդյունքում ընտրված կազմակերպություն
A111: Արդյունքի չափորոշիչներ
A112: Ընդամենը փորձաքննությունների քանակ, հատ | C112: =SUM(C113:C122) -> 962
A113: Նյութագիտական փորձաքննությունների քանակ, հատ | C113: 294
A114: Հողագիտական և կենսաբանական փորձաքննությունների քանակ, հատ | C114: 18
A115: Հետքաբանական փորձաքննությունների քանակ, հատ | C115: 71
A116: Ձգաբանական փորձաքննությունների քանակ, հատ | C116: 2
A117: Ապրանքագիտական փորձաքննությունների քանակ, հատ | C117: =258+639 -> 897
A118: Փաստաթղթաբանական փորձաքննությունների քանակ, հատ | C118: =177+6 -> 183
A119: Մտավոր սեփականության օբյեկտների փորձաքննությունների քանակ, հատ | C119: =-2-24 -> -26
A120: Սննդամթերքի և խմիչքների փորձաքննությունների քանակ, հատ | C120: =119+26 -> 145
...

Sheet Հավելված 6
G1: Հավելված N 6
G2: ՀՀ կառավարության 2023 թվականի
G3: ___________ ___-ի N _______ որոշման
A5: ՀԱՅԱՍՏԱՆԻ ՀԱՆՐԱՊԵՏՈՒԹՅԱՆ ԿԱՌԱՎԱՐՈՒԹՅԱՆ 2022 ԹՎԱԿԱՆԻ ԴԵԿՏԵՄԲԵՐԻ 29-Ի N 2111-Ն ՈՐՈՇՄԱՆ N 10 ՀԱՎԵԼՎԱԾՈՒՄ ԿԱՏԱՐՎՈՂ ՓՈՓՈԽՈՒԹՅՈՒՆՆԵՐԸ ԵՎ ԼՐԱՑՈՒՄՆԵՐԸ
A6: Գնման առարկայի | E6: Ցուցանիշների փոփոխությունը (ավելացումները նշված են դրական նշանով, իսկ նվազեցումները՝ փակագծերում)
A7: կոդը | B7: անվանումը | C7: գնման ձևը | D7: չափի միավորը | E7: միավորի գինը | F7: քանակը | G7: Գումարը (հազար դրամ)
A9: Բաժին N 01 | B9: Խումբ N 01 | C9: Դաս N 02 | D9: Ֆինանսական և հարկաբյուջետային հարաբերություններ | G9: =G10+G17+G22 -> -761086.79
A10: 1023 11001 | B10: Հարկային և մաքսային ծառայություններ | G10: =G11 -> -80025.606
B11: ՄԱՍ III. ԾԱՌԱՅՈՒԹՅՈՒՆՆԵՐ | G11: =G12+G13+G14+G15+G16 -> -80025.606
A12: 72261160-2 | B12: ծրագրային ապահովման սպասարկման ծառայություններ | C12: ԲՄ | D12: դրամ | G12: -37319.8
A13: 72261160-1 | B13: ծրագրային ապահովման սպասարկման ծառայություններ | C13: ԲՄ | D13: դրամ | E13: 36739726 | F13: -1 | G13: =E13*F13/1000 -> -36739.726
A14: 72411100-2 | B14: համացանցային ծառայություններ մատուցողներ (isp) | C14: ԷԱՃ | D14: դրամ | E14: 3246610 | F14: -1 | G14: =E14*F14/1000 -> -3246.61
A15: 72261160-8 | B15: ծրագրային ապահովման սպասարկման ծառայություններ | C15: ԲՄ | D15: դրամ | E15: 1400000 | F15: -1 | G15: =E15*F15/1000 -> -1400
A16: 72261160-3 | B16: ծրագրային ապահովման սպասարկման ծառայություններ | C16: ԲՄ | D16: դրամ | E16: 1319470 | F16: -1 | G16: =E16*F16/1000 -> -1319.47
A17: 1023 31001 | B17: ՀՀ պետական եկամուտների կոմիտեի տեխնիկական հագեցվածության բարելավում | G17: =G18 -> 11314.92
B18: ՄԱՍ I. ԱՊՐԱՆՔՆԵՐ | G18: =SUM(G19:G21) -> 11314.92
A19: 31641100 | B19: հայտնաբերման էլեկտրական սարքավորումներ | C19: ԳՀ | D19: հատ | E19: 2179800 | F19: 3 | G19: =E19*F19/1000 -> 6539.4
A20: 42921180 | B20: կշեռքներ | C20: ԷԱՃ | D20: հատ | E20: 395960 | F20: 6 | G20: =E20*F20/1000 -> 2375.76
A21: 42921180 | B21: կշեռքներ | C21: ԷԱՃ | D21: հատ | E21: 799920 | F21: 3 | G21: =E21*F21/1000 -> 2399.76
A22: 1023 31003 | B22: ՀՀ պետական եկամուտների կոմիտեի շենքային ապահովվածության բարելավում | G22: =G23+G30 -> -692376.1
B23: ՄԱՍ II. ԱՇԽԱՏԱՆՔՆԵՐ | G23: =G24+G25+G26+G27+G28+G29 -> -692376.1
A24: 45451700-1 | B24: վերակառուցման աշխատանքներ | C24: ԲՄ | D24: դրամ | G24: -692376.1
