Workbook
Name _tab10: #REF!
Name _tab11: #REF!
Name _tab12: #REF!
Name _tab13: #REF!
Name _tab14: #REF!
Name _tab15: #REF!
Name _tab16: #REF!
Name _tab17: #REF!
Name _tab18: #REF!
Name _tab19: #REF!
Name _tab20: #REF!
Name _tab21: #REF!
Name _tab22: #REF!
Name _tab23: #REF!
Name _tab24: #REF!
Name _tab5: #REF!
Name _tab6: #REF!
Name _tab7: #REF!
Name _tab8: #REF!
Name _tab9: #REF!
Name AgencyCode: #REF!
Name AgencyName: #REF!
Name åû: #REF!
Name davit: #REF!
Name Functional1: #REF!
Name ggg: #REF!
Name mas: #REF!
Name mass: #REF!
Name PANature: #REF!
Name par_count: #REF!,#REF!,#REF!,#REF!,#REF!,#REF!,#REF!,#REF!,#REF!,#REF!,#REF!,#REF!,#REF!,#REF!,#REF!
Name par_qual: #REF!,#REF!,#REF!,#REF!,#REF!
Name par_time: #REF!,#REF!,#REF!,#REF!
Name par2.12s: #REF!
Name par2.4s: #REF!,#REF!,#REF!,#REF!,#REF!,#REF!,#REF!,#REF!,#REF!,#REF!,#REF!,#REF!,#REF!,#REF!,#REF!,#REF!
Name par2.5s: #REF!,#REF!
Name par2.6s: #REF!,#REF!,#REF!,#REF!
Name par2.7s: #REF!,#REF!
Name par2.9s: #REF!,#REF!,#REF!,#REF!,#REF!,#REF!,#REF!,#REF!,#REF!,#REF!,#REF!,#REF!,#REF!,#REF!,#REF!,#REF!
Name par4.10s: #REF!,#REF!
Name par4.11d: #REF!,#REF!,#REF!,#REF!,#REF!
Name par4.12d: #REF!
Name par4.13s: #REF!
Name par4.14: #REF!,#REF!,#REF!,#REF!,#REF!,#REF!
Name par4.15: #REF!,#REF!,#REF!
Name par4.16: #REF!,#REF!,#REF!
Name par4.17: #REF!,#REF!,#REF!,#REF!
Name par4.18d: #REF!,#REF!
Name par4.19s: #REF!
Name par4.20f: #REF!
Name par4.21f: #REF!
Name par4.22: #REF!
Name par4.4: #REF!
Name par4.5: #REF!
Name par4.6s: #REF!
Name par4.7s: #REF!
Name par4.8: #REF!,#REF!,#REF!,#REF!,#REF!
Name par4.9: #REF!,#REF!,#REF!,#REF!,#REF!,#REF!
Name par5.1: #REF!,#REF!
Name par5.3: #REF!,#REF!,#REF!,#REF!,#REF!,#REF!
Name par5.4: #REF!,#REF!,#REF!,#REF!,#REF!

Sheet 1
C1: Հավելված N 1 ՀՀ կառավարության 2023 թվականի ------------ N ---------- որոշման
A3: «ՀԱՅԱՍՏԱՆԻ ՀԱՆՐԱՊԵՏՈՒԹՅԱՆ 2023 ԹՎԱԿԱՆԻ ՊԵՏԱԿԱՆ ԲՅՈՒՋԵԻ ՄԱՍԻՆ» ՀԱՅԱՍՏԱՆԻ ՀԱՆՐԱՊԵՏՈՒԹՅԱՆ ՕՐԵՆՔԻ N 1 ՀԱՎԵԼՎԱԾԻ N 2 ԱՂՅՈՒՍԱԿՈՒՄ ԿԱՏԱՐՎՈՂ ՎԵՐԱԲԱՇԽՈՒՄԸ ԵՎ ՀԱՅԱՍՏԱՆԻ ՀԱՆՐԱՊԵՏՈՒԹՅԱՆ ԿԱՌԱՎԱՐՈՒԹՅԱՆ 2022 ԹՎԱԿԱՆԻ ԴԵԿՏԵՄԲԵՐԻ 29-Ի N 2111-Ն ՈՐՈՇՄԱՆN 5 ՀԱՎԵԼՎԱԾԻ N 1 ԱՂՅՈՒՍԱԿՈՒՄ ԿԱՏԱՐՎՈՂ ՓՈՓՈԽՈՒԹՅՈՒՆՆԵՐԸ
D4: հազար դրամներով
A5: Ծրագրային դասիչը | C5: Բյուջետային գլխավոր կարգադրիչների, ծրագրերի և միջոցառումների անվանումները | D5: Ցուցանիշների փոփոխությունը (ավելացումները նշված են դրական նշանով, իսկ նվազեցումները փակագծերում)
A6: Ծրագիր | B6: Միջոցառում | D6: Տարի
C7: ԸՆԴԱՄԵՆԸ ԾԱԽՍԵՐ | D7: =D8+D88 -> 2.1032065e-12
C8: ՀՀ վարչապետի աշխատակազմ | D8: =D9 -> 2.1032065e-12
A9: 1213 | C9: Ծրագրի անվանումը` | D9: =D22+D28+D34+D52+D58+D64+D82+D16+D40+D46+D70+D76 -> 2.1032065e-12
C10: Տեսչական վերահսկողության ծրագիր
C11: Ծրագրի նպատակը`
C12: Տեսչական վերահսկողության ապահովում
C13: Վերջնական արդյունքի նկարագրությունը`
C14: Տեխնիկական կանոնակարգերին համապատասխանության գնահատում և պահանջների պահպանում
A15: Ծրագրի միջոցառումներ
B16: 11002 | C16: Միջոցառման անվանումը` | D16: ='3'!G19 -> -9634.9
C17: Բնապահպանության ոլորտում վերահսկողության ծառայություններ
C18: Միջոցառման նկարագրությունը`
C19: Շրջակա միջավայրի վրա վնասակար ներգործությունների և բնական ռեսուրսների գերշահագործման վերահսկողության իրականացում
C20: Միջոցառման տեսակը
C21: Ծառայությունների մատուցում
B22: 11003 | C22: Միջոցառման անվանումը` | D22: ='3'!G34 -> 3167.5
C23: Կրթության ոլորտում վերահսկողության ծառայություններ
C24: Միջոցառման նկարագրությունը`
C25: Կրթության ոլորտում տեսչական վերահսկողության ծառայությունների իրականացում
C26: Միջոցառման տեսակը
C27: Ծառայությունների մատուցում
B28: 11004 | C28: Միջոցառման անվանումը` | D28: ='3'!G48 -> -1880
C29: Շուկայի վերահսկողության ծառայություններ
C30: Միջոցառման նկարագրությունը`
C31: Տեխնիկական կանոնակարգի պահանջների և չափագիտական կանոնների ու նորմերի պահպանման վերահսկողություն
C32: Միջոցառման տեսակը
C33: Ծառայությունների մատուցում
B34: 11005 | C34: Միջոցառման անվանումը` | D34: ='3'!G159 -> -3100
C35: Արտադրանքի և որակի վերահսկողության ծառայություններ
C36: Միջոցառման նկարագրությունը`
C37: Արտադրանքի և ծառայությունների մատուցման ոլորտում տեխնիկական կանոնակարգերի պահանջների և չափագիտական կանոնների ու նորմերի վերահսկողության իրականացում
C38: Միջոցառման տեսակը
C39: Ծառայությունների մատուցում
B40: 11006 | C40: Միջոցառման անվանումը` | D40: ='3'!G57 -> -6849.1
C41: Քաղաքաշինության և ճարտարապետության բնագավառում վերահսկողության ծառայություններ
...

Sheet 2
A1: Հավելված 2
A2: ՀՀ կառավարության 2023 թվականի
A3: ------------ N ---------- որոշման
A5: «ՀԱՅԱՍՏԱՆԻ ՀԱՆՐԱՊԵՏՈՒԹՅԱՆ 2023 ԹՎԱԿԱՆԻ ՊԵՏԱԿԱՆ ԲՅՈՒՋԵԻ ՄԱՍԻՆ» ՀԱՅԱՍՏԱՆԻ ՀԱՆՐԱՊԵՏՈՒԹՅԱՆ ՕՐԵՆՔԻ N 1 ՀԱՎԵԼՎԱԾԻ N 3 ԱՂՅՈՒՍԱԿՈՒՄ ԿԱՏԱՐՎՈՂ ՓՈՓՈԽՈՒԹՅՈՒՆՆԵՐԸ
G6: հազար դրամներով
A7: Ծրագրային դասիչ | C7: Բյուջետային գլխավոր կարգադրիչների, ծրագրերի, միջոցառումների և ուղղությունների անվանումները | D7: Ընդամենը | E7: Ցուցանիշների փոփոխությունը (ավելացումները նշված են դրական նշանով, իսկ նվազեցումները փակագծերում)
E8: այդ թվում՝
A9: Ծրագիր | B9: Միջոցառում | E9: Կառուցման աշխատանքներ | F9: Վերակառուցման, վերանորոգման և վերականգնման աշխատանքներ | G9: Նախագծահե տազոտական, գեոդեզիա- քարտեզագրա կան աշխա տանքներ | H9: Ոչ ֆինանսական այլ ակտիվների ձեռքբերում
C10: ԸՆԴԱՄԵՆԸ | D10: =D12+D21+D25+D34+D38+D42+D46+D51+D55+D62+D68+D73+D80+D84+D93+D151+D191+D197+D201+D216+D220+D236+D240+D244+D248+D252+D263+D277+D285+D312+D316+D320+D325+D335+D339+D343+D347+D351+D355+D359+D363+D367+D371+D375 -> -5032.7 | E10: =E12+E21+E25+E34+E38+E42+E46+E51+E55+E62+E68+E73+E80+E84+E93+E151+E191+E197+E201+E216+E220+E236+E240+E244+E248+E252+E263+E277+E285+E312+E316+E320+E325+E335+E339+E343+E347+E351+E355+E359+E363+E367+E371+E375 -> 0 | F10: =F12+F21+F25+F34+F38+F42+F46+F51+F55+F62+F68+F73+F80+F84+F93+F151+F191+F197+F201+F216+F220+F236+F240+F244+F248+F252+F263+F277+F285+F312+F316+F320+F325+F335+F339+F343+F347+F351+F355+F359+F363+F367+F371+F375 -> 0 | G10: =G12+G21+G25+G34+G38+G42+G46+G51+G55+G62+G68+G73+G80+G84+G93+G151+G191+G197+G201+G216+G220+G236+G240+G244+G248+G252+G263+G277+G285+G312+G316+G320+G325+G335+G339+G343+G347+G351+G355+G359+G363+G367+G371+G375 -> -8300 | H10: =H12+H21+H25+H34+H38+H42+H46+H51+H55+H62+H68+H73+H80+H84+H93+H151+H191+H197+H201+H216+H220+H236+H240+H244+H248+H252+H263+H277+H285+H312+H316+H320+H325+H335+H339+H343+H347+H351+H355+H359+H363+H367+H371+H375 -> 3267.3
C11: այդ թվում՝
C12: ՀՀ ՎԱՐՉԱՊԵՏԻ ԱՇԽԱՏԱԿԱԶՄ | D12: =D14+D15+D16+D19+D17+D18 -> -5032.7 | E12: =E14+E15 -> 0 | F12: =F14+F15 -> 0 | G12: =G14+G15+G16+G19 -> -8300 | H12: =H14+H15+H16+H19+H17+H18 -> 3267.3
C13: այդ թվում`
A14: ='1'!A9 -> 1213 | B14: ='1'!B52 -> 31002 | C14: ='1'!C53 -> Կրթության տեսչական մարմնի կարողությունների զարգացում և տեխնիկական հագեցվածության ապահովում | D14: =H14 -> -118 | H14: ='1'!D52 -> -118
A15: ='1'!A9 -> 1213 | B15: ='1'!B58 -> 31003 | C15: ='1'!C59 -> Շուկայի վերահսկողության տեսչական մարմնի կարողությունների զարգացում և տեխնիկական հագեցվածության ապահովում | D15: =H15 -> 4980 | H15: ='1'!D58 -> 4980
A16: ='1'!A9 -> 1213 | B16: ='1'!B64 -> 31004 | C16: ='1'!C65 -> Քաղաքաշինության, տեխնիկական և հրդեհային անվտանգության տեսչական մարմնի կարողությունների զարգացում և տեխնիկական հագեցվածության ապահովում | D16: =H16 -> -185.1 | H16: ='1'!D64 -> -185.1
A17: ='1'!A9 -> 1213 | B17: ='1'!B70 -> 31005 | C17: ='1'!C71 -> Առողջապահության և աշխատանքի տեսչական մարմնի կարողությունների զարգացում և տեխնիկական հագեցվածության ապահովում | D17: =H17 -> -1277.9 | H17: ='1'!D70 -> -1277.9
A18: ='1'!A9 -> 1213 | B18: ='1'!B76 -> 31006 | C18: ='1'!C77 -> Սննդամթերքի անվտանգության տեսչական մարմնի տեխնիկական հագեցվածության բարելավում | D18: =H18 -> -131.7 | H18: ='1'!D76 -> -131.7
A19: ='1'!A9 -> 1213 | B19: ='1'!B82 -> 31008 | C19: ='1'!C83 -> Քաղաքաշինության, տեխնիկական և հրդեհային անվտանգության տեսչական մարմնի շենքային պայմանների բարելավում | D19: =G19 -> -8300 | G19: ='1'!D82 -> -8300

Sheet 3
A1: Հավելված N 3 ՀՀ կառավարության 2023 թվականի ------------ N ---------- որոշման
A3: ՀԱՅԱՍՏԱՆԻ ՀԱՆՐԱՊԵՏՈՒԹՅԱՆ ԿԱՌԱՎԱՐՈՒԹՅԱՆ 2022 ԹՎԱԿԱՆԻ ԴԵԿՏԵՄԲԵՐԻ 29-Ի N 2111-Ն ՈՐՈՇՄԱՆ N 3 ԵՎ N 4 ՀԱՎԵԼՎԱԾՆԵՐՈՒՄ ԿԱՏԱՐՎՈՂ ՓՈՓՈԽՈՒԹՅՈՒՆՆԵՐԸ
G4: հազար դրամներով
A5: Գործառական դասիչը | D5: Ծրագրային դասիչը | F5: Բյուջետային ծախսերի գործառական դասակարգման բաժինների, խմբերի և դասերի, բյուջետային ծրագրերի միջոցառումների, բյուջետային հատկացումների գլխավոր կարգադրիչների անվանումները | G5: Ցուցանիշների փոփոխությունը (ավելացումները նշված են դրական նշանով, իսկ նվազեցումները փակագծերում)
A6: Բաժին | B6: Խումբ | C6: Դաս | D6: Ծրագիր | E6: Միջոցառում | G6: Տարի
F7: ԸՆԴԱՄԵՆԸ ԾԱԽՍԵՐ | G7: =(G8+G168) -> 0
F8: ՀՀ վարչապետի աշխատակազմ | G8: =G9+G149 -> 0
A9: 01 | F9: ԸՆԴՀԱՆՈՒՐ ԲՆՈՒՅԹԻ ՀԱՆՐԱՅԻՆ ԾԱՌԱՅՈՒԹՅՈՒՆՆԵՐ | G9: =G11 -> 3100
F10: այդ թվում`
B11: 01 | F11: Օրենսդիր և գործադիր մարմիններ, պետական կառավարում, ֆինանսական և հարկաբյուջետային հարաբերություններ, արտաքին հարաբերություններ | G11: =G13 -> 3100
F12: այդ թվում`
C13: 01 | F13: Օրենսդիր և գործադիր մարմիններ, պետական կառավարում | G13: =G17 -> 3100
F14: այդ թվում`
F15: ՀՀ վարչապետի աշխատակազմ | G15: =G17 -> 3100
F16: այդ թվում`
D17: ='1'!A9 -> 1213 | F17: ='1'!C10 -> Տեսչական վերահսկողության ծրագիր | G17: =G34+G48+G95+G104+G113+G140+G19+G57+G72+G122+G131 -> 3100
F18: այդ թվում`
E19: ='[1]1'!B16 -> 11002 | F19: ='[1]1'!C17 -> Բնապահպանության ոլորտում վերահսկողության ծառայություններ | G19: =G21 -> -9634.9
F20: այդ թվում` ըստ կատարողների
F21: ՀՀ վարչապետի աշխատակազմ | G21: =G23 -> -9634.9
F22: այդ թվում` բյուջետային ծախսերի տնտեսագիտական դասակարգման հոդվածներ
F23: ԸՆԴԱՄԵՆԸ ԾԱԽՍԵՐ | G23: =G24 -> -9634.9
F24: ԸՆԹԱՑԻԿ ԾԱԽՍԵՐ | G24: =G25 -> -9634.9
F25: ԾԱՌԱՅՈՒԹՅՈՒՆՆԵՐԻ ԵՎ ԱՊՐԱՆՔՆԵՐԻ ՁԵՌՔԲԵՐՈՒՄ | G25: =G26+G28+G30 -> -9634.9
F26: Պայմանագրային այլ ծառայությունների ձեռքբերում | G26: =G27 -> -2304
F27: - Համակարգչային ծառայություններ | G27: -2304
F28: Ընթացիկ նորոգում և պահպանում (ծառայություններ և նյութեր) | G28: =G29 -> -465.6
F29: - Շենքերի և կառույցների ընթացիկ նորոգում և պահպանում | G29: -465.6
F30: Նյութեր (Ապրանքներ) | G30: =G31+G32+G33 -> -6865.3
F31: - Գրասենյակային նյութեր և հագուստ | G31: -852.4
F32: - Տրանսպորտային նյութեր | G32: -5693.8
F33: - Հատուկ նպատակային այլ նյութեր | G33: -319.1
E34: ='1'!B22 -> 11003 | F34: ='1'!C23 -> Կրթության ոլորտում վերահսկողության ծառայություններ | G34: =G36 -> 3167.5
F35: այդ թվում` ըստ կատարողների
F36: ՀՀ վարչապետի աշխատակազմ | G36: =G38 -> 3167.5
F37: այդ թվում` բյուջետային ծախսերի տնտեսագիտական դասակարգման հոդվածներ
F38: ԸՆԴԱՄԵՆԸ ԾԱԽՍԵՐ | G38: =G39 -> 3167.5
F39: ԸՆԹԱՑԻԿ ԾԱԽՍԵՐ | G39: =G40 -> 3167.5
F40: ԾԱՌԱՅՈՒԹՅՈՒՆՆԵՐԻ ԵՎ ԱՊՐԱՆՔՆԵՐԻ ՁԵՌՔԲԵՐՈՒՄ | G40: =G41+G44+G46 -> 3167.5
F41: Պայմանագրային այլ ծառայությունների ձեռքբերում | G41: =G43+G42 -> -200
...

Sheet 4
A1: Հավելված 4
A2: ՀՀ կառավարության 2023 թվականի
A3: ------------ N ---------- որոշման
A5: ՀԱՅԱՍՏԱՆԻ ՀԱՆՐԱՊԵՏՈՒԹՅԱՆ ԿԱՌԱՎԱՐՈՒԹՅԱՆ 2022 ԹՎԱԿԱՆԻ ԴԵԿՏԵՄԲԵՐԻ 29-Ի N 2111-Ն ՈՐՈՇՄԱՆ N 5 ՀԱՎԵԼՎԱԾԻ N 2 ԱՂՅՈՒՍԱԿՈՒՄ ԿԱՏԱՐՎՈՂ ՓՈՓՈԽՈՒԹՅՈՒՆՆԵՐԸ
D7: հազար դրամներով
A8: Ծրագրային դասիչ | C8: Բյուջետային գլխավոր կարգադրիչների, ծրագրերի, միջոցառումների, միջոցառումները կատարող պետական մարմինների և ուղղությունների անվանումները | D8: Ցուցանիշների փոփոխությունը (ավելացումները նշված են դրական նշանով, իսկ նվազեցումները փակագծերում)
A9: Ծրագիր | B9: Միջոցառում | D9: ='[2]3'!H8 -> Տարի
C10: ԸՆԴԱՄԵՆԸ | D10: =D12 -> -5032.7
C11: այդ թվում՝
C12: ՀՀ ՎԱՐՉԱՊԵՏԻ ԱՇԽԱՏԱԿԱԶՄ | D12: =D14+D17+D20+D29+D23+D26 -> -5032.7
C13: այդ թվում`
A14: ='2'!A14 -> 1213 | B14: ='2'!B14 -> 31002 | C14: ='2'!C14 -> Կրթության տեսչական մարմնի կարողությունների զարգացում և տեխնիկական հագեցվածության ապահովում | D14: =D16 -> -118
C15: այդ թվում` ըստ կատարողների
C16: ՀՀ վարչապետի աշխատակազմ | D16: ='2'!H14 -> -118
A17: ='2'!A15 -> 1213 | B17: ='2'!B15 -> 31003 | C17: ='2'!C15 -> Շուկայի վերահսկողության տեսչական մարմնի կարողությունների զարգացում և տեխնիկական հագեցվածության ապահովում | D17: =D19 -> 4980
C18: այդ թվում` ըստ կատարողների
C19: ՀՀ վարչապետի աշխատակազմ | D19: ='2'!H15 -> 4980
A20: ='2'!A16 -> 1213 | B20: ='2'!B16 -> 31004 | C20: ='2'!C16 -> Քաղաքաշինության, տեխնիկական և հրդեհային անվտանգության տեսչական մարմնի կարողությունների զարգացում և տեխնիկական հագեցվածության ապահովում | D20: =D22 -> -185.1
C21: այդ թվում` ըստ կատարողների
C22: ՀՀ վարչապետի աշխատակազմ | D22: ='2'!H16 -> -185.1
A23: ='2'!A17 -> 1213 | B23: ='2'!B17 -> 31005 | C23: ='2'!C17 -> Առողջապահության և աշխատանքի տեսչական մարմնի կարողությունների զարգացում և տեխնիկական հագեցվածության ապահովում | D23: =D25 -> -1277.9
C24: այդ թվում` ըստ կատարողների
C25: ՀՀ վարչապետի աշխատակազմ | D25: ='2'!H17 -> -1277.9
A26: ='2'!A18 -> 1213 | B26: ='2'!B18 -> 31006 | C26: ='2'!C18 -> Սննդամթերքի անվտանգության տեսչական մարմնի տեխնիկական հագեցվածության բարելավում | D26: =D28 -> -131.7
C27: այդ թվում` ըստ կատարողների
C28: ՀՀ վարչապետի աշխատակազմ | D28: ='2'!H18 -> -131.7
A29: ='2'!A19 -> 1213 | B29: ='2'!B19 -> 31008 | C29: ='2'!C19 -> Քաղաքաշինության, տեխնիկական և հրդեհային անվտանգության տեսչական մարմնի շենքային պայմանների բարելավում | D29: =D31 -> -8300
C30: այդ թվում` ըստ կատարողների
C31: ՀՀ վարչապետի աշխատակազմ | D31: ='2'!G19 -> -8300

Sheet 5
A1: Հավելված N 5 ՀՀ կառավարության 2023 թվականի ------------ N ---------- որոշման
A3: ՀԱՅԱՍՏԱՆԻ ՀԱՆՐԱՊԵՏՈՒԹՅԱՆ ԿԱՌԱՎԱՐՈՒԹՅԱՆ 2022 ԹՎԱԿԱՆԻ ԴԵԿՏԵՄԲԵՐԻ 29-Ի N 2111-Ն ՈՐՈՇՄԱՆ N 9 ՀԱՎԵԼՎԱԾԻ N 9.3 ԵՎ N 9.1 ՀԱՎԵԼՎԱԾԻ N 9.1.3 ԱՂՅՈՒՍԱԿՆԵՐՈՒՄ ԿԱՏԱՐՎՈՂ ՓՈՓՈԽՈՒԹՅՈՒՆՆԵՐԸ ԵՎ ԼՐԱՑՈՒՄՆԵՐԸ
A4: ՀՀ վարչապետի աշխատակազմ
A5: ՄԱՍ 1. ՊԵՏԱԿԱՆ ՄԱՐՄՆԻ ԳԾՈՎ ԱՐԴՅՈՒՆՔԱՅԻՆ (ԿԱՏԱՐՈՂԱԿԱՆ) ՑՈՒՑԱՆԻՇՆԵՐԸ
A6: ՄԱՍ 2. ՊԵՏԱԿԱՆ ՄԱՐՄՆԻ ԳԾՈՎ ԱՐԴՅՈՒՆՔԱՅԻՆ (ԿԱՏԱՐՈՂԱԿԱՆ) ՑՈՒՑԱՆԻՇՆԵՐԸ
A8: Ծրագրի դասիչը | B8: Ծրագրի անվանումը
A9: ='1'!A9 -> 1213 | B9: ='1'!C10 -> Տեսչական վերահսկողության ծրագիր
A11: Ծրագրի միջոցառումները
A13: Ծրագրի դասիչը` | B13: ='1'!A9 -> 1213 | C13: Ցուցանիշների փոփոխությունները (նվազեցումները նշված են փակագծերում)
A14: Միջոցառման դասիչը` | B14: ='1'!B16 -> 11002 | C14: Տարի
A15: Միջոցառման անվանումը` | B15: ='1'!C17 -> Բնապահպանության ոլորտում վերահսկողության ծառայություններ
A16: Նկարագրությունը` | B16: ='1'!C19 -> Շրջակա միջավայրի վրա վնասակար ներգործությունների և բնական ռեսուրսների գերշահագործման վերահսկողության իրականացում
A17: Միջոցառման տեսակը` | B17: ='1'!C21 -> Ծառայությունների մատուցում
A18: Միջոցառումն իրականացնողի անվանումը | B18: ՀՀ բնապահպանության և ընդերքի տեսչական մարմին
A19: Արդյունքի չափորոշիչներ
A20: Միջոցառման վրա կատարվող ծախսը (հազար դրամ) | C20: ='1'!D16 -> -9634.9
A21: Ծրագրի դասիչը` | B21: ='1'!A9 -> 1213 | C21: Ցուցանիշների փոփոխությունները (ավելացումները նշված են դրական նշանով)
A22: Միջոցառման դասիչը` | B22: ='1'!B22 -> 11003 | C22: Տարի
A23: Միջոցառման անվանումը` | B23: ='1'!C23 -> Կրթության ոլորտում վերահսկողության ծառայություններ
A24: Նկարագրությունը` | B24: ='1'!C25 -> Կրթության ոլորտում տեսչական վերահսկողության ծառայությունների իրականացում
A25: Միջոցառման տեսակը` | B25: ='1'!C27 -> Ծառայությունների մատուցում
A26: Միջոցառումն իրականացնողի անվանումը | B26: ՀՀ կրթության տեսչական մարմին
A27: Արդյունքի չափորոշիչներ
A28: Միջոցառման վրա կատարվող ծախսը (հազար դրամ) | C28: ='1'!D22 -> 3167.5
A29: Ծրագրի դասիչը` | B29: ='1'!A9 -> 1213 | C29: Ցուցանիշների փոփոխությունները (նվազեցումները նշված են փակագծերում)
A30: Միջոցառման դասիչը` | B30: ='1'!B28 -> 11004 | C30: Տարի
A31: Միջոցառման անվանումը` | B31: ='1'!C29 -> Շուկայի վերահսկողության ծառայություններ
A32: Նկարագրությունը` | B32: ='1'!C31 -> Տեխնիկական կանոնակարգի պահանջների և չափագիտական կանոնների ու նորմերի պահպանման վերահսկողություն
A33: Միջոցառման տեսակը` | B33: ='1'!C33 -> Ծառայությունների մատուցում
A34: Միջոցառումն իրականացնողի անվանումը | B34: ՀՀ շուկայի վերահսկողության տեսչական մարմին
A35: Արդյունքի չափորոշիչներ
A36: Միջոցառման վրա կատարվող ծախսը (հազար դրամ) | C36: ='1'!D28 -> -1880
A37: Ծրագրի դասիչը` | B37: ='1'!A9 -> 1213 | C37: Ցուցանիշների փոփոխությունները (նվազեցումները նշված են փակագծերում)
A38: Միջոցառման դասիչը` | B38: ='1'!B34 -> 11005 | C38: Տարի
A39: Միջոցառման անվանումը` | B39: ='1'!C35 -> Արտադրանքի և որակի վերահսկողության ծառայություններ
A40: Նկարագրությունը` | B40: ='1'!C37 -> Արտադրանքի և ծառայությունների մատուցման ոլորտում տեխնիկական կանոնակարգերի պահանջների և չափագիտական կանոնների ու նորմերի վերահսկողության իրականացում
A41: Միջոցառման տեսակը` | B41: ='1'!C39 -> Ծառայությունների մատուցում
A42: Միջոցառումն իրականացնողի անվանումը՛ | B42: ՀՀ շուկայի վերահսկողության տեսչական մարմին
A43: Արդյունքի չափորոշիչներ
A44: Միջոցառման վրա կատարվող ծախսը (հազար դրամ) | C44: ='1'!D34 -> -3100
...

Sheet 6
A1: Հավելված N 6
A2: ՀՀ կառավարության 20 ____ թվականի
A3: ------------ N ---------- որոշման
A4: ՀԱՅԱՍՏԱՆԻ ՀԱՆՐԱՊԵՏՈՒԹՅԱՆ ԿԱՌԱՎԱՐՈՒԹՅԱՆ 2022 ԹՎԱԿԱՆԻ ԴԵԿՏԵՄԲԵՐԻ 29-Ի N 2111-Ն ՈՐՈՇՄԱՆ N 10 ՀԱՎԵԼՎԱԾՈՒՄ ԿԱՏԱՐՎՈՂ ՓՈՓՈԽՈՒԹՅՈՒՆՆԵՐԸ ԵՎ ԼՐԱՑՈՒՄՆԵՐԸ
A6: Գնման առարկայի | H6: Ցուցանիշների փոփոխությունը (ավելացումները նշված են դրական նշանով, իսկ նվազեցումները՝ փակագծերում)
A7: կոդը | B7: անվանումը | C7: գնման ձևը | D7: չափի միավորը | F7: միավորի գինը | G7: քանակը | H7: Գումարը (հազար դրամներով)
A9: ՀՀ վարչապետի աշխատակազմ | H9: =H10+H133 -> 800
A10: Բաժին N 01 | B10: Խումբ N 01 | C10: Դաս N 01 | D10: Օրենսդիր և գործադիր մարմիններ, պետական կառավարում | H10: =H11+H32+H40+H101+H43+H52+H107+H110+H113+H117+H129 -> 3900
A11: 1213 11002 | B11: Բնապահպանության ոլորտում վերահսկողության ծառայություններ | H11: =H30+H12+H28 -> -9634.9
A12: ՄԱՍ I. ԱՊՐԱՆՔՆԵՐ | H12: =SUM(H13:I27) -> -6865.3
A13: 22811180/3 | B13: օրագրեր | C13: ԷԱՃ | D13: հատ | H13: -30
A14: 30197622/523 | B14: թուղթ, A4 ֆորմատի | C14: ԷԱՃ | D14: կիլոգրամ | H14: -212.954
A15: 30197622/9 | B15: թուղթ, A4 ֆորմատի | C15: ԷԱՃ | D15: կիլոգրամ | H15: -165.846
A16: 30197622/3 | B16: թուղթ, A4 ֆորմատի | C16: ԷԱՃ | D16: կիլոգրամ | F16: 1000 | G16: -210 | H16: =F16*G16/1000 -> -210
A17: 30234650/4 | B17: ֆլեշ հիշողություն, 32GB | C17: ԷԱՃ | D17: հատ | H17: -144.2
A18: 30192720/508 | B18: գծանշիչ | C18: ԷԱՃ | D18: հատ | H18: -35.4
A19: 39263100/4 | B19: գրասենյակային լրակազմ | C19: ԷԱՃ | D19: հատ | H19: -54
A20: 09211110/507 | B20: շարժիչի յուղեր | C20: ԷԱՃ | D20: կիլոգրամ | H20: -6.8
A21: 09132200/17 | B21: բենզին, ռեգուլյար | C21: ԷԱՃ | D21: լիտր | H21: -1185
A22: 09132200/510 | B22: բենզին, ռեգուլյար | C22: ԷԱՃ | D22: լիտր | H22: -4140
A23: 09132100/502 | B23: բենզին, պրեմիում | C23: ԷԱՃ | D23: լիտր | H23: -266
A24: 09134200/512 | B24: դիզելային վառելիք, ամառային | C24: ԷԱՃ | D24: լիտր | H24: -96
A25: 33121242/5 | B25: անալիզատոր | C25: ԷԱՃ | D25: հատ | F25: 19100 | G25: -1 | H25: =F25*G25/1000 -> -19.1
A26: 33121242/6 | B26: անալիզատոր | C26: ԷԱՃ | D26: հատ | F26: 2200 | G26: -100 | H26: =F26*G26/1000 -> -220
A27: 33121242/508 | B27: անալիզատոր | C27: ԷԱՃ | D27: հատ | H27: -80
A28: ՄԱՍ II. ԱՇԽԱՏԱՆՔՆԵՐ | H28: =SUM(H29) -> -465.6
A29: 45461100/1 | B29: շենքերի, շինությունների ընթացիկ նորոգման աշխատանքներ | C29: ԳՀ | D29: դրամ | H29: -465.6
A30: ՄԱՍ III. ԾԱՌԱՅՈՒԹՅՈՒՆՆԵՐ | H30: =SUM(H31:I31) -> -2304
A31: 72261160/1 | B31: ծրագրային ապահովման սպասարկման ծառայություններ | C31: ՄԱ | D31: դրամ | F31: 2304000 | G31: -1 | H31: -2304
A32: 1213 11003 | B32: Կրթության ոլորտում վերահսկողության ծառայություններ | H32: =H33+H35+H37 -> 3167.5
A33: ՄԱՍ I. ԱՊՐԱՆՔՆԵՐ | H33: =SUM(H34) -> -332.5
A34: 09132200/526 | B34: բենզին, ռեգուլյար | C34: ԷԱՃ | D34: լիտր | H34: -332.5
A35: ՄԱՍ II. ԱՇԽԱՏԱՆՔՆԵՐ | H35: =SUM(H36) -> 3700
A36: 45461100/16 | B36: շենքերի, շինությունների ընթացիկ նորոգման աշխատանքներ | C36: ԳՀ | D36: դրամ | F36: 3700000 | G36: 1 | H36: =F36*G36/1000 -> 3700
A37: ՄԱՍ III. ԾԱՌԱՅՈՒԹՅՈՒՆՆԵՐ | H37: =SUM(H38:I39) -> -200
A38: 79111200/1 | B38: ներկայացուցչական ծառայություններ | C38: ՄԱ | D38: դրամ | H38: -100
A39: 79991160/1 | B39: արխիվացման ծառայություններ | C39: ՄԱ | D39: դրամ | H39: -100
A40: 1213 11004 | B40: Շուկայի վերահսկողության ծառայություններ | H40: =H41 -> -1880
A41: ՄԱՍ III. ԾԱՌԱՅՈՒԹՅՈՒՆՆԵՐ | H41: =SUM(H42:I42) -> -1880
A42: 72261180/4 | B42: տեղեկատվական տեխնոլոգիաների ծրագրային ապահովման սպասարկում | C42: ԳՀ | D42: դրամ | F42: 1880000 | G42: -1 | H42: =F42*G42/1000 -> -1880
...
