Workbook
Name _tab10: #REF!
Name _tab11: #REF!
Name _tab12: #REF!
Name _tab13: #REF!
Name _tab14: #REF!
Name _tab15: #REF!
Name _tab16: #REF!
Name _tab17: #REF!
Name _tab18: #REF!
Name _tab19: #REF!
Name _tab20: #REF!
Name _tab21: #REF!
Name _tab22: #REF!
Name _tab23: #REF!
Name _tab24: #REF!
Name _tab5: #REF!
Name _tab6: #REF!
Name _tab7: #REF!
Name _tab8: #REF!
Name _tab9: #REF!
Name AgencyCode: #REF!
Name AgencyName: #REF!
Name åû: #REF!
Name davit: #REF!
Name Functional1: #REF!
Name ggg: #REF!
Name mas: #REF!
Name mass: #REF!
Name PANature: #REF!
Name par_count: #REF!,#REF!,#REF!,#REF!,#REF!,#REF!,#REF!,#REF!,#REF!,#REF!,#REF!,#REF!,#REF!,#REF!,#REF!
Name par_qual: #REF!,#REF!,#REF!,#REF!,#REF!
Name par_time: #REF!,#REF!,#REF!,#REF!
Name par2.12s: #REF!
Name par2.4s: #REF!,#REF!,#REF!,#REF!,#REF!,#REF!,#REF!,#REF!,#REF!,#REF!,#REF!,#REF!,#REF!,#REF!,#REF!,#REF!
Name par2.5s: #REF!,#REF!
Name par2.6s: #REF!,#REF!,#REF!,#REF!
Name par2.7s: #REF!,#REF!
Name par2.9s: #REF!,#REF!,#REF!,#REF!,#REF!,#REF!,#REF!,#REF!,#REF!,#REF!,#REF!,#REF!,#REF!,#REF!,#REF!,#REF!
Name par4.10s: #REF!,#REF!
Name par4.11d: #REF!,#REF!,#REF!,#REF!,#REF!
Name par4.12d: #REF!
Name par4.13s: #REF!
Name par4.14: #REF!,#REF!,#REF!,#REF!,#REF!,#REF!
Name par4.15: #REF!,#REF!,#REF!
Name par4.16: #REF!,#REF!,#REF!
Name par4.17: #REF!,#REF!,#REF!,#REF!
Name par4.18d: #REF!,#REF!
Name par4.19s: #REF!
Name par4.20f: #REF!
Name par4.21f: #REF!
Name par4.22: #REF!
Name par4.4: #REF!
Name par4.5: #REF!
Name par4.6s: #REF!
Name par4.7s: #REF!
Name par4.8: #REF!,#REF!,#REF!,#REF!,#REF!
Name par4.9: #REF!,#REF!,#REF!,#REF!,#REF!,#REF!
Name par5.1: #REF!,#REF!
Name par5.3: #REF!,#REF!,#REF!,#REF!,#REF!,#REF!
Name par5.4: #REF!,#REF!,#REF!,#REF!,#REF!

Sheet 1
C1: Հավելված N 1 ՀՀ կառավարության 2023 թվականի ------------ N ---------- որոշման
A3: «ՀԱՅԱՍՏԱՆԻ ՀԱՆՐԱՊԵՏՈՒԹՅԱՆ 2023 ԹՎԱԿԱՆԻ ՊԵՏԱԿԱՆ ԲՅՈՒՋԵԻ ՄԱՍԻՆ» ՀԱՅԱՍՏԱՆԻ ՀԱՆՐԱՊԵՏՈՒԹՅԱՆ ՕՐԵՆՔԻ N 1 ՀԱՎԵԼՎԱԾԻ N 2 ԱՂՅՈՒՍԱԿՈՒՄ ԿԱՏԱՐՎՈՂ ՎԵՐԱԲԱՇԽՈՒՄԸ ԵՎ ՀԱՅԱՍՏԱՆԻ ՀԱՆՐԱՊԵՏՈՒԹՅԱՆ ԿԱՌԱՎԱՐՈՒԹՅԱՆ 2022 ԹՎԱԿԱՆԻ ԴԵԿՏԵՄԲԵՐԻ 29-Ի N 2111-Ն ՈՐՈՇՄԱՆN 5 ՀԱՎԵԼՎԱԾԻ N 1 ԱՂՅՈՒՍԱԿՈՒՄ ԿԱՏԱՐՎՈՂ ՓՈՓՈԽՈՒԹՅՈՒՆՆԵՐԸ
D4: հազար դրամներով
A5: Ծրագրային դասիչը | C5: Բյուջետային գլխավոր կարգադրիչների, ծրագրերի և միջոցառումների անվանումները | D5: Ցուցանիշների փոփոխությունը (ավելացումները նշված են դրական նշանով, իսկ նվազեցումները փակագծերում)
A6: Ծրագիր | B6: Միջոցառում | D6: Տարի
C7: ԸՆԴԱՄԵՆԸ ԾԱԽՍԵՐ | D7: =D8+D88 -> 2.1032065e-12
C8: ՀՀ վարչապետի աշխատակազմ | D8: =D9 -> 2.1032065e-12
A9: 1213 | C9: Ծրագրի անվանումը` | D9: =D22+D28+D34+D52+D58+D64+D82+D16+D40+D46+D70+D76 -> 2.1032065e-12
C10: Տեսչական վերահսկողության ծրագիր
C11: Ծրագրի նպատակը`
C12: Տեսչական վերահսկողության ապահովում
C13: Վերջնական արդյունքի նկարագրությունը`
C14: Տեխնիկական կանոնակարգերին համապատասխանության գնահատում և պահանջների պահպանում
A15: Ծրագրի միջոցառումներ
B16: 11002 | C16: Միջոցառման անվանումը` | D16: ='3'!G19 -> -9634.9
C17: Բնապահպանության ոլորտում վերահսկողության ծառայություններ
C18: Միջոցառման նկարագրությունը`
C19: Շրջակա միջավայրի վրա վնասակար ներգործությունների և բնական ռեսուրսների գերշահագործման վերահսկողության իրականացում
C20: Միջոցառման տեսակը
C21: Ծառայությունների մատուցում
B22: 11003 | C22: Միջոցառման անվանումը` | D22: ='3'!G34 -> 3167.5
C23: Կրթության ոլորտում վերահսկողության ծառայություններ
C24: Միջոցառման նկարագրությունը`
C25: Կրթության ոլորտում տեսչական վերահսկողության ծառայությունների իրականացում
C26: Միջոցառման տեսակը
C27: Ծառայությունների մատուցում
B28: 11004 | C28: Միջոցառման անվանումը` | D28: ='3'!G48 -> -1880
C29: Շուկայի վերահսկողության ծառայություններ
C30: Միջոցառման նկարագրությունը`
C31: Տեխնիկական կանոնակարգի պահանջների և չափագիտական կանոնների ու նորմերի պահպանման վերահսկողություն
C32: Միջոցառման տեսակը
C33: Ծառայությունների մատուցում
B34: 11005 | C34: Միջոցառման անվանումը` | D34: ='3'!G159 -> -3100
C35: Արտադրանքի և որակի վերահսկողության ծառայություններ
C36: Միջոցառման նկարագրությունը`
C37: Արտադրանքի և ծառայությունների մատուցման ոլորտում տեխնիկական կանոնակարգերի պահանջների և չափագիտական կանոնների ու նորմերի վերահսկողության իրականացում
C38: Միջոցառման տեսակը
C39: Ծառայությունների մատուցում
B40: 11006 | C40: Միջոցառման անվանումը` | D40: ='3'!G57 -> -6849.1
C41: Քաղաքաշինության և ճարտարապետության բնագավառում վերահսկողության ծառայություններ
C42: Միջոցառման նկարագրությունը`
C43: Քաղաքաշինության, տեխնիկական և հրդեհային անվտանգության, տրանսպորտի, էներգետիկայի, պետական և տեղական նշանակության գեոդեզիական և քարտեզագրական աշխատանքների և հողօգտագործման բնագավառներում վերահսկողության իրականացում
C44: Միջոցառման տեսակը
C45: Ծառայությունների մատուցում
B46: 11007 | C46: Միջոցառման անվանումը` | D46: ='3'!G72 -> 23329.2
C47: Սննդամթերքի անվտանգության բնագավառում վերահսկողության իրականացման ծառայություններ
C48: Միջոցառման նկարագրությունը`
C49: Սննդամթերքի, անասնաբուժության և բուսասանիտարիայի ոլորտներում վերահսկողության իրականացում, պետությանը և հանրությանը սպառնացող վտանգների հայտնաբերում, ներթափանցման և տարածման կանխարգելում:
C50: Միջոցառման տեսակը
C51: Ծառայությունների մատուցում
B52: 31002 | C52: Միջոցառման անվանումը` | D52: ='3'!G95 -> -118
C53: Կրթության տեսչական մարմնի կարողությունների զարգացում և տեխնիկական հագեցվածության ապահովում
C54: Միջոցառման նկարագրությունը`
C55: Կրթության տեսչական մարմնի աշխատանքային պայմանների բարելավման համար վարչական սարքավորումների ձեռք բերում
C56: Միջոցառման տեսակը
C57: Պետական մարմինների կողմից օգտագործվող ոչ ֆինանսական ակտիվների հետ գործառնություններ
B58: 31003 | C58: Միջոցառման անվանումը` | D58: ='3'!G104 -> 4980
C59: Շուկայի վերահսկողության տեսչական մարմնի կարողությունների զարգացում և տեխնիկական հագեցվածության ապահովում
C60: Միջոցառման նկարագրությունը`
C61: Շուկայի վերահսկողության տեսչական մարմնի աշխատանքային պայմանների բարելավման համար վարչական սարքավորումների ձեռք բերում
C62: Միջոցառման տեսակը
C63: Պետական մարմինների կողմից օգտագործվող ոչ ֆինանսական ակտիվների հետ գործառնություններ
B64: 31004 | C64: Միջոցառման անվանումը` | D64: ='3'!G113 -> -185.1
C65: Քաղաքաշինության, տեխնիկական և հրդեհային անվտանգության տեսչական մարմնի կարողությունների զարգացում և տեխնիկական հագեցվածության ապահովում
C66: Միջոցառման նկարագրությունը`
C67: Քաղաքաշինության, տեխնիկական և հրդեհային անվտանգության տեսչական մարմնի աշխատանքային պայմանների բարելավման համար վարչական սարքավորումների ձեռք բերում
C68: Միջոցառման տեսակը
C69: Պետական մարմինների կողմից օգտագործվող ոչ ֆինանսական ակտիվների հետ գործառնություններ
B70: 31005 | C70: Միջոցառման անվանումը` | D70: ='3'!G122 -> -1277.9
C71: Առողջապահության և աշխատանքի տեսչական մարմնի կարողությունների զարգացում և տեխնիկական հագեցվածության ապահովում
C72: Միջոցառման նկարագրությունը`
C73: Առողջապահության և աշխատանքի տեսչական մարմնի աշխատանքային պայմանների բարելավման համար վարչական սարքավորումների ձեռք բերում
C74: Միջոցառման տեսակը
C75: Պետական մարմինների կողմից օգտագործվող ոչ ֆինանսական ակտիվների հետ գործառնություններ
B76: 31006 | C76: Միջոցառման անվանումը` | D76: ='3'!G131 -> -131.7
C77: Սննդամթերքի անվտանգության տեսչական մարմնի տեխնիկական հագեցվածության բարելավում
C78: Միջոցառման նկարագրությունը`
C79: Սննդամթերքի անվտանգության տեսչական մարմնի տեխնիկական և աշխատանքային պայմանների բարելավում
C80: Միջոցառման տեսակը
C81: Պետական մարմինների կողմից օգտագործվող ոչ ֆինանսական ակտիվների հետ գործառնություններ
B82: 31008 | C82: Միջոցառման անվանումը` | D82: ='3'!G140 -> -8300
C83: Քաղաքաշինության, տեխնիկական և հրդեհային անվտանգության տեսչական մարմնի շենքային պայմանների բարելավում
C84: Միջոցառման նկարագրությունը`
C85: Քաղաքաշինության, տեխնիկական և հրդեհային անվտանգության տեսչական մարմնի վարչական շենքի հիմնանորոգման և նախագծանախահաշվային փաստաթղթերի ձեռք բերում
C86: Միջոցառման տեսակը
C87: Պետական մարմինների կողմից օգտագործվող ոչ ֆինանսական ակտիվների հետ գործառնություններ
C88: ՀՀ կառավարություն | D88: =D89 -> 0
A89: 1139 | C89: Ծրագրի անվանումը` | D89: =D96+D102 -> 0
C90: ՀՀ կառավարության պահուստային ֆոնդ
C91: Ծրագրի նպատակը`
C92: Պետական բյուջեում չկանխատեսված, ինչպես նաեւ բյուջետային երաշխիքների ապահովման ծախսերի ֆինանսավորման ապահովում_x000D_
C93: Վերջնական արդյունքի նկարագրությունը`
C94: Պահուստային ֆոնդի կառավարման արդյունավետության և թափանցիկության ապահովում_x000D_
A95: Ծրագրի միջոցառումներ
B96: 11001 | C96: Միջոցառման անվանումը` | D96: ='3'!G179 -> 48026
C97: ՀՀ կառավարության պահուստային ֆոնդ
C98: Միջոցառման նկարագրությունը`
C99: ՀՀ պետական բյուջեում նախատեսված ելքերի լրացուցիչ ֆինանսավորման, պետական բյուջեում չկանխատեսված ելքերի, ինչպես նաև բյուջետային երաշխիքների ապահովման ելքերի ֆինանսավորման ապահովում
C100: Միջոցառման տեսակը
C101: Ծառայությունների մատուցում
...

Sheet 2
A1: Հավելված 2
A2: ՀՀ կառավարության 2023 թվականի
A3: ------------ N ---------- որոշման
A5: «ՀԱՅԱՍՏԱՆԻ ՀԱՆՐԱՊԵՏՈՒԹՅԱՆ 2023 ԹՎԱԿԱՆԻ ՊԵՏԱԿԱՆ ԲՅՈՒՋԵԻ ՄԱՍԻՆ» ՀԱՅԱՍՏԱՆԻ ՀԱՆՐԱՊԵՏՈՒԹՅԱՆ ՕՐԵՆՔԻ N 1 ՀԱՎԵԼՎԱԾԻ N 3 ԱՂՅՈՒՍԱԿՈՒՄ ԿԱՏԱՐՎՈՂ ՓՈՓՈԽՈՒԹՅՈՒՆՆԵՐԸ
G6: հազար դրամներով
A7: Ծրագրային դասիչ | C7: Բյուջետային գլխավոր կարգադրիչների, ծրագրերի, միջոցառումների և ուղղությունների անվանումները | D7: Ընդամենը | E7: Ցուցանիշների փոփոխությունը (ավելացումները նշված են դրական նշանով, իսկ նվազեցումները փակագծերում)
E8: այդ թվում՝
A9: Ծրագիր | B9: Միջոցառում | E9: Կառուցման աշխատանքներ | F9: Վերակառուցման, վերանորոգման և վերականգնման աշխատանքներ | G9: Նախագծահե տազոտական, գեոդեզիա- քարտեզագրա կան աշխա տանքներ | H9: Ոչ ֆինանսական այլ ակտիվների ձեռքբերում
C10: ԸՆԴԱՄԵՆԸ | D10: =D12+D21+D25+D34+D38+D42+D46+D51+D55+D62+D68+D73+D80+D84+D93+D151+D191+D197+D201+D216+D220+D236+D240+D244+D248+D252+D263+D277+D285+D312+D316+D320+D325+D335+D339+D343+D347+D351+D355+D359+D363+D367+D371+D375 -> -5032.7 | E10: =E12+E21+E25+E34+E38+E42+E46+E51+E55+E62+E68+E73+E80+E84+E93+E151+E191+E197+E201+E216+E220+E236+E240+E244+E248+E252+E263+E277+E285+E312+E316+E320+E325+E335+E339+E343+E347+E351+E355+E359+E363+E367+E371+E375 -> 0 | F10: =F12+F21+F25+F34+F38+F42+F46+F51+F55+F62+F68+F73+F80+F84+F93+F151+F191+F197+F201+F216+F220+F236+F240+F244+F248+F252+F263+F277+F285+F312+F316+F320+F325+F335+F339+F343+F347+F351+F355+F359+F363+F367+F371+F375 -> 0 | G10: =G12+G21+G25+G34+G38+G42+G46+G51+G55+G62+G68+G73+G80+G84+G93+G151+G191+G197+G201+G216+G220+G236+G240+G244+G248+G252+G263+G277+G285+G312+G316+G320+G325+G335+G339+G343+G347+G351+G355+G359+G363+G367+G371+G375 -> -8300 | H10: =H12+H21+H25+H34+H38+H42+H46+H51+H55+H62+H68+H73+H80+H84+H93+H151+H191+H197+H201+H216+H220+H236+H240+H244+H248+H252+H263+H277+H285+H312+H316+H320+H325+H335+H339+H343+H347+H351+H355+H359+H363+H367+H371+H375 -> 3267.3
C11: այդ թվում՝
C12: ՀՀ ՎԱՐՉԱՊԵՏԻ ԱՇԽԱՏԱԿԱԶՄ | D12: =D14+D15+D16+D19+D17+D18 -> -5032.7 | E12: =E14+E15 -> 0 | F12: =F14+F15 -> 0 | G12: =G14+G15+G16+G19 -> -8300 | H12: =H14+H15+H16+H19+H17+H18 -> 3267.3
C13: այդ թվում`
A14: ='1'!A9 -> 1213 | B14: ='1'!B52 -> 31002 | C14: ='1'!C53 -> Կրթության տեսչական մարմնի կարողությունների զարգացում և տեխնիկական հագեցվածության ապահովում | D14: =H14 -> -118 | H14: ='1'!D52 -> -118
A15: ='1'!A9 -> 1213 | B15: ='1'!B58 -> 31003 | C15: ='1'!C59 -> Շուկայի վերահսկողության տեսչական մարմնի կարողությունների զարգացում և տեխնիկական հագեցվածության ապահովում | D15: =H15 -> 4980 | H15: ='1'!D58 -> 4980
A16: ='1'!A9 -> 1213 | B16: ='1'!B64 -> 31004 | C16: ='1'!C65 -> Քաղաքաշինության, տեխնիկական և հրդեհային անվտանգության տեսչական մարմնի կարողությունների զարգացում և տեխնիկական հագեցվածության ապահովում | D16: =H16 -> -185.1 | H16: ='1'!D64 -> -185.1
A17: ='1'!A9 -> 1213 | B17: ='1'!B70 -> 31005 | C17: ='1'!C71 -> Առողջապահության և աշխատանքի տեսչական մարմնի կարողությունների զարգացում և տեխնիկական հագեցվածության ապահովում | D17: =H17 -> -1277.9 | H17: ='1'!D70 -> -1277.9
A18: ='1'!A9 -> 1213 | B18: ='1'!B76 -> 31006 | C18: ='1'!C77 -> Սննդամթերքի անվտանգության տեսչական մարմնի տեխնիկական հագեցվածության բարելավում | D18: =H18 -> -131.7 | H18: ='1'!D76 -> -131.7
A19: ='1'!A9 -> 1213 | B19: ='1'!B82 -> 31008 | C19: ='1'!C83 -> Քաղաքաշինության, տեխնիկական և հրդեհային անվտանգության տեսչական մարմնի շենքային պայմանների բարելավում | D19: =G19 -> -8300 | G19: ='1'!D82 -> -8300

Sheet 3
A1: Հավելված N 3 ՀՀ կառավարության 2023 թվականի ------------ N ---------- որոշման
A3: ՀԱՅԱՍՏԱՆԻ ՀԱՆՐԱՊԵՏՈՒԹՅԱՆ ԿԱՌԱՎԱՐՈՒԹՅԱՆ 2022 ԹՎԱԿԱՆԻ ԴԵԿՏԵՄԲԵՐԻ 29-Ի N 2111-Ն ՈՐՈՇՄԱՆ N 3 ԵՎ N 4 ՀԱՎԵԼՎԱԾՆԵՐՈՒՄ ԿԱՏԱՐՎՈՂ ՓՈՓՈԽՈՒԹՅՈՒՆՆԵՐԸ
G4: հազար դրամներով
A5: Գործառական դասիչը | D5: Ծրագրային դասիչը | F5: Բյուջետային ծախսերի գործառական դասակարգման բաժինների, խմբերի և դասերի, բյուջետային ծրագրերի միջոցառումների, բյուջետային հատկացումների գլխավոր կարգադրիչների անվանումները | G5: Ցուցանիշների փոփոխությունը (ավելացումները նշված են դրական նշանով, իսկ նվազեցումները փակագծերում)
A6: Բաժին | B6: Խումբ | C6: Դաս | D6: Ծրագիր | E6: Միջոցառում | G6: Տարի
F7: ԸՆԴԱՄԵՆԸ ԾԱԽՍԵՐ | G7: =(G8+G168) -> 0
F8: ՀՀ վարչապետի աշխատակազմ | G8: =G9+G149 -> 0
A9: 01 | F9: ԸՆԴՀԱՆՈՒՐ ԲՆՈՒՅԹԻ ՀԱՆՐԱՅԻՆ ԾԱՌԱՅՈՒԹՅՈՒՆՆԵՐ | G9: =G11 -> 3100
F10: այդ թվում`
B11: 01 | F11: Օրենսդիր և գործադիր մարմիններ, պետական կառավարում, ֆինանսական և հարկաբյուջետային հարաբերություններ, արտաքին հարաբերություններ | G11: =G13 -> 3100
F12: այդ թվում`
C13: 01 | F13: Օրենսդիր և գործադիր մարմիններ, պետական կառավարում | G13: =G17 -> 3100
F14: այդ թվում`
F15: ՀՀ վարչապետի աշխատակազմ | G15: =G17 -> 3100
F16: այդ թվում`
D17: ='1'!A9 -> 1213 | F17: ='1'!C10 -> Տեսչական վերահսկողության ծրագիր | G17: =G34+G48+G95+G104+G113+G140+G19+G57+G72+G122+G131 -> 3100
F18: այդ թվում`
E19: ='[1]1'!B16 -> 11002 | F19: ='[1]1'!C17 -> Բնապահպանության ոլորտում վերահսկողության ծառայություններ | G19: =G21 -> -9634.9
F20: այդ թվում` ըստ կատարողների
F21: ՀՀ վարչապետի աշխատակազմ | G21: =G23 -> -9634.9
F22: այդ թվում` բյուջետային ծախսերի տնտեսագիտական դասակարգման հոդվածներ
F23: ԸՆԴԱՄԵՆԸ ԾԱԽՍԵՐ | G23: =G24 -> -9634.9
F24: ԸՆԹԱՑԻԿ ԾԱԽՍԵՐ | G24: =G25 -> -9634.9
F25: ԾԱՌԱՅՈՒԹՅՈՒՆՆԵՐԻ ԵՎ ԱՊՐԱՆՔՆԵՐԻ ՁԵՌՔԲԵՐՈՒՄ | G25: =G26+G28+G30 -> -9634.9
F26: Պայմանագրային այլ ծառայությունների ձեռքբերում | G26: =G27 -> -2304
F27: - Համակարգչային ծառայություններ | G27: -2304
F28: Ընթացիկ նորոգում և պահպանում (ծառայություններ և նյութեր) | G28: =G29 -> -465.6
F29: - Շենքերի և կառույցների ընթացիկ նորոգում և պահպանում | G29: -465.6
F30: Նյութեր (Ապրանքներ) | G30: =G31+G32+G33 -> -6865.3
F31: - Գրասենյակային նյութեր և հագուստ | G31: -852.4
F32: - Տրանսպորտային նյութեր | G32: -5693.8
F33: - Հատուկ նպատակային այլ նյութեր | G33: -319.1
E34: ='1'!B22 -> 11003 | F34: ='1'!C23 -> Կրթության ոլորտում վերահսկողության ծառայություններ | G34: =G36 -> 3167.5
F35: այդ թվում` ըստ կատարողների
F36: ՀՀ վարչապետի աշխատակազմ | G36: =G38 -> 3167.5
F37: այդ թվում` բյուջետային ծախսերի տնտեսագիտական դասակարգման հոդվածներ
F38: ԸՆԴԱՄԵՆԸ ԾԱԽՍԵՐ | G38: =G39 -> 3167.5
F39: ԸՆԹԱՑԻԿ ԾԱԽՍԵՐ | G39: =G40 -> 3167.5
F40: ԾԱՌԱՅՈՒԹՅՈՒՆՆԵՐԻ ԵՎ ԱՊՐԱՆՔՆԵՐԻ ՁԵՌՔԲԵՐՈՒՄ | G40: =G41+G44+G46 -> 3167.5
F41: Պայմանագրային այլ ծառայությունների ձեռքբերում | G41: =G43+G42 -> -200
F42: - Ներկայացուցչական ծախսեր | G42: -100
F43: - Ընդհանուր բնույթի այլ ծառայություններ | G43: -100
F44: Ընթացիկ նորոգում և պահպանում (ծառայություններ և նյութեր) | G44: =G45 -> 3700
F45: - Շենքերի և կառույցների ընթացիկ նորոգում և պահպանում | G45: 3700
F46: Նյութեր (Ապրանքներ) | G46: =G47 -> -332.5
F47: - Տրանսպորտային նյութեր | G47: -332.5
E48: ='1'!B28 -> 11004 | F48: ='1'!C29 -> Շուկայի վերահսկողության ծառայություններ | G48: =G50 -> -1880
F49: այդ թվում` ըստ կատարողների
F50: ՀՀ վարչապետի աշխատակազմ | G50: =G52 -> -1880
F51: այդ թվում` բյուջետային ծախսերի տնտեսագիտական դասակարգման հոդվածներ
F52: ԸՆԴԱՄԵՆԸ ԾԱԽՍԵՐ | G52: =G53 -> -1880
F53: ԸՆԹԱՑԻԿ ԾԱԽՍԵՐ | G53: =G54 -> -1880
F54: ԾԱՌԱՅՈՒԹՅՈՒՆՆԵՐԻ ԵՎ ԱՊՐԱՆՔՆԵՐԻ ՁԵՌՔԲԵՐՈՒՄ | G54: =G55 -> -1880
F55: Պայմանագրային այլ ծառայությունների ձեռքբերում | G55: =G56 -> -1880
F56: - Համակարգչային ծառայություններ | G56: -1880
E57: ='[1]1'!B40 -> 11006 | F57: ='[1]1'!C41 -> Քաղաքաշինության և ճարտարապետության բնագավառում վերահսկողության ծառայություններ | G57: =G59 -> -6849.1
F58: այդ թվում` ըստ կատարողների
F59: ՀՀ վարչապետի աշխատակազմ | G59: =G61 -> -6849.1
F60: այդ թվում` բյուջետային ծախսերի տնտեսագիտական դասակարգման հոդվածներ
F61: ԸՆԴԱՄԵՆԸ ԾԱԽՍԵՐ | G61: =G62 -> -6849.1
F62: ԸՆԹԱՑԻԿ ԾԱԽՍԵՐ | G62: =G63 -> -6849.1
F63: ԾԱՌԱՅՈՒԹՅՈՒՆՆԵՐԻ ԵՎ ԱՊՐԱՆՔՆԵՐԻ ՁԵՌՔԲԵՐՈՒՄ | G63: =G64+G68+G70+G66 -> -6849.1
F64: Շարունակական ծախսեր | G64: =G65 -> -564
F65: - Գույքի և սարքավորումների վարձակալություն | G65: -564
F66: Պայմանագրային այլ ծառայությունների ձեռքբերում | G66: =G67 -> -5000
F67: - Համակարգչային ծառայություններ | G67: -5000
F68: Ընթացիկ նորոգում և պահպանում (ծառայություններ և նյութեր) | G68: =G69 -> -1185.1
F69: - Շենքերի և կառույցների ընթացիկ նորոգում և պահպանում | G69: -1185.1
F70: Նյութեր (Ապրանքներ) | G70: =G71 -> -100
F71: - Հատուկ նպատակային այլ նյութեր | G71: -100
E72: ='1'!B46 -> 11007 | F72: ='1'!C47 -> Սննդամթերքի անվտանգության բնագավառում վերահսկողության իրականացման ծառայություններ | G72: =G74 -> 23329.2
F73: այդ թվում` ըստ կատարողների
F74: ՀՀ վարչապետի աշխատակազմ | G74: =G76 -> 23329.2
F75: այդ թվում` բյուջետային ծախսերի տնտեսագիտական դասակարգման հոդվածներ
F76: ԸՆԴԱՄԵՆԸ ԾԱԽՍԵՐ | G76: =G77 -> 23329.2
F77: ԸՆԹԱՑԻԿ ԾԱԽՍԵՐ | G77: =G78 -> 23329.2
F78: ԾԱՌԱՅՈՒԹՅՈՒՆՆԵՐԻ ԵՎ ԱՊՐԱՆՔՆԵՐԻ ՁԵՌՔԲԵՐՈՒՄ | G78: =G79+G82+G86+G90+G88 -> 23329.2
F79: Շարունակական ծախսեր | G79: =G80+G81 -> -831.8
F80: - Կապի ծառայություններ | G80: -409.8
F81: - Ապահովագրական ծախսեր | G81: -422
F82: Պայմանագրային այլ ծառայությունների ձեռքբերում | G82: =G83+G84+G85 -> -6404.8
F83: - Համակարգչային ծառայություններ | G83: -2976
F84: - Աշխատակազմի մասնագիտական զարգացման ծառայություններ | G84: -2098.8
F85: - Ընդհանուր բնույթի այլ ծառայություններ | G85: -1330
F86: Այլ մասնագիտական ծառայությունների ձեռքբերում | G86: =G87 -> -3000
F87: - Մասնագիտական ծառայություններ | G87: -3000
F88: Ընթացիկ նորոգում և պահպանում (ծառայություններ և նյութեր) | G88: =G89 -> 39346
F89: - Շենքերի և կառույցների ընթացիկ նորոգում և պահպանում | G89: 39346
F90: Նյութեր (Ապրանքներ) | G90: =G91+G92+G93+G94 -> -5780.2
F91: - Գրասենյակային նյութեր և հագուստ | G91: -346.4
F92: - Տրանսպորտային նյութեր | G92: -4363.8
F93: - Առողջապահական և լաբորատոր նյութեր | G93: -270
F94: - Հատուկ նպատակային այլ նյութեր | G94: -800
E95: ='1'!B52 -> 31002 | F95: Կրթության տեսչական մարմնի կարողությունների զարգացում և տեխնիկական հագեցվածության ապահովում | G95: =G97 -> -118
F96: այդ թվում` ըստ կատարողների
F97: ՀՀ վարչապետի աշխատակազմ | G97: =G99 -> -118
F98: այդ թվում` բյուջետային ծախսերի տնտեսագիտական դասակարգման հոդվածներ
F99: ԸՆԴԱՄԵՆԸ ԾԱԽՍԵՐ | G99: =G100 -> -118
F100: ՈՉ ՖԻՆԱՆՍԱԿԱՆ ԱԿՏԻՎՆԵՐԻ ԳԾՈՎ ԾԱԽՍԵՐ | G100: =G101 -> -118
F101: ՀԻՄՆԱԿԱՆ ՄԻՋՈՑՆԵՐ | G101: =G102 -> -118
...

Sheet 4
A1: Հավելված 4
A2: ՀՀ կառավարության 2023 թվականի
A3: ------------ N ---------- որոշման
A5: ՀԱՅԱՍՏԱՆԻ ՀԱՆՐԱՊԵՏՈՒԹՅԱՆ ԿԱՌԱՎԱՐՈՒԹՅԱՆ 2022 ԹՎԱԿԱՆԻ ԴԵԿՏԵՄԲԵՐԻ 29-Ի N 2111-Ն ՈՐՈՇՄԱՆ N 5 ՀԱՎԵԼՎԱԾԻ N 2 ԱՂՅՈՒՍԱԿՈՒՄ ԿԱՏԱՐՎՈՂ ՓՈՓՈԽՈՒԹՅՈՒՆՆԵՐԸ
D7: հազար դրամներով
A8: Ծրագրային դասիչ | C8: Բյուջետային գլխավոր կարգադրիչների, ծրագրերի, միջոցառումների, միջոցառումները կատարող պետական մարմինների և ուղղությունների անվանումները | D8: Ցուցանիշների փոփոխությունը (ավելացումները նշված են դրական նշանով, իսկ նվազեցումները փակագծերում)
A9: Ծրագիր | B9: Միջոցառում | D9: ='[2]3'!H8 -> Տարի
C10: ԸՆԴԱՄԵՆԸ | D10: =D12 -> -5032.7
C11: այդ թվում՝
C12: ՀՀ ՎԱՐՉԱՊԵՏԻ ԱՇԽԱՏԱԿԱԶՄ | D12: =D14+D17+D20+D29+D23+D26 -> -5032.7
C13: այդ թվում`
A14: ='2'!A14 -> 1213 | B14: ='2'!B14 -> 31002 | C14: ='2'!C14 -> Կրթության տեսչական մարմնի կարողությունների զարգացում և տեխնիկական հագեցվածության ապահովում | D14: =D16 -> -118
C15: այդ թվում` ըստ կատարողների
C16: ՀՀ վարչապետի աշխատակազմ | D16: ='2'!H14 -> -118
A17: ='2'!A15 -> 1213 | B17: ='2'!B15 -> 31003 | C17: ='2'!C15 -> Շուկայի վերահսկողության տեսչական մարմնի կարողությունների զարգացում և տեխնիկական հագեցվածության ապահովում | D17: =D19 -> 4980
C18: այդ թվում` ըստ կատարողների
C19: ՀՀ վարչապետի աշխատակազմ | D19: ='2'!H15 -> 4980
A20: ='2'!A16 -> 1213 | B20: ='2'!B16 -> 31004 | C20: ='2'!C16 -> Քաղաքաշինության, տեխնիկական և հրդեհային անվտանգության տեսչական մարմնի կարողությունների զարգացում և տեխնիկական հագեցվածության ապահովում | D20: =D22 -> -185.1
C21: այդ թվում` ըստ կատարողների
C22: ՀՀ վարչապետի աշխատակազմ | D22: ='2'!H16 -> -185.1
A23: ='2'!A17 -> 1213 | B23: ='2'!B17 -> 31005 | C23: ='2'!C17 -> Առողջապահության և աշխատանքի տեսչական մարմնի կարողությունների զարգացում և տեխնիկական հագեցվածության ապահովում | D23: =D25 -> -1277.9
C24: այդ թվում` ըստ կատարողների
C25: ՀՀ վարչապետի աշխատակազմ | D25: ='2'!H17 -> -1277.9
A26: ='2'!A18 -> 1213 | B26: ='2'!B18 -> 31006 | C26: ='2'!C18 -> Սննդամթերքի անվտանգության տեսչական մարմնի տեխնիկական հագեցվածության բարելավում | D26: =D28 -> -131.7
C27: այդ թվում` ըստ կատարողների
C28: ՀՀ վարչապետի աշխատակազմ | D28: ='2'!H18 -> -131.7
A29: ='2'!A19 -> 1213 | B29: ='2'!B19 -> 31008 | C29: ='2'!C19 -> Քաղաքաշինության, տեխնիկական և հրդեհային անվտանգության տեսչական մարմնի շենքային պայմանների բարելավում | D29: =D31 -> -8300
C30: այդ թվում` ըստ կատարողների
C31: ՀՀ վարչապետի աշխատակազմ | D31: ='2'!G19 -> -8300

Sheet 5
A1: Հավելված N 5 ՀՀ կառավարության 2023 թվականի ------------ N ---------- որոշման
A3: ՀԱՅԱՍՏԱՆԻ ՀԱՆՐԱՊԵՏՈՒԹՅԱՆ ԿԱՌԱՎԱՐՈՒԹՅԱՆ 2022 ԹՎԱԿԱՆԻ ԴԵԿՏԵՄԲԵՐԻ 29-Ի N 2111-Ն ՈՐՈՇՄԱՆ N 9 ՀԱՎԵԼՎԱԾԻ N 9.3 ԵՎ N 9.1 ՀԱՎԵԼՎԱԾԻ N 9.1.3 ԱՂՅՈՒՍԱԿՆԵՐՈՒՄ ԿԱՏԱՐՎՈՂ ՓՈՓՈԽՈՒԹՅՈՒՆՆԵՐԸ ԵՎ ԼՐԱՑՈՒՄՆԵՐԸ
A4: ՀՀ վարչապետի աշխատակազմ
A5: ՄԱՍ 1. ՊԵՏԱԿԱՆ ՄԱՐՄՆԻ ԳԾՈՎ ԱՐԴՅՈՒՆՔԱՅԻՆ (ԿԱՏԱՐՈՂԱԿԱՆ) ՑՈՒՑԱՆԻՇՆԵՐԸ
A6: ՄԱՍ 2. ՊԵՏԱԿԱՆ ՄԱՐՄՆԻ ԳԾՈՎ ԱՐԴՅՈՒՆՔԱՅԻՆ (ԿԱՏԱՐՈՂԱԿԱՆ) ՑՈՒՑԱՆԻՇՆԵՐԸ
A8: Ծրագրի դասիչը | B8: Ծրագրի անվանումը
A9: ='1'!A9 -> 1213 | B9: ='1'!C10 -> Տեսչական վերահսկողության ծրագիր
A11: Ծրագրի միջոցառումները
A13: Ծրագրի դասիչը` | B13: ='1'!A9 -> 1213 | C13: Ցուցանիշների փոփոխությունները (նվազեցումները նշված են փակագծերում)
A14: Միջոցառման դասիչը` | B14: ='1'!B16 -> 11002 | C14: Տարի
A15: Միջոցառման անվանումը` | B15: ='1'!C17 -> Բնապահպանության ոլորտում վերահսկողության ծառայություններ
A16: Նկարագրությունը` | B16: ='1'!C19 -> Շրջակա միջավայրի վրա վնասակար ներգործությունների և բնական ռեսուրսների գերշահագործման վերահսկողության իրականացում
A17: Միջոցառման տեսակը` | B17: ='1'!C21 -> Ծառայությունների մատուցում
A18: Միջոցառումն իրականացնողի անվանումը | B18: ՀՀ բնապահպանության և ընդերքի տեսչական մարմին
A19: Արդյունքի չափորոշիչներ
A20: Միջոցառման վրա կատարվող ծախսը (հազար դրամ) | C20: ='1'!D16 -> -9634.9
A21: Ծրագրի դասիչը` | B21: ='1'!A9 -> 1213 | C21: Ցուցանիշների փոփոխությունները (ավելացումները նշված են դրական նշանով)
A22: Միջոցառման դասիչը` | B22: ='1'!B22 -> 11003 | C22: Տարի
A23: Միջոցառման անվանումը` | B23: ='1'!C23 -> Կրթության ոլորտում վերահսկողության ծառայություններ
A24: Նկարագրությունը` | B24: ='1'!C25 -> Կրթության ոլորտում տեսչական վերահսկողության ծառայությունների իրականացում
A25: Միջոցառման տեսակը` | B25: ='1'!C27 -> Ծառայությունների մատուցում
A26: Միջոցառումն իրականացնողի անվանումը | B26: ՀՀ կրթության տեսչական մարմին
A27: Արդյունքի չափորոշիչներ
A28: Միջոցառման վրա կատարվող ծախսը (հազար դրամ) | C28: ='1'!D22 -> 3167.5
A29: Ծրագրի դասիչը` | B29: ='1'!A9 -> 1213 | C29: Ցուցանիշների փոփոխությունները (նվազեցումները նշված են փակագծերում)
A30: Միջոցառման դասիչը` | B30: ='1'!B28 -> 11004 | C30: Տարի
A31: Միջոցառման անվանումը` | B31: ='1'!C29 -> Շուկայի վերահսկողության ծառայություններ
A32: Նկարագրությունը` | B32: ='1'!C31 -> Տեխնիկական կանոնակարգի պահանջների և չափագիտական կանոնների ու նորմերի պահպանման վերահսկողություն
A33: Միջոցառման տեսակը` | B33: ='1'!C33 -> Ծառայությունների մատուցում
A34: Միջոցառումն իրականացնողի անվանումը | B34: ՀՀ շուկայի վերահսկողության տեսչական մարմին
A35: Արդյունքի չափորոշիչներ
A36: Միջոցառման վրա կատարվող ծախսը (հազար դրամ) | C36: ='1'!D28 -> -1880
A37: Ծրագրի դասիչը` | B37: ='1'!A9 -> 1213 | C37: Ցուցանիշների փոփոխությունները (նվազեցումները նշված են փակագծերում)
A38: Միջոցառման դասիչը` | B38: ='1'!B34 -> 11005 | C38: Տարի
A39: Միջոցառման անվանումը` | B39: ='1'!C35 -> Արտադրանքի և որակի վերահսկողության ծառայություններ
A40: Նկարագրությունը` | B40: ='1'!C37 -> Արտադրանքի և ծառայությունների մատուցման ոլորտում տեխնիկական կանոնակարգերի պահանջների և չափագիտական կանոնների ու նորմերի վերահսկողության իրականացում
A41: Միջոցառման տեսակը` | B41: ='1'!C39 -> Ծառայությունների մատուցում
A42: Միջոցառումն իրականացնողի անվանումը՛ | B42: ՀՀ շուկայի վերահսկողության տեսչական մարմին
A43: Արդյունքի չափորոշիչներ
A44: Միջոցառման վրա կատարվող ծախսը (հազար դրամ) | C44: ='1'!D34 -> -3100
A45: Ծրագրի դասիչը` | B45: ='1'!A9 -> 1213 | C45: Ցուցանիշների փոփոխությունները (նվազեցումները նշված են փակագծերում)
A46: Միջոցառման դասիչը` | B46: ='1'!B40 -> 11006 | C46: Տարի
A47: Միջոցառման անվանումը` | B47: ='1'!C41 -> Քաղաքաշինության և ճարտարապետության բնագավառում վերահսկողության ծառայություններ
A48: Նկարագրությունը` | B48: ='1'!C43 -> Քաղաքաշինության, տեխնիկական և հրդեհային անվտանգության, տրանսպորտի, էներգետիկայի, պետական և տեղական նշանակության գեոդեզիական և քարտեզագրական աշխատանքների և հողօգտագործման բնագավառներում վերահսկողության իրականացում
A49: Միջոցառման տեսակը` | B49: ='1'!C45 -> Ծառայությունների մատուցում
A50: Միջոցառումն իրականացնողի անվանումը՛ | B50: ՀՀ քաղաքաշինության, տեխնիկական և հրդեհային անվտանգության տեսչական մարմին
A51: Արդյունքի չափորոշիչներ
A52: Միջոցառման վրա կատարվող ծախսը (հազար դրամ) | C52: ='1'!D40 -> -6849.1
A53: Ծրագրի դասիչը` | B53: ='1'!A9 -> 1213 | C53: Ցուցանիշների փոփոխությունները (նվազեցումները նշված են փակագծերում)
A54: Միջոցառման դասիչը` | B54: ='1'!B46 -> 11007 | C54: Տարի
A55: Միջոցառման անվանումը` | B55: ='1'!C47 -> Սննդամթերքի անվտանգության բնագավառում վերահսկողության իրականացման ծառայություններ
A56: Նկարագրությունը` | B56: ='1'!C49 -> Սննդամթերքի, անասնաբուժության և բուսասանիտարիայի ոլորտներում վերահսկողության իրականացում, պետությանը և հանրությանը սպառնացող վտանգների հայտնաբերում, ներթափանցման և տարածման կանխարգելում:
A57: Միջոցառման տեսակը` | B57: ='1'!C51 -> Ծառայությունների մատուցում
A58: Միջոցառումն իրականացնողի անվանումը՛ | B58: ՀՀ սննդամթերքի անվտանգության տեսչական մարմին
A59: Արդյունքի չափորոշիչներ
A60: Միջոցառման վրա կատարվող ծախսը (հազար դրամ) | C60: ='1'!D46 -> 23329.2
A61: Ծրագրի դասիչը` | B61: ='1'!A9 -> 1213 | C61: Ցուցանիշների փոփոխությունները (նվազեցումները նշված են փակագծերում)
A62: Միջոցառման դասիչը` | B62: ='1'!B52 -> 31002 | C62: Տարի
A63: Միջոցառման անվանումը` | B63: ='1'!C53 -> Կրթության տեսչական մարմնի կարողությունների զարգացում և տեխնիկական հագեցվածության ապահովում
A64: Նկարագրությունը` | B64: ='1'!C55 -> Կրթության տեսչական մարմնի աշխատանքային պայմանների բարելավման համար վարչական սարքավորումների ձեռք բերում
A65: Միջոցառման տեսակը` | B65: ='1'!C57 -> Պետական մարմինների կողմից օգտագործվող ոչ ֆինանսական ակտիվների հետ գործառնություններ
A66: Ակտիվն օգտագործող կազմակերպության անվանումը | B66: ՀՀ կրթության տեսչական մարմին
A67: Արդյունքի չափորոշիչներ
A68: Միջոցառման վրա կատարվող ծախսը (հազար դրամ) | C68: ='1'!D52 -> -118
A69: Ծրագրի դասիչը` | B69: ='1'!A9 -> 1213 | C69: Ցուցանիշների փոփոխությունները (ավելացումները նշված են դրական նշանով)
A70: Միջոցառման դասիչը` | B70: ='1'!B58 -> 31003 | C70: Տարի
A71: Միջոցառման անվանումը` | B71: ='1'!C59 -> Շուկայի վերահսկողության տեսչական մարմնի կարողությունների զարգացում և տեխնիկական հագեցվածության ապահովում
A72: Նկարագրությունը` | B72: ='1'!C61 -> Շուկայի վերահսկողության տեսչական մարմնի աշխատանքային պայմանների բարելավման համար վարչական սարքավորումների ձեռք բերում
A73: Միջոցառման տեսակը` | B73: ='1'!C63 -> Պետական մարմինների կողմից օգտագործվող ոչ ֆինանսական ակտիվների հետ գործառնություններ
A74: Ակտիվն օգտագործող կազմակերպության անվանումը | B74: ՀՀ շուկայի վերահսկողության տեսչական մարմին
A75: Արդյունքի չափորոշիչներ
A76: Ձեռք բերվող սարքավորումների քանակ, հատ / լրակազմ | C76: 1
A77: Միջոցառման վրա կատարվող ծախսը (հազար դրամ) | C77: ='1'!D58 -> 4980
A78: Ծրագրի դասիչը` | B78: ='1'!A9 -> 1213 | C78: Ցուցանիշների փոփոխությունները (նվազեցումները նշված են փակագծերում)
A79: Միջոցառման դասիչը` | B79: ='1'!B64 -> 31004 | C79: Տարի
A80: Միջոցառման անվանումը` | B80: ='1'!C65 -> Քաղաքաշինության, տեխնիկական և հրդեհային անվտանգության տեսչական մարմնի կարողությունների զարգացում և տեխնիկական հագեցվածության ապահովում
A81: Նկարագրությունը` | B81: ='1'!C67 -> Քաղաքաշինության, տեխնիկական և հրդեհային անվտանգության տեսչական մարմնի աշխատանքային պայմանների բարելավման համար վարչական սարքավորումների ձեռք բերում
A82: Միջոցառման տեսակը` | B82: ='1'!C69 -> Պետական մարմինների կողմից օգտագործվող ոչ ֆինանսական ակտիվների հետ գործառնություններ
A83: Ակտիվն օգտագործող կազմակերպության անվանումը | B83: ՀՀ քաղաքաշինության, տեխնիկական և հրդեհային անվտանգության տեսչական մարմին
A84: Արդյունքի չափորոշիչներ
A85: Միջոցառման վրա կատարվող ծախսը (հազար դրամ) | C85: ='1'!D64 -> -185.1
A86: Ծրագրի դասիչը` | B86: ='1'!A9 -> 1213 | C86: Ցուցանիշների փոփոխությունները (նվազեցումները նշված են փակագծերում)
A87: Միջոցառման դասիչը` | B87: ='1'!B70 -> 31005 | C87: Տարի
A88: Միջոցառման անվանումը` | B88: ='1'!C71 -> Առողջապահության և աշխատանքի տեսչական մարմնի կարողությունների զարգացում և տեխնիկական հագեցվածության ապահովում
A89: Նկարագրությունը` | B89: ='1'!C73 -> Առողջապահության և աշխատանքի տեսչական մարմնի աշխատանքային պայմանների բարելավման համար վարչական սարքավորումների ձեռք բերում
A90: Միջոցառման տեսակը` | B90: ='1'!C75 -> Պետական մարմինների կողմից օգտագործվող ոչ ֆինանսական ակտիվների հետ գործառնություններ
A91: Ակտիվն օգտագործող կազմակերպության անվանումը | B91: ՀՀ առողջապահական և աշխատանքի տեսչական մարմին
A92: Արդյունքի չափորոշիչներ
A93: Միջոցառման վրա կատարվող ծախսը (հազար դրամ) | C93: ='1'!D70 -> -1277.9
A94: Ծրագրի դասիչը` | B94: ='1'!A9 -> 1213 | C94: Ցուցանիշների փոփոխությունները (նվազեցումները նշված են փակագծերում)
A95: Միջոցառման դասիչը` | B95: ='1'!B76 -> 31006 | C95: Տարի
A96: Միջոցառման անվանումը` | B96: ='1'!C77 -> Սննդամթերքի անվտանգության տեսչական մարմնի տեխնիկական հագեցվածության բարելավում
A97: Նկարագրությունը` | B97: ='1'!C79 -> Սննդամթերքի անվտանգության տեսչական մարմնի տեխնիկական և աշխատանքային պայմանների բարելավում
A98: Միջոցառման տեսակը` | B98: ='1'!C81 -> Պետական մարմինների կողմից օգտագործվող ոչ ֆինանսական ակտիվների հետ գործառնություններ
A99: Ակտիվն օգտագործող կազմակերպության անվանումը | B99: ՀՀ սննդամթերքի անվտանգության տեսչական մարմին
A100: Արդյունքի չափորոշիչներ
A101: Միջոցառման վրա կատարվող ծախսը (հազար դրամ) | C101: ='1'!D76 -> -131.7
A102: Ծրագրի դասիչը` | B102: ='1'!A9 -> 1213 | C102: Ցուցանիշների փոփոխությունները (նվազեցումները նշված են փակագծերում)
A103: Միջոցառման դասիչը` | B103: ='1'!B82 -> 31008 | C103: Տարի
A104: Միջոցառման անվանումը` | B104: ='1'!C83 -> Քաղաքաշինության, տեխնիկական և հրդեհային անվտանգության տեսչական մարմնի շենքային պայմանների բարելավում
...

Sheet 6
A1: Հավելված N 6
A2: ՀՀ կառավարության 20 ____ թվականի
A3: ------------ N ---------- որոշման
A4: ՀԱՅԱՍՏԱՆԻ ՀԱՆՐԱՊԵՏՈՒԹՅԱՆ ԿԱՌԱՎԱՐՈՒԹՅԱՆ 2022 ԹՎԱԿԱՆԻ ԴԵԿՏԵՄԲԵՐԻ 29-Ի N 2111-Ն ՈՐՈՇՄԱՆ N 10 ՀԱՎԵԼՎԱԾՈՒՄ ԿԱՏԱՐՎՈՂ ՓՈՓՈԽՈՒԹՅՈՒՆՆԵՐԸ ԵՎ ԼՐԱՑՈՒՄՆԵՐԸ
A6: Գնման առարկայի | H6: Ցուցանիշների փոփոխությունը (ավելացումները նշված են դրական նշանով, իսկ նվազեցումները՝ փակագծերում)
A7: կոդը | B7: անվանումը | C7: գնման ձևը | D7: չափի միավորը | F7: միավորի գինը | G7: քանակը | H7: Գումարը (հազար դրամներով)
A9: ՀՀ վարչապետի աշխատակազմ | H9: =H10+H133 -> 800
A10: Բաժին N 01 | B10: Խումբ N 01 | C10: Դաս N 01 | D10: Օրենսդիր և գործադիր մարմիններ, պետական կառավարում | H10: =H11+H32+H40+H101+H43+H52+H107+H110+H113+H117+H129 -> 3900
A11: 1213 11002 | B11: Բնապահպանության ոլորտում վերահսկողության ծառայություններ | H11: =H30+H12+H28 -> -9634.9
A12: ՄԱՍ I. ԱՊՐԱՆՔՆԵՐ | H12: =SUM(H13:I27) -> -6865.3
A13: 22811180/3 | B13: օրագրեր | C13: ԷԱՃ | D13: հատ | H13: -30
A14: 30197622/523 | B14: թուղթ, A4 ֆորմատի | C14: ԷԱՃ | D14: կիլոգրամ | H14: -212.954
A15: 30197622/9 | B15: թուղթ, A4 ֆորմատի | C15: ԷԱՃ | D15: կիլոգրամ | H15: -165.846
A16: 30197622/3 | B16: թուղթ, A4 ֆորմատի | C16: ԷԱՃ | D16: կիլոգրամ | F16: 1000 | G16: -210 | H16: =F16*G16/1000 -> -210
A17: 30234650/4 | B17: ֆլեշ հիշողություն, 32GB | C17: ԷԱՃ | D17: հատ | H17: -144.2
A18: 30192720/508 | B18: գծանշիչ | C18: ԷԱՃ | D18: հատ | H18: -35.4
A19: 39263100/4 | B19: գրասենյակային լրակազմ | C19: ԷԱՃ | D19: հատ | H19: -54
A20: 09211110/507 | B20: շարժիչի յուղեր | C20: ԷԱՃ | D20: կիլոգրամ | H20: -6.8
A21: 09132200/17 | B21: բենզին, ռեգուլյար | C21: ԷԱՃ | D21: լիտր | H21: -1185
A22: 09132200/510 | B22: բենզին, ռեգուլյար | C22: ԷԱՃ | D22: լիտր | H22: -4140
A23: 09132100/502 | B23: բենզին, պրեմիում | C23: ԷԱՃ | D23: լիտր | H23: -266
A24: 09134200/512 | B24: դիզելային վառելիք, ամառային | C24: ԷԱՃ | D24: լիտր | H24: -96
A25: 33121242/5 | B25: անալիզատոր | C25: ԷԱՃ | D25: հատ | F25: 19100 | G25: -1 | H25: =F25*G25/1000 -> -19.1
A26: 33121242/6 | B26: անալիզատոր | C26: ԷԱՃ | D26: հատ | F26: 2200 | G26: -100 | H26: =F26*G26/1000 -> -220
A27: 33121242/508 | B27: անալիզատոր | C27: ԷԱՃ | D27: հատ | H27: -80
A28: ՄԱՍ II. ԱՇԽԱՏԱՆՔՆԵՐ | H28: =SUM(H29) -> -465.6
A29: 45461100/1 | B29: շենքերի, շինությունների ընթացիկ նորոգման աշխատանքներ | C29: ԳՀ | D29: դրամ | H29: -465.6
A30: ՄԱՍ III. ԾԱՌԱՅՈՒԹՅՈՒՆՆԵՐ | H30: =SUM(H31:I31) -> -2304
A31: 72261160/1 | B31: ծրագրային ապահովման սպասարկման ծառայություններ | C31: ՄԱ | D31: դրամ | F31: 2304000 | G31: -1 | H31: -2304
A32: 1213 11003 | B32: Կրթության ոլորտում վերահսկողության ծառայություններ | H32: =H33+H35+H37 -> 3167.5
A33: ՄԱՍ I. ԱՊՐԱՆՔՆԵՐ | H33: =SUM(H34) -> -332.5
A34: 09132200/526 | B34: բենզին, ռեգուլյար | C34: ԷԱՃ | D34: լիտր | H34: -332.5
A35: ՄԱՍ II. ԱՇԽԱՏԱՆՔՆԵՐ | H35: =SUM(H36) -> 3700
A36: 45461100/16 | B36: շենքերի, շինությունների ընթացիկ նորոգման աշխատանքներ | C36: ԳՀ | D36: դրամ | F36: 3700000 | G36: 1 | H36: =F36*G36/1000 -> 3700
A37: ՄԱՍ III. ԾԱՌԱՅՈՒԹՅՈՒՆՆԵՐ | H37: =SUM(H38:I39) -> -200
A38: 79111200/1 | B38: ներկայացուցչական ծառայություններ | C38: ՄԱ | D38: դրամ | H38: -100
A39: 79991160/1 | B39: արխիվացման ծառայություններ | C39: ՄԱ | D39: դրամ | H39: -100
A40: 1213 11004 | B40: Շուկայի վերահսկողության ծառայություններ | H40: =H41 -> -1880
A41: ՄԱՍ III. ԾԱՌԱՅՈՒԹՅՈՒՆՆԵՐ | H41: =SUM(H42:I42) -> -1880
A42: 72261180/4 | B42: տեղեկատվական տեխնոլոգիաների ծրագրային ապահովման սպասարկում | C42: ԳՀ | D42: դրամ | F42: 1880000 | G42: -1 | H42: =F42*G42/1000 -> -1880
A43: 1213 11006 | B43: Քաղաքաշինության և ճարտարապետության բնագավառում վերահսկողության ծառայություններ | H43: =H44+H48+H46 -> -6849.1
A44: ՄԱՍ I. ԱՊՐԱՆՔՆԵՐ | H44: =SUM(H45:I45) -> -100
A45: 35111130/1 | B45: կրակմարիչներ | C45: ՄԱ | D45: հատ | F45: 20000 | G45: -5 | H45: =F45*G45/1000 -> -100
A46: ՄԱՍ II. ԱՇԽԱՏԱՆՔՆԵՐ | H46: =SUM(H47) -> -1185.1
A47: 45461100/1 | B47: շենքերի, շինությունների ընթացիկ նորոգման աշխատանքներ | C47: ԳՀ | D47: դրամ | H47: -1185.1
A48: ՄԱՍ III. ԾԱՌԱՅՈՒԹՅՈՒՆՆԵՐ | H48: =SUM(H49:I51) -> -5564
A49: 72221130/1 | B49: տեղեկատվական տեխնոլոգիաների հետ կապված ծառայություններ | C49: ՄԱ | D49: դրամ | H49: -1500
A50: 72221130/2 | B50: տեղեկատվական տեխնոլոգիաների հետ կապված ծառայություններ | C50: ԳՀ | D50: դրամ | F50: 3500000 | G50: -1 | H50: =F50*G50/1000 -> -3500
A51: 70221100/1 | B51: ոչ բնակելի անշարժ գույքի վարձակալության կամ լիզինգի ծառայություններ | C51: ՄԱ | D51: դրամ | H51: -564
A52: 1213 11007 | B52: Սննդամթերքի անվտանգության բնագավառում վերահսկողության իրականացման ծառայություններ | H52: =H53+H85+H82 -> 24129.2
A53: ՄԱՍ I. ԱՊՐԱՆՔՆԵՐ | H53: =SUM(H54:I81) -> -4980.2
A54: 30197322/510 | B54: կարիչ, 20-50 թերթի համար | C54: ԷԱՃ | D54: հատ | E54: հատ | H54: -0.25
A55: 30199420/511 | B55: թուղթ նշումների համար, սոսնձվածքով | C55: ԷԱՃ | D55: հատ | E55: հատ | H55: -0.042
A56: 30197622/513 | B56: թուղթ, A4 ֆորմատի | C56: ԷԱՃ | D56: կիլոգրամ | E56: կիլոգրամ | H56: -32.84
A57: 30197120/501 | B57: կոճգամներ | C57: ԷԱՃ | D57: տուփ | E57: տուփ | H57: -3
A58: 30197231/510 | B58: թղթապանակ, պոլիմերային թաղանթ, ֆայլ | C58: ԷԱՃ | D58: հատ | E58: հատ | H58: -6.6
A59: 30199232/504 | B59: նամակի ծրար, A4 ձ―աչափի | C59: ԷԱՃ | D59: հատ | E59: հատ | H59: -10.1
A60: 30192160/505 | B60: շտրիխներ | C60: ԷԱՃ | D60: հատ | E60: հատ | H60: -0.3
A61: 39263521/501 | B61: սեղմակ, միջին | C61: ԷԱՃ | D61: տուփ | E61: տուփ | H61: -0.18
A62: 30197622/6 | B62: թուղթ, A4 ֆորմատի | C62: ԷԱՃ | D62: կիլոգրամ | E62: կիլոգրամ | F62: 700 | G62: -380 | H62: =F62*G62/1000 -> -266
A63: 30192111/501 | B63: թանաքի բարձիկներ | C63: ԷԱՃ | D63: հատ | E63: հատ | H63: -0.1
A64: 30192710/509 | B64: սոսնձամատիտ, գրասենյակային | C64: ԷԱՃ | D64: հատ | E64: հատ | H64: -0.15
A65: 30199230/502 | B65: նամակի ծրար, A5 ձ―աչափի | C65: ԷԱՃ | D65: հատ | E65: հատ | H65: -14
A66: 22811150/523 | B66: նոթատետրեր | C66: ԷԱՃ | D66: հատ | E66: հատ | H66: -6.058
A67: 35811170/502 | B67: համազգեստ | C67: ԷԱՃ | D67: լրակազմ | E67: լրակազմ | H67: -0.3
A68: 30197235/505 | B68: թղթապանակ` ամրակով | C68: ԷԱՃ | D68: հատ | E68: հատ | H68: -0.72
A69: 30197111/501 | B69: կարիչի մետաղալարե կապեր, փոքր | C69: ԷԱՃ | D69: տուփ | E69: տուփ | H69: -0.09
A70: 30192128/3 | B70: գրիչ գելային | C70: ԷԱՃ | D70: հատ | E70: հատ | F70: 600 | G70: -4 | H70: =F70*G70/1000 -> -2.4
A71: 30197100/507 | B71: կարիչի մետաղալարե կապեր, մեծ | C71: ԷԱՃ | D71: տուփ | E71: տուփ | H71: -0.21
A72: 39263400/505 | B72: ամրակ, միջին | C72: ԷԱՃ | D72: տուփ | E72: տուփ | H72: -0.06
A73: 35811170/503 | B73: համազգեստ | C73: ԷԱՃ | D73: լրակազմ | E73: լրակազմ | H73: -3
A74: 09134200/12 | B74: դիզելային վառելիք, ամառային | C74: ԷԱՃ | D74: լիտր | H74: -46.345
A75: 34351200/546 | B75: ավտոմեքենաների անիվներ | C75: ԷԱՃ | D75: հատ | H75: -1.2
A76: 09132200/523 | B76: բենզին, ռեգուլյար | C76: ԷԱՃ | D76: լիտր | H76: -3475
A77: 34351200/545 | B77: ավտոմեքենաների անիվներ | C77: ԷԱՃ | D77: հատ | H77: -3.375
A78: 09134200/509 | B78: դիզելային վառելիք, ամառային | C78: ԷԱՃ | D78: լիտր | H78: -123
A79: 09132200/21 | B79: բենզին, ռեգուլյար | C79: ԷԱՃ | D79: լիտր | F79: 320 | G79: -2234 | H79: =F79*G79/1000 -> -714.88
A80: 15911100/7 | B80: սպիրտ | C80: ԷԱՃ | D80: լիտր | F80: 1250 | G80: -200 | H80: =F80*G80/1000 -> -250
A81: 33141115/2 | B81: բժշկական բամբակ | C81: ԷԱՃ | D81: հատ | F81: 250 | G81: -80 | H81: =F81*G81/1000 -> -20
A82: ՄԱՍ II. ԱՇԽԱՏԱՆՔՆԵՐ | H82: =SUM(H83:I84) -> 38696
A83: 45461100/17 | B83: շենքերի, շինությունների ընթացիկ նորոգման աշխատանքներ | C83: ԳՀ | D83: դրամ | F83: 36195110 | G83: 1 | H83: =F83*G83/1000 -> 36195.11
A84: 45461100/18 | B84: շենքերի, շինությունների ընթացիկ նորոգման աշխատանքներ | C84: ԳՀ | D84: դրամ | F84: 2500890 | G84: 1 | H84: =F84*G84/1000 -> 2500.89
A85: ՄԱՍ III. ԾԱՌԱՅՈՒԹՅՈՒՆՆԵՐ | H85: =SUM(H86:I100) -> -9586.6
A86: 72261180/506 | B86: տեղեկատվական տեխնոլոգիաների ծրագրային ապահովման սպասարկում | C86: ԳՀ | D86: դրամ | H86: -12
A87: 48761100/502 | B87: հակավիրուսային համակարգչային ծրագրային փաթեթներ | C87: ԷԱՃ | D87: դրամ | H87: -70
A88: 72511100/502 | B88: ցանցի կառավարման ծրագրային ապահովման ծառայություններ | C88: ԳՀ | D88: դրամ | H88: -14
A89: 72261180/6 | B89: տեղեկատվական տեխնոլոգիաների ծրագրային ապահովման սպասարկում | C89: ՄԱ | D89: դրամ | F89: 2880000 | G89: -1 | H89: -2880
A90: 79991160/501 | B90: արխիվացման ծառայություններ | C90: ԷԱՃ | D90: դրամ | H90: -200
A91: 72261120/4 | B91: ծրագրային ապահովման կիրարկման ծառայություններ | C91: ՄԱ | D91: դրամ | H91: -210
A92: 92511110/3 | B92: արխիվային ծառայություններ | C92: ՄԱ | D92: դրամ | F92: 400000 | G92: -1 | H92: =F92*G92/1000 -> -400
A93: 72261120/3 | B93: ծրագրային ապահովման կիրարկման ծառայություններ | C93: ՄԱ | D93: դրամ | F93: 520000 | G93: -1 | H93: =F93*G93/1000 -> -520
A94: 79631200/3 | B94: աշխատակիցների վերապատրաստման ծառայություններ | C94: ԳՀ | D94: դրամ | F94: 2098800 | G94: -1 | H94: -2098.8
A95: 64211100/9 | B95: հանրային հեռախոսային ծառայություններ | C95: ՀՄԱ | D95: դրամ | H95: -162.3
A96: 64211100/10 | B96: հանրային հեռախոսային ծառայություններ | C96: ՀՄԱ | D96: դրամ | H96: -247.5
A97: 66511170/4 | B97: փոխադրամիջոցների հետ կապված ապահովագրական ծառայություններ | C97: ՄԱ | D97: դրամ | H97: -422
A98: 90911110/501 | B98: շենքերի մաքրման ծառայություններ | C98: ԷԱՃ | D98: դրամ | F98: 3000000 | G98: -1 | H98: =F98*G98/1000 -> -3000
A99: 50531140/4 | B99: փորձաքննության ծառայություններ | C99: ԳՀ | D99: դրամ | F99: 50000 | G99: 1 | H99: =F99*G99/1000 -> 50
A100: 71241200/15 | B100: նախագծերի պատրաստում, ծախսերի գնահատում | C100: ՀԲՄ | D100: դրամ | F100: 600000 | G100: 1 | H100: =F100*G100/1000 -> 600
A101: 1213 31002 | B101: Կրթության տեսչական մարմնի կարողությունների զարգացում և տեխնիկական հագեցվածության ապահովում | H101: =H102 -> -118
A102: ՄԱՍ I. ԱՊՐԱՆՔՆԵՐ | H102: =SUM(H103:I106) -> -118
...
