Workbook

Sheet 1
D2: Հավելված N 1
D3: ՀՀ կառավարության 2023 թվականի
D4: ___________ ___-ի N _______ որոշման
A5: «ՀԱՅԱՍՏԱՆԻ ՀԱՆՐԱՊԵՏՈՒԹՅԱՆ 2023 ԹՎԱԿԱՆԻ ՊԵՏԱԿԱՆ ԲՅՈՒՋԵԻ ՄԱՍԻՆ» ՀՀ ՕՐԵՆՔԻ N 1 ՀԱՎԵԼՎԱԾԻ N 2 ԱՂՅՈՒՍԱԿՈՒՄ ԿԱՏԱՐՎՈՂ ՎԵՐԱԲԱՇԽՈՒՄԸ ԵՎ ՀԱՅԱՍՏԱՆԻ ՀԱՆՐԱՊԵՏՈՒԹՅԱՆ ԿԱՌԱՎԱՐՈՒԹՅԱՆ 2022 ԹՎԱԿԱՆԻ ԴԵԿՏԵՄԲԵՐԻ 29-Ի N 2111-Ն ՈՐՈՇՄԱՆ N 5 ՀԱՎԵԼՎԱԾԻ N1 ԱՂՅՈՒՍԱԿՈՒՄ ԿԱՏԱՐՎՈՂ ՓՈՓՈԽՈՒԹՅՈՒՆՆԵՐԸ
D7: (հազ. դրամ)
A8: Ծրագրային դասիչը | C8: Բյուջետային հատկացումների գլխավոր կարգադրիչների, ծրագրերի և միջոցառումների անվանումները | D8: Ցուցանիշների փոփոխությունը (ավելացումները նշված են դրական նշանով,իսկ նվազեցումները՝ փակագծերում)
A9: Ծրագիր | B9: Միջոցառում | D9: Տարի
B10: ԸՆԴԱՄԵՆԸ | D10: =D11++D26 -> 0
C11: ՀՀ արդարադատության նախարարություն | D11: =D12 -> -49950
A12: 1228 | C12: Ծրագրի անվանումը` | D12: =+D19 -> -49950
C13: Հակակոռուպցիոն քաղաքականության մշակում,ծրագրերի համակարգում և մոնիտորինգի իրականացում
C14: Ծրագրի նպատակը`
C15: Հակակոռուպցիոն ինստիտուցիոնալ համակարգի վերափոխում և զարգացում` նաև ոլորտային կոռուպցիոն ռիսկերի վերհանման ու նվազեցման և էլեկտրոնային ժողովրդավարության գործիքների ներդրման միջոցով
C16: Վերջնական արդյունքի նկարագրությունը`
C17: Կոռուպցիայի նվազեցում, հակակոռուպցիոն արդյունավետ ինստիտուցիոնալ համակարգի առկայություն
C18: Ծրագրի միջոցառումներ
B19: 31001 | C19: Միջոցառման անվանումը` | D19: ='2'!G22 -> -49950
C20: Հակակոռուպցիոն կոմիտեի շենքային պայմանների ապահովում
C21: Միջոցառման նկարագրությունը`
C22: Ժամանակակից իրավապահ մարմնի կարիքները սպասարկող շենքի կառուցում հաշվի առնելով Հակակոռուպցիոն կոմիտեի գործառութները
C23: Միջոցառման տեսակը
C24: Պետական մարմինների կողմից օգտագործվող ոչ ֆինանսական ակտիվների հետ գործառնություններ
C25: Հակակոռուպցիոն կոմիտե | D25: =D26 -> 49950
A26: 1231 | C26: Ծրագրի անվանումը` | D26: =+D33 -> 49950
C27: Կոռուպցիոն հանցագործությունների բացահայտման և քննության ապահովում
C28: Ծրագրի նպատակը`
C29: ՀՀ քրեական դատավարության օրենսգրքով ՀՀ հակակոռուպցիոն կոմիտեի ենթակայությանը վերապահված քրեական գործերի քննության իրականացումը և օպերատիվ -հետախուզական գործունեությունը
C30: Վերջնական արդյունքի նկարագրությունը`
C31: Արդյունավետ օպերատիվ-հետախուզական գործունեություն, հետաքննություն և նախաքննություն` դրանց ողջամիտ ժամկետներում իրականացում
C32: Ծրագրի միջոցառումներ
B33: 31001 | C33: Միջոցառման անվանումը` | D33: =+'2'!G35 -> 49950
C34: ՀՀ հակակոռուպցիոն կոմիտեի տեխնիկական հագեցվածության բարելավում
C35: Միջոցառման նկարագրությունը`
C36: ՀՀ հակակոռուպցիոն կոմիտեի գործունեությունն ապահովելու համար վարչական սարքավորումների ձեռքբերում
C37: Միջոցառման տեսակը
C38: Պետական մարմինների կողմից օգտագործվող ոչ ֆինանսական ակտիվների հետ գործառնություններ

Sheet 2
G1: Հավելված N 2
G2: ՀՀ կառավարության 2023թվականի
G3: ___________ ___-ի N _______ որոշման
A6: ՀԱՅԱՍՏԱՆԻ ՀԱՆՐԱՊԵՏՈՒԹՅԱՆ ԿԱՌԱՎԱՐՈՒԹՅԱՆ 2022 ԹՎԱԿԱՆԻ ԴԵԿՏԵՄԲԵՐԻ 29-Ի N 2111-Ն ՈՐՈՇՄԱՆ N 3 և N 4 ՀԱՎԵԼՎԱԾՆԵՐՈՒՄ ԿԱՏԱՐՎՈՂ ՓՈՓՈԽՈՒԹՅՈՒՆՆԵՐԸ
G7: (հազ. դրամ)
A8: Գործառական դասիչը | D8: Ծրագրային դասիչը | F8: Բյուջետային ծախսերի գործառական դասակարգման բաժինների, խմբերի և դասերի, բյուջետային ծրագրերի, միջոցառումների բյուջետային հատկացումնեյի գլխավոր կարգադրիչների անվանումները | G8: Ցուցանիշների փոփոխությունը (ավելացումները նշված են դրական նշանով, իսկ նվազեցումները՝ փակագծերում)
A9: Բաժին | B9: Խումբ | C9: Դաս | D9: Ծրագիր | E9: Միջոցառում | G9: Տարի
F10: ԸՆԴԱՄԵՆԸ | G10: =+G12 -> 0
F11: այդ թվում`
A12: 03 | F12: ՀԱՍԱՐԱԿԱԿԱՆ ԿԱՐԳ, ԱՆՎՏԱՆԳՈՒԹՅՈՒՆ ԵՎ ԴԱՏԱԿԱՆ ԳՈՐԾՈՒՆԵՈՒԹՅՈՒՆ | G12: =G14 -> 0
F13: այդ թվում`
B14: 07 | F14: Նախաքննություն | G14: =G16 -> 0
F15: այդ թվում`
C16: 01 | F16: Նախաքննություն | G16: =G18+G31 -> 0
F17: այդ թվում`
F18: ՀՀ արդարադատության նախարարություն | G18: =G49+G20 -> -49950
F19: այդ թվում`
D20: 1228 | F20: Հակակոռուպցիոն քաղաքականության մշակում,ծրագրերի համակարգում և մոնիտորինգի իրականացում | G20: =G22 -> -49950 | K20: 1
F21: այդ թվում`
E22: 31001 | F22: Հակակոռուպցիոն կոմիտեի շենքային պայմանների ապահովում | G22: =G24 -> -49950
F23: այդ թվում` ըստ կատարողների
F24: ՀՀ քաղաքաշինության կոմիտե | G24: =G26 -> -49950
F25: այդ թվում` բյուջետային ծախսերի տնտեսագիտական դասակարգման հոդվածներ
F26: ԸՆԴԱՄԵՆԸ ԾԱԽՍԵՐ | G26: =G27 -> -49950
F27: ՈՉ ՖԻՆԱՆՍԱԿԱՆ ԱԿՏԻՎՆԵՐԻ ԳԾՈՎ ԾԱԽՍԵՐ | G27: =G28 -> -49950
F28: ՀԻՄՆԱԿԱՆ ՄԻՋՈՑՆԵՐ | G28: =G29 -> -49950
F29: ՇԵՆՔԵՐ ԵՎ ՇԻՆՈՒԹՅՈՒՆՆԵՐ | G29: =G30 -> -49950
F30: - Շենքերի և շինությունների շինարարություն | G30: -49950
F31: Հակակոռուպցիոն կոմիտե | G31: =+G33 -> 49950
F32: այդ թվում`
D33: 1231 | F33: Կոռուպցիոն հանցագործությունների բացահայտման և քննության ապահովում | G33: =G35 -> 49950 | K33: 1
F34: այդ թվում`
E35: 31001 | F35: ՀՀ հակակոռուպցիոն կոմիտեի տեխնիկական հագեցվածության բարելավում | G35: =G37 -> 49950
F36: այդ թվում` ըստ կատարողների
F37: Հակակոռուպցիոն կոմիտե | G37: =G39 -> 49950
F38: այդ թվում` բյուջետային ծախսերի տնտեսագիտական դասակարգման հոդվածներ
F39: ԸՆԴԱՄԵՆԸ ԾԱԽՍԵՐ | G39: =G40 -> 49950
F40: ՈՉ ՖԻՆԱՆՍԱԿԱՆ ԱԿՏԻՎՆԵՐԻ ԳԾՈՎ ԾԱԽՍԵՐ | G40: =G41 -> 49950
F41: ՀԻՄՆԱԿԱՆ ՄԻՋՈՑՆԵՐ | G41: =G42 -> 49950
F42: ՄԵՔԵՆԱՆԵՐ ԵՎ ՍԱՐՔԱՎՈՐՈՒՄՆԵՐ | G42: =G43 -> 49950
F43: - Վարչական սարքավորումներ | G43: 49950

Sheet 3
H1: Հավելված № 3
H2: ՀՀ կառավարության 2023 թվականի ----------
H3: № ---------- որոշման
A6: ՀԱՅԱՍՏԱՆԻ ՀԱՆՐԱՊԵՏՈՒԹՅԱՆ 2023 ԹՎԱԿԱՆԻ ՊԵՏԱԿԱՆ ԲՅՈՒՋԵԻ ՄԱՍԻՆ ՕՐԵՆՔԻ N 1 ՀԱՎԵԼՎԱԾԻ N 3 ԱՂՅՈՒՍԱԿՈՒՄ ԿԱՏԱՐՎՈՂ ՓՈՓՈԽՈՒԹՅՈՒՆՆԵՐԸ
G7: (հազ. դրամ)
A8: Շրագրային դասիչը | C8: Բյուջետային գլխավոր կարգադրիչների, ծրագրերի և միջոցառումների և ուղղությունների անվանումները | D8: Ընդամենը | E8: Ցուցանիշների փոփոխությունը (ավելացումները նշված են դրական նշանով, իսկ նվազեցումները՝ փակագծերում)
E9: այդ թվում
A10: Ծրագիր | B10: Միջոցառում | E10: Կառուցման աշխատանքներ | F10: Վերակառուցման, վերանորոգման և վերականգնման աշխատանքներ | G10: Նախագծահե- տազոտական, գեոդեզիա- քարտեզագրա- կան աշխա- տանքներ | H10: Ոչ ֆինանսական այլ ակտիվների ձեռքբերում
C11: Ընդամենը | D11: =D13+D16 -> 0 | E11: =E13+E16 -> -49950 | F11: =F13+F16 -> 0 | G11: =G13+G16 -> 0 | H11: =H13+H16 -> 49950
C12: այդ թվում`
C13: ՀՀ արդարադատության նախարարություն | D13: =D15 -> -49950 | E13: =E15 -> -49950 | F13: =F15 -> 0 | G13: =G15 -> 0 | H13: =H15 -> 0
C14: այդ թվում՝
A15: 1228 | B15: 31001 | C15: Հակակոռուպցիոն կոմիտեի շենքային պայմանների ապահովում | D15: =SUM(E15:H15) -> -49950 | E15: ='2'!G22 -> -49950 | F15: 0 | G15: 0 | H15: 0
C16: ՀՀ հակակոռուպցիոն կոմիտե | D16: =+D18 -> 49950 | E16: =+E18 -> 0 | F16: =+F18 -> 0 | G16: =+G18 -> 0 | H16: =+H18 -> 49950
C17: այդ թվում՝
A18: 1231 | B18: 31001 | C18: ՀՀ հակակոռուպցիոն կոմիտեի տեխնիկական հագեցվածության բարելավում | D18: =E18+F18+G18+H18 -> 49950 | H18: =+'2'!G35 -> 49950

Sheet 4
D1: Հավելված 4
C2: ՀՀ կառավարության 2023 թվականի
C3: ______________ ի ___Ն որոշման
A5: ՀԱՅԱՍՏԱՆԻ ՀԱՆՐԱՊԵՏՈՒԹՅԱՆ ԿԱՌԱՎԱՐՈՒԹՅԱՆ 2022 ԹՎԱԿԱՆԻ ԴԵԿՏԵՄԲԵՐԻ 29-Ի ԹԻՎ 2111-Ն ՈՐՈՇՄԱՆ N5 ՀԱՎԵԼՎԱԾԻ N2 ԱՂՅՈՒՍԱԿՈՒՄ ԿԱՏԱՐՎՈՂ ՓՈՓՈԽՈՒԹՅՈՒՆՆԵՐԸ
D7: (հազ. դրամ)
A8: Ծրագրային դասիչ | C8: Բյուջետային գլխավոր կարգադրիչների, ծրագրերի, միջոցառումների, միջոցառումները կատարող պետական մարմինների և ուղղությունների անվանումները | D8: Ցուցանիշների փոփոխությունը (ավելացումները նշված են դրական նշանով, իսկ նվազեցումները՝ փակագծերում)
A9: Ծրագիր | B9: Միջոցառում | D9: Տարի
C10: ԸՆԴԱՄԵՆԸ | D10: =D11+D16 -> 0
C11: ՀՀ ԱՐԴԱՐԱԴԱՏՈՒԹՅԱՆ ՆԱԽԱՐԱՐՈՒԹՅՈՒՆ | D11: =D13 -> -49950
C12: այդ թվում`
A13: 1228 | B13: 31001 | C13: Հակակոռուպցիոն կոմիտեի շենքային պայմանների ապահովում | D13: =D15 -> -49950
C14: այդ թվում` ըստ կատարողների
C15: ՀՀ քաղաքաշինության կոմիտե | D15: ='2'!G24 -> -49950
C16: ՀՀ ՀԱԿԱԿՈՌՈՒՊՑԻՈՆ ԿՈՄԻՏԵ | D16: =+D18 -> 49950
C17: այդ թվում`
A18: 1231 | B18: 31001 | C18: Հակակոռուպցիոն կոմիտեի տեխնիկական հագեցվածության բարելավում | D18: =D20 -> 49950
C19: այդ թվում` ըստ կատարողների
C20: ՀՀ հակակոռուպցիոն կոմիտե | D20: =+'2'!G43 -> 49950

Sheet 5
C1: Հավելված N 5
C2: ՀՀ կառավարության 2023թվականի
C3: ___________ ___-ի N _______ որոշման
A8: ՀԱՅԱՍՏԱՆԻ ՀԱՆՐԱՊԵՏՈՒԹՅԱՆ ԿԱՌԱՎԱՐՈՒԹՅԱՆ 2022 ԹՎԱԿԱՆԻ ԴԵԿՏԵՄԲԵՐԻ 29-Ի ԹԻՎ 2111-Ն ՈՐՈՇՄԱՆ N 9 ՀԱՎԵԼՎԱԾԻ 9.9 և 9․36 ԱՂՅՈՒՍԱԿՆԵՐՈՒՄ ԿԱՏԱՐՎՈՂ ՓՈՓՈԽՈՒԹՅՈՒՆՆԵՐԸ
A10: ՀՀ արդարադատության նախարարություն
A12: ՄԱՍ 2. ՊԵՏԱԿԱՆ ՄԱՐՄՆԻ ԳԾՈՎ ԱՐԴՅՈՒՆՔԱՅԻՆ (ԿԱՏԱՐՈՂԱԿԱՆ) ՑՈՒՑԱՆԻՇՆԵՐԸ
A14: Ծրագրի դասիչը | B14: Ծրագրի անվանումը
A15: 1228 | B15: Հակակոռուպցիոն քաղաքականության մշակում,ծրագրերի համակարգում և մոնիտրինգի իրականացում
A17: Ծրագրի միջոցառումները
A18: Ծրագրի դասիչը` | B18: 1228 | C18: Ցուցանիշների փոփոխությունը (նվազեցումները նշված են փակագծերում)
A19: Միջոցառման դասիչը` | B19: 31001 | C19: Տարի
A20: Միջոցառման անվանումը` | B20: Հակակոռուպցիոն կոմիտեի շենքային պայմանների ապահովում
A21: Նկարագրությունը` | B21: Ժամանակակից իրավապահ մարմնի կարիքները սպասարկող շենքի կառուցում հաշվի առնելով Հակակոռուպցիոն կոմիտեի գործառութները
A22: Միջոցառման տեսակը` | B22: Պետական մարմինների կողմից օգտագործվող ոչ ֆինանսական ակտիվների հետ գործառնություններ
A23: Ակտիվն օգտագործող կազմակերպության(ների) անվանում(ներ)ը | B23: Հակակոռուպցիոն կոմիտե
A24: Արդյունքի չափորոշիչներ
A25: Միջոցառման վրա կատարվող ծախսը (հազար դրամ) | C25: =+'2'!G22 -> -49950
A27: Հակակոռուպցիոն կոմիտե
A29: ՄԱՍ 2. ՊԵՏԱԿԱՆ ՄԱՐՄՆԻ ԳԾՈՎ ԱՐԴՅՈՒՆՔԱՅԻՆ (ԿԱՏԱՐՈՂԱԿԱՆ) ՑՈՒՑԱՆԻՇՆԵՐԸ
A31: Ծրագրի դասիչը | B31: Ծրագրի անվանումը
A32: 1231 | B32: Կոռուպցիոն հանցագործությունների բացահայտման և քննության ապահովում
A34: Ծրագրի դասիչը` | B34: 1231 | C34: Ցուցանիշների փոփոխությունը (ավելացումները նշված են դրական նշանով)
A35: Միջոցառման դասիչը` | B35: 31001 | C35: Տարի
A36: Միջոցառման անվանումը` | B36: ՀՀ հակակոռուպցիոն կոմիտեի տեխնիկական հագեցվածության բարելավում
A37: Նկարագրությունը` | B37: ՀՀ հակակոռուպցիոն կոմիտեի գործունեությունն ապահովելու համար վարչական սարքավորումների ձեռքբերում
A38: Միջոցառման տեսակը` | B38: Պետական մարմինների կողմից օգտագործվող ոչ ֆինանսական ակտիվների հետ գործառնություններ
A39: Ակտիվն օգտագործող կազմակերպության(ների) անվանում(ներ)ը | B39: ՀՀ հակակոռուպցիոն կոմիտե
A40: Արդյունքի չափորոշիչներ
A41: Միջոցառման վրա կատարվող ծախսը (հազար դրամ) | C41: =+'2'!G35 -> 49950

Sheet 6
C1: Հավելված N 6
C2: ՀՀ կառավարության 2023թվականի
C3: ___________ ___-ի N _______ որոշման
A6: ՀԱՅԱՍՏԱՆԻ ՀԱՆՐԱՊԵՏՈՒԹՅԱՆ ԿԱՌԱՎԱՐՈՒԹՅԱՆ 2022 ԹՎԱԿԱՆԻ ԴԵԿՏԵՄԲԵՐԻ 29-Ի ԹԻՎ 2111-Ն ՈՐՈՇՄԱՆ N 9.1 ՀԱՎԵԼՎԱԾԻ 9․1․41 և 9․1․47 ԱՂՅՈՒՍԱԿՆԵՐՈՒՄ ԿԱՏԱՐՎՈՂ ՓՈՓՈԽՈՒԹՅՈՒՆՆԵՐԸ
C9: Աղյուսակ 9.1.41
A10: ՀՀ քաղաքաշինության կոմիտե
A13: ՄԱՍ 1. ՊԵՏԱԿԱՆ ՄԱՐՄՆԻ ԳԾՈՎ ԱՐԴՅՈՒՆՔԱՅԻՆ (ԿԱՏԱՐՈՂԱԿԱՆ) ՑՈՒՑԱՆԻՇՆԵՐԸ
A16: Ծրագրի դասիչը | B16: Ծրագրի անվանումը
A17: 1228 | B17: Հակակոռուպցիոն քաղաքականության մշակում,ծրագրերի համակարգում և մոնիտրինգի իրականացում
A19: Ծրագրի միջոցառումները
A21: Ծրագրի դասիչը` | B21: 1228 | C21: Ցուցանիշների փոփոխությունը (նվազեցումները նշված են փակագծերում)
A22: Միջոցառման դասիչը` | B22: 31001 | C22: Տարի
A23: Միջոցառման անվանումը` | B23: Հակակոռուպցիոն կոմիտեի շենքային պայմանների ապահովում
A24: Նկարագրությունը` | B24: Ժամանակակից իրավապահ մարմնի կարիքները սպասարկող շենքի կառուցում հաշվի առնելով Հակակոռուպցիոն կոմիտեի գործառութները
A25: Միջոցառման տեսակը` | B25: Պետական մարմինների կողմից օգտագործվող ոչ ֆինանսական ակտիվների հետ գործառնություններ
A26: Ակտիվն օգտագործող կազմակերպության(ների) անվանում(ներ)ը | B26: Հակակոռուպցիոն կոմիտե
A27: Արդյունքի չափորոշիչներ
A28: Միջոցառման վրա կատարվող ծախսը (հազար դրամ) | C28: =+'2'!G22 -> -49950
C31: Աղյուսակ 9.1.47
A32: Հակակոռուպցիոն կոմիտե
A35: ՄԱՍ 1. ՊԵՏԱԿԱՆ ՄԱՐՄՆԻ ԳԾՈՎ ԱՐԴՅՈՒՆՔԱՅԻՆ (ԿԱՏԱՐՈՂԱԿԱՆ) ՑՈՒՑԱՆԻՇՆԵՐԸ
A38: Ծրագրի դասիչը | B38: Ծրագրի անվանումը
A39: 1231 | B39: Կոռուպցիոն հանցագործությունների բացահայտման և քննության ապահովում
A41: Ծրագրի միջոցառումները
A43: Ծրագրի դասիչը` | B43: 1231 | C43: Ցուցանիշների փոփոխությունը (ավելացումները նշված են դրական նշանով)
A44: Միջոցառման դասիչը` | B44: 31001 | C44: Տարի
A45: Միջոցառման անվանումը` | B45: ՀՀ հակակոռուպցիոն կոմիտեի տեխնիկական հագեցվածության բարելավում
A46: Նկարագրությունը` | B46: ՀՀ հակակոռուպցիոն կոմիտեի գործունեությունն ապահովելու համար վարչական սարքավորումների ձեռքբերում
A47: Միջոցառման տեսակը` | B47: Պետական մարմինների կողմից օգտագործվող ոչ ֆինանսական ակտիվների հետ գործառնություններ
A48: Ակտիվն օգտագործող կազմակերպության(ների) անվանում(ներ)ը | B48: ՀՀ հակակոռուպցիոն կոմիտե
A49: Արդյունքի չափորոշիչներ
A50: Միջոցառման վրա կատարվող ծախսը (հազար դրամ) | C50: =+'2'!G35 -> 49950

Sheet 7
G1: Հավելված N 7
G2: ՀՀ կառավարության 2023թվականի
G3: ___________ ___-ի N _______ որոշման
A5: ՀԱՅԱՍՏԱՆԻ ՀԱՆՐԱՊԵՏՈՒԹՅԱՆ ԿԱՌԱՎԱՐՈՒԹՅԱՆ 2022 ԹՎԱԿԱՆԻ ԴԵԿՏԵՄԲԵՐԻ 29-Ի N 2111-Ն ՈՐՈՇՄԱՆ N 10 ՀԱՎԵԼՎԱԾԻ ՑՈՒՑԱՆԻՇՆԵՐՈՒՄ ԿԱՏԱՐՎՈՂ ՓՈՓՈԽՈՒԹՅՈՒՆՆԵՐԸ
A7: Կոդը | B7: Անվանումը | C7: Գնման ձևը | D7: Չափի միավորը | E7: միավորի գինը | F7: Ցուցանիշների փոփոխությունը (նվազեցումները նշված են փակագծերում)
F8: քանակը | G8: գումարը (հազար դրամով)
A9: 1 | B9: 2 | C9: 3 | D9: 4 | E9: 5 | F9: 6 | G9: 7
A10: ՀՀ քաղաքաշինության կոմիտե | G10: =G12 -> -49950
A11: Բաժին N 03 Խումբ N 07 Դաս N 01 Նախաքննություն
A12: 1228 31001 | B12: Հակակոռուպցիոն կոմիտեի շենքային պայմանների ապահովում | G12: =G13 -> -49950
B13: ՄԱՍ II. ԱՇԽԱՏԱՆՔՆԵՐ | G13: =G14 -> -49950
A14: 45221142-1 | B14: ընդհանուր շինարարական աշխատանքներ | C14: ԲՄ | D14: դրամ | G14: -49950
