Workbook
Name a: #REF!
Name AgencyCode: #REF!
Name AgencyCode: #REF!
Name AgencyCode: #REF!
Name AgencyCode: #REF!
Name AgencyCode: #REF!
Name AgencyCode: #REF!
Name AgencyCode: #REF!
Name AgencyName: #REF!
Name AgencyName: #REF!
Name AgencyName: #REF!
Name AgencyName: #REF!
Name AgencyName: #REF!
Name AgencyName: #REF!
Name AgencyName: #REF!
Name davit: #REF!
Name davit: #REF!
Name davit: #REF!
Name davit: #REF!
Name davit: #REF!
Name davit: #REF!
Name Functional1: #REF!
Name Functional1: #REF!
Name Functional1: #REF!
Name Functional1: #REF!
Name Functional1: #REF!
Name Functional1: #REF!
Name Functional1: #REF!
Name ggg: #REF!
Name ggg: #REF!
Name ggg: #REF!
Name ggg: #REF!
Name ggg: #REF!
Name ggg: #REF!
Name PANature: #REF!
Name PANature: #REF!
Name PANature: #REF!
Name PANature: #REF!
Name PANature: #REF!
Name PANature: #REF!
Name PANature: #REF!
Name PAType: #REF!
Name PAType: #REF!
Name PAType: #REF!
Name PAType: #REF!
Name PAType: #REF!
Name PAType: #REF!
Name PAType: #REF!
Name Performance2: #REF!
Name Performance2: #REF!
Name Performance2: #REF!
Name Performance2: #REF!
Name Performance2: #REF!
Name Performance2: #REF!
Name Performance2: #REF!
Name PerformanceType: #REF!
Name PerformanceType: #REF!
Name PerformanceType: #REF!
Name PerformanceType: #REF!
Name PerformanceType: #REF!

Sheet Havelvats 1
D1: Հավելված N 1
D2: ՀՀ կառավարության 2023 թվականի
D3: ______________ ի ___Ն որոշման
A5: «ՀԱՅԱUՏԱՆԻ ՀԱՆՐԱՊԵՏՈՒԹՅԱՆ 2023 ԹՎԱԿԱՆԻ ՊԵՏԱԿԱՆ ԲՅՈՒՋԵԻ ՄԱUԻՆ» ՀԱՅԱUՏԱՆԻ ՀԱՆՐԱՊԵՏՈՒԹՅԱՆ OՐԵՆՔԻ N 1 ՀԱՎԵԼՎԱԾԻ N 2 ԱՂՅՈՒՍԱԿՈՒՄ ԿԱՏԱՐՎՈՂ ՎԵՐԱԲԱՇԽՈՒՄԸ ԵՎ ՀԱՅԱՍՏԱՆԻ ՀԱՆՐԱՊԵՏՈՒԹՅԱՆ ԿԱՌԱՎԱՐՈՒԹՅԱՆ 2022 ԹՎԱԿԱՆԻ ԴԵԿՏԵՄԲԵՐԻ 29-Ի N 2111-Ն ՈՐՈՇՄԱՆ N 5 ՀԱՎԵԼՎԱԾԻ N 1 ԱՂՅՈՒՍԱԿՈՒՄ ԿԱՏԱՐՎՈՂ ՓՈՓՈԽՈՒԹՅՈՒՆՆԵՐԸ ԵՎ ԼՐԱՑՈՒՄՆԵՐԸ
D6: հազ. դրամներով
A7: Ծրագրային դասիչը | C7: Բյուջետային հատկացումների գլխավոր կարգադրիչների, ծրագրերի և միջոցառումների անվանումները | D7: Ցուցանիշների փոփոխությունը (ավելացումները նշված են դրական նշանով, իսկ նվազեցումները՝ փակագծերում)
A8: Ծրագիր | B8: Միջոցառում | D8: Ինն ամիս | E8: Տարի
C9: ԸՆԴԱՄԵՆԸ | D9: =+D11+D37 -> 0 | E9: =+E11+E37 -> 0
C10: այդ թվում
C11: ՀՀ ԿՐԹՈՒԹՅԱՆ, ԳԻՏՈՒԹՅԱՆ, ՄՇԱԿՈՒՅԹԻ ԵՎ ՍՊՈՐՏԻ ՆԱԽԱՐԱՐՈՒԹՅՈՒՆ | D11: =D12+D25 -> 0 | E11: =E12+E25 -> 0
A12: 1075 | C12: Ծրագրի անվանումը` | D12: =D19 -> 19200 | E12: =E19 -> 19200
C13: Մշակութային ժառանգության ծրագիր
C14: Ծրագրի նպատակը`
C15: Մշակութային ժառանգության պահպանում, օգտագործում, համալրում և հանրահռչակում
C16: Վերջնական արդյունքի նկարագրությունը`
C17: Մշակութային ժառանգության շարունակական պահպանում, մշակութային զբոսաշրջության զարգացում և խթանում
C18: Ծրագրի միջոցառումներ
B19: 21003 | C19: Միջոցառման անվանումը` | D19: 19200 | E19: 19200
C20: Քանդակների պատրաստման և տեղադրման աշխատանքներ
C21: Միջոցառման նկարագրությունը`
C22: Ժամանակակից արվեստի նմուշների ստեղծում, քանդակների պատրաստում և տեղադրում
C23: Միջոցառման տեսակը
C24: Հանրության կողմից անմիջականորեն օգտագործվող ակտիվների հետ կապված միջոցառումներ
A25: 1168 | C25: Ծրագրի անվանումը` | D25: =D31 -> -19200 | E25: =E31 -> -19200
C26: Արվեստների ծրագիր
C27: Ծրագրի նպատակը`
C28: Նպաստել ազգային հենքի վրա ժամանակակից թատերարվեստի, երաժշտարվեստի, կերպարվեստի և պարարվեստի զարգացմանը և հանրահռչակմանը
C29: Վերջնական արդյունքի նկարագրությունը`
C30: Մրցունակ արվեստային արտադրանքի ստեղծում, ստեղծագործական գործընթացների խթանում, արվեստի նոր նախագծերի ներդրում և մշակութային կյանքում հասարակության ներգրավում
B31: 32001 | C31: Միջոցառման անվանումը` | D31: -19200 | E31: -19200
C32: Ներդրումներ թատրոնների և համերգային կազմակերպությունների շենքերի կապիտալ վերանորոգման համար
C33: Միջոցառման նկարագրությունը`
C34: Թատրոնների և համերգային կազմակերպությունների շենքերի մասնաշենքերի հիմնանորոգում, համաշինարարական աշխատանքներ, ջեռուցման համակարգի իրականացում, ներքին հարդարում, տարածքի բարեկարգում և նախագծում
C35: Միջոցառման տեսակը
C36: Այլ պետական կազմակերպությունների կողմից օգտագործվող ոչ ֆինանսական ակտիվների հետ գործառնություններ
C37: ՀՀ ԿԱՌԱՎԱՐՈՒԹՅՈՒՆ | D37: =D38 -> 0 | E37: =E38 -> 0
A38: 1139 | C38: Ծրագրի անվանումը` | D38: =D44+D50 -> 0 | E38: =E44+E50 -> 0
C39: ՀՀ կառավարության պահուստային ֆոնդ
C40: Ծրագրի նպատակը`
C41: Պետական բյուջեում չկանխատեսված, ինչպես նաև բյուջետային երաշխիքների ապահովման ծախսերի ֆինանսավորման ապահովում
C42: Վերջնական արդյունքի նկարագրությունը`
C43: Պահուստային ֆոնդի կառավարման արդյունավետության և թափանցիկության ապահովում
B44: 11001 | C44: Միջոցառման անվանումը` | D44: -19200 | E44: -19200
C45: ՀՀ կառավարության պահուստային ֆոնդ
C46: Միջոցառման նկարագրությունը`
C47: ՀՀ պետական բյուջեում նախատեսված ելքերի լրացուցիչ ֆինանսավորման՝ պետական բյուջեում չկանխատեսված ելքերի, ինչպես նաև բյուջետային երաշխիքների ապահովման ելքերի ֆինանսավորման ապահովում
C48: Միջոցառման տեսակը
C49: Ծառայությունների մատուցում
B50: 11001 | C50: Միջոցառման անվանումը` | D50: 19200 | E50: 19200
C51: ՀՀ կառավարության պահուստային ֆոնդ
C52: Միջոցառման նկարագրությունը`
C53: ՀՀ պետական բյուջեում նախատեսված ելքերի լրացուցիչ ֆինանսավորման՝ պետական բյուջեում չկանխատեսված ելքերի, ինչպես նաև բյուջետային երաշխիքների ապահովման ելքերի ֆինանսավորման ապահովում
C54: Միջոցառման տեսակը
C55: Ծառայությունների մատուցում

Sheet Հավելված 2
F1: Հավելված N 2
F2: ՀՀ կառավարության 2023 թվականի
F3: ______________ ի ___Ն որոշման
A6: «ՀԱՅԱUՏԱՆԻ ՀԱՆՐԱՊԵՏՈՒԹՅԱՆ 2023 ԹՎԱԿԱՆԻ ՊԵՏԱԿԱՆ ԲՅՈՒՋԵԻ ՄԱUԻՆ» ՀԱՅԱUՏԱՆԻ ՀԱՆՐԱՊԵՏՈՒԹՅԱՆ OՐԵՆՔԻ N 1 ՀԱՎԵԼՎԱԾԻ N 3 ԱՂՅՈՒՍԱԿՈՒՄ ԿԱՏԱՐՎՈՂ ՓՈՓՈԽՈՒԹՅՈՒՆԸ
H9: հազ. դրամներով
A10: Ծրագրային դասիչ | C10: Բյուջետային գլխավոր կարգադրիչների, ծրագրերի, միջոցառումների և ուղղությունների անվանումները | D10: Ընդամենը | E10: Ցուցանիշների փոփոխությունը (նվազեցումները նշված են փակագծերում)
A11: Ծրագիր | B11: Միջոցառում | E11: Կառուցման աշխատանքներ | F11: Վերակառուցման, վերանորոգման և վերականգնման աշխատանքներ | G11: Նախագծահե- տազոտական, գեոդեզիա- քարտեզագրա- կան աշխա- տանքներ | H11: Ոչ ֆինանսական այլ ակտիվների ձեռքբերում
C12: ԸՆԴԱՄԵՆԸ | D12: =SUM(E12:H12) -> -19200 | E12: =+E14 -> 0 | F12: =+F14 -> -19200 | G12: =+G14 -> 0 | H12: =+H14 -> 0
C13: այդ թվում՝
C14: ՀՀ ԿՐԹՈՒԹՅԱՆ, ԳԻՏՈՒԹՅԱՆ, ՄՇԱԿՈՒՅԹԻ ԵՎ ՍՊՈՐՏԻ ՆԱԽԱՐԱՐՈՒԹՅՈՒՆ | D14: =SUM(E14:H14) -> -19200 | E14: =E16 -> 0 | F14: =F16 -> -19200 | G14: =G16 -> 0 | H14: =H16 -> 0
C15: այդ թվում`
A16: 1168 | B16: 32001 | C16: Ներդրումներ թատրոնների և համերգային կազմակերպությունների շենքերի կապիտալ վերանորոգման համար | D16: =SUM(E16:H16) -> -19200 | E16: =E18 -> 0 | F16: =F18 -> -19200 | G16: =G18 -> 0 | H16: =H18 -> 0
C17: այդ թվում`
C18: Ներդրումներ թատրոնների և համերգային կազմակերպությունների շենքերի կապիտալ վերանորոգման համար | D18: =SUM(E18:H18) -> -19200 | E18: 0 | F18: ='Havelvats 3 '!H47 -> -19200 | G18: 0 | H18: 0

Sheet Havelvats 3 
G1: Հավելված N 3
F2: ՀՀ կառավարության 2023 թվականի
G3: ______________ ի ___Ն որոշման
A5: ՀԱՅԱՍՏԱՆԻ ՀԱՆՐԱՊԵՏՈՒԹՅԱՆ ԿԱՌԱՎԱՐՈՒԹՅԱՆ 2022 ԹՎԱԿԱՆԻ ԴԵԿՏԵՄԲԵՐԻ 29-Ի N 2111-Ն ՈՐՈՇՄԱՆ N 3 ԵՎ N 4 ՀԱՎԵԼՎԱԾՆԵՐՈՒՄ ԿԱՏԱՐՎՈՂ ՓՈՓՈԽՈՒԹՅՈՒՆՆԵՐԸ ԵՎ ԼՐԱՑՈՒՄՆԵՐԸ
A9: Գործառական դասիչը | D9: Ծրագրային դասիչը | F9: Բյուջետային հատկացումների գլխավոր կարգադրիչների, ծրագրերի, միջոցառումների և միջոցառումները կատարող պետական մարմինների անվանումները | G9: Ցուցանիշների փոփոխությունը (ավելացումները նշված են դրական նշանով, իսկ նվազեցումները՝ փակագծերում)
A10: Բաժին | B10: Խումբ | C10: Դաս | D10: Ծրագիր | E10: Միջոցառում | G10: Ինն ամիս | H10: Տարի
F11: ԸՆԴԱՄԵՆԸ | G11: =G13+G48 -> 0 | H11: =H13+H48 -> 0
F12: այդ թվում
F13: ՀՀ ԿՐԹՈՒԹՅԱՆ, ԳԻՏՈՒԹՅԱՆ, ՄՇԱԿՈՒՅԹԻ ԵՎ ՍՊՈՐՏԻ ՆԱԽԱՐԱՐՈՒԹՅՈՒՆ | G13: =+G16 -> 0 | H13: =+H16 -> 0
A14: 08 | F14: ՀԱՆԳԻՍՏ, ՄՇԱԿՈՒՅԹ ԵՎ ԿՐՈՆ
F15: այդ թվում`
B16: 02 | F16: Մշակութային ծառայություններ | G16: =G18+G33 -> 0 | H16: =H18+H33 -> 0
F17: այդ թվում`
C18: 07 | F18: Հուշարձանների և մշակութային արժեքների վերականգնում և պահպանում | G18: =G20 -> 19200 | H18: =H20 -> 19200
F19: այդ թվում`
F20: ՀՀ կրթության, գիտության, մշակույթի և սպորտի նախարարություն | G20: =G22 -> 19200 | H20: =H22 -> 19200
F21: այդ թվում`
D22: 1075 | E22: Մշակութային ժառանգության ծրագիր | G22: =+G24 -> 19200 | H22: =+H24 -> 19200
F23: այդ թվում`
E24: 21003 | F24: Քանդակների պատրաստման և տեղադրման աշխատանքներ | G24: =G26 -> 19200 | H24: =H26 -> 19200
F25: այդ թվում` ըստ կատարողների
F26: ՀՀ կրթության, գիտության, մշակույթի և սպորտի նախարարություն | G26: =G28 -> 19200 | H26: =H28 -> 19200
F27: այդ թվում՝ բյուջետային ծախսերի տնտեսագիտական դասակարգման հոդվածներ
F28: ԸՆԴԱՄԵՆԸ ԾԱԽՍԵՐ | G28: =G29 -> 19200 | H28: =H29 -> 19200
F29: ԸՆԹԱՑԻԿ ԾԱԽՍԵՐ | G29: =+G30 -> 19200 | H29: =+H30 -> 19200
F30: ԴՐԱՄԱՇՆՈՐՀՆԵՐ | G30: =G31 -> 19200 | H30: =H31 -> 19200
F31: Կապիտալ դրամաշնորհներ պետական հատվածի այլ մակարդակներին | G31: =G32 -> 19200 | H31: =H32 -> 19200
F32: - Կապիտալ դրամաշնորհներ պետական և համայնքային ոչ առևտրային կազմակերպություններին | G32: ='Havelvats 1'!D19 -> 19200 | H32: ='Havelvats 1'!E19 -> 19200
C33: 05 | F33: Արվեստ | G33: =+G37 -> -19200 | H33: =+H37 -> -19200
F34: այդ թվում`
F35: ՀՀ կրթության, գիտության, մշակույթի և սպորտի նախարարություն | G35: =+G37 -> -19200 | H35: =+H37 -> -19200
F36: այդ թվում`
D37: 1168 | F37: Արվեստների ծրագիր | G37: =+G46 -> -19200 | H37: =+H46 -> -19200
F38: այդ թվում`
E39: 32001 | F39: Ներդրումներ թատրոնների և համերգային կազմակերպությունների շենքերի կապիտալ վերանորոգման համար | G39: =+G41 -> -19200 | H39: =+H41 -> -19200
F40: այդ թվում` ըստ կատարողների
F41: ՀՀ կառավարություն | G41: =+G43 -> -19200 | H41: =+H43 -> -19200
F42: այդ թվում` բյուջետային ծախսերի տնտեսագիտական դասակարգման հոդվածներ
F43: ԸՆԴԱՄԵՆԸ ԾԱԽՍԵՐ | G43: =+G44 -> -19200 | H43: =+H44 -> -19200
F44: ՈՉ ՖԻՆԱՆՍԱԿԱՆ ԱԿՏԻՎՆԵՐԻ ԳԾՈՎ ԾԱԽՍԵՐ | G44: =+G45 -> -19200 | H44: =+H45 -> -19200
F45: ՀԻՄՆԱԿԱՆ ՄԻՋՈՑՆԵՐ | G45: =+G46 -> -19200 | H45: =+H46 -> -19200
F46: ՇԵՆՔԵՐ ԵՎ ՇԻՆՈՒԹՅՈՒՆՆԵՐ | G46: =G47 -> -19200 | H46: =H47 -> -19200
F47: - Շենքերի և շինությունների կապիտալ վերանորոգում | G47: ='Havelvats 1'!D31 -> -19200 | H47: ='Havelvats 1'!E31 -> -19200
F48: ՀՀ ԿԱՌԱՎԱՐՈՒԹՅՈՒՆ | G48: =+G49 -> 0 | H48: =+H49 -> 0
A49: 11 | F49: ՀԻՄՆԱԿԱՆ ԲԱԺԻՆՆԵՐԻՆ ՉԴԱՍՎՈՂ ՊԱՀՈՒՍՏԱՅԻՆ ՖՈՆԴԵՐ | G49: =+G51 -> 0 | H49: =+H51 -> 0
F50: այդ թվում`
B51: 01 | F51: ՀՀ կառավարության և համայնքների պահուստային ֆոնդ | G51: =+G53 -> 0 | H51: =+H53 -> 0
F52: այդ թվում`
C53: 01 | F53: ՀՀ կառավարության պահուստային ֆոնդ | G53: =+G57 -> 0 | H53: =+H57 -> 0
F54: այդ թվում`
F55: ՀՀ կառավարություն | G55: =+G57 -> 0 | H55: =+H57 -> 0
F56: այդ թվում`
D57: 1139 | E57: ՀՀ կառավարության պահուստային ֆոնդ | F57: ՀՀ կառավարության պահուստային ֆոնդ | G57: =+G59+G67 -> 0 | H57: =+H59+H67 -> 0
F58: այդ թվում`
E59: 11001 | F59: ՀՀ կառավարության պահուստային ֆոնդ | G59: =+G61 -> -19200 | H59: =+H61 -> -19200
F60: այդ թվում` ըստ կատարողների
F61: ՀՀ կառավարություն | G61: =+G63 -> -19200 | H61: =+H63 -> -19200
F62: այդ թվում` բյուջետային ծախսերի տնտեսագիտական դասակարգման հոդվածներ
F63: ԸՆԴԱՄԵՆԸ ԾԱԽՍԵՐ | G63: =+G64 -> -19200 | H63: =+H64 -> -19200
F64: ԸՆԹԱՑԻԿ ԾԱԽՍԵՐ | G64: =+G65 -> -19200 | H64: =+H65 -> -19200
F65: ԱՅԼ ԾԱԽՍԵՐ | G65: =G66 -> -19200 | H65: =H66 -> -19200
F66: Պահուստային միջոցներ | G66: ='Havelvats 1'!D44 -> -19200 | H66: ='Havelvats 1'!E44 -> -19200
E67: 11001 | F67: ՀՀ կառավարության պահուստային ֆոնդ | G67: =+G69 -> 19200 | H67: =+H69 -> 19200
F68: այդ թվում` ըստ կատարողների
F69: ՀՀ կառավարություն | G69: =+G71 -> 19200 | H69: =+H71 -> 19200
F70: այդ թվում` բյուջետային ծախսերի տնտեսագիտական դասակարգման հոդվածներ
F71: ԸՆԴԱՄԵՆԸ ԾԱԽՍԵՐ | G71: =+G72 -> 19200 | H71: =+H72 -> 19200
F72: ԸՆԹԱՑԻԿ ԾԱԽՍԵՐ | G72: =+G73 -> 19200 | H72: =+H73 -> 19200
F73: ԱՅԼ ԾԱԽՍԵՐ | G73: =+G74+G82 -> 19200 | H73: =+H74+H82 -> 19200
F74: Պահուստային միջոցներ | G74: ='Havelvats 1'!D50 -> 19200 | H74: ='Havelvats 1'!E50 -> 19200

Sheet Հավելված4
D1: Հավելված N 4
D2: ՀՀ կառավարության 2023 թվականի
D3: ______________ ի ___Ն որոշման
B5: ՀԱՅԱՍՏԱՆԻ ՀԱՆՐԱՊԵՏՈՒԹՅԱՆ ԿԱՌԱՎԱՐՈՒԹՅԱՆ 2022 ԹՎԱԿԱՆԻ ԴԵԿՏԵՄԲԵՐԻ 29-Ի N 2111-Ն ՈՐՈՇՄԱՆ N 5 ՀԱՎԵԼՎԱԾԻ N 2 ԱՂՅՈՒՍԱԿՈՒՄ ԿԱՏԱՐՎՈՂ ՓՈՓՈԽՈՒԹՅՈՒՆԸ
F8: հազ. դրամներով
B9: Ծրագրային դասիչ | D9: Բյուջետային գլխավոր կարգադրիչների, ծրագրերի, միջոցառումների, միջոցառումները կատարող պետական մարմինների և ուղղությունների անվանումները | E9: Ցուցանիշների փոփոխությունը (նվազեցումները նշված են փակագծերում)
B10: Ծրագիր | C10: Միջոցառում | E10: Ինն ամիս | F10: Տարի
D12: ՀՀ ԿՐԹՈՒԹՅԱՆ, ԳԻՏՈՒԹՅԱՆ, ՄՇԱԿՈՒՅԹԻ ԵՎ ՍՊՈՐՏԻ ՆԱԽԱՐԱՐՈՒԹՅՈՒՆ | E12: =E14 -> -19200 | F12: =F14 -> -19200
D13: այդ թվում՝
B14: 1168 | C14: 32001 | D14: Ներդրումներ թատրոնների շենքերի կապիտալ վերանորոգման համար | E14: =E16 -> -19200 | F14: =F16 -> -19200
D15: այդ թվում` ըստ կատարողների
D16: ՀՀ կառավարություն | E16: ='Havelvats 3 '!G47 -> -19200 | F16: ='Havelvats 3 '!H47 -> -19200

Sheet Havelvats 5
D1: Հավելված 5
D2: ՀՀ կառավարության 2023 թվականի
D3: ______________ ի ___Ն որոշման
A6: ՀԱՅԱՍՏԱՆԻ ՀԱՆՐԱՊԵՏՈՒԹՅԱՆ ԿԱՌԱՎԱՐՈՒԹՅԱՆ 2022 ԹՎԱԿԱՆԻ ԴԵԿՏԵՄԲԵՐԻ 29-Ի N 2111-Ն ՈՐՈՇՄԱՆ N 5 ՀԱՎԵԼՎԱԾԻ N 7 ԱՂՅՈՒՍԱԿՈՒՄ ԿԱՏԱՐՎՈՂ ԼՐԱՑՈՒՄԸ
E7: հազար դրամ
A8: Ծրագրային դասիչը | D8: Միջոցառումները կատարող պետական մարմինների և դրամաշնորհ ստացող տնտեսվարող սուբյեկտների անվանումները | E8: Ցուցանիշների փոփոխությունը (ավելացումները նշված դրական նշանով)
A9: Ծրագիր | B9: Միջոցառում | E9: Տարի
A10: ՀՀ կրթության, գիտության, մշակույթի և սպորտի նախարարություն | E10: =E11 -> 19200
A11: 1075 | B11: Մշակութային ժառանգության ծրագիր | E11: =E12 -> 19200
B12: 21003 | C12: Քանդակների պատրաստման և տեղադրման աշխատանքներ | D12: ՀՀ կրթության, գիտության, մշակույթի և սպորտի նախարարություն | E12: =SUM(E13:E13) -> 19200
D13: «Հայաստանի պատմության թանգարան» ՊՈԱԿ | E13: 19200

Sheet Havelvats 6
A1: Հավելված N 6
A2: ՀՀ կառավարության 2023 թվականի
A3: ______________ ի ___Ն որոշման
B5: ՀԱՅԱՍՏԱՆԻ ՀԱՆՐԱՊԵՏՈՒԹՅԱՆ ԿԱՌԱՎԱՐՈՒԹՅԱՆ 2022 ԹՎԱԿԱՆԻ ԴԵԿՏԵՄԲԵՐԻ 29-Ի N 2111-Ն ՈՐՈՇՄԱՆ N 9 ՀԱՎԵԼՎԱԾԻ N 9.13 ԵՎ 9․47 ԱՂՅՈՒՍԱԿՆԵՐՈՒՄ ԿԱՏԱՐՎՈՂ ՓՈՓՈԽՈՒԹՅՈՒՆՆԵՐԸ ԵՎ ԼՐԱՑՈՒՄՆԵՐԸ
A7: Աղյուսակ 9․13
C8: ՀՀ կրթության, գիտության, մշակույթի և սպորտի նախարարություն
B9: ՄԱՍ 2. ՊԵՏԱԿԱՆ ՄԱՐՄՆԻ ԳԾՈՎ ԱՐԴՅՈՒՆՔԱՅԻՆ (ԿԱՏԱՐՈՂԱԿԱՆ) ՑՈՒՑԱՆԻՇՆԵՐԸ
B13: Ծրագրի դասիչը | C13: Ծրագրի անվանումը
B14: 1075 | C14: Մշակութային ժառանգության ծրագիր
B16: Ծրագրի միջոցառումները
B17: Ծրագրի դասիչը՝ | C17: 1075 | D17: Ցուցանիշների փոփոխությունը (ավելացումները նշված են դրական նշանով)
B18: Միջոցառման դասիչը՝ | C18: 21003 | D18: Ինն ամիս | E18: Տարի
B19: Միջոցառման անվանումը՝ | C19: Քանդակների պատրաստման և տեղադրման աշխատանքներ
B20: Նկարագրությունը՝ | C20: Ժամանակակից արվեստի նմուշների ստեղծում, քանդակների պատրաստում և տեղադրում
B21: Միջոցառման տեսակը՝ | C21: Հանրության կողմից անմիջականորեն օգտագործվող ակտիվների հետ կապված միջոցառումներ
B22: Միջոցառումն իրականացնողի անվանումը | C22: «Հայաստանի պատմության թանգարան» ՊՈԱԿ
B23: Արդյունքի չափորոշիչներ
B24: Սբ. Պողոս և Պետրոսի պատկերները կրող խաչքարի կրկնօրինակի պատրաստում, տեղափոխում և տեղադրում, քանակ | D24: 1 | E24: 1
B25: Միջոցառման վրա կատարվող ծախսը (հազար դրամ) | D25: 19200 | E25: 19200
B28: Ծրագրի դասիչը | C28: Ծրագրի անվանումը
B29: 1168 | C29: Արվեստների ծրագիր
B30: Ծրագրի միջոցառումները
B31: Ծրագրի դասիչը՝ | C31: 1168 | D31: Ցուցանիշների փոփոխությունը (նվազեցումները նշված են փակագծերում)
B32: Միջոցառման դասիչը՝ | C32: 32001 | D32: Ինն ամիս | E32: Տարի
B33: Միջոցառման անվանումը՝ | C33: Ներդրումներ թատրոնների և համերգային կազմակերպությունների շենքերի կապիտալ վերանորոգման համար
B34: Նկարագրությունը՝ | C34: Թատրոնների և համերգային կազմակերպությունների շենքերի մասնաշենքերի հիմնանորոգում, համաշինարարական աշխատանքներ, ջեռուցման համակարգի իրականացում, ներքին հարդարում, տարածքի բարեկարգում և նախագծում
B35: Միջոցառման տեսակը՝ | C35: Այլ պետական կազմակերպությունների կողմից օգտագործվող ոչ ֆինանսական ակտիվների հետ գործառնություններ
B36: Ակտիվն օգտագործող կազմակերպությունների անվանումները | C36: Թատրոններ
C37: Արդյունքի չափորոշիչներ
B38: Միջոցառման վրա կատարվող ծախսը (հազար դրամ) | D38: -19200 | E38: -19200
A40: Աղյուսակ 9․47
C42: ՀՀ կառավարություն
B43: ՄԱՍ 2. ՊԵՏԱԿԱՆ ՄԱՐՄՆԻ ԳԾՈՎ ԱՐԴՅՈՒՆՔԱՅԻՆ (ԿԱՏԱՐՈՂԱԿԱՆ) ՑՈՒՑԱՆԻՇՆԵՐԸ
B46: Ծրագրի դասիչը | C46: Ծրագրի անվանումը
B47: 1139 | C47: ՀՀ կառավարության պահուստային ֆոնդ
B48: Ծրագրի միջոցառումները
B49: Ծրագրի դասիչը՝ | C49: 1139 | D49: Ցուցանիշների փոփոխությունը (նվազեցումները նշված են փակագծերում)
B50: Միջոցառման դասիչը՝ | C50: 11001 | D50: Ինն ամիս | E50: Տարի
B51: Միջոցառման անվանումը՝ | C51: ՀՀ կառավարության պահուստային ֆոնդ
B52: Նկարագրությունը՝ | C52: ՀՀ պետական բյուջեում նախատեսված ելքերի լրացուցիչ ֆինանսավորման՝ պետական բյուջեում չկանխատեսված ելքերի, ինչպես նաև բյուջետային երաշխիքների ապահովման ելքերի ֆինանսավորման ապահովում
B53: Միջոցառման տեսակը՝ | C53: Ծառայությունների մատուցում
B54: Միջոցառումն իրականացնողի անվանումը | C54: ՀՀ կառավարություն
C55: Արդյունքի չափորոշիչներ
B56: Միջոցառման վրա կատարվող ծախսը (հազար դրամ) | D56: ='Havelvats 1'!D44 -> -19200 | E56: ='Havelvats 1'!E44 -> -19200
B58: Ծրագրի միջոցառումները
B59: Ծրագրի դասիչը՝ | C59: 1139 | D59: Ցուցանիշների փոփոխությունը (ավելացումները նշված են դրական նշանով)
B60: Միջոցառման դասիչը՝ | C60: 11001 | D60: Ինն ամիս | E60: Տարի
B61: Միջոցառման անվանումը՝ | C61: ՀՀ կառավարության պահուստային ֆոնդ
B62: Նկարագրությունը՝ | C62: ՀՀ պետական բյուջեում նախատեսված ելքերի լրացուցիչ ֆինանսավորման՝ պետական բյուջեում չկանխատեսված ելքերի, ինչպես նաև բյուջետային երաշխիքների ապահովման ելքերի ֆինանսավորման ապահովում
B63: Միջոցառման տեսակը՝ | C63: Ծառայությունների մատուցում
B64: Միջոցառումն իրականացնողի անվանումը | C64: ՀՀ կառավարություն
C65: Արդյունքի չափորոշիչներ
B66: Միջոցառման վրա կատարվող ծախսը (հազար դրամ) | D66: ='Havelvats 1'!D50 -> 19200 | E66: ='Havelvats 1'!E50 -> 19200

Sheet Havelvats 7
D1: Հավելված N 7
C2: ՀՀ կառավարության 2023 թվականի
C3: ______________ ի ___Ն որոշման
B5: ՀԱՅԱՍՏԱՆԻ ՀԱՆՐԱՊԵՏՈՒԹՅԱՆ ԿԱՌԱՎԱՐՈՒԹՅԱՆ 2022 ԹՎԱԿԱՆԻ ԴԵԿՏԵՄԲԵՐԻ 23-Ի N 2111-Ն ՈՐՈՇՄԱՆ N 9․1 ՀԱՎԵԼՎԱԾԻ N 9.1․13 ԵՎ 9․1․58 ԱՂՅՈՒՍԱԿՆԵՐՈՒՄ ԿԱՏԱՐՎՈՂ ՓՈՓՈԽՈՒԹՅՈՒՆՆԵՐԸ ԵՎ ԼՐԱՑՈՒՄՆԵՐԸ
A7: Աղյուսակ 9․1․13
C9: ՀՀ կրթության, գիտության, մշակույթի և սպորտի նախարարություն
B10: ՄԱՍ 2. ՊԵՏԱԿԱՆ ՄԱՐՄՆԻ ԳԾՈՎ ԱՐԴՅՈՒՆՔԱՅԻՆ (ԿԱՏԱՐՈՂԱԿԱՆ) ՑՈՒՑԱՆԻՇՆԵՐԸ
B12: Ծրագրի դասիչը | C12: Ծրագրի անվանումը
B13: 1075 | C13: Մշակութային ժառանգության ծրագիր
B15: Ծրագրի միջոցառումները
B16: Ծրագրի դասիչը՝ | C16: 1075 | D16: Ցուցանիշների փոփոխությունը (ավելացումները նշված են դրական նշանով)
B17: Միջոցառման դասիչը՝ | C17: 21003 | D17: Ինն ամիս | E17: Տարի
B18: Միջոցառման անվանումը՝ | C18: Քանդակների պատրաստման և տեղադրման աշխատանքներ
B19: Նկարագրությունը՝ | C19: Ժամանակակից արվեստի նմուշների ստեղծում, քանդակների պատրաստում և տեղադրում
B20: Միջոցառման տեսակը՝ | C20: Հանրության կողմից անմիջականորեն օգտագործվող ակտիվների հետ կապված միջոցառումներ
B21: Միջոցառումն իրականացնողի անվանումը | C21: «Հայաստանի պատմության թանգարան» ՊՈԱԿ
B22: Արդյունքի չափորոշիչներ
B23: Սբ. Պողոս և Պետրոսի պատկերները կրող խաչքարի կրկնօրինակի պատրաստում, տեղափոխում և տեղադրում, քանակ | D23: 1 | E23: 1
B24: Միջոցառման վրա կատարվող ծախսը (հազար դրամ) | D24: 19200 | E24: 19200
A27: Աղյուսակ 9․1․58
C29: ՀՀ կառավարություն
B30: ՄԱՍ 2. ՊԵՏԱԿԱՆ ՄԱՐՄՆԻ ԳԾՈՎ ԱՐԴՅՈՒՆՔԱՅԻՆ (ԿԱՏԱՐՈՂԱԿԱՆ) ՑՈՒՑԱՆԻՇՆԵՐԸ
B32: Ծրագրի դասիչը | C32: Ծրագրի անվանումը
B33: 1168 | C33: Արվեստների ծրագիր
B34: Ծրագրի միջոցառումները
B35: Ծրագրի դասիչը՝ | C35: 1168 | D35: Ցուցանիշների փոփոխությունը (նվազեցումները նշված են փակագծերում)
B36: Միջոցառման դասիչը՝ | C36: 32001 | D36: Ինն ամիս | E36: Տարի
B37: Միջոցառման անվանումը՝ | C37: Ներդրումներ թատրոնների և համերգային կազմակերպությունների շենքերի կապիտալ վերանորոգման համար
B38: Նկարագրությունը՝ | C38: Թատրոնների և համերգային կազմակերպությունների շենքերի մասնաշենքերի հիմնանորոգում, համաշինարարական աշխատանքներ, ջեռուցման համակարգի իրականացում, ներքին հարդարում, տարածքի բարեկարգում և նախագծում
B39: Միջոցառման տեսակը՝ | C39: Այլ պետական կազմակերպությունների կողմից օգտագործվող ոչ ֆինանսական ակտիվների հետ գործառնություններ
B40: Ակտիվն օգտագործող կազմակերպությունների անվանումները | C40: Թատրոններ
C41: Արդյունքի չափորոշիչներ
B42: Միջոցառման վրա կատարվող ծախսը (հազար դրամ) | D42: -19200 | E42: -19200
B44: Ծրագրի դասիչը | C44: Ծրագրի անվանումը
B45: 1139 | C45: ՀՀ կառավարության պահուստային ֆոնդ
B46: Ծրագրի միջոցառումները
B47: Ծրագրի դասիչը՝ | C47: 1139 | D47: Ցուցանիշների փոփոխությունը (նվազեցումները նշված են փակագծերում)
B48: Միջոցառման դասիչը՝ | C48: 11001 | D48: Ինն ամիս | E48: Տարի
B49: Միջոցառման անվանումը՝ | C49: ՀՀ կառավարության պահուստային ֆոնդ
B50: Նկարագրությունը՝ | C50: ՀՀ պետական բյուջեում նախատեսված ելքերի լրացուցիչ ֆինանսավորման՝ պետական բյուջեում չկանխատեսված ելքերի, ինչպես նաև բյուջետային երաշխիքների ապահովման ելքերի ֆինանսավորման ապահովում
B51: Միջոցառման տեսակը՝ | C51: Ծառայությունների մատուցում
B52: Միջոցառումն իրականացնողի անվանումը | C52: ՀՀ կառավարություն
C53: Արդյունքի չափորոշիչներ
B54: Միջոցառման վրա կատարվող ծախսը (հազար դրամ) | D54: ='Havelvats 1'!D44 -> -19200 | E54: ='Havelvats 1'!E44 -> -19200
B56: Ծրագրի միջոցառումները
B57: Ծրագրի դասիչը՝ | C57: 1139 | D57: Ցուցանիշների փոփոխությունը (ավելացումները նշված են դրական նշանով)
B58: Միջոցառման դասիչը՝ | C58: 11001 | D58: Ինն ամիս | E58: Տարի
B59: Միջոցառման անվանումը՝ | C59: ՀՀ կառավարության պահուստային ֆոնդ
B60: Նկարագրությունը՝ | C60: ՀՀ պետական բյուջեում նախատեսված ելքերի լրացուցիչ ֆինանսավորման՝ պետական բյուջեում չկանխատեսված ելքերի, ինչպես նաև բյուջետային երաշխիքների ապահովման ելքերի ֆինանսավորման ապահովում
B61: Միջոցառման տեսակը՝ | C61: Ծառայությունների մատուցում
B62: Միջոցառումն իրականացնողի անվանումը | C62: ՀՀ կառավարություն
C63: Արդյունքի չափորոշիչներ
B64: Միջոցառման վրա կատարվող ծախսը (հազար դրամ) | D64: ='Havelvats 1'!D50 -> 19200 | E64: ='Havelvats 1'!E50 -> 19200
