Workbook

Sheet HAVEL. 1
E1: Հավելված N 1
E2: ՀՀ կառավարության 2023 թվականի
E3: ի -Ն որոշման
A6: «ՀԱՅԱՍՏԱՆԻ ՀԱՆՐԱՊԵՏՈՒԹՅԱՆ 2023 ԹՎԱԿԱՆԻ ՊԵՏԱԿԱՆ ԲՅՈՒՋԵԻ ՄԱՍԻՆ» ՀԱՅԱՍՏԱՆԻ ՀԱՆՐԱՊԵՏՈՒԹՅԱՆ ՕՐԵՆՔԻ N 1 ՀԱՎԵԼՎԱԾԻ N 2 ԱՂՅՈՒՍԱԿՈՒՄ ԿԱՏԱՐՎՈՂ ՎԵՐԱԲԱՇԽՈՒՄԸ ԵՎ ՀԱՅԱՍՏԱՆԻ ՀԱՆՐԱՊԵՏՈՒԹՅԱՆ ԿԱՌԱՎԱՐՈՒԹՅԱՆ 2022 ԹՎԱԿԱՆԻ ԴԵԿՏԵՄԲԵՐԻ 29-ի N 2111-Ն ՈՐՈՇՄԱՆ N 5 ՀԱՎԵԼՎԱԾԻ N 1 ԱՂՅՈՒՍԱԿՈՒՄ ԿԱՏԱՐՎՈՂ ՓՈՓՈԽՈՒԹՅՈՒՆՆԵՐԸ
E7: հազար դրամ
A8: Ծրագրային դասիչը | C8: Բյուջետային հատկացումների գլխավոր կարգադրիչների, ծրագրերի և միջոցառումների անվանումները | D8: Ցուցանիշների փոփոխությունը (ավելացումները նշված են դրական նշանով, իսկ նվազեցումները՝ փակագծերում)
A9: Ծրագիր | B9: Միջոցառում | D9: Ինն ամիս | E9: Տարի
C10: ԸՆԴԱՄԵՆԸ՝ | D10: =D11+D25 -> 0 | E10: =E11+E25 -> 0
C11: ՀՀ կառավարություն | D11: =D12 -> -133699 | E11: =E12 -> -267400
A12: 1139 | C12: Ծրագրի անվանումը` | D12: =+D19 -> -133699 | E12: =E19 -> -267400
C13: ՀՀ կառավարության պահուստային ֆոնդ
C14: Ծրագրի նպատակը`
C15: Պետական բյուջեում չկանխատեսված, ինչպես նաև բյուջետային երաշխիքների ապահովման ծախսերի ֆինանսավորման ապահովում
C16: Վերջնական արդյունքի նկարագրությունը`
C17: Պահուստային ֆոնդի կառավարման արդյունավետության և թափանցիկության ապահովում
A18: Ծրագրի միջոցառումներ
B19: 11001 | C19: Միջոցառման անվանումը` | D19: =+'HAVEL. 2'!G27 -> -133699 | E19: =+'HAVEL. 2'!H27 -> -267400
C20: ՀՀ կառավարության պահուստային ֆոնդ
C21: Միջոցառման նկարագրությունը`
C22: ՀՀ պետական բյուջեում նախատեսված ելքերի լրացուցիչ ֆինանսավորման, պետական բյուջեում չկանխատեսված ելքերի, ինչպես նաև բյուջետային երաշխիքների ապահովման ելքերի ֆինանսավորման ապահովում
C23: Միջոցառման տեսակը՝
C24: Ծառայությունների մատուցում
C25: ՀՀ ազգային անվտանգության ծառայություն | D25: =D26 -> 133699 | E25: =E26 -> 267400
A26: 1036 | C26: Ծրագրի անվանումը` | D26: =D33 -> 133699 | E26: =E33 -> 267400
C27: Պետական պահպանության ապահովում
C28: Ծրագրի նպատակը`
C29: Հատուկ պետական պաշտպանության ենթակա օբյեկտների անվտանգության ապահովում
C30: Վերջնական արդյունքի նկարագրությունը`
C31: Պետական պահպանության ենթակա օբյեկտների անվտանգության խախտման դեպքերի կրճատում
A32: Ծրագրի միջոցառումներ
B33: 11001 | C33: Միջոցառման անվանումը` | D33: =+'HAVEL. 2'!G42 -> 133699 | E33: =+'HAVEL. 2'!H38 -> 267400
C34: Պետական պահպանության ծառայություններ
C35: Միջոցառման նկարագրությունը`
C36: Բարձրաստիճան պաշտոնատար անձանց, նրանց բարձրաստիճան հյուրերի անվտանգության ապահովում
C37: Միջոցառման տեսակը՝
C38: Ծառայությունների մատուցում

Sheet HAVEL. 2
H1: Հավելված N 2
H2: ՀՀ կառավարության 2023 թվականի
H3: ի -Ն որոշման
A7: ՀԱՅԱՍՏԱՆԻ ՀԱՆՐԱՊԵՏՈՒԹՅԱՆ ԿԱՌԱՎԱՐՈՒԹՅԱՆ 2022 ԹՎԱԿԱՆԻ ԴԵԿՏԵՄԲԵՐԻ 29-ի N 2111-Ն ՈՐՈՇՄԱՆ NN 3 ԵՎ 4 ՀԱՎԵԼՎԱԾՆԵՐՈՒՄ ԿԱՏԱՐՎՈՂ ՓՈՓՈԽՈՒԹՅՈՒՆՆԵՐԸ
H8: հազար դրամ
A9: Գործառական դասիչը | D9: Ծրագրային դասիչը | F9: Բյուջետային ծախսերի գործառական դասակարգման բաժինների, խմբերի և դասերի, բյուջետային ծրագրերի միջոցառումների, բյուջետային հատկացումների գլխավոր կարգադրիչների անվանումները | G9: Ցուցանիշների փոփոխությունը (ավելացումները նշված են դրական նշանով, իսկ նվազեցումները՝ փակագծերում)
A10: Բաժին | B10: Խումբ | C10: Դաս | D10: Ծրագիր | E10: Միջոցառում | G10: Ինն ամիս | H10: Տարի
F11: ԸՆԴԱՄԵՆԸ՝ | G11: =G12+G28 -> 0 | H11: =H12+H28 -> 0
A12: 11 | F12: ՀԻՄՆԱԿԱՆ ԲԱԺԻՆՆԵՐԻՆ ՉԴԱՍՎՈՂ ՊԱՀՈՒՍՏԱՅԻՆ ՖՈՆԴԵՐ | G12: =G14 -> -133699 | H12: =H14 -> -267400
F13: այդ թվում`
B14: 01 | F14: ՀՀ կառավարության և համայնքների պահուստային ֆոնդ | G14: =G16 -> -133699 | H14: =H16 -> -267400
F15: այդ թվում`
C16: 01 | F16: ՀՀ կառավարության պահուստային ֆոնդ | G16: =G18 -> -133699 | H16: =H18 -> -267400
F17: այդ թվում`
D18: 1139 | F18: ՀՀ կառավարության պահուստային ֆոնդ | G18: =G20 -> -133699 | H18: =H20 -> -267400
F19: այդ թվում`
E20: 11001 | F20: ՀՀ կառավարության պահուստային ֆոնդ | G20: =G22 -> -133699 | H20: =H22 -> -267400
F21: այդ թվում` ըստ կատարողների
F22: ՀՀ կառավարություն | G22: =G24 -> -133699 | H22: =H24 -> -267400
F23: այդ թվում` բյուջետային ծախսերի տնտեսագիտական դասակարգման հոդվածներ
F24: ԸՆԴԱՄԵՆԸ՝ ԾԱԽՍԵՐ | G24: =G25 -> -133699 | H24: =H25 -> -267400
F25: ԸՆԹԱՑԻԿ ԾԱԽՍԵՐ | G25: =G26 -> -133699 | H25: =H26 -> -267400
F26: ԱՅԼ ԾԱԽՍԵՐ | G26: =G27 -> -133699 | H26: =H27 -> -267400
F27: Պահուստային միջոցներ | G27: -133699 | H27: -267400
A28: 03 | F28: ՀԱՍԱՐԱԿԱԿԱՆ ԿԱՐԳ, ԱՆՎՏԱՆԳՈՒԹՅՈՒՆ ԵՎ ԴԱՏԱԿԱՆ ԳՈՐԾՈՒՆԵՈՒԹՅՈՒՆ | G28: =SUM(G30) -> 133699 | H28: =SUM(H30) -> 267400
F29: այդ թվում`
B30: 01 | F30: Հասարակական կարգ և անվտանգություն | G30: =SUM(G32) -> 133699 | H30: =SUM(H32) -> 267400
F31: այդ թվում`
C32: 03 | F32: Պետական պահպանություն | G32: =G34 -> 133699 | H32: =H34 -> 267400
F33: այդ թվում`
F34: ՀՀ ազգային անվտանգության ծառայություն | G34: =G36 -> 133699 | H34: =H36 -> 267400
F35: այդ թվում`
D36: 1036 | F36: Պետական պահպանության ապահովում | G36: =G38 -> 133699 | H36: =H38 -> 267400
F37: այդ թվում`
E38: 11001 | F38: Պետական պահպանության ծառայություններ | G38: =G40 -> 133699 | H38: =H40 -> 267400
F39: այդ թվում` ըստ կատարողների
F40: ՀՀ պետական պահպանության ծառայություն | G40: =G42 -> 133699 | H40: =H42 -> 267400
F41: այդ թվում` բյուջետային ծախսերի տնտեսագիտական դասակարգման հոդվածներ
F42: ԸՆԴԱՄԵՆԸ՝ ԾԱԽՍԵՐ | G42: =G43 -> 133699 | H42: =H43 -> 267400
F43: ԸՆԹԱՑԻԿ ԾԱԽՍԵՐ | G43: =G44 -> 133699 | H43: =H44 -> 267400
F44: ԱՇԽԱՏԱՆՔԻ ՎԱՐՁԱՏՐՈՒԹՅՈՒՆ | G44: =G45 -> 133699 | H44: =H45 -> 267400
F45: Դրամով վճարվող աշխատավարձեր և հավելավճարներ | G45: =+G46+G47 -> 133699 | H45: =+H46+H47 -> 267400
F46: - Աշխատողների աշխատավարձեր և հավելավճարներ | G46: 113574 | H46: 227149
F47: - Պարգևատրումներ, դրամական խրախուսումներ և հատուկ վճարներ | G47: 20125 | H47: 40251

Sheet HAVEL. 3
D1: Հավելված N 3
D2: ՀՀ կառավարության 2023 թվականի
D3: ի -Ն որոշման
A5: ՀԱՅԱՍՏԱՆԻ ՀԱՆՐԱՊԵՏՈՒԹՅԱՆ ԿԱՌԱՎԱՐՈՒԹՅԱՆ 2022 ԹՎԱԿԱՆԻ ԴԵԿՏԵՄԲԵՐԻ 29-ի N 2111-Ն ՈՐՈՇՄԱՆ N 9 ՀԱՎԵԼՎԱԾԻ NN 9.47 ԵՎ 9.26 ԱՂՅՈՒՍԱԿՆԵՐՈՒՄ ԿԱՏԱՐՎՈՂ ՓՈՓՈԽՈՒԹՅՈՒՆՆԵՐԸ
A7: ՀՀ կառավարություն
A9: ՄԱՍ 2. ՊԵՏԱԿԱՆ ՄԱՐՄՆԻ ԳԾՈՎ ԱՐԴՅՈՒՆՔԱՅԻՆ (ԿԱՏԱՐՈՂԱԿԱՆ) ՑՈՒՑԱՆԻՇՆԵՐԸ
A11: Ծրագրի դասիչը | B11: Ծրագրի անվանումը
A12: 1139 | B12: ՀՀ կառավարության պահուստային ֆոնդ
A14: Ծրագրի միջոցառումները
A16: Ծրագրի դասիչը` | B16: 1139 | C16: Ցուցանիշների փոփոխությունը (նվազեցումները նշված են փակագծերում)
A17: Միջոցառման դասիչը` | B17: 11001 | C17: Ինն ամիս | D17: Տարի
A18: Միջոցառման անվանումը` | B18: ՀՀ կառավարության պահուստային ֆոնդ
A19: Նկարագրությունը` | B19: ՀՀ պետական բյուջեում նախատեսված ելքերի լրացուցիչ ֆինանսավորման, պետական բյուջեում չկանխատեսված ելքերի, ինչպես նաև բյուջետային երաշխիքների ապահովման ելքերի ֆինանսավորման ապահովում
A20: Միջոցառման տեսակը` | B20: Ծառայությունների մատուցում
A21: Միջոցառումն իրականացնողի անվանումը | B21: ՀՀ կառավարություն
A22: Արդյունքի չափորոշիչներ
A23: Միջոցառման վրա կատարվող ծախսը (հազար դրամ) | C23: ='HAVEL. 2'!G27 -> -133699 | D23: ='HAVEL. 2'!H27 -> -267400
A27: ՀՀ ազգային անվտանգության ծառայություն
A29: ՄԱՍ 2. ՊԵՏԱԿԱՆ ՄԱՐՄՆԻ ԳԾՈՎ ԱՐԴՅՈՒՆՔԱՅԻՆ (ԿԱՏԱՐՈՂԱԿԱՆ) ՑՈՒՑԱՆԻՇՆԵՐԸ
A31: Ծրագրի դասիչը | B31: Ծրագրի անվանումը
A32: 1036 | B32: Պետական պահպանության ապահովում
A34: Ծրագրի միջոցառումները
A36: Ծրագրի դասիչը` | B36: 1036 | C36: Ցուցանիշների փոփոխությունը (ավելացումները նշված են դրական նշանով)
A37: Միջոցառման դասիչը` | B37: 11001 | C37: Ինն ամիս | D37: Տարի
A38: Միջոցառման անվանումը` | B38: Պետական պահպանության ծառայություններ
A39: Նկարագրությունը` | B39: Բարձրաստիճան պաշտոնատար անձանց, նրանց բարձրաստիճան հյուրերի անվտանգության ապահովում
A40: Միջոցառման տեսակը` | B40: Ծառայությունների մատուցում
A41: Ծառայությունը մատուցող կազմակերպության(ների) անվանում(ներ)ը | B41: ՀՀ պետական պահպանության ծառայություն
A42: Արդյունքի չափորոշիչներ
A43: Միջոցառման վրա կատարվող ծախսը (հազար դրամ) | C43: =+'HAVEL. 2'!G42 -> 133699 | D43: =+'HAVEL. 2'!H38 -> 267400

Sheet HAVEL.  4
D1: Հավելված N 4
D2: ՀՀ կառավարության 2023 թվականի
D3: ի -Ն որոշման
A5: ՀԱՅԱՍՏԱՆԻ ՀԱՆՐԱՊԵՏՈՒԹՅԱՆ ԿԱՌԱՎԱՐՈՒԹՅԱՆ 2022 ԹՎԱԿԱՆԻ ԴԵԿՏԵՄԲԵՐԻ 29-ի N 2111-Ն ՈՐՈՇՄԱՆ N 9.1 ՀԱՎԵԼՎԱԾԻ NN 9.1.58 ԵՎ 9.1.39 ԱՂՅՈՒՍԱԿՆԵՐՈՒՄ ԿԱՏԱՐՎՈՂ ՓՈՓՈԽՈՒԹՅՈՒՆՆԵՐԸ
A7: ՀՀ կառավարություն
A9: ՄԱՍ 1. ՊԵՏԱԿԱՆ ՄԱՐՄՆԻ ԳԾՈՎ ԱՐԴՅՈՒՆՔԱՅԻՆ (ԿԱՏԱՐՈՂԱԿԱՆ) ՑՈՒՑԱՆԻՇՆԵՐԸ
A11: Ծրագրի դասիչը | B11: Ծրագրի անվանումը
A12: 1139 | B12: ՀՀ կառավարության պահուստային ֆոնդ
A14: Ծրագրի միջոցառումները
A17: Ծրագրի դասիչը` | B17: 1139 | C17: Ցուցանիշների փոփոխությունը (նվազեցումները նշված են փակագծերում)
A18: Միջոցառման դասիչը` | B18: 11001 | C18: Ինն ամիս | D18: Տարի
A19: Միջոցառման անվանումը` | B19: ՀՀ կառավարության պահուստային ֆոնդ
A20: Նկարագրությունը` | B20: ՀՀ պետական բյուջեում նախատեսված ելքերի լրացուցիչ ֆինանսավորման, պետական բյուջեում չկանխատեսված ելքերի, ինչպես նաև բյուջետային երաշխիքների ապահովման ելքերի ֆինանսավորման ապահովում
A21: Միջոցառման տեսակը` | B21: Ծառայությունների մատուցում
A22: Միջոցառումն իրականացնողի անվանումը | B22: ՀՀ կառավարություն
A23: Արդյունքի չափորոշիչներ
A24: Միջոցառման վրա կատարվող ծախսը (հազար դրամ) | C24: ='HAVEL. 3'!C23 -> -133699 | D24: ='HAVEL. 3'!D23 -> -267400
A27: ՀՀ պետական պահպանության ծառայություն
A29: ՄԱՍ 1. ՊԵՏԱԿԱՆ ՄԱՐՄՆԻ ԳԾՈՎ ԱՐԴՅՈՒՆՔԱՅԻՆ (ԿԱՏԱՐՈՂԱԿԱՆ) ՑՈՒՑԱՆԻՇՆԵՐԸ
A31: Ծրագրի դասիչը | B31: Ծրագրի անվանումը
A32: 1036 | B32: Պետական պահպանության ապահովում
A34: Ծրագրի միջոցառումները
A36: Ծրագրի դասիչը` | B36: 1036 | C36: Ցուցանիշների փոփոխությունը (ավելացումները նշված են դրական նշանով)
A37: Միջոցառման դասիչը` | B37: 11001 | C37: Ինն ամիս | D37: Տարի
A38: Միջոցառման անվանումը` | B38: Պետական պահպանության ծառայություններ
A39: Նկարագրությունը` | B39: Բարձրաստիճան պաշտոնատար անձանց, նրանց բարձրաստիճան հյուրերի անվտանգության ապահովում
A40: Միջոցառման տեսակը` | B40: Ծառայությունների մատուցում
A41: Ծառայությունը մատուցող կազմակերպության(ների) անվանում(ներ)ը | B41: ՀՀ պետական պահպանության ծառայություն
A42: Արդյունքի չափորոշիչներ
A43: Միջոցառման վրա կատարվող ծախսը (հազար դրամ) | C43: ='HAVEL. 3'!C43 -> 133699 | D43: ='HAVEL. 3'!D43 -> 267400
