Workbook

Sheet 1
E2: Հավելված N 1
E3: ՀՀ կառավարության 2023 թվականի
E4: ___________ ___-ի N _______ որոշման
A5: «ՀԱՅԱՍՏԱՆԻ ՀԱՆՐԱՊԵՏՈՒԹՅԱՆ 2023 ԹՎԱԿԱՆԻ ՊԵՏԱԿԱՆ ԲՅՈՒՋԵԻ ՄԱՍԻՆ» ՀՀ ՕՐԵՆՔԻ N 1 ՀԱՎԵԼՎԱԾԻ N 2 ԱՂՅՈՒՍԱԿՈՒՄ ԿԱՏԱՐՎՈՂ ՎԵՐԱԲԱՇԽՈՒՄԸ ԵՎ ՀԱՅԱՍՏԱՆԻ ՀԱՆՐԱՊԵՏՈՒԹՅԱՆ ԿԱՌԱՎԱՐՈՒԹՅԱՆ 2022 ԹՎԱԿԱՆԻ ԴԵԿՏԵՄԲԵՐԻ 29-Ի N 2111-Ն ՈՐՈՇՄԱՆ N 5 ՀԱՎԵԼՎԱԾԻ N1 ԱՂՅՈՒՍԱԿՈՒՄ ԿԱՏԱՐՎՈՂ ՓՈՓՈԽՈՒԹՅՈՒՆՆԵՐԸ
D7: (հազ. դրամ)
A8: Ծրագրային դասիչը | C8: Բյուջետային հատկացումների գլխավոր կարգադրիչների, ծրագրերի և միջոցառումների անվանումները | D8: Ցուցանիշների փոփոխությունը (ավելացումները նշված են դրական նշանով,իսկ նվազեցումները՝ փակագծերում)
A9: Ծրագիր | B9: Միջոցառում | D9: Ինն ամիս | E9: Տարի
B10: ԸՆԴԱՄԵՆԸ | D10: =D11 -> 0 | E10: =E11 -> 0
C11: ՀՀ արդարադատության նախարարություն | D11: =D12 -> 0 | E11: =E12 -> 0
A12: 1228 | C12: Ծրագրի անվանումը` | D12: =+D19+D25 -> 0 | E12: =+E19+E25 -> 0
C13: Հակակոռուպցիոն քաղաքականության մշակում,ծրագրերի համակարգում և մոնիտորինգի իրականացում
C14: Ծրագրի նպատակը`
C15: Հակակոռուպցիոն ինստիտուցիոնալ համակարգի վերափոխում և զարգացում` նաև ոլորտային կոռուպցիոն ռիսկերի վերհանման ու նվազեցման և էլեկտրոնային ժողովրդավարության գործիքների ներդրման միջոցով
C16: Վերջնական արդյունքի նկարագրությունը`
C17: Կոռուպցիայի նվազեցում, հակակոռուպցիոն արդյունավետ ինստիտուցիոնալ համակարգի առկայություն
C18: Ծրագրի միջոցառումներ
B19: 31002 | C19: Միջոցառման անվանումը` | D19: ='2'!G31 -> 0 | E19: ='2'!H31 -> -72000
C20: Հակակոռուպցիոն դատարանի շենքային պայմանների ապահովում
C21: Միջոցառման նկարագրությունը`
C22: Հակակոռուպցիոն դատարանի կարիքները սպասարկող նոր շենքի կառուցում
C23: Միջոցառման տեսակը
C24: Պետական մարմինների կողմից օգտագործվող ոչ ֆինանսական ակտիվների հետ գործառնություններ
B25: 31007 | C25: Միջոցառման անվանումը՝ | D25: ='2'!G22 -> 0 | E25: ='2'!H22 -> 72000
C26: Էլեկտրոնային ռեսուրսների ստեղծման կամ արդիականացման նախագծերի ապահովում
C27: Միջոցառման նկարագրությունը՝
C28: Էլեկտրոնային արդարադատության համակարգի ներդրում և առկա էլեկտրոնային գործիքների արդիականացում
C29: Միջոցառման տեսակը՝
C30: Պետական մարմինների կողմից օգտագործվող ոչ ֆինանսական ատիվների հետ գործառնություններ

Sheet 2
H1: Հավելված N 2
H2: ՀՀ կառավարության 2023թվականի
H3: ___________ ___-ի N _______ որոշման
A6: ՀԱՅԱՍՏԱՆԻ ՀԱՆՐԱՊԵՏՈՒԹՅԱՆ ԿԱՌԱՎԱՐՈՒԹՅԱՆ 2022 ԹՎԱԿԱՆԻ ԴԵԿՏԵՄԲԵՐԻ 29-Ի N 2111-Ն ՈՐՈՇՄԱՆ N 3 և N 4 ՀԱՎԵԼՎԱԾՆԵՐՈՒՄ ԿԱՏԱՐՎՈՂ ՓՈՓՈԽՈՒԹՅՈՒՆՆԵՐԸ
G7: (հազ. դրամ)
A8: Գործառական դասիչը | D8: Ծրագրային դասիչը | F8: Բյուջետային ծախսերի գործառական դասակարգման բաժինների, խմբերի և դասերի, բյուջետային ծրագրերի, միջոցառումների բյուջետային հատկացումների գլխավոր կարգադրիչների անվանումները | G8: Ցուցանիշների փոփոխությունը (ավելացումները նշված են դրական նշանով, իսկ նվազեցումները՝ փակագծերում)
A9: Բաժին | B9: Խումբ | C9: Դաս | D9: Ծրագիր | E9: Միջոցառում | G9: ինն ամիս | H9: Տարի
F10: ԸՆԴԱՄԵՆԸ | G10: =+G12 -> 0 | H10: =+H12 -> 0
F11: այդ թվում`
A12: 03 | F12: ՀԱՍԱՐԱԿԱԿԱՆ ԿԱՐԳ, ԱՆՎՏԱՆԳՈՒԹՅՈՒՆ ԵՎ ԴԱՏԱԿԱՆ ԳՈՐԾՈՒՆԵՈՒԹՅՈՒՆ | G12: =G14+G31 -> 0 | H12: =H14+H31 -> 0
F13: այդ թվում`
B14: 03 | F14: Դատական գործունեություն և իրավական պաշտպանություն | G14: =+G16 -> 0 | H14: =+H16 -> 72000
F15: այդ թվում`
C16: 01 | F16: Դատարաններ | G16: =G20 -> 0 | H16: =H20 -> 72000
F17: այդ թվում`
F18: ՀՀ արդարադատության նախարարություն | G18: =G20 -> 0 | H18: =H20 -> 72000
F19: այդ թվում`
D20: 1228 | F20: Հակակոռուպցիոն քաղաքականության մշակում,ծրագրերի համակարգում և մոնիտորինգի իրականացում | G20: =+G22 -> 0 | H20: =+H22 -> 72000
F21: այդ թվում՝
E22: 31007 | F22: Էլեկտրոնային ռեսուրսների ստեղծման կամ արդիականացման նախագծերի ապահովում | G22: =G24 -> 0 | H22: =H24 -> 72000
F23: այդ թվում՝
F24: ՀՀ արդարադատության նախարարություն | G24: =G26 -> 0 | H24: =H26 -> 72000
F25: այդ թվում` բյուջետային ծախսերի տնտեսագիտական դասակարգման հոդվածներ
F26: ԸՆԴԱՄԵՆԸ ԾԱԽՍԵՐ | G26: =G28 -> 0 | H26: =H28 -> 72000
F27: ՈՉ ՖԻՆԱՆՍԱԿԱՆ ԱԿՏԻՎՆԵՐԻ ԳԾՈՎ ԾԱԽՍԵՐ | G27: =G28 -> 0 | H27: =H28 -> 72000
F28: ՀԻՄՆԱԿԱՆ ՄԻՋՈՑՆԵՐ | G28: =G29 -> 0 | H28: =H29 -> 72000
F29: ԱՅԼ ՀԻՄՆԱԿԱՆ ՄԻՋՈՑՆԵՐ | G29: =G30 -> 0 | H29: =H30 -> 72000
F30: - Ոչ նյութական հիմնական միջոցներ | G30: 0 | H30: 72000
E31: 31002 | F31: Հակակոռուպցիոն դատարանի շենքային պայմանների ապահովում | G31: =G33 -> 0 | H31: =H33 -> -72000
F32: այդ թվում` ըստ կատարողների
F33: ՀՀ քաղաքաշինության կոմիտե | G33: =G35 -> 0 | H33: =H35 -> -72000
F34: այդ թվում` բյուջետային ծախսերի տնտեսագիտական դասակարգման հոդվածներ
F35: ԸՆԴԱՄԵՆԸ ԾԱԽՍԵՐ | G35: =G36 -> 0 | H35: =H36 -> -72000
F36: ՈՉ ՖԻՆԱՆՍԱԿԱՆ ԱԿՏԻՎՆԵՐԻ ԳԾՈՎ ԾԱԽՍԵՐ | G36: =G37 -> 0 | H36: =H37 -> -72000
F37: ՀԻՄՆԱԿԱՆ ՄԻՋՈՑՆԵՐ | G37: =G38 -> 0 | H37: =H38 -> -72000
F38: ՇԵՆՔԵՐ ԵՎ ՇԻՆՈՒԹՅՈՒՆՆԵՐ | G38: =G39 -> 0 | H38: =H39 -> -72000
F39: - Շենքերի և շինությունների շինարարություն | G39: 0 | H39: -72000

Sheet 3
H1: Հավելված № 3
H2: ՀՀ կառավարության 2023 թվականի ----------
H3: № ---------- որոշման
A6: ՀԱՅԱՍՏԱՆԻ ՀԱՆՐԱՊԵՏՈՒԹՅԱՆ 2023 ԹՎԱԿԱՆԻ ՊԵՏԱԿԱՆ ԲՅՈՒՋԵԻ ՄԱՍԻՆ ՕՐԵՆՔԻ N 1 ՀԱՎԵԼՎԱԾԻ N 3 ԱՂՅՈՒՍԱԿՈՒՄ ԿԱՏԱՐՎՈՂ ՓՈՓՈԽՈՒԹՅՈՒՆՆԵՐԸ
G7: (հազ. դրամ)
A8: Շրագրային դասիչը | C8: Բյուջետային գլխավոր կարգադրիչների, ծրագրերի և միջոցառումների և ուղղությունների անվանումները | D8: Ընդամենը | E8: Ցուցանիշների փոփոխությունը (ավելացումները նշված են դրական նշանով, իսկ նվազեցումները՝ փակագծերում)
E9: այդ թվում
A10: Ծրագիր | B10: Միջոցառում | E10: Կառուցման աշխատանքներ | F10: Վերակառուցման, վերանորոգման և վերականգնման աշխատանքներ | G10: Նախագծահե- տազոտական, գեոդեզիա- քարտեզագրա- կան աշխա- տանքներ | H10: Ոչ ֆինանսական այլ ակտիվների ձեռքբերում
C11: Ընդամենը | D11: =D13 -> 0 | E11: =E13 -> -72000 | F11: =F13 -> 0 | G11: =G13 -> 0 | H11: =H13 -> 72000
C12: այդ թվում`
C13: ՀՀ արդարադատության նախարարություն | D13: =+D15+D16 -> 0 | E13: =+E15+E16 -> -72000 | F13: =+F15+F16 -> 0 | G13: =+G15+G16 -> 0 | H13: =+H15+H16 -> 72000
C14: այդ թվում՝
A15: 1228 | B15: 31007 | C15: Էլեկտրոնային ռեսուրսների ստեղծման կամ արդիականացման նախագծերի ապահովում | D15: =E15+F15+G15+H15 -> 72000 | H15: =+'2'!H22 -> 72000
A16: 1228 | B16: 31002 | C16: Հակակոռուպցիոն դատարանի շենքային պայմանների ապահովում | D16: =SUM(E16:H16) -> -72000 | E16: ='2'!H31 -> -72000 | F16: 0 | G16: 0 | H16: 0

Sheet 4
E1: Հավելված 4
C2: ՀՀ կառավարության 2023 թվականի
C3: ______________ ի ___Ն որոշման
A5: ՀԱՅԱՍՏԱՆԻ ՀԱՆՐԱՊԵՏՈՒԹՅԱՆ ԿԱՌԱՎԱՐՈՒԹՅԱՆ 2022 ԹՎԱԿԱՆԻ ԴԵԿՏԵՄԲԵՐԻ 29-Ի ԹԻՎ 2111-Ն ՈՐՈՇՄԱՆ N5 ՀԱՎԵԼՎԱԾԻ N2 ԱՂՅՈՒՍԱԿՈՒՄ ԿԱՏԱՐՎՈՂ ՓՈՓՈԽՈՒԹՅՈՒՆՆԵՐԸ
D7: (հազ. դրամ)
A8: Ծրագրային դասիչ | C8: Բյուջետային գլխավոր կարգադրիչների, ծրագրերի, միջոցառումների, միջոցառումները կատարող պետական մարմինների և ուղղությունների անվանումները | D8: Ցուցանիշների փոփոխությունը (ավելացումները նշված են դրական նշանով, իսկ նվազեցումները՝ փակագծերում)
A9: Ծրագիր | B9: Միջոցառում | D9: Ինն ամիս | E9: Տարի
C10: ԸՆԴԱՄԵՆԸ | D10: =D11 -> 0 | E10: =E11 -> 0
C11: ՀՀ ԱՐԴԱՐԱԴԱՏՈՒԹՅԱՆ ՆԱԽԱՐԱՐՈՒԹՅՈՒՆ | D11: =+D13+D16 -> 0 | E11: =+E13+E16 -> 0
C12: այդ թվում`
A13: 1228 | B13: 31007 | C13: Էլեկտրոնային ռեսուրսների ստեղծման կամ արդիականացման նախագծերի ապահովում | D13: =D15 -> 0 | E13: =E15 -> 72000
C14: այդ թվում` ըստ կատարողների
C15: ՀՀ արդարադատության նախարարություն | D15: ='2'!G22 -> 0 | E15: ='2'!H22 -> 72000
A16: 1228 | B16: 31002 | C16: Հակակոռուպցիոն դատարանի շենքային պայմանների ապահովում | D16: =D18 -> 0 | E16: =E18 -> -72000
C17: այդ թվում` ըստ կատարողների
C18: ՀՀ քաղաքաշինության կոմիտե | D18: ='2'!G33 -> 0 | E18: ='2'!H33 -> -72000

Sheet 5
D1: Հավելված N 5
D2: ՀՀ կառավարության 2023թվականի
D3: ___________ ___-ի N _______ որոշման
A8: ՀԱՅԱՍՏԱՆԻ ՀԱՆՐԱՊԵՏՈՒԹՅԱՆ ԿԱՌԱՎԱՐՈՒԹՅԱՆ 2022 ԹՎԱԿԱՆԻ ԴԵԿՏԵՄԲԵՐԻ 29-Ի ԹԻՎ 2111-Ն ՈՐՈՇՄԱՆ N 9 ՀԱՎԵԼՎԱԾԻ 9.9 ԱՂՅՈՒՍԱԿՈՒՄ ԿԱՏԱՐՎՈՂ ՓՈՓՈԽՈՒԹՅՈՒՆՆԵՐԸ ԵՎ ԼՐԱՑՈՒՄՆԵՐԸ
A10: ՀՀ արդարադատության նախարարություն
A12: ՄԱՍ 2. ՊԵՏԱԿԱՆ ՄԱՐՄՆԻ ԳԾՈՎ ԱՐԴՅՈՒՆՔԱՅԻՆ (ԿԱՏԱՐՈՂԱԿԱՆ) ՑՈՒՑԱՆԻՇՆԵՐԸ
A14: Ծրագրի դասիչը | B14: Ծրագրի անվանումը
A15: 1228 | B15: Հակակոռուպցիոն քաղաքականության մշակում,ծրագրերի համակարգում և մոնիտրինգի իրականացում
A17: Ծրագրի միջոցառումները
A18: Ծրագրի դասիչը` | B18: 1228 | C18: Ցուցանիշների փոփոխությունը (նվազեցումները նշված են փակագծերում)
A19: Միջոցառման դասիչը` | B19: 31002 | C19: Ինն ամիս | D19: Տարի
A20: Միջոցառման անվանումը` | B20: Հակակոռուպցիոն դատարանի շենքային պայմանների ապահովում
A21: Նկարագրությունը` | B21: Հակակոռուպցիոն դատարանի կարիքները սպասարկող նոր շենքի կառուցում
A22: Միջոցառման տեսակը` | B22: Պետական մարմինների կողմից օգտագործվող ոչ ֆինանսական ակտիվների հետ գործառնություններ
A23: Ակտիվն օգտագործող կազմակերպության(ների) անվանում(ներ)ը | B23: Հակակոռուպցիոն դատարան
A24: Արդյունքի չափորոշիչներ
A25: Միջոցառման վրա կատարվող ծախսը (հազար դրամ) | C25: =+'2'!G31 -> 0 | D25: =+'2'!H31 -> -72000
A27: Ծրագրի դասիչը` | B27: 1228 | C27: Ցուցանիշների փոփոխությունը (ավելացումները նշված են դրական նշանով)
A28: Միջոցառման դասիչը` | B28: 31007 | C28: Ինն ամիս | D28: Տարի
A29: Միջոցառման անվանումը` | B29: Էլեկտրոնային ռեսուրսների ստեղծման կամ արդիականացման նախագծերի ապահովում
A30: Նկարագրությունը` | B30: Էլեկտրոնային արդարադատության համակարգի ներդրում և առկա էլեկտրոնային գործիքների արդիականացում
A31: Միջոցառման տեսակը` | B31: Պետական մարմինների կողմից օգտագործվող ոչ ֆինանսական ակտիվների հետ գործառնություններ
A32: Ակտիվն օգտագործող կազմակերպության(ների) անվանում(ներ)ը | B32: Իրավաբանական և ֆիզիկական անձինք
A33: Արդյունքի չափորոշիչներ
A34: Էլեկտրոնային դատարան դատական գործերի էլեկտրոնային կառավարման համակարգի վարչական գործերով էլեկտրոնային մոդուլի մշակում, տոկոս | D34: 30
A35: Միջոցառման վրա կատարվող ծախսը (հազար դրամ) | C35: =+'2'!G22 -> 0 | D35: =+'2'!H22 -> 72000

Sheet 6
D1: Հավելված N 6
D2: ՀՀ կառավարության 2023թվականի
D3: ___________ ___-ի N _______ որոշման
A6: ՀԱՅԱՍՏԱՆԻ ՀԱՆՐԱՊԵՏՈՒԹՅԱՆ ԿԱՌԱՎԱՐՈՒԹՅԱՆ 2022 ԹՎԱԿԱՆԻ ԴԵԿՏԵՄԲԵՐԻ 29-Ի ԹԻՎ 2111-Ն ՈՐՈՇՄԱՆ N 9.1 ՀԱՎԵԼՎԱԾԻ 9.1.9 և 9․1․41 ԱՂՅՈՒՍԱԿՆԵՐՈՒՄ ԿԱՏԱՐՎՈՂ ՓՈՓՈԽՈՒԹՅՈՒՆՆԵՐԸ ԵՎ ԼՐԱՑՈՒՄՆԵՐԸ
C8: Աղյուսակ 9.1.9
A9: ՀՀ արդարադատության նախարարություն
A11: ՄԱՍ 1. ՊԵՏԱԿԱՆ ՄԱՐՄՆԻ ԳԾՈՎ ԱՐԴՅՈՒՆՔԱՅԻՆ (ԿԱՏԱՐՈՂԱԿԱՆ) ՑՈՒՑԱՆԻՇՆԵՐԸ
A13: Ծրագրի դասիչը | B13: Ծրագրի անվանումը
A14: 1228 | B14: Հակակոռուպցիոն քաղաքականության մշակում,ծրագրերի համակարգում և մոնիտրինգի իրականացում
A17: Ծրագրի միջոցառումները
A18: Ծրագրի դասիչը` | B18: 1228 | C18: Ցուցանիշների փոփոխությունը (ավելացումները նշված են դրական նշանով)
A19: Միջոցառման դասիչը` | B19: 31007 | C19: Ինն ամիս | D19: Տարի
A20: Միջոցառման անվանումը` | B20: Էլեկտրոնային ռեսուրսների ստեղծման կամ արդիականացման նախագծերի ապահովում
A21: Նկարագրությունը` | B21: Էլեկտրոնային արդարադատության համակարգի ներդրում և առկա էլեկտրոնային գործիքների արդիականացում
A22: Միջոցառման տեսակը` | B22: Պետական մարմինների կողմից օգտագործվող ոչ ֆինանսական ակտիվների հետ գործառնություններ
A23: Ակտիվն օգտագործող կազմակերպության(ների) անվանում(ներ)ը | B23: Իրավաբանական և ֆիզիկական անձինք
A24: Արդյունքի չափորոշիչներ
A25: Էլեկտրոնային դատարան դատական գործերի էլեկտրոնային կառավարման համակարգի վարչական գործերով էլեկտրոնային մոդուլի մշակում, տոկոս | D25: 30
A26: Միջոցառման վրա կատարվող ծախսը (հազար դրամ) | C26: ='2'!G22 -> 0 | D26: ='2'!H22 -> 72000
C28: Աղյուսակ 9.1.41
A29: ՀՀ քաղաքաշինության կոմիտե
A32: ՄԱՍ 1. ՊԵՏԱԿԱՆ ՄԱՐՄՆԻ ԳԾՈՎ ԱՐԴՅՈՒՆՔԱՅԻՆ (ԿԱՏԱՐՈՂԱԿԱՆ) ՑՈՒՑԱՆԻՇՆԵՐԸ
A35: Ծրագրի դասիչը | B35: Ծրագրի անվանումը
A36: 1228 | B36: Հակակոռուպցիոն քաղաքականության մշակում,ծրագրերի համակարգում և մոնիտրինգի իրականացում
A38: Ծրագրի միջոցառումները
A40: Ծրագրի դասիչը` | B40: 1228 | C40: Ցուցանիշների փոփոխությունը (նվազեցումները նշված են փակագծերում)
A41: Միջոցառման դասիչը` | B41: 31002 | C41: Ինն ամիս | D41: Տարի
A42: Միջոցառման անվանումը` | B42: Հակակոռուպցիոն դատարանի շենքային պայմանների ապահովում
A43: Նկարագրությունը` | B43: Հակակոռուպցիոն դատարանի կարիքները սպասարկող նոր շենքի կառուցում
A44: Միջոցառման տեսակը` | B44: Պետական մարմինների կողմից օգտագործվող ոչ ֆինանսական ակտիվների հետ գործառնություններ
A45: Ակտիվն օգտագործող կազմակերպության(ների) անվանում(ներ)ը | B45: Հակակոռուպցիոն դատարան
A46: Արդյունքի չափորոշիչներ
A47: Միջոցառման վրա կատարվող ծախսը (հազար դրամ) | C47: =+'2'!G31 -> 0 | D47: =+'2'!H31 -> -72000

Sheet 7
E1: Հավելված N 7
E2: ՀՀ կառավարության 2023 թվականի
E3: ———————— N -Ն որոշման
A5: ՀԱՅԱՍՏԱՆԻ ՀԱՆՐԱՊԵՏՈՒԹՅԱՆ ԿԱՌԱՎԱՐՈՒԹՅԱՆ 2022 ԹՎԱԿԱՆԻ ԴԵԿՏԵՄԲԵՐԻ 29-Ի N 2111-Ն ՈՐՈՇՄԱՆ N 10 ՀԱՎԵԼՎԱԾԻ ՑՈՒՑԱՆԻՇՆԵՐՈՒՄ ԿԱՏԱՐՎՈՂ ՓՈՓՈԽՈՒԹՅՈՒՆՆԵՐԸ ԵՎ ԼՐԱՑՈՒՄՆԵՐԸ
A7: Կոդը | B7: Անվանումը | C7: Գնման ձևը | D7: Չափի միավորը | E7: միավորի գինը | F7: Ցուցանիշների փոփոխությունը (ավելացումները նշված են դրական նշանով,իսկ նվազեցումները՝ փակագծերում)
F8: քանակը | G8: գումարը (հազար դրամով)
A9: 1 | B9: 2 | C9: 3 | D9: 4 | E9: 5 | F9: 6 | G9: 7
A10: ՀՀ արդարադատության նախարարություն | G10: =G11 -> 72000
A11: Բաժին N 03 | B11: Խումբ N 03 | C11: Դաս N 01 | D11: Դատարաններ | G11: =G12 -> 72000
A12: 1228 31007 | B12: Էլեկտրոնային ռեսուրսների ստեղծման կամ արդիականացման նախագծերի ապահովում | G12: =G13 -> 72000
B13: ՄԱՍ III. ԾԱՌԱՅՈՒԹՅՈՒՆՆԵՐ | G13: =SUM(G14:G14) -> 72000
A14: 72261110/503 | B14: ծրագրային ապահովման մշակման խորհրդատվական ծառայություններ | C14: ԲՄ | D14: դրամ | E14: 72000000 | F14: 1 | G14: =E14*F14/1000 -> 72000
A15: ՀՀ քաղաքաշինության կոմիտե | G15: =G17 -> -72000
A16: Բաժին N 03 Խումբ N 03 Դաս N 01 Դատարաններ
A17: 1228 31002 | B17: Հակակոռուպցիոն դատարանի շենքային պայմանների ապահովում | G17: =G18 -> -72000
B18: ՄԱՍ II. ԱՇԽԱՏԱՆՔՆԵՐ | G18: =G19 -> -72000
A19: 45221142-1 | B19: ընդհանուր շինարարական աշխատանքներ | C19: ԲՄ | D19: դրամ | G19: =+'2'!H31 -> -72000
