Workbook
Name _tab10: #REF!
Name _tab11: #REF!
Name _tab12: #REF!
Name _tab13: #REF!
Name _tab14: #REF!
Name _tab15: #REF!
Name _tab16: #REF!
Name _tab17: #REF!
Name _tab18: #REF!
Name _tab19: #REF!
Name _tab20: #REF!
Name _tab21: #REF!
Name _tab22: #REF!
Name _tab23: #REF!
Name _tab24: #REF!
Name _tab5: #REF!
Name _tab6: #REF!
Name _tab7: #REF!
Name _tab8: #REF!
Name _tab9: #REF!
Name AgencyCode: #REF!
Name AgencyCode: #REF!
Name AgencyName: #REF!
Name AgencyName: #REF!
Name åû: #REF!
Name davit: #REF!
Name davit: #REF!
Name Functional1: #REF!
Name Functional1: #REF!
Name ggg: #REF!
Name ggg: #REF!
Name mas: #REF!
Name mass: #REF!
Name PANature: #REF!
Name PANature: #REF!
Name par_count: #REF!,#REF!,#REF!,#REF!,#REF!,#REF!,#REF!,#REF!,#REF!,#REF!,#REF!,#REF!,#REF!,#REF!,#REF!
Name par_qual: #REF!,#REF!,#REF!,#REF!,#REF!
Name par_time: #REF!,#REF!,#REF!,#REF!
Name par2.12s: #REF!
Name par2.4s: #REF!,#REF!,#REF!,#REF!,#REF!,#REF!,#REF!,#REF!,#REF!,#REF!,#REF!,#REF!,#REF!,#REF!,#REF!,#REF!
Name par2.5s: #REF!,#REF!
Name par2.6s: #REF!,#REF!,#REF!,#REF!
Name par2.7s: #REF!,#REF!
Name par2.9s: #REF!,#REF!,#REF!,#REF!,#REF!,#REF!,#REF!,#REF!,#REF!,#REF!,#REF!,#REF!,#REF!,#REF!,#REF!,#REF!
Name par4.10s: #REF!,#REF!
Name par4.11d: #REF!,#REF!,#REF!,#REF!,#REF!
Name par4.12d: #REF!
Name par4.13s: #REF!
Name par4.14: #REF!,#REF!,#REF!,#REF!,#REF!,#REF!
Name par4.15: #REF!,#REF!,#REF!
Name par4.16: #REF!,#REF!,#REF!
Name par4.17: #REF!,#REF!,#REF!,#REF!
Name par4.18d: #REF!,#REF!
Name par4.19s: #REF!
Name par4.20f: #REF!
Name par4.21f: #REF!
Name par4.22: #REF!
Name par4.4: #REF!
Name par4.5: #REF!
Name par4.6s: #REF!

Sheet հավելված1
B1: Հավելված N 1
B2: ՀՀ կառավարության 2023 թվականի
B3: ______________ ի ___Ն որոշման
A5: «ՀԱՅԱՍՏԱՆԻ ՀԱՆՐԱՊԵՏՈՒԹՅԱՆ 2023 ԹՎԱԿԱՆԻ ՊԵՏԱԿԱՆ ԲՅՈՒՋԵԻ ՄԱՍԻՆ» ՕՐԵՆՔԻ N 2 ՀՈԴՎԱԾԻ ԱՂՅՈՒՍԱԿՈՒՄ ԿԱՏԱՐՎՈՂ ՓՈՓՈԽՈՒԹՅՈՒՆՆԵՐԸ
B7: հազար դրամներով
B8: Ցուցանիշների փոփոխությունը (նվազեցումները նշված են փակագծերում)
A9: 1. Եկամուտների գծով | B9: =հավելված2!C9 -> -477820.7
A10: 2. Ծախսերի գծով | B10: =հավելված4!E7 -> -477820.7
A11: 3. Դեֆիցիտը (պակասուրդը) | B11: 0

Sheet հավելված2
A1: Հավելված N 2
A2: ՀՀ կառավարության 2023 թվականի
A3: --------------------- -ի N ---------- որոշման
A5: «ՀԱՅԱՍՏԱՆԻ ՀԱՆՐԱՊԵՏՈՒԹՅԱՆ 2023 ԹՎԱԿԱՆԻ ՊԵՏԱԿԱՆ ԲՅՈՒՋԵԻ ՄԱՍԻՆ» ՕՐԵՆՔԻ 6-ՐԴ ՀՈԴՎԱԾԻ ԱՂՅՈՒՍԱԿՈՒՄ ԵՎ ՀԱՅԱՍՏԱՆԻ ՀԱՆՐԱՊԵՏՈՒԹՅԱՆ ԿԱՌԱՎԱՐՈՒԹՅԱՆ 2022 ԹՎԱԿԱՆԻ ԴԵԿՏԵՄԲԵՐԻ 29-Ի N 2111-Ն ՈՐՈՇՄԱՆ N 2 ՀԱՎԵԼՎԱԾՈՒՄ ԿԱՏԱՐՎՈՂ ՓՈՓՈԽՈՒԹՅՈՒՆՆԵՐԸ
C6: հազ. դրամ
A7: Պետական բյուջեի եկամուտները | B7: Ցուցանիշների փոփոխությունը (նվազեցումները նշված են փակագծերում)
B8: Ինն ամիս | C8: Տարի
A9: Ընդամենը | B9: =+B11 -> -280460.5 | C9: =+C11 -> -477820.7
A10: այդ թվում
A11: Պաշտոնական դրամաշնորհներ | B11: =հավելված6!E13 -> -280460.5 | C11: =հավելված6!H13 -> -477820.7

Sheet հավելված3
A1: Հավելված N 3 ՀՀ կառավարության 2023 թվականի հունիսի -ի N -Ն որոշման
A3: «ՀԱՅԱՍՏԱՆԻ ՀԱՆՐԱՊԵՏՈՒԹՅԱՆ 2023 ԹՎԱԿԱՆԻ ՊԵՏԱԿԱՆ ԲՅՈՒՋԵԻ ՄԱՍԻՆ» ՀԱՅԱՍՏԱՆԻ ՀԱՆՐԱՊԵՏՈՒԹՅԱՆ ՕՐԵՆՔԻ N 1 ՀԱՎԵԼՎԱԾԻ N 2 ԱՂՅՈՒՍԱԿՈՒՄ ԿԱՏԱՐՎՈՂ ՎԵՐԱԲԱՇԽՈՒՄԸ ԵՎ ՀԱՅԱՍՏԱՆԻ ՀԱՆՐԱՊԵՏՈՒԹՅԱՆ ԿԱՌԱՎԱՐՈՒԹՅԱՆ 2022 ԹՎԱԿԱՆԻ ԴԵԿՏԵՄԲԵՐԻ 29-Ի N 2111-Ն ՈՐՈՇՄԱՆ N 5 ՀԱՎԵԼՎԱԾԻ N 1 ԱՂՅՈՒՍԱԿՈՒՄ ԿԱՏԱՐՎՈՂ ՓՈՓՈԽՈՒԹՅՈՒՆՆԵՐԸ
D4: հազար դրամներով
A5: Ծրագրային դասիչը | C5: Բյուջետային գլխավոր կարգադրիչների, ծրագրերի և միջոցառումների անվանումները | D5: Ցուցանիշների փոփոխությունը (ավելացումները նշված են դրական նշանով, իսկ նվազեցումները փակագծերում)
A6: Ծրագիր | B6: Միջոցառում | D6: Ինն ամիս | E6: Տարի
C7: ԸՆԴԱՄԵՆԸ | D7: -280460.5 | E7: -477820.7
C8: Հանրապետության նախագահի աշխատակազմ | D8: -40000 | E8: -40000
A9: 1154 | C9: Ծրագրի անվանումը` | D9: -40000 | E9: -40000
C10: Հանրապետության նախագահի լիազորությունների իրականացման ապահովում
C11: Ծրագրի նպատակը`
C12: Աջակցել Հանրապետության նախագահի լիազորությունների իրականացման ապահովմանը
C13: Վերջնական արդյունքի նկարագրությունը`
C14: ՀՀ նախագահի Սահմանադրությամբ սահմանված լիազորությունների իրականացման ապահովումը
A15: Ծրագրի միջոցառումներ
B16: 11001 | C16: Միջոցառման անվանումը` | D16: -40000 | E16: -40000
C17: Հանրապետության նախագահի գործունեության և ներկայացուցչականության ապահովում
C18: Միջոցառման նկարագրությունը`
C19: Հանրապետության նախագահի` ներքին և արտաքին քաղաքականության առնչությամբ Սահմանադրությամբ սահմանված լիազորությունների իրականացման ապահովում
C20: Միջոցառման տեսակը
C21: Ծառայությունների մատուցում
C22: ՀՀ Ազգային ժողով | D22: -29000 | E22: -29000
A23: 1024 | C23: Ծրագրի անվանումը` | D23: -29000 | E23: -29000
C24: ՀՀ Ազգային ժողովի լիազորությունների իրականացման ապահովում
C25: Ծրագրի նպատակը`
C26: Օրենսդրական դաշտի ձևավորում և կատարելագործում
C27: Վերջնական արդյունքի նկարագրությունը`
C28: Արդյունավետ օրենսդրական դաշտի ապահովում
A29: Ծրագրի միջոցառումներ
B30: 31003 | C30: Միջոցառման անվանումը` | D30: -29000 | E30: -29000
C31: ՀՀ Ազգային ժողովի շենքային պայմանների բարելավում
C32: Միջոցառման նկարագրությունը`
C33: ՀՀ Ազգային ժողովի շենք-շինությունների կապիտալ վերանորոգում և նախագծանախահաշվային փաստաթղթերի ձեռքբերում
C34: Միջոցառման տեսակը
C35: Պետական մարմինների կողմից օգտագործվող ոչ ֆինանսական ակտիվների հետ գործառնություններ
C36: ՀՀ սահմանադրական դատարան | D36: -2000 | E36: -2000
A37: 1092 | C37: Ծրագրի անվանումը` | D37: -2000 | E37: -2000
C38: ՀՀ սահմանադրական դատարանի գործունեության ապահովում
C39: Ծրագրի նպատակը`
C40: ՀՀ-ում սահմանադրական արդարադատության իրականացում և սահմանադրության գերակայության ապահովում
C41: Վերջնական արդյունքի նկարագրությունը`
...

Sheet հավելված4
A1: Հավելված N 4 ՀՀ կառավարության 2023 թվականի հունիսի -ի N -Ն որոշման
A3: ՀԱՅԱՍՏԱՆԻ ՀԱՆՐԱՊԵՏՈՒԹՅԱՆ ԿԱՌԱՎԱՐՈՒԹՅԱՆ 2022 ԹՎԱԿԱՆԻ ԴԵԿՏԵՄԲԵՐԻ 29-Ի N 2111-Ն ՈՐՈՇՄԱՆ N 3 ՀԱՎԵԼՎԱԾՈՒՄ ԿԱՏԱՐՎՈՂ ՓՈՓՈԽՈՒԹՅՈՒՆՆԵՐԸ
D4: հազար դրամներով
A5: Ծրագրային դասիչը | C5: Բյուջետային ծախսերի գործառական դասակարգման բաժինների, խմբերի և դասերի, բյուջետային ծրագրերի միջոցառումների, բյուջետային հատկացումների գլխավոր կարգադրիչների անվանումները | D5: Ցուցանիշների փոփոխությունը (ավելացումները նշված են դրական նշանով, իսկ նվազեցումները փակագծերում)
A6: Ծրագիր | B6: Միջոց առում | D6: Ինն ամիս | E6: Տարի
C7: ԸՆԴԱՄԵՆԸ | D7: -280460.5 | E7: -477820.7
C8: այդ թվում`
C9: Հանրապետության նախագահի աշխատակազմ | D9: -40000 | E9: -40000
C10: այդ թվում`
A11: 1154 | C11: Հանրապետության նախագահի լիազորությունների իրականացման ապահովում | D11: -40000 | E11: -40000
C12: այդ թվում`
B13: 11001 | C13: Հանրապետության նախագահի գործունեության և ներկայացուցչականության ապահովում | D13: -40000 | E13: -40000
C14: այդ թվում` ըստ կատարողների
C15: Հանրապետության նախագահի աշխատակազմ | D15: -40000 | E15: -40000
C16: այդ թվում` բյուջետային ծախսերի տնտեսագիտական դասակարգման հոդվածներ
C17: ԸՆԴԱՄԵՆԸ ԾԱԽՍԵՐ | D17: -40000 | E17: -40000
C18: ԸՆԹԱՑԻԿ ԾԱԽՍԵՐ | D18: -40000 | E18: -40000
C19: ԾԱՌԱՅՈՒԹՅՈՒՆՆԵՐԻ ԵՎ ԱՊՐԱՆՔՆԵՐԻ ՁԵՌՔԲԵՐՈՒՄ | D19: -13500 | E19: -13500
C20: Շարունակական ծախսեր | D20: -11500 | E20: -11500
C21: - Էներգետիկ ծառայություններ | D21: -10000 | E21: -10000
C22: - Կապի ծառայություններ | D22: -1500 | E22: -1500
C23: Նյութեր (Ապրանքներ) | D23: -2000 | E23: -2000
C24: - Տրանսպորտային նյութեր | D24: -2000 | E24: -2000
C25: ԱՅԼ ԾԱԽՍԵՐ | D25: -26500 | E25: -26500
C26: Այլ ծախսեր | D26: -26500 | E26: -26500
C27: ՀՀ Ազգային ժողով | D27: -29000 | E27: -29000
C28: այդ թվում`
A29: 1024 | C29: ՀՀ Ազգային ժողովի լիազորությունների իրականացման ապահովում | D29: -29000 | E29: -29000
C30: այդ թվում`
B31: 31003 | C31: ՀՀ Ազգային ժողովի շենքային պայմանների բարելավում | D31: -29000 | E31: -29000
C32: այդ թվում` ըստ կատարողների
C33: ՀՀ Ազգային ժողով | D33: -29000 | E33: -29000
C34: այդ թվում` բյուջետային ծախսերի տնտեսագիտական դասակարգման հոդվածներ
C35: ԸՆԴԱՄԵՆԸ ԾԱԽՍԵՐ | D35: -29000 | E35: -29000
C36: ՈՉ ՖԻՆԱՆՍԱԿԱՆ ԱԿՏԻՎՆԵՐԻ ԳԾՈՎ ԾԱԽՍԵՐ | D36: -29000 | E36: -29000
C37: ՀԻՄՆԱԿԱՆ ՄԻՋՈՑՆԵՐ | D37: -29000 | E37: -29000
C38: ՇԵՆՔԵՐ ԵՎ ՇԻՆՈՒԹՅՈՒՆՆԵՐ | D38: -18000 | E38: -18000
C39: - Շենքերի և շինությունների կապիտալ վերանորոգում | D39: -18000 | E39: -18000
C40: ՄԵՔԵՆԱՆԵՐ ԵՎ ՍԱՐՔԱՎՈՐՈՒՄՆԵՐ | D40: -11000 | E40: -11000
C41: - Այլ մեքենաներ և սարքավորումներ | D41: -11000 | E41: -11000
...

Sheet հավելված5
A1: Հավելված N 5 ՀՀ կառավարության 2023 թվականի հունիսի -ի N -Ն որոշման
A3: ՀԱՅԱՍՏԱՆԻ ՀԱՆՐԱՊԵՏՈՒԹՅԱՆ ԿԱՌԱՎԱՐՈՒԹՅԱՆ 2022 ԹՎԱԿԱՆԻ ԴԵԿՏԵՄԲԵՐԻ 29-Ի N 2111-Ն ՈՐՈՇՄԱՆ N 4 ՀԱՎԵԼՎԱԾՈՒՄ ԿԱՏԱՐՎՈՂ ՓՈՓՈԽՈՒԹՅՈՒՆՆԵՐԸ
G4: հազար դրամներով
A5: Գործառական դասիչը | D5: Ծրագրային դասիչը | F5: Բյուջետային ծախսերի գործառական դասակարգման բաժինների, խմբերի և դասերի, բյուջետային ծրագրերի միջոցառումների, բյուջետային հատկացումների գլխավոր կարգադրիչների անվանումները | G5: Ցուցանիշների փոփոխությունը (ավելացումները նշված են դրական նշանով, իսկ նվազեցումները փակագծերում)
A6: Բաժին | B6: Խումբ | C6: Դաս | D6: Ծրագիր | E6: Միջոցա ռում | G6: Ինն ամիս | H6: Տարի
F7: ԸՆԴԱՄԵՆԸ ԾԱԽՍԵՐ | G7: -280460.5 | H7: -477820.7
F8: այդ թվում`
A9: 01 | F9: ԸՆԴՀԱՆՈՒՐ ԲՆՈՒՅԹԻ ՀԱՆՐԱՅԻՆ ԾԱՌԱՅՈՒԹՅՈՒՆՆԵՐ | G9: -168613.4 | H9: -168613.4
F10: այդ թվում`
B11: 01 | F11: Օրենսդիր և գործադիր մարմիններ, պետական կառավարում, ֆինանսական և հարկաբյուջետային հարաբերություններ, արտաքին հարաբերություններ | G11: -166481 | H11: -166481
F12: այդ թվում`
C13: 01 | F13: Օրենսդիր և գործադիր մարմիններ, պետական կառավարում | G13: -112447 | H13: -112447
F14: այդ թվում`
D15: 1009 | E15: 11001 | F15: ՀՀ Արարատի մարզպետարանի կողմից տարածքային պետական կառավարման ապահովում | G15: -15000 | H15: -15000
F16: ՀՀ Արարատի մարզպետարան | G16: -15000 | H16: -15000
D17: 1010 | E17: 11001 | F17: ՀՀ Արմավիրի մարզպետարանի կողմից տարածքային պետական կառավարման ապահովում | G17: -1700 | H17: -1700
F18: ՀՀ Արմավիրի մարզպետարան | G18: -1700 | H18: -1700
D19: 1024 | E19: 11001 | F19: ՀՀ Ազգային ժողովի գործունեության ապահովում, օրենսդրական, վերլուծական և ներկայացուցչական ծառայություններ | G19: 0 | H19: 0
F20: ՀՀ Ազգային ժողով | G20: 0 | H20: 0
D21: 1024 | E21: 31003 | F21: ՀՀ Ազգային ժողովի շենքային պայմանների բարելավում | G21: -29000 | H21: -29000
F22: ՀՀ Ազգային ժողով | G22: -29000 | H22: -29000
D23: 1025 | E23: 11001 | F23: ՀՀ Գեղարքունիքի մարզպետարանի կողմից տարածքային պետական կառավարման ապահովում | G23: -25000 | H23: -25000
F24: ՀՀ Գեղարքունիքի մարզպետարան | G24: -25000 | H24: -25000
D25: 1055 | E25: 11001 | F25: ՀՀ Տավուշի մարզպետարանի կողմից տարածքային պետական կառավարման ապահովում | G25: -1747 | H25: -1747
F26: ՀՀ Տավուշի մարզպետարան | G26: -1747 | H26: -1747
D27: 1154 | E27: 11001 | F27: Հանրապետության նախագահի գործունեության և ներկայացուցչականության ապահովում | G27: -40000 | H27: -40000
F28: Հանրապետության նախագահի աշխատակազմ | G28: -40000 | H28: -40000
C29: 03 | F29: Արտաքին հարաբերություններ | G29: -54034 | H29: -54034
F30: այդ թվում`
D31: 1061 | E31: 11001 | F31: Կառավարության արտաքին քաղաքականության մշակում և իրագործման ապահովում | G31: -2244.6 | H31: -2244.6
F32: ՀՀ արտաքին գործերի նախարարություն | G32: -2244.6 | H32: -2244.6
D33: 1128 | E33: 11001 | F33: Օտարերկրյա պետություններում և միջազգային կազմակերպություններում հավատարմագրված ՀՀ դիվանագիտական ծառայության մարմինների գործունեության իրականացում | G33: -51789.4 | H33: -51789.4
F34: ՀՀ արտաքին գործերի նախարարություն | G34: -51789.4 | H34: -51789.4
B35: 03 | F35: Ընդհանուր բնույթի ծառայություններ | G35: -2132.4 | H35: -2132.4
F36: այդ թվում`
C37: 02 | F37: Ծրագրման և վիճակագրական ընդհանուր ծառայություններ | G37: -2132.4 | H37: -2132.4
F38: այդ թվում`
D39: 1143 | E39: 31003 | F39: ՀՀ վիճակագրական կոմիտեի տեխնիկական կարողությունների զարգացում | G39: -2132.4 | H39: -2132.4
F40: ՀՀ վիճակագրական կոմիտե | G40: -2132.4 | H40: -2132.4
A41: 02 | F41: ՊԱՇՏՊԱՆՈՒԹՅՈՒՆ | G41: -2002400 | H41: -2002400
...

Sheet հավելված6
I1: Հավելված N 6
C2: ՀՀ կառավարության 2023 թվականի
C3: ___________ ___-ի N _______ -Ն որոշման
A7: «ՀԱՅԱՍՏԱՆԻ ՀԱՆՐԱՊԵՏՈՒԹՅԱՆ 2023 ԹՎԱԿԱՆԻ ՊԵՏԱԿԱՆ ԲՅՈՒՋԵԻ ՄԱՍԻՆ» ՕՐԵՆՔԻ N 1 ՀԱՎԵԼՎԱԾԻ N 5 ԱՂՅՈՒՍԱԿՈՒՄ ԵՎ ՀԱՅԱՍՏԱՆԻ ՀԱՆՐԱՊԵՏՈՒԹՅԱՆ ԿԱՌԱՎԱՐՈՒԹՅԱՆ 2022 ԹՎԱԿԱՆԻ ԴԵԿՏԵՄԲԵՐԻ 29-Ի N 2111-Ն ՈՐՈՇՄԱՆ N 5 ՀԱՎԵԼՎԱԾԻ N 4 ԱՂՅՈՒՍԱԿՈՒՄ ԿԱՏԱՐՎՈՂ ՓՈՓՈԽՈՒԹՅՈՒՆՆԵՐԸ
I8: հազ. դրամ
A9: Ծրագրային դասիչը | C9: Բյուջետային հատկացումների գլխավոր կարգադրիչների, ծրագրերի, միջոցառումների և միջոցառումները կատարող պետական մարմինների անվանումները | D9: Ցուցանիշների փոփոխությունը (նվազեցումները նշված են փակագծերում)
D10: Ինն ամիս | G10: Տարի
A11: Ծրագիր | B11: Միջոց_x000D_առում | D11: Ընդամենը | E11: այդ թվում | G11: Ընդամենը | H11: այդ թվում
E12: Դրամաշնոր_x000D_հային միջոցներ | F12: Համաֆինանսավորում | H12: Դրամաշնոր_x000D_հային միջոցներ | I12: Համաֆինանսավորում
C13: ԸՆԴԱՄԵՆԸ_x000D_ այդ թվում` | D13: =E13+F13 -> -338197.7 | E13: =+E14 -> -280460.5 | F13: =+F14 -> -57737.2 | G13: =H13+I13 -> -559398.2 | H13: =+H14 -> -477820.7 | I13: =+I14 -> -81577.5 | J13: -338197.7 | K13: -280460.5 | L13: -57737.2 | M13: -189096 | N13: -152700 | O13: -36396
C14: ՀՀ ԷԿՈՆՈՄԻԿԱՅԻ ՆԱԽԱՐԱՐՈՒԹՅՈՒՆ_x000D_ այդ թվում` | D14: =E14+F14 -> -338197.7 | E14: =E15 -> -280460.5 | F14: =F15 -> -57737.2 | G14: =H14+I14 -> -559398.2 | H14: =H15 -> -477820.7 | I14: =I15 -> -81577.5 | J14: -338197.7 | K14: -280460.5 | L14: -57737.2 | M14: -189096 | N14: -152700 | O14: -36396
A15: 1086 | C15: Գյուղատնտեսության խթանման ծրագիր | D15: =E15+F15 -> -338197.7 | E15: =E17+E28+E37 -> -280460.5 | F15: =F17+F28+F37 -> -57737.2 | G15: =H15+I15 -> -559398.2 | H15: =H17+H28+H37 -> -477820.7 | I15: =I17+I28+I37 -> -81577.5 | J15: -338197.7 | K15: -280460.5 | L15: -57737.2 | M15: -189096 | N15: -152700 | O15: -36396
C16: այդ թվում` | J16: 0
B17: 11004 | C17: Զարգացման ֆրանսիական գործակալության աջակցությամբ իրականացվող ՀՀ Արարատի և Արմավիրի մարզերում» ոռոգվող գյուղատնտեսության զարգացման դրամաշնորհային ծրագրի համակարգում և ղեկավարում | D17: =E17+F17 -> -138885.4 | E17: =E19 -> -114200 | F17: =F19 -> -24685.4 | G17: =H17+I17 -> -189096 | H17: =H19 -> -152700 | I17: =I19 -> -36396 | J17: -138885.4 | K17: -114200 | L17: -24685.4 | M17: -189096 | N17: -152700 | O17: -36396
C18: այդ թվում` ըստ կատարողների | J18: 0
C19: ՀՀ էկոնոմիկայի նախարարություն | D19: =E19+F19 -> -138885.4 | E19: =+E21 -> -114200 | F19: =+F21 -> -24685.4 | G19: =H19+I19 -> -189096 | H19: =+H21 -> -152700 | I19: =+I21 -> -36396 | J19: -138885.4 | K19: -114200 | L19: -24685.4 | M19: -189096 | N19: -152700 | O19: -36396
C20: այդ թվում` բյուջետային ծախսերի տնտեսագիտական դասակարգման հոդվածներ | J20: 0
C21: ԸՆԴԱՄԵՆԸ ԾԱԽՍԵՐ | D21: =E21+F21 -> -138885.4 | E21: =E22 -> -114200 | F21: =F22 -> -24685.4 | G21: =H21+I21 -> -189096 | H21: =H22 -> -152700 | I21: =I22 -> -36396 | J21: -138885.4 | K21: -114200 | L21: -24685.4 | M21: -189096 | N21: -152700 | O21: -36396
C22: ԸՆԹԱՑԻԿ ԾԱԽՍԵՐ | D22: =E22+F22 -> -138885.4 | E22: =E23+E26 -> -114200 | F22: =F23+F26 -> -24685.4 | G22: =H22+I22 -> -189096 | H22: =H23+H26 -> -152700 | I22: =I23+I26 -> -36396 | J22: -138885.4 | K22: -114200 | L22: -24685.4 | M22: -189096 | N22: -152700 | O22: -36396
C23: ԾԱՌԱՅՈՒԹՅՈՒՆՆԵՐԻ ԵՎ ԱՊՐԱՆՔՆԵՐԻ ՁԵՌՔԲԵՐՈՒՄ | D23: =E23+F23 -> -21900 | E23: =E24 -> -16700 | F23: =F24 -> -5200 | G23: =H23+I23 -> -25200 | H23: =H24 -> -20000 | I23: =I24 -> -5200 | J23: -21900 | K23: -16700 | L23: -5200 | M23: -25200 | N23: -20000 | O23: -5200
C24: Պայմանագրային այլ ծառայությունների ձեռքբերում | D24: =E24+F24 -> -21900 | E24: =E25 -> -16700 | F24: =F25 -> -5200 | G24: =H24+I24 -> -25200 | H24: =H25 -> -20000 | I24: =I25 -> -5200 | J24: -21900 | K24: -16700 | L24: -5200 | M24: -25200 | N24: -20000 | O24: -5200
C25: - Կառավարչական ծառայություններ | D25: =E25+F25 -> -21900 | E25: -16700 | F25: -5200 | G25: =H25+I25 -> -25200 | H25: -20000 | I25: -5200 | J25: -21900 | K25: -16700 | L25: -5200 | M25: -25200 | N25: -20000 | O25: -5200
C26: ԱՅԼ ԾԱԽՍԵՐ | D26: =E26+F26 -> -116985.4 | E26: =E27 -> -97500 | F26: =F27 -> -19485.4 | G26: =H26+I26 -> -163896 | H26: =H27 -> -132700 | I26: =I27 -> -31196 | J26: -116985.4 | K26: -97500 | L26: -19485.4 | M26: -163896 | N26: -132700 | O26: -31196
C27: Այլ ծախսեր | D27: =E27+F27 -> -116985.4 | E27: -97500 | F27: -19485.4 | G27: =H27+I27 -> -163896 | H27: -132700 | I27: -31196 | J27: -116985.4 | K27: -97500 | L27: -19485.4 | M27: -163896 | N27: -132700 | O27: -31196
B28: 12003 | C28: Զարգացման ֆրանսիական գործակալության աջակցությամբ ՀՀ Արարատի և Արմավիրի մարզերում ժամանակակաից պահանջներին համապատասխան ոռոգման համակարգերի ներդրման և զարգացմանն աջակցություն | D28: =E28+F28 -> -184312.3 | E28: =E30 -> -153593.5 | F28: =F30 -> -30718.8 | G28: =H28+I28 -> -255008.3 | H28: =H30 -> -220080.5 | I28: =I30 -> -34927.8 | J28: -184312.3 | K28: -153593.5 | L28: -30718.8 | M28: -255008.3 | N28: -220080.5 | O28: -34927.8
C29: այդ թվում` ըստ կատարողների | J29: 0 | M29: 0
C30: ՀՀ էկոնոմիկայի նախարարություն | D30: =E30+F30 -> -184312.3 | E30: =E32 -> -153593.5 | F30: =F32 -> -30718.8 | G30: =H30+I30 -> -255008.3 | H30: =H32 -> -220080.5 | I30: =I32 -> -34927.8 | J30: -184312.3 | K30: -153593.5 | L30: -30718.8 | M30: -255008.3 | N30: -220080.5 | O30: -34927.8
C31: այդ թվում` բյուջետային ծախսերի տնտեսագիտական դասակարգման հոդվածներ | J31: 0 | M31: 0
C32: ԸՆԴԱՄԵՆԸ ԾԱԽՍԵՐ | D32: =E32+F32 -> -184312.3 | E32: =E33 -> -153593.5 | F32: =F33 -> -30718.8 | G32: =H32+I32 -> -255008.3 | H32: =H33 -> -220080.5 | I32: =I33 -> -34927.8 | J32: -184312.3 | K32: -153593.5 | L32: -30718.8 | M32: -255008.3 | N32: -220080.5 | O32: -34927.8
C33: ԸՆԹԱՑԻԿ ԾԱԽՍԵՐ | D33: =E33+F33 -> -184312.3 | E33: =E34 -> -153593.5 | F33: =F34 -> -30718.8 | G33: =H33+I33 -> -255008.3 | H33: =H34 -> -220080.5 | I33: =I34 -> -34927.8 | J33: -184312.3 | K33: -153593.5 | L33: -30718.8 | M33: -255008.3 | N33: -220080.5 | O33: -34927.8
C34: ԴՐԱՄԱՇՆՈՐՀՆԵՐ | D34: =E34+F34 -> -184312.3 | E34: =E35 -> -153593.5 | F34: =F35 -> -30718.8 | G34: =H34+I34 -> -255008.3 | H34: =H35 -> -220080.5 | I34: =I35 -> -34927.8 | J34: -184312.3 | K34: -153593.5 | L34: -30718.8 | M34: -255008.3 | N34: -220080.5 | O34: -34927.8
C35: Ընթացիկ դրամաշնորհներ պետական հատվածի այլ մակարդակներին | D35: =E35+F35 -> -184312.3 | E35: =E36 -> -153593.5 | F35: =F36 -> -30718.8 | G35: =H35+I35 -> -255008.3 | H35: =H36 -> -220080.5 | I35: =I36 -> -34927.8 | J35: -184312.3 | K35: -153593.5 | L35: -30718.8 | M35: -255008.3 | N35: -220080.5 | O35: -34927.8
C36: - Այլ ընթացիկ դրամաշնորհներ | D36: =E36+F36 -> -184312.3 | E36: -153593.5 | F36: -30718.8 | G36: =H36+I36 -> -255008.3 | H36: -220080.5 | I36: -34927.8 | J36: -184312.3 | K36: -153593.5 | L36: -30718.8 | M36: -255008.3 | N36: -220080.5 | O36: -34927.8
B37: 31001 | C37: Զարգացման ֆրանսիական գործակալության աջակցությամբ իրականացվող ՀՀ Արարատի և Արմավիրի մարզերում Ոռոգվող գյուղատնտեսության զարգացման դրամաշնորհային ծրագիր | D37: =E37+F37 -> -15000 | E37: =E39 -> -12667 | F37: =F39 -> -2333 | G37: =H37+I37 -> -115293.9 | H37: =H39 -> -105040.2 | I37: =I39 -> -10253.7 | J37: -15000 | K37: -12667 | L37: -2333 | M37: -115293.9 | N37: -105040.2 | O37: -10253.7
C38: այդ թվում` ըստ կատարողների | J38: 0 | M38: 0
C39: ՀՀ էկոնոմիկայի նախարարություն | D39: =E39+F39 -> -15000 | E39: =E41 -> -12667 | F39: =F41 -> -2333 | G39: =H39+I39 -> -115293.9 | H39: =H41 -> -105040.2 | I39: =I41 -> -10253.7 | J39: -15000 | K39: -12667 | L39: -2333 | M39: -115293.9 | N39: -105040.2 | O39: -10253.7
C40: այդ թվում` բյուջետային ծախսերի տնտեսագիտական դասակարգման հոդվածներ | J40: 0 | M40: 0
C41: ԸՆԴԱՄԵՆԸ ԾԱԽՍԵՐ | D41: =E41+F41 -> -15000 | E41: =E42 -> -12667 | F41: =F42 -> -2333 | G41: =H41+I41 -> -115293.9 | H41: =H42 -> -105040.2 | I41: =I42 -> -10253.7 | J41: -15000 | K41: -12667 | L41: -2333 | M41: -115293.9 | N41: -105040.2 | O41: -10253.7
C42: ՈՉ ՖԻՆԱՆՍԱԿԱՆ ԱԿՏԻՎՆԵՐԻ ԳԾՈՎ ԾԱԽՍԵՐ | D42: =E42+F42 -> -15000 | E42: =E43 -> -12667 | F42: =F43 -> -2333 | G42: =H42+I42 -> -115293.9 | H42: =H43 -> -105040.2 | I42: =I43 -> -10253.7 | J42: -15000 | K42: -12667 | L42: -2333 | M42: -115293.9 | N42: -105040.2 | O42: -10253.7
C43: ՀԻՄՆԱԿԱՆ ՄԻՋՈՑՆԵՐ | D43: =E43+F43 -> -15000 | E43: =E44 -> -12667 | F43: =F44 -> -2333 | G43: =H43+I43 -> -115293.9 | H43: =H44 -> -105040.2 | I43: =I44 -> -10253.7 | J43: -15000 | K43: -12667 | L43: -2333 | M43: -115293.9 | N43: -105040.2 | O43: -10253.7
...

Sheet հավելված7
A1: Հավելված N 7
A2: ՀՀ կառավարության 2023 թվականի
A3: -ի N -Ն որոշման
A4: «ՀԱՅԱՍՏԱՆԻ ՀԱՆՐԱՊԵՏՈՒԹՅԱՆ 2023 ԹՎԱԿԱՆԻ ՊԵՏԱԿԱՆ ԲՅՈՒՋԵԻ ՄԱՍԻՆ» ՀԱՅԱՍՏԱՆԻ ՀԱՆՐԱՊԵՏՈՒԹՅԱՆ ՕՐԵՆՔԻ N 1 ՀԱՎԵԼՎԱԾԻ N 3 ԱՂՅՈՒՍԱԿՈՒՄ ԿԱՏԱՐՎՈՂ ՓՈՓՈԽՈՒԹՅՈՒՆՆԵՐԸ ԵՎ ԼՐԱՑՈՒՄՆԵՐԸ
G5: (հազ. դրամ)
A6: Ծրագրային դասիչ | C6: Բյուջետային գլխավոր կարգադրիչների, ծրագրերի, միջոցառումների և ուղղությունների անվանումները | D6: Ցուցանիշների փոփոխությունը (ավելացումները նշված են դրական նշանով, իսկ նվազեցումները՝ փակագծերում)
D7: Ընդամենը, | E7: այդ թվում՝
A8: Ծրագիր | B8: Միջոցառում | E8: Կառուցման աշխատանքներ | F8: Վերակառուցման, վերանորոգման և վերականգնման աշխատանքներ | G8: Նախագծահե- տազոտական, գեոդեզիա- քարտեզագրա- կան աշխա- տանքներ | H8: Ոչ ֆինանսական այլ ակտիվների ձեռքբերում
C9: ԸՆԴԱՄԵՆԸ | D9: =SUM(E9:H9) -> -571879.8 | E9: =E12+E16+E22+E26+E30+E34+E38+E41 -> -276661.4 | F9: =F12+F16+F22+F26+F30+F34+F38+F41 -> -35477.3 | G9: =G12+G16+G22+G26+G30+G34+G38+G41 -> 0 | H9: =H12+H16+H22+H26+H30+H34+H38+H41 -> -259741.1
C10: այդ թվում՝
C12: ՀՀ ԱԶԳԱՅԻՆ ԺՈՂՈՎ | D12: =+D14 -> -29000 | E12: =+E14 -> 0 | F12: =+F14 -> -18000 | G12: =+G14 -> 0 | H12: =+H14 -> -11000
C13: այդ թվում`
A14: 1024 | B14: 31003 | C14: ՀՀ Ազգային ժողովի շենքային պայմանների բարելավում | D14: =SUM(E14:H14) -> -29000 | F14: -18000 | H14: -11000
C16: ՀՀ ՔԱՂԱՔԱՇԻՆՈՒԹՅԱՆ ԿՈՄԻՏԵ | D16: =SUM(E16:H16) -> -162006.4 | E16: =E18 -> -162006.4 | F16: =F18 -> 0 | G16: =G18 -> 0 | H16: =H18 -> 0
C17: այդ թվում`
A18: 1103 | B18: 21001 | C18: Քաղաքաշինության բնագավառում պետական ծրագրերի իրականացման ապահովում | D18: =SUM(E18:H18) -> -162006.4 | E18: =SUM(E20:E20) -> -162006.4 | F18: =SUM(F20:F20) -> 0 | G18: =SUM(G20:G20) -> 0 | H18: =SUM(H20:H20) -> 0
C19: այդ թվում`
C20: ՀՀ Լոռու մարզի Ստեփանավան համայնքի Աշոտաբերդ թաղամասի կառուցապատման աշխատանքներ | D20: =SUM(E20:H20) -> -162006.4 | E20: -162006.4
C22: ՄԱՐԴՈՒ ԻՐԱՎՈՒՆՔՆԵՐԻ ՊԱՇՏՊԱՆԻ ԱՇԽԱՏԱԿԱԶՄ | D22: =SUM(D24:D24) -> -17477.3 | E22: =SUM(E24:E24) -> 0 | F22: =SUM(F24:F24) -> -17477.3 | G22: =SUM(G24:G24) -> 0 | H22: =SUM(H24:H24) -> 0
C23: այդ թվում`
A24: 1060 | B24: 31003 | C24: ՀՀ մարդու իրավունքների պաշտպանի աշխատակազմի շենքային պայմանների բարելավում | D24: =SUM(E24:H24) -> -17477.3 | E24: 0 | F24: -17477.3 | G24: 0 | H24: 0
C26: ՀՀ ՀԱԿԱԿՈՌՈՒՊՑԻՈՆ ԿՈՄԻՏԵ | D26: =D28 -> -5028.1 | E26: =E28 -> 0 | F26: =F28 -> 0 | G26: =G28 -> 0 | H26: =H28 -> -5028.1
C27: այդ թվում`
A28: 1231 | B28: 31001 | C28: Հակակոռուպցիոն կոմիտեի տեխնիկական հագեցվածության բարելավում | D28: =SUM(E28:H28) -> -5028.1 | H28: -5028.1
C30: ՀՀ ՎԻՃԱԿԱԳՐԱԿԱՆ ԿՈՄԻՏԵ | D30: =D32 -> -2132.4 | E30: =E32 -> 0 | F30: =F32 -> 0 | G30: =G32 -> 0 | H30: =H32 -> -2132.4
C31: այդ թվում`
A32: 1143 | B32: 31001 | C32: ՀՀ վիճակագրական կոմիտեի տեխնիկական հագեցվածության բարելավում | D32: =SUM(E32:H32) -> -2132.4 | H32: -2132.4
C34: ՀՀ ԱԶԳԱՅԻՆ ԱՆՎՏԱՆԳՈՒԹՅԱՆ ԾԱՌԱՅՈՒԹՅՈՒՆ | D34: =SUM(E34:H34) -> -240411 | E34: =+E36+E37 -> 0 | F34: =+F36+F37 -> 0 | G34: =+G36+G37 -> 0 | H34: =+H36+H37 -> -240411
C35: այդ թվում`
A36: 1036 | B36: 31002 | C36: ՊՊԾ տեխնիկական հագեցվածության բարելավում | D36: =SUM(E36:H36) -> -5522.6 | H36: -5522.6
A37: 1138 | B37: 31001 | C37: Ազգային անվտանգության համակարգի տեխնիկական հագեցվածության բարելավում | D37: =E37+F37+G37+H37 -> -234888.4 | H37: -234888.4
C38: Հեռուստատեսության և ռադիոյի հանձնաժողով | D38: -1169.6 | E38: 0 | F38: 0 | G38: 0 | H38: -1169.6
C39: այդ թվում՛
A40: 1007 | B40: 31001 | C40: Հեռուստատեսության և ռադիոյի հանձնաժողովի տեխնիկական հագեցվածության բարելավում | D40: -1169.6 | E40: 0 | F40: 0 | G40: 0
C41: ՀՀ ԿԱՌԱՎԱՐՈՒԹՅՈՒՆ | D41: =D43 -> -114655 | E41: =E43 -> -114655 | F41: =F43 -> 0 | G41: =G43 -> 0 | H41: =H43 -> 0
C42: այդ թվում` | E42: 0 | F42: 0 | G42: 0
A43: 1139 | B43: 11001 | C43: Պահուստային ֆոնդ | D43: =E43 -> -114655 | E43: -114655 | F43: 0 | G43: 0

Sheet հավելված8
A1: Հավելված N 8
A2: ՀՀ կառավարության 2023 թվականի
A3: -ի N -Ն որոշման
A5: ՀԱՅԱՍՏԱՆԻ ՀԱՆՐԱՊԵՏՈՒԹՅԱՆ ԿԱՌԱՎԱՐՈՒԹՅԱՆ 2022 ԹՎԱԿԱՆԻ ԴԵԿՏԵՄԲԵՐԻ 29-Ի N 2111-Ն ՈՐՈՇՄԱՆ N 5 ՀԱՎԵԼՎԱԾԻ N 2 ԱՂՅՈՒՍԱԿՈՒՄ ԿԱՏԱՐՎՈՂ ՓՈՓՈԽՈՒԹՅՈՒՆՆԵՐԸ ԵՎ ԼՐԱՑՈՒՄՆԵՐԸ
E6: (հազ. դրամ)
A7: Ծրագրային դասիչ | C7: Բյուջետային գլխավոր կարգադրիչների, ծրագրերի, միջոցառումների, միջոցառումները կատարող պետական մարմինների և ուղղությունների անվանումները | D7: Ցուցանիշների փոփոխությունը (ավելացումները նշված են դրական նշանով, իսկ նվազեցումները` փակագծերում)
D8: Ինն ամիս | E8: Տարի
A9: Ծրագիր | B9: Միջոցառում
C10: ԸՆԴԱՄԵՆԸ | D10: =+D12+D17+D22+D29+D34+D39+D47+D50 -> -560281.6 | E10: =+E12+E17+E22+E29+E34+E39+E47+E50 -> -571879.8
C11: այդ թվում՝
C12: ՀՀ ԱԶԳԱՅԻՆ ԺՈՂՈՎ | D12: =+D14 -> -29000 | E12: =+E14 -> -29000
C13: այդ թվում`
A14: 1024 | B14: 31003 | C14: ՀՀ Ազգային ժողովի շենքային պայմանների բարելավում | D14: =D16 -> -29000 | E14: =E16 -> -29000
C15: այդ թվում` ըստ կատարողների
C16: ՀՀ Ազգային Ժողով | D16: -29000 | E16: -29000
C17: ՄԱՐԴՈՒ ԻՐԱՎՈՒՆՔՆԵՐԻ ՊԱՇՏՊԱՆԻ ԱՇԽԱՏԱԿԱԶՄ | D17: =+D19 -> -15407.9 | E17: =+E19 -> -17477.3
C18: այդ թվում`
A19: 1060 | B19: 31003 | C19: ՀՀ մարդու իրավունքների պաշտպանի աշխատակազմի շենքային պայմանների բարելավում | D19: =+D21 -> -15407.9 | E19: =+E21 -> -17477.3
C20: այդ թվում` ըստ կատարողների
C21: Մարդու իրավունքների պաշտպանի աշխատակազմ | D21: -15407.9 | E21: -17477.3
C22: ՀՀ ՔԱՂԱՔԱՇԻՆՈՒԹՅԱՆ ԿՈՄԻՏԵ | D22: =+D24 -> -152477.6 | E22: =+E24 -> -162006.4
C23: այդ թվում`
A24: 1103 | B24: 21001 | C24: Քաղաքաշինության բնագավառում պետական ծրագրերի իրականացման ապահովում | D24: =D26 -> -152477.6 | E24: =E26 -> -162006.4
C25: այդ թվում` ըստ կատարողների
C26: ՀՀ քաղաքաշինության կոմիտե | D26: =D28 -> -152477.6 | E26: =E28 -> -162006.4
C27: այդ թվում՝ ըստ ուղղությունների
C28: ՀՀ Լոռու մարզի Ստեփանավան համայնքի Աշոտաբերդ թաղամասի կառուցապատման աշխատանքներ | D28: -152477.6 | E28: -162006.4
C29: ՀՀ ՀԱԿԱԿՈՌՈՒՊՑԻՈՆ ԿՈՄԻՏԵ | D29: =+D31 -> -5028.1 | E29: =+E31 -> -5028.1
C30: այդ թվում`
A31: 1231 | B31: 31001 | C31: Հակակոռուպցիոն կոմիտեի տեխնիկական հագեցվածության բարելավում | D31: =+D33 -> -5028.1 | E31: =+E33 -> -5028.1
C32: այդ թվում` ըստ կատարողների
C33: ՀՀ հակակոռուպցիոն կոմիտե | D33: -5028.1 | E33: -5028.1
C34: ՀՀ ՎԻՃԱԿԱԳՐԱԿԱՆ ԿՈՄԻՏԵ | D34: =+D36 -> -2132.4 | E34: =+E36 -> -2132.4
C35: այդ թվում`
A36: 1143 | B36: 31003 | C36: ՀՀ վիճակագրական կոմիտեի տեխնիկական կարողությունների զարգացում | D36: =+D38 -> -2132.4 | E36: =+E38 -> -2132.4
C37: այդ թվում` ըստ կատարողների
C38: ՀՀ վիճակագրական կոմիտե | D38: -2132.4 | E38: -2132.4
C39: ՀՀ ԱԶԳԱՅԻՆ ԱՆՎՏԱՆԳՈՒԹՅԱՆ ԾԱՌԱՅՈՒԹՅՈՒՆ | D39: =+D41+D44 -> -240411 | E39: =+E41+E44 -> -240411
C40: այդ թվում`
A41: 1036 | B41: 31002 | C41: ՊՊԾ տեխնիկական հագեցվածության բարելավում | D41: =D43 -> -5522.6 | E41: =E43 -> -5522.6
...

Sheet հավելված9
C1: Հավելված N 9
C2: ՀՀ կառավարության 2023 թվականի
C3: -ի N -Ն որոշման
A5: ՀԱՅԱՍՏԱՆԻ ՀԱՆՐԱՊԵՏՈՒԹՅԱՆ ԿԱՌԱՎԱՐՈՒԹՅԱՆ 2022 ԹՎԱԿԱՆԻ ԴԵԿՏԵՄԲԵՐԻ 29-Ի N 2111-Ն ՈՐՈՇՄԱՆ N 9 ՀԱՎԵԼՎԱԾՈՒՄ ԿԱՏԱՐՎՈՂ ՓՈՓՈԽՈՒԹՅՈՒՆԸ
C8: Աղյուսակ 9.1
A9: Հանրապետության նախագահի աշխատակազմ
A10: ՄԱՍ 2. ՊԵՏԱԿԱՆ ՄԱՐՄՆԻ ԳԾՈՎ ԱՐԴՅՈՒՆՔԱՅԻՆ (ԿԱՏԱՐՈՂԱԿԱՆ) ՑՈՒՑԱՆԻՇՆԵՐԸ
A12: Ծրագրի դասիչը | B12: Ծրագրի անվանումը
A13: 1154 | B13: Հանրապետության նախագահի լիազորությունների իրականացման ապահովում
A15: Ծրագրի միջոցառումները
C17: Ցուցանիշների փոփոխությունը (ավելացումները նշված են դրական նշանով, իսկ նվազեցումները փակագծերում)
A18: Ծրագրի դասիչը` | B18: 1154
A19: Միջոցառման դասիչը` | B19: 11001 | C19: Ինն ամիս | D19: Տարի
A20: Միջոցառման անվանումը` | B20: Հանրապետության նախագահի գործունեության և ներկայացուցչականության ապահովում
A21: Նկարագրությունը` | B21: Հանրապետության նախագահի` ներքին և արտաքին քաղաքականության առնչությամբ Սահմանադրությամբ սահմանված լիազորությունների իրականացման ապահովում
A22: Միջոցառման տեսակը` | B22: Ծառայությունների մատուցում
A23: Ակտիվն օգտագործող կազմակերպության անունը | B23: Հանրապետության նախագահի աշխատակազմ
A24: Արդյունքի չափորոշիչներ
A25: Միջոցառման վրա կատարվող ծախսը (հազար դրամ) | C25: -40000 | D25: -40000
C28: Աղյուսակ 9.2
A29: ՀՀ Ազգային ժողով
A30: ՄԱՍ 2. ՊԵՏԱԿԱՆ ՄԱՐՄՆԻ ԳԾՈՎ ԱՐԴՅՈՒՆՔԱՅԻՆ (ԿԱՏԱՐՈՂԱԿԱՆ) ՑՈՒՑԱՆԻՇՆԵՐԸ
A31: Ծրագրի դասիչը | B31: Ծրագրի անվանումը
A32: 1024 | B32: ՀՀ Ազգային ժողովի լիազորությունների իրականացման ապահովում
A34: Ծրագրի միջոցառումները
A36: Ծրագրի դասիչը` | B36: 1024
A37: Միջոցառման դասիչը` | B37: 31003 | C37: Ինն ամիս | D37: Տարի
A38: Միջոցառման անվանումը` | B38: ՀՀ Ազգային ժողովի շենքային պայմանների բարելավում
A39: Նկարագրությունը` | B39: ՀՀ Ազգային ժողովի շենք-շինությունների կապիտալ վերանորոգում և նախագծանախահաշվային փաստաթղթերի ձեռքբերում
A40: Միջոցառման տեսակը` | B40: Պետական մարմինների կողմից օգտագործվող ոչ ֆինանսական ակտիվների հետ գործառնություններ
A41: Ակտիվն օգտագործող կազմակերպության անունը | B41: ՀՀ Ազգային ժողով
A42: Արդյունքի չափորոշիչներ
A43: Միջոցառման վրա կատարվող ծախսը (հազար դրամ) | C43: -29000 | D43: -29000
C46: Աղյուսակ 9.4
A47: ՀՀ սահմանադրական դատարան
A48: ՄԱՍ 2. ՊԵՏԱԿԱՆ ՄԱՐՄՆԻ ԳԾՈՎ ԱՐԴՅՈՒՆՔԱՅԻՆ (ԿԱՏԱՐՈՂԱԿԱՆ) ՑՈՒՑԱՆԻՇՆԵՐԸ
A50: Ծրագրի դասիչը | B50: Ծրագրի անվանումը
A51: 1092 | B51: ՀՀ սահմանադրական դատարանի գործունեության ապահովում
A53: Ծրագրի միջոցառումները
A55: Ծրագրի դասիչը` | B55: 1092
...

Sheet հավելված10
C2: Հավելված N 10
C3: ՀՀ կառավարության 2023 թվականի
C4: -ի N -Ն որոշման
A6: ՀԱՅԱՍՏԱՆԻ ՀԱՆՐԱՊԵՏՈՒԹՅԱՆ ԿԱՌԱՎԱՐՈՒԹՅԱՆ 2022 ԹՎԱԿԱՆԻ ԴԵԿՏԵՄԲԵՐԻ 29-Ի N 2111-Ն ՈՐՈՇՄԱՆ N 9.1 ՀԱՎԵԼՎԱԾՈՒՄ ԿԱՏԱՐՎՈՂ ՓՈՓՈԽՈՒԹՅՈՒՆԸ
A7: Հավելված N 9.1ՀՀ 2022թվականի պետական բյուջեի ելքային ծրագրերի և միջոցառումների գծով արդյունքային (կատարողական) ցուցանիշների եռամսյակային (աճողական) համամասնությունները` ըստ միջոցառումները կատարող հանրային իշխանության մարմինների
C9: Աղյուսակ 9.1.1
A10: Հանրապետության նախագահի աշխատակազմ
A11: ՄԱՍ 1. ՊԵՏԱԿԱՆ ՄԱՐՄՆԻ ԳԾՈՎ ԱՐԴՅՈՒՆՔԱՅԻՆ (ԿԱՏԱՐՈՂԱԿԱՆ) ՑՈՒՑԱՆԻՇՆԵՐԸ
A13: Ծրագրի դասիչը | B13: Ծրագրի անվանումը
A14: 1154 | B14: Հանրապետության նախագահի լիազորությունների իրականացման ապահովում
A16: Ծրագրի միջոցառումները
C18: Ցուցանիշների փոփոխությունը (ավելացումները նշված են դրական նշանով, իսկ նվազեցումները փակագծերում)
A19: Ծրագրի դասիչը` | B19: 1154
A20: Միջոցառման դասիչը` | B20: 11001 | C20: Ինն ամիս | D20: Տարի
A21: Միջոցառման անվանումը` | B21: Հանրապետության նախագահի գործունեության և ներկայացուցչականության ապահովում
A22: Նկարագրությունը` | B22: Հանրապետության նախագահի` ներքին և արտաքին քաղաքականության առնչությամբ Սահմանադրությամբ սահմանված լիազորությունների իրականացման ապահովում
A23: Միջոցառման տեսակը` | B23: Ծառայությունների մատուցում
A24: Ակտիվն օգտագործող կազմակերպության անունը | B24: Հանրապետության նախագահի աշխատակազմ
A25: Արդյունքի չափորոշիչներ
A26: Միջոցառման վրա կատարվող ծախսը (հազար դրամ) | C26: -40000 | D26: -40000
C29: Աղյուսակ 9.1.2
A30: ՀՀ Ազգային ժողով
A31: ՄԱՍ 1. ՊԵՏԱԿԱՆ ՄԱՐՄՆԻ ԳԾՈՎ ԱՐԴՅՈՒՆՔԱՅԻՆ (ԿԱՏԱՐՈՂԱԿԱՆ) ՑՈՒՑԱՆԻՇՆԵՐԸ
A33: Ծրագրի դասիչը | B33: Ծրագրի անվանումը
A34: 1024 | B34: ՀՀ Ազգային ժողովի լիազորությունների իրականացման ապահովում
A36: Ծրագրի միջոցառումները
A38: Ծրագրի դասիչը` | B38: 1024
A39: Միջոցառման դասիչը` | B39: 31003 | C39: Ինն ամիս | D39: Տարի
A40: Միջոցառման անվանումը` | B40: ՀՀ Ազգային ժողովի շենքային պայմանների բարելավում
A41: Նկարագրությունը` | B41: ՀՀ Ազգային ժողովի շենք-շինությունների կապիտալ վերանորոգում և նախագծանախահաշվային փաստաթղթերի ձեռքբերում
A42: Միջոցառման տեսակը` | B42: Պետական մարմինների կողմից օգտագործվող ոչ ֆինանսական ակտիվների հետ գործառնություններ
A43: Ակտիվն օգտագործող կազմակերպության անունը | B43: ՀՀ Ազգային ժողով
A44: Արդյունքի չափորոշիչներ
A45: Միջոցառման վրա կատարվող ծախսը (հազար դրամ) | C45: -29000 | D45: -29000
C48: Աղյուսակ 9.1.4
A49: ՀՀ սահմանադրական դատարան
A50: ՄԱՍ 1. ՊԵՏԱԿԱՆ ՄԱՐՄՆԻ ԳԾՈՎ ԱՐԴՅՈՒՆՔԱՅԻՆ (ԿԱՏԱՐՈՂԱԿԱՆ) ՑՈՒՑԱՆԻՇՆԵՐԸ
A52: Ծրագրի դասիչը | B52: Ծրագրի անվանումը
A53: 1092 | B53: ՀՀ սահմանադրական դատարանի գործունեության ապահովում
A55: Ծրագրի միջոցառումները
...

Sheet հավելված11
F1: Հավելված N 11
E2: ՀՀ կառավարության 2023 թվականի
E3: ________ N ____ որոշման
A6: ՀԱՅԱՍՏԱՆԻ ՀԱՆՐԱՊԵՏՈՒԹՅԱՆ ԿԱՌԱՎԱՐՈՒԹՅԱՆ 2022 ԹՎԱԿԱՆԻ ԴԵԿՏԵՄԲԵՐԻ 29-Ի N 2111-Ն ՈՐՈՇՄԱՆ N 10 ՀԱՎԵԼՎԱԾՈՒՄ ԿԱՏԱՐՎՈՂ ՓՈՓՈԽՈՒԹՅՈՒՆՆԵՐԸ
A8: Կոդը | B8: Անվանումը | C8: Գնման ձևը | D8: Չափման միավորը | E8: Ցուցանիշների փոփոխությունը (ավելացումները նշված են դրական նշանով, իսկ նվազեցումները` փակագծերում)
E9: միավորի գինը (դրամով) | F9: քանակը | G9: գումարը (հազար դրամով)
G10: =G11+G34+G42+G48+G104+G117+G138+G149+G167+G179+G251+G259+G273+G279 -> -526077
A11: ՀՀ Նախագահի աշխատակազմ | G11: =G12 -> -23498
A12: Բաժին N 01 Խումբ N 01 Դաս N 01 Օրենսդիր և գործադիր մարմիններ, պետական կառավարում | G12: =G13 -> -23498
A13: 1154 11001 | B13: Հանրապետության նախագահի գործունեության և ներկայացուցչականության ապահովում | G13: =G14+G30 -> -23498
B14: ՄԱՍ I. ԱՊՐԱՆՔՆԵՐ | G14: =G15+G16+G17+G18+G19+G20+G21+G22+G23+G24+G25+G26+G27+G28+G29 -> -11998
A15: 09132100/1 | B15: բենզին, պրեմիում | C15: ԷԱՃ | D15: լիտր | E15: 450 | F15: -4444.4 | G15: -2000
A16: 18511170/8 | B16: շքանշաններ | C16: ԷԱՃ | D16: հատ | E16: 145000 | F16: -12 | G16: -1740
A17: 18511170/9 | B17: շքանշաններ | C17: ԷԱՃ | D17: հատ | E17: 92000 | F17: -9 | G17: -828
A18: 18511180/14 | B18: մեդալներ, կրծքանշաններ | C18: ԷԱՃ | D18: հատ | E18: 22740 | F18: -100 | G18: -2274
A19: 18511180/15 | B19: մեդալներ, կրծքանշաններ | C19: ԷԱՃ | D19: հատ | E19: 19680 | F19: -19 | G19: -373.92
A20: 18511180/16 | B20: մեդալներ, կրծքանշաններ | C20: ԷԱՃ | D20: հատ | E20: 19800 | F20: -35 | G20: -693
A21: 18511180/17 | B21: մեդալներ, կրծքանշաններ | C21: ԷԱՃ | D21: հատ | E21: 19800 | F21: -35 | G21: -693
A22: 18511180/18 | B22: մեդալներ, կրծքանշաններ | C22: ԷԱՃ | D22: հատ | E22: 19800 | F22: -25 | G22: -495
A23: 18511180/19 | B23: մեդալներ, կրծքանշաններ | C23: ԷԱՃ | D23: հատ | E23: 19800 | F23: -35 | G23: -693
A24: 18511180/20 | B24: մեդալներ, կրծքանշաններ | C24: ԷԱՃ | D24: հատ | E24: 15900 | F24: -40 | G24: -636
A25: 18511180/21 | B25: մեդալներ, կրծքանշաններ | C25: ԷԱՃ | D25: հատ | E25: 12136 | F25: -30 | G25: -364.08
A26: 18511180/22 | B26: մեդալներ, կրծքանշաններ | C26: ԷԱՃ | D26: հատ | E26: 11000 | F26: -5 | G26: -55
... A29: 18511190/3 | B29: մեդալների և շքանշանների տուփեր | C29: ԷԱՃ | D29: հատ | E29: 16000 | F29: -8 | G29: -128
B30: ՄԱՍ III. ԾԱՌԱՅՈՒԹՅՈՒՆՆԵՐ | G30: =G31+G32 -> -11500
A31: 64111200/1 | B31: փոստային ծառայություններ` կապված նամակների հետ | C31: ՄԱ | D31: դրամ | G31: -1500
A32: 65311100/1 | B32: էլեկտրականության բաշխում | C32: ՄԱ | D32: դրամ | G32: -10000
A34: ՀՀ Ազգային ժողով | G34: =G35 -> -29000
A35: Բաժին N 01 Խումբ N 01 Դաս N 01 Օրենսդիր և գործադիր մարմիններ, պետական կառավարում | G35: =G36 -> -29000
A36: 1024 31003 | B36: ՀՀ Ազգային ժողովի շենքային պայմանների բարելավում | G36: =G37+G39 -> -29000
B37: ՄԱՍ I. ԱՊՐԱՆՔՆԵՐ | G37: =G38 -> -11000
A38: 42414700/1 | B38: Վերելակներ | C38: ԳՀ | D38: հատ | G38: -11000
B39: ՄԱՍ II. ԱՇԽԱՏԱՆՔՆԵՐ | G39: =G40 -> -18000
A40: 45311119/1 | B40: Վերելակների տեղադրման աշխատանքներ | C40: ԳՀ | D40: դրամ | G40: -18000
A42: ՀՀ սահմանադրական դատարան | G42: =G43 -> -2000
A43: Բաժին N 03 Խումբ N 03 Դաս N 01 Դատարաններ | G43: =G44 -> -2000
A44: 1092 11001 | B44: ՀՀ սահմանադրական դատարանի գործունեության և սահմանադրական արդարադատության ապահովում | G44: =G45 -> -2000
B45: ՄԱՍ II. ԱՇԽԱՏԱՆՔՆԵՐ | G45: =G46 -> -2000
A46: 45461100/501 | B46: շենքերի, շինությունների ընթացիկ նորոգման աշխատանքներ | C46: ԳՀ | D46: դրամ | G46: -2000
A48: ՀՀ դատախազություն | G48: =G49 -> -15588.9
...
