Workbook
Name _tab10: #REF!
Name _tab11: #REF!
Name _tab12: #REF!
Name _tab13: #REF!
Name _tab14: #REF!
Name _tab15: #REF!
Name _tab16: #REF!
Name _tab17: #REF!
Name _tab18: #REF!
Name _tab19: #REF!
Name _tab20: #REF!
Name _tab21: #REF!
Name _tab22: #REF!
Name _tab23: #REF!
Name _tab24: #REF!
Name _tab5: #REF!
Name _tab6: #REF!
Name _tab7: #REF!
Name _tab8: #REF!
Name _tab9: #REF!
Name AgencyCode: #REF!
Name AgencyCode: #REF!
Name AgencyName: #REF!
Name AgencyName: #REF!
Name åû: #REF!
Name davit: #REF!
Name davit: #REF!
Name Functional1: #REF!
Name Functional1: #REF!
Name ggg: #REF!
Name ggg: #REF!
Name mas: #REF!
Name mass: #REF!
Name PANature: #REF!
Name PANature: #REF!
Name par_count: #REF!,#REF!,#REF!,#REF!,#REF!,#REF!,#REF!,#REF!,#REF!,#REF!,#REF!,#REF!,#REF!,#REF!,#REF!
Name par_qual: #REF!,#REF!,#REF!,#REF!,#REF!
Name par_time: #REF!,#REF!,#REF!,#REF!
Name par2.12s: #REF!
Name par2.4s: #REF!,#REF!,#REF!,#REF!,#REF!,#REF!,#REF!,#REF!,#REF!,#REF!,#REF!,#REF!,#REF!,#REF!,#REF!,#REF!
Name par2.5s: #REF!,#REF!
Name par2.6s: #REF!,#REF!,#REF!,#REF!
Name par2.7s: #REF!,#REF!
Name par2.9s: #REF!,#REF!,#REF!,#REF!,#REF!,#REF!,#REF!,#REF!,#REF!,#REF!,#REF!,#REF!,#REF!,#REF!,#REF!,#REF!
Name par4.10s: #REF!,#REF!
Name par4.11d: #REF!,#REF!,#REF!,#REF!,#REF!
Name par4.12d: #REF!
Name par4.13s: #REF!
Name par4.14: #REF!,#REF!,#REF!,#REF!,#REF!,#REF!
Name par4.15: #REF!,#REF!,#REF!
Name par4.16: #REF!,#REF!,#REF!
Name par4.17: #REF!,#REF!,#REF!,#REF!
Name par4.18d: #REF!,#REF!
Name par4.19s: #REF!
Name par4.20f: #REF!
Name par4.21f: #REF!
Name par4.22: #REF!
Name par4.4: #REF!
Name par4.5: #REF!
Name par4.6s: #REF!

Sheet հավելված1
B1: Հավելված N 1
B2: ՀՀ կառավարության 2023 թվականի
B3: ______________ ի ___Ն որոշման
A5: «ՀԱՅԱՍՏԱՆԻ ՀԱՆՐԱՊԵՏՈՒԹՅԱՆ 2023 ԹՎԱԿԱՆԻ ՊԵՏԱԿԱՆ ԲՅՈՒՋԵԻ ՄԱՍԻՆ» ՕՐԵՆՔԻ N 2 ՀՈԴՎԱԾԻ ԱՂՅՈՒՍԱԿՈՒՄ ԿԱՏԱՐՎՈՂ ՓՈՓՈԽՈՒԹՅՈՒՆՆԵՐԸ
B7: հազար դրամներով
B8: Ցուցանիշների փոփոխությունը (նվազեցումները նշված են փակագծերում)
A9: 1. Եկամուտների գծով | B9: =հավելված2!C9 -> -477820.7
A10: 2. Ծախսերի գծով | B10: =հավելված4!E7 -> -477820.7
A11: 3. Դեֆիցիտը (պակասուրդը) | B11: 0

Sheet հավելված2
A1: Հավելված N 2
A2: ՀՀ կառավարության 2023 թվականի
A3: --------------------- -ի N ---------- որոշման
A5: «ՀԱՅԱՍՏԱՆԻ ՀԱՆՐԱՊԵՏՈՒԹՅԱՆ 2023 ԹՎԱԿԱՆԻ ՊԵՏԱԿԱՆ ԲՅՈՒՋԵԻ ՄԱՍԻՆ» ՕՐԵՆՔԻ 6-ՐԴ ՀՈԴՎԱԾԻ ԱՂՅՈՒՍԱԿՈՒՄ ԵՎ ՀԱՅԱՍՏԱՆԻ ՀԱՆՐԱՊԵՏՈՒԹՅԱՆ ԿԱՌԱՎԱՐՈՒԹՅԱՆ 2022 ԹՎԱԿԱՆԻ ԴԵԿՏԵՄԲԵՐԻ 29-Ի N 2111-Ն ՈՐՈՇՄԱՆ N 2 ՀԱՎԵԼՎԱԾՈՒՄ ԿԱՏԱՐՎՈՂ ՓՈՓՈԽՈՒԹՅՈՒՆՆԵՐԸ
C6: հազ. դրամ
A7: Պետական բյուջեի եկամուտները | B7: Ցուցանիշների փոփոխությունը (նվազեցումները նշված են փակագծերում)
B8: Ինն ամիս | C8: Տարի
A9: Ընդամենը | B9: =+B11 -> -280460.5 | C9: =+C11 -> -477820.7
A10: այդ թվում
A11: Պաշտոնական դրամաշնորհներ | B11: =հավելված6!E13 -> -280460.5 | C11: =հավելված6!H13 -> -477820.7

Sheet հավելված3
A1: Հավելված N 3 ՀՀ կառավարության 2023 թվականի հունիսի -ի N -Ն որոշման
A3: «ՀԱՅԱՍՏԱՆԻ ՀԱՆՐԱՊԵՏՈՒԹՅԱՆ 2023 ԹՎԱԿԱՆԻ ՊԵՏԱԿԱՆ ԲՅՈՒՋԵԻ ՄԱՍԻՆ» ՀԱՅԱՍՏԱՆԻ ՀԱՆՐԱՊԵՏՈՒԹՅԱՆ ՕՐԵՆՔԻ N 1 ՀԱՎԵԼՎԱԾԻ N 2 ԱՂՅՈՒՍԱԿՈՒՄ ԿԱՏԱՐՎՈՂ ՎԵՐԱԲԱՇԽՈՒՄԸ ԵՎ ՀԱՅԱՍՏԱՆԻ ՀԱՆՐԱՊԵՏՈՒԹՅԱՆ ԿԱՌԱՎԱՐՈՒԹՅԱՆ 2022 ԹՎԱԿԱՆԻ ԴԵԿՏԵՄԲԵՐԻ 29-Ի N 2111-Ն ՈՐՈՇՄԱՆ N 5 ՀԱՎԵԼՎԱԾԻ N 1 ԱՂՅՈՒՍԱԿՈՒՄ ԿԱՏԱՐՎՈՂ ՓՈՓՈԽՈՒԹՅՈՒՆՆԵՐԸ
D4: հազար դրամներով
A5: Ծրագրային դասիչը | C5: Բյուջետային գլխավոր կարգադրիչների, ծրագրերի և միջոցառումների անվանումները | D5: Ցուցանիշների փոփոխությունը (ավելացումները նշված են դրական նշանով, իսկ նվազեցումները փակագծերում)
A6: Ծրագիր | B6: Միջոցառում | D6: Ինն ամիս | E6: Տարի
C7: ԸՆԴԱՄԵՆԸ | D7: -280460.5 | E7: -477820.7
C8: Հանրապետության նախագահի աշխատակազմ | D8: -40000 | E8: -40000
A9: 1154 | C9: Ծրագրի անվանումը` | D9: -40000 | E9: -40000
C10: Հանրապետության նախագահի լիազորությունների իրականացման ապահովում
C11: Ծրագրի նպատակը`
C12: Աջակցել Հանրապետության նախագահի լիազորությունների իրականացման ապահովմանը
C13: Վերջնական արդյունքի նկարագրությունը`
C14: ՀՀ նախագահի Սահմանադրությամբ սահմանված լիազորությունների իրականացման ապահովումը
A15: Ծրագրի միջոցառումներ
B16: 11001 | C16: Միջոցառման անվանումը` | D16: -40000 | E16: -40000
C17: Հանրապետության նախագահի գործունեության և ներկայացուցչականության ապահովում
C18: Միջոցառման նկարագրությունը`
C19: Հանրապետության նախագահի` ներքին և արտաքին քաղաքականության առնչությամբ Սահմանադրությամբ սահմանված լիազորությունների իրականացման ապահովում
C20: Միջոցառման տեսակը
C21: Ծառայությունների մատուցում
C22: ՀՀ Ազգային ժողով | D22: -29000 | E22: -29000
A23: 1024 | C23: Ծրագրի անվանումը` | D23: -29000 | E23: -29000
C24: ՀՀ Ազգային ժողովի լիազորությունների իրականացման ապահովում
C25: Ծրագրի նպատակը`
C26: Օրենսդրական դաշտի ձևավորում և կատարելագործում
C27: Վերջնական արդյունքի նկարագրությունը`
C28: Արդյունավետ օրենսդրական դաշտի ապահովում
A29: Ծրագրի միջոցառումներ
B30: 31003 | C30: Միջոցառման անվանումը` | D30: -29000 | E30: -29000
C31: ՀՀ Ազգային ժողովի շենքային պայմանների բարելավում
C32: Միջոցառման նկարագրությունը`
C33: ՀՀ Ազգային ժողովի շենք-շինությունների կապիտալ վերանորոգում և նախագծանախահաշվային փաստաթղթերի ձեռքբերում
C34: Միջոցառման տեսակը
C35: Պետական մարմինների կողմից օգտագործվող ոչ ֆինանսական ակտիվների հետ գործառնություններ
C36: ՀՀ սահմանադրական դատարան | D36: -2000 | E36: -2000
A37: 1092 | C37: Ծրագրի անվանումը` | D37: -2000 | E37: -2000
C38: ՀՀ սահմանադրական դատարանի գործունեության ապահովում
C39: Ծրագրի նպատակը`
C40: ՀՀ-ում սահմանադրական արդարադատության իրականացում և սահմանադրության գերակայության ապահովում
C41: Վերջնական արդյունքի նկարագրությունը`
C42: ՀՀ-ում սահմանադրականության, քաղաքացիների և կազմակերպությունների իրավունքի ապահովումը
A43: Ծրագրի միջոցառումներ
B44: 11001 | C44: Միջոցառման անվանումը` | D44: -2000 | E44: -2000
C45: ՀՀ սահմանադրական դատարանի գործունեության և սահմանադրական արդարադատության ապահովում
C46: Միջոցառման նկարագրությունը`
C47: Վեճերի քննում, լուծում և որոշումների կայացում ՀՀ սահմանադրությանը համապատասխանության վերաբերյալ
C48: Միջոցառման տեսակը
C49: Ծառայությունների մատուցում
C50: ՀՀ դատախազություն | D50: -3714.5 | E50: -15588.9
A51: 1087 | C51: Ծրագրի անվանումը` | D51: -3714.5 | E51: -15588.9
C52: Դատավարական ղեկավարում և դատախազական հսկողություն
C53: Ծրագրի նպատակը`
C54: ՀՀ-ում հանցավորության դեմ պայքար, հանցագործության դեպքերի կանխարգելում և կրճատում, հանցագործության բոլոր դեպքերի առնչությամբ բազմակողմանի,լրիվ և օբյեկտիվ քննության ապահովում
C55: Վերջնական արդյունքի նկարագրությունը`
C56: ՀՀ-ում մարդու իրավունքների, ազատությունների և օրինական շահերի պաշտպանության արդյունավետության բարձրացում, հանցավորությունների կանխարգելման արդյունավետության աճ
A57: Ծրագրի միջոցառումներ
B58: 11001 | C58: Միջոցառման անվանումը` | D58: -3714.5 | E58: -15588.9
C59: Քրեական հետապնդման, դատավարական ղեկավարման և դատախազական հսկողության ծառայությունների տրամադրում
C60: Միջոցառման նկարագրությունը`
C61: Քրեական հետապնդման, հարուցման, հետաքննության և նախաքննության օրինականության հսկողություն, մեղադրանքի պաշտպանություն հայցերի հարուցում, դատավճիռների և որոշումների բողոքարկում, պատիժների և հարկադրանքի այլ միջոցների կիրառման օրինականության հսկողություն
C62: Միջոցառման տեսակը
C63: Ծառայությունների մատուցում
C64: ՀՀ էկոնոմիկայի նախարարություն | D64: -3950348 | E64: -5161013.3
A65: 1022 | C65: Ծրագրի անվանումը` | D65: -3482150.3 | E65: -4451615.1
C66: Գյուղատնտեսության խթանման ծրագիր
C67: Ծրագրի նպատակը`
C68: Գյուղատնտեսական մթերքի և դրանց վերամշակումից ստացվող սննդամթերքի ծավալների ավելացում
C69: Վերջնական արդյունքի նկարագրությունը`
C70: Գյուղատնտեսական մթերքների ծավալների ավելացում: Օգտագործվող վարելահողերի ավելացում: Պտուղբանջարեղենի և խաղողի վերամշակումից ստացված արտադրանքի ծավալների աճ
A71: Ծրագրի միջոցառումներ
B72: 12010 | C72: Միջոցառման անվանումը` | D72: -2800000 | E72: -3500000
C73: Անասնաբուծության ճյուղում իրականացվող ներդրումային ծրագրերին աջակցություն
C74: Միջոցառման նկարագրությունը`
C75: Անասնաբուծության ճյուղում իրականացվող առնվազն 2.5 մլրդ դրամի ներդրումներից կապիտալ ներդրումների մասնակի փոխհատուցում
C76: Միջոցառման տեսակը
C77: Տրանսֆերտների տրամադրում
B78: 12011 | C78: Միջոցառման անվանումը` | D78: -682150.3 | E78: -951615.1
C79: Հայաստանի Հանրապետությունում գյուղատնտեսական նշանակության հողերի միավորմանը (կոնսոլիդացիային) աջակցություն
C80: Միջոցառման նկարագրությունը`
C81: Գյուղատնտեսական նշանակության հողերի առանձին գույքային միավորների ձեռքբերման և դրանց սահմանների միավորման միջոցով առնվազն 30 հա հանրագումարային մակերեսով հողամասերի վրա իրականացված համալիր միջոցառումների համար փաստացի կատարված ծախսերի մասնակի փոխհատուցում
C82: Միջոցառման տեսակը
C83: Տրանսֆերտների տրամադրում
A84: 1086 | C84: Ծրագրի անվանումը` | D84: -338197.7 | E84: -559398.2
C85: Գյուղական ենթակառուցվածքների վերականգնում և զարգացում
C86: Ծրագրի նպատակը`
C87: Գյուղատնտեսության ոլորտի արդյունավետության աճ
C88: Վերջնական արդյունքի նկարագրությունը`
C89: Գյուղատնտեսական արտադրանքի ծավալների ավելացում
A90: Ծրագրի միջոցառումներ
B91: 11004 | C91: Միջոցառման անվանումը` | D91: -138885.4 | E91: -189096
C92: Զարգացման ֆրանսիական գործակալության աջակցությամբ իրականացվող ՀՀ Արարատի և Արմավիրի մարզերում» ոռոգվող գյուղատնտեսության զարգացման դրամաշնորհային ծրագրի համակարգում և ղեկավարում
C93: Միջոցառման նկարագրությունը`
C94: Զարգացման ֆրանսիական գործակալության աջակցությամբ իրականացվող ՀՀ Արարատի և Արմավիրի մարզերում ոռոգվող գյուղատնտեսության զարգացման դրամաշնորհային ծրագրի համակարգում և ղեկավարում
C95: Միջոցառման տեսակը
C96: Ծառայությունների մատուցում
B97: 12003 | C97: Միջոցառման անվանումը` | D97: -184312.3 | E97: -255008.3
C98: Զարգացման ֆրանսիական գործակալության աջակցությամբ ՀՀ Արարատի և Արմավիրի մարզերում ժամանակակաից պահանջներին համապատասխան ոռոգման համակարգերի ներդրման և զարգացմանն աջակցություն
C99: Միջոցառման նկարագրությունը`
C100: Արարատի և Արմավիրի մարզերում ժամանակակից պահանջներին համապատասխան ոռոգման համակարգերի ներդրմանը աջակցություն
C101: Միջոցառման տեսակը
...

Sheet հավելված4
A1: Հավելված N 4 ՀՀ կառավարության 2023 թվականի հունիսի -ի N -Ն որոշման
A3: ՀԱՅԱՍՏԱՆԻ ՀԱՆՐԱՊԵՏՈՒԹՅԱՆ ԿԱՌԱՎԱՐՈՒԹՅԱՆ 2022 ԹՎԱԿԱՆԻ ԴԵԿՏԵՄԲԵՐԻ 29-Ի N 2111-Ն ՈՐՈՇՄԱՆ N 3 ՀԱՎԵԼՎԱԾՈՒՄ ԿԱՏԱՐՎՈՂ ՓՈՓՈԽՈՒԹՅՈՒՆՆԵՐԸ
D4: հազար դրամներով
A5: Ծրագրային դասիչը | C5: Բյուջետային ծախսերի գործառական դասակարգման բաժինների, խմբերի և դասերի, բյուջետային ծրագրերի միջոցառումների, բյուջետային հատկացումների գլխավոր կարգադրիչների անվանումները | D5: Ցուցանիշների փոփոխությունը (ավելացումները նշված են դրական նշանով, իսկ նվազեցումները փակագծերում)
A6: Ծրագիր | B6: Միջոց առում | D6: Ինն ամիս | E6: Տարի
C7: ԸՆԴԱՄԵՆԸ | D7: -280460.5 | E7: -477820.7
C8: այդ թվում`
C9: Հանրապետության նախագահի աշխատակազմ | D9: -40000 | E9: -40000
C10: այդ թվում`
A11: 1154 | C11: Հանրապետության նախագահի լիազորությունների իրականացման ապահովում | D11: -40000 | E11: -40000
C12: այդ թվում`
B13: 11001 | C13: Հանրապետության նախագահի գործունեության և ներկայացուցչականության ապահովում | D13: -40000 | E13: -40000
C14: այդ թվում` ըստ կատարողների
C15: Հանրապետության նախագահի աշխատակազմ | D15: -40000 | E15: -40000
C16: այդ թվում` բյուջետային ծախսերի տնտեսագիտական դասակարգման հոդվածներ
C17: ԸՆԴԱՄԵՆԸ ԾԱԽՍԵՐ | D17: -40000 | E17: -40000
C18: ԸՆԹԱՑԻԿ ԾԱԽՍԵՐ | D18: -40000 | E18: -40000
C19: ԾԱՌԱՅՈՒԹՅՈՒՆՆԵՐԻ ԵՎ ԱՊՐԱՆՔՆԵՐԻ ՁԵՌՔԲԵՐՈՒՄ | D19: -13500 | E19: -13500
C20: Շարունակական ծախսեր | D20: -11500 | E20: -11500
C21: - Էներգետիկ ծառայություններ | D21: -10000 | E21: -10000
C22: - Կապի ծառայություններ | D22: -1500 | E22: -1500
C23: Նյութեր (Ապրանքներ) | D23: -2000 | E23: -2000
C24: - Տրանսպորտային նյութեր | D24: -2000 | E24: -2000
C25: ԱՅԼ ԾԱԽՍԵՐ | D25: -26500 | E25: -26500
C26: Այլ ծախսեր | D26: -26500 | E26: -26500
C27: ՀՀ Ազգային ժողով | D27: -29000 | E27: -29000
C28: այդ թվում`
A29: 1024 | C29: ՀՀ Ազգային ժողովի լիազորությունների իրականացման ապահովում | D29: -29000 | E29: -29000
C30: այդ թվում`
B31: 31003 | C31: ՀՀ Ազգային ժողովի շենքային պայմանների բարելավում | D31: -29000 | E31: -29000
C32: այդ թվում` ըստ կատարողների
C33: ՀՀ Ազգային ժողով | D33: -29000 | E33: -29000
C34: այդ թվում` բյուջետային ծախսերի տնտեսագիտական դասակարգման հոդվածներ
C35: ԸՆԴԱՄԵՆԸ ԾԱԽՍԵՐ | D35: -29000 | E35: -29000
C36: ՈՉ ՖԻՆԱՆՍԱԿԱՆ ԱԿՏԻՎՆԵՐԻ ԳԾՈՎ ԾԱԽՍԵՐ | D36: -29000 | E36: -29000
C37: ՀԻՄՆԱԿԱՆ ՄԻՋՈՑՆԵՐ | D37: -29000 | E37: -29000
C38: ՇԵՆՔԵՐ ԵՎ ՇԻՆՈՒԹՅՈՒՆՆԵՐ | D38: -18000 | E38: -18000
C39: - Շենքերի և շինությունների կապիտալ վերանորոգում | D39: -18000 | E39: -18000
C40: ՄԵՔԵՆԱՆԵՐ ԵՎ ՍԱՐՔԱՎՈՐՈՒՄՆԵՐ | D40: -11000 | E40: -11000
C41: - Այլ մեքենաներ և սարքավորումներ | D41: -11000 | E41: -11000
C42: ՀՀ սահմանադրական դատարան | D42: -2000 | E42: -2000
C43: այդ թվում`
A44: 1092 | C44: ՀՀ սահմանադրական դատարանի գործունեության ապահովում | D44: -2000 | E44: -2000
C45: այդ թվում`
B46: 11001 | C46: ՀՀ սահմանադրական դատարանի գործունեության և սահմանադրական արդարադատության ապահովում | D46: -2000 | E46: -2000
C47: այդ թվում` ըստ կատարողների
C48: ՀՀ սահմանադրական դատարան | D48: -2000 | E48: -2000
C49: այդ թվում` բյուջետային ծախսերի տնտեսագիտական դասակարգման հոդվածներ
C50: ԸՆԴԱՄԵՆԸ ԾԱԽՍԵՐ | D50: -2000 | E50: -2000
C51: ԸՆԹԱՑԻԿ ԾԱԽՍԵՐ | D51: -2000 | E51: -2000
C52: ԾԱՌԱՅՈՒԹՅՈՒՆՆԵՐԻ ԵՎ ԱՊՐԱՆՔՆԵՐԻ ՁԵՌՔԲԵՐՈՒՄ | D52: -2000 | E52: -2000
C53: Ընթացիկ նորոգում և պահպանում (ծառայություններ և նյութեր) | D53: -2000 | E53: -2000
C54: - Շենքերի և կառույցների ընթացիկ նորոգում և պահպանում | D54: -2000 | E54: -2000
C55: ՀՀ դատախազություն | D55: -3714.5 | E55: -15588.9
C56: այդ թվում`
A57: 1087 | C57: Դատավարական ղեկավարում և դատախազական հսկողություն | D57: -3714.5 | E57: -15588.9
C58: այդ թվում`
B59: 11001 | C59: Քրեական հետապնդման, դատավարական ղեկավարման և դատախազական հսկողության ծառայությունների տրամադրում | D59: -3714.5 | E59: -15588.9
C60: այդ թվում` ըստ կատարողների
C61: ՀՀ դատախազություն | D61: -3714.5 | E61: -15588.9
C62: այդ թվում` բյուջետային ծախսերի տնտեսագիտական դասակարգման հոդվածներ
C63: ԸՆԴԱՄԵՆԸ ԾԱԽՍԵՐ | D63: -3714.5 | E63: -15588.9
C64: ԸՆԹԱՑԻԿ ԾԱԽՍԵՐ | D64: -3714.5 | E64: -15588.9
C65: ԾԱՌԱՅՈՒԹՅՈՒՆՆԵՐԻ ԵՎ ԱՊՐԱՆՔՆԵՐԻ ՁԵՌՔԲԵՐՈՒՄ | D65: -3714.5 | E65: -15588.9
C66: Նյութեր (Ապրանքներ) | D66: -3714.5 | E66: -15588.9
C67: - Գրասենյակային նյութեր և հագուստ | D67: -3714.5 | E67: -3714.5
C68: - Տրանսպորտային նյութեր | D68: 0 | E68: -11874.4
C69: ՀՀ էկոնոմիկայի նախարարություն | D69: -3950348 | E69: -5161013.3
C70: այդ թվում`
A71: 1022 | C71: Գյուղատնտեսության խթանման ծրագիր | D71: -3482150.3 | E71: -4451615.1
C72: այդ թվում`
B73: 12010 | C73: Անասնաբուծության ճյուղում իրականացվող ներդրումային ծրագրերին աջակցություն | D73: -2800000 | E73: -3500000
C74: այդ թվում` ըստ կատարողների
C75: ՀՀ էկոնոմիկայի նախարարություն | D75: -2800000 | E75: -3500000
C76: այդ թվում` բյուջետային ծախսերի տնտեսագիտական դասակարգման հոդվածներ
C77: ԸՆԴԱՄԵՆԸ ԾԱԽՍԵՐ | D77: -2800000 | E77: -3500000
C78: ԸՆԹԱՑԻԿ ԾԱԽՍԵՐ | D78: -2800000 | E78: -3500000
C79: ԴՐԱՄԱՇՆՈՐՀՆԵՐ | D79: -2800000 | E79: -3500000
C80: Ընթացիկ դրամաշնորհներ պետական հատվածի այլ մակարդակներին | D80: -2800000 | E80: -3500000
C81: - Այլ ընթացիկ դրամաշնորհներ | D81: -2800000 | E81: -3500000
B82: 12011 | C82: Հայաստանի Հանրապետությունում գյուղատնտեսական նշանակության հողերի միավորմանը (կոնսոլիդացիային) աջակցություն | D82: -682150.3 | E82: -951615.1
C83: այդ թվում` ըստ կատարողների
C84: ՀՀ էկոնոմիկայի նախարարություն | D84: -682150.3 | E84: -951615.1
C85: այդ թվում` բյուջետային ծախսերի տնտեսագիտական դասակարգման հոդվածներ
C86: ԸՆԴԱՄԵՆԸ ԾԱԽՍԵՐ | D86: -682150.3 | E86: -951615.1
C87: ԸՆԹԱՑԻԿ ԾԱԽՍԵՐ | D87: -682150.3 | E87: -951615.1
C88: ԴՐԱՄԱՇՆՈՐՀՆԵՐ | D88: -438704.8 | E88: -569804.8
C89: Ընթացիկ դրամաշնորհներ պետական հատվածի այլ մակարդակներին | D89: -438704.8 | E89: -569804.8
C90: - Այլ ընթացիկ դրամաշնորհներ | D90: -438704.8 | E90: -569804.8
C91: ՍՈՑԻԱԼԱԿԱՆ ՆՊԱՍՏՆԵՐ ԵՎ ԿԵՆՍԱԹՈՇԱԿՆԵՐ | D91: -243445.5 | E91: -381810.3
C92: Սոցիալական օգնության դրամական արտահայտությամբ նպաստներ (բյուջեից) | D92: -243445.5 | E92: -381810.3
C93: - Այլ նպաստներ բյուջեից | D93: -243445.5 | E93: -381810.3
A94: 1086 | C94: Գյուղական ենթակառուցվածքների վերականգնում և զարգացում | D94: -338197.7 | E94: -559398.2
C95: այդ թվում`
B96: 11004 | C96: Զարգացման ֆրանսիական գործակալության աջակցությամբ իրականացվող ՀՀ Արարատի և Արմավիրի մարզերում» ոռոգվող գյուղատնտեսության զարգացման դրամաշնորհային ծրագրի համակարգում և ղեկավարում | D96: -138885.4 | E96: -189096
C97: այդ թվում` ըստ կատարողների
C98: ՀՀ էկոնոմիկայի նախարարություն | D98: -138885.4 | E98: -189096
C99: այդ թվում` բյուջետային ծախսերի տնտեսագիտական դասակարգման հոդվածներ
C100: ԸՆԴԱՄԵՆԸ ԾԱԽՍԵՐ | D100: -138885.4 | E100: -189096
C101: ԸՆԹԱՑԻԿ ԾԱԽՍԵՐ | D101: -138885.4 | E101: -189096
...

Sheet հավելված5
A1: Հավելված N 5 ՀՀ կառավարության 2023 թվականի հունիսի -ի N -Ն որոշման
A3: ՀԱՅԱՍՏԱՆԻ ՀԱՆՐԱՊԵՏՈՒԹՅԱՆ ԿԱՌԱՎԱՐՈՒԹՅԱՆ 2022 ԹՎԱԿԱՆԻ ԴԵԿՏԵՄԲԵՐԻ 29-Ի N 2111-Ն ՈՐՈՇՄԱՆ N 4 ՀԱՎԵԼՎԱԾՈՒՄ ԿԱՏԱՐՎՈՂ ՓՈՓՈԽՈՒԹՅՈՒՆՆԵՐԸ
G4: հազար դրամներով
A5: Գործառական դասիչը | D5: Ծրագրային դասիչը | F5: Բյուջետային ծախսերի գործառական դասակարգման բաժինների, խմբերի և դասերի, բյուջետային ծրագրերի միջոցառումների, բյուջետային հատկացումների գլխավոր կարգադրիչների անվանումները | G5: Ցուցանիշների փոփոխությունը (ավելացումները նշված են դրական նշանով, իսկ նվազեցումները փակագծերում)
A6: Բաժին | B6: Խումբ | C6: Դաս | D6: Ծրագիր | E6: Միջոցա ռում | G6: Ինն ամիս | H6: Տարի
F7: ԸՆԴԱՄԵՆԸ ԾԱԽՍԵՐ | G7: -280460.5 | H7: -477820.7
F8: այդ թվում`
A9: 01 | F9: ԸՆԴՀԱՆՈՒՐ ԲՆՈՒՅԹԻ ՀԱՆՐԱՅԻՆ ԾԱՌԱՅՈՒԹՅՈՒՆՆԵՐ | G9: -168613.4 | H9: -168613.4
F10: այդ թվում`
B11: 01 | F11: Օրենսդիր և գործադիր մարմիններ, պետական կառավարում, ֆինանսական և հարկաբյուջետային հարաբերություններ, արտաքին հարաբերություններ | G11: -166481 | H11: -166481
F12: այդ թվում`
C13: 01 | F13: Օրենսդիր և գործադիր մարմիններ, պետական կառավարում | G13: -112447 | H13: -112447
F14: այդ թվում`
D15: 1009 | E15: 11001 | F15: ՀՀ Արարատի մարզպետարանի կողմից տարածքային պետական կառավարման ապահովում | G15: -15000 | H15: -15000
F16: ՀՀ Արարատի մարզպետարան | G16: -15000 | H16: -15000
D17: 1010 | E17: 11001 | F17: ՀՀ Արմավիրի մարզպետարանի կողմից տարածքային պետական կառավարման ապահովում | G17: -1700 | H17: -1700
F18: ՀՀ Արմավիրի մարզպետարան | G18: -1700 | H18: -1700
D19: 1024 | E19: 11001 | F19: ՀՀ Ազգային ժողովի գործունեության ապահովում, օրենսդրական, վերլուծական և ներկայացուցչական ծառայություններ | G19: 0 | H19: 0
F20: ՀՀ Ազգային ժողով | G20: 0 | H20: 0
D21: 1024 | E21: 31003 | F21: ՀՀ Ազգային ժողովի շենքային պայմանների բարելավում | G21: -29000 | H21: -29000
F22: ՀՀ Ազգային ժողով | G22: -29000 | H22: -29000
D23: 1025 | E23: 11001 | F23: ՀՀ Գեղարքունիքի մարզպետարանի կողմից տարածքային պետական կառավարման ապահովում | G23: -25000 | H23: -25000
F24: ՀՀ Գեղարքունիքի մարզպետարան | G24: -25000 | H24: -25000
D25: 1055 | E25: 11001 | F25: ՀՀ Տավուշի մարզպետարանի կողմից տարածքային պետական կառավարման ապահովում | G25: -1747 | H25: -1747
F26: ՀՀ Տավուշի մարզպետարան | G26: -1747 | H26: -1747
D27: 1154 | E27: 11001 | F27: Հանրապետության նախագահի գործունեության և ներկայացուցչականության ապահովում | G27: -40000 | H27: -40000
F28: Հանրապետության նախագահի աշխատակազմ | G28: -40000 | H28: -40000
C29: 03 | F29: Արտաքին հարաբերություններ | G29: -54034 | H29: -54034
F30: այդ թվում`
D31: 1061 | E31: 11001 | F31: Կառավարության արտաքին քաղաքականության մշակում և իրագործման ապահովում | G31: -2244.6 | H31: -2244.6
F32: ՀՀ արտաքին գործերի նախարարություն | G32: -2244.6 | H32: -2244.6
D33: 1128 | E33: 11001 | F33: Օտարերկրյա պետություններում և միջազգային կազմակերպություններում հավատարմագրված ՀՀ դիվանագիտական ծառայության մարմինների գործունեության իրականացում | G33: -51789.4 | H33: -51789.4
F34: ՀՀ արտաքին գործերի նախարարություն | G34: -51789.4 | H34: -51789.4
B35: 03 | F35: Ընդհանուր բնույթի ծառայություններ | G35: -2132.4 | H35: -2132.4
F36: այդ թվում`
C37: 02 | F37: Ծրագրման և վիճակագրական ընդհանուր ծառայություններ | G37: -2132.4 | H37: -2132.4
F38: այդ թվում`
D39: 1143 | E39: 31003 | F39: ՀՀ վիճակագրական կոմիտեի տեխնիկական կարողությունների զարգացում | G39: -2132.4 | H39: -2132.4
F40: ՀՀ վիճակագրական կոմիտե | G40: -2132.4 | H40: -2132.4
A41: 02 | F41: ՊԱՇՏՊԱՆՈՒԹՅՈՒՆ | G41: -2002400 | H41: -2002400
F42: այդ թվում`
B43: 03 | F43: Արտաքին ռազմական օգնություն | G43: -2400 | H43: -2400
F44: այդ թվում`
C45: 01 | F45: Արտաքին ռազմական օգնություն | G45: -2400 | H45: -2400
F46: այդ թվում`
D47: 1118 | E47: 12002 | F47: ՆԱՏՕ-ի հասարակական տեղեկատվական կենտրոնի գործունեության ապահովում | G47: -2400 | H47: -2400
F48: ՀՀ արտաքին գործերի նախարարություն | G48: -2400 | H48: -2400
B49: 04 | F49: Հետազոտական և նախագծային աշխատանքներ պաշտպանության ոլորտում | G49: -2000000 | H49: -2000000
F50: այդ թվում`
C51: 01 | F51: Հետազոտական և նախագծային աշխատանքներ պաշտպանության ոլորտում | G51: -2000000 | H51: -2000000
F52: այդ թվում`
D53: 1119 | E53: 11001 | F53: «Գիտական և գիտատեխնիկական նպատակային ծրագրային հետազոտություններ» ծրագրի շրջանակներում կատարվող հատուկ գիտահետազոտական և փորձակոնստրուկտորական աշխատանքներ | G53: -2000000 | H53: -2000000
F54: ՀՀ բարձր տեխնոլոգիական արդյունաբերության նախարարություն | G54: -2000000 | H54: -2000000
A55: 03 | F55: ՀԱՍԱՐԱԿԱԿԱՆ ԿԱՐԳ, ԱՆՎՏԱՆԳՈՒԹՅՈՒՆ ԵՎ ԴԱՏԱԿԱՆ ԳՈՐԾՈՒՆԵՈՒԹՅՈՒՆ | G55: -300924.3 | H55: -348479.1
F56: այդ թվում`
B57: 01 | F57: Հասարակական կարգ և անվտանգություն | G57: -271773.8 | H57: -271773.8
F58: այդ թվում`
C59: 02 | F59: Ազգային անվտանգություն | G59: -234888.4 | H59: -234888.4
F60: այդ թվում`
D61: 1138 | E61: 31001 | F61: Ազգային անվտանգության համակարգի տեխնիկական հագեցվածության բարելավում | G61: -234888.4 | H61: -234888.4
F62: ՀՀ ազգային անվտանգության ծառայություն | G62: -234888.4 | H62: -234888.4
C63: 03 | F63: Պետական պահպանություն | G63: -36885.4 | H63: -36885.4
F64: այդ թվում`
D65: 1036 | E65: 11001 | F65: Պետական պահպանության ծառայություններ | G65: -31362.8 | H65: -31362.8
F66: ՀՀ ազգային անվտանգության ծառայություն | G66: -31362.8 | H66: -31362.8
D67: 1036 | E67: 31002 | F67: ՊՊԾ տեխնիկական հագեցվածության բարելավում | G67: -5522.6 | H67: -5522.6
F68: ՀՀ ազգային անվտանգության ծառայություն | G68: -5522.6 | H68: -5522.6
B69: 03 | F69: Դատական գործունեություն և իրավական պաշտպանություն | G69: -20407.9 | H69: -23477.3
F70: այդ թվում`
C71: 01 | F71: Դատարաններ | G71: -2000 | H71: -2000
F72: այդ թվում`
D73: 1092 | E73: 11001 | F73: ՀՀ սահմանադրական դատարանի գործունեության և սահմանադրական արդարադատության ապահովում | G73: -2000 | H73: -2000
F74: ՀՀ սահմանադրական դատարան | G74: -2000 | H74: -2000
C75: 02 | F75: Իրավական պաշտպանություն | G75: -18407.9 | H75: -21477.3
F76: այդ թվում`
D77: 1060 | E77: 11001 | F77: Մարդու իրավունքների և հիմնարար ազատությունների պաշտպանության ծառայությունների տրամադրում | G77: -3000 | H77: -4000
F78: Մարդու իրավունքների պաշտպանի աշխատակազմ | G78: -3000 | H78: -4000
D79: 1060 | E79: 31003 | F79: Հայաստանի Հանրապետության մարդու իրավունքների պաշտպանի աշխատակազմի շենքային պայմանների բարելավում | G79: -15407.9 | H79: -17477.3
F80: Մարդու իրավունքների պաշտպանի աշխատակազմ | G80: -15407.9 | H80: -17477.3
B81: 04 | F81: Դատախազություն | G81: -3714.5 | H81: -15588.9
F82: այդ թվում`
C83: 01 | F83: Դատախազություն | G83: -3714.5 | H83: -15588.9
F84: այդ թվում`
D85: 1087 | E85: 11001 | F85: Քրեական հետապնդման, դատավարական ղեկավարման և դատախազական հսկողության ծառայությունների տրամադրում | G85: -3714.5 | H85: -15588.9
F86: ՀՀ դատախազություն | G86: -3714.5 | H86: -15588.9
B87: 07 | F87: Նախաքննություն | G87: -5028.1 | H87: -37639.1
F88: այդ թվում`
C89: 01 | F89: Նախաքննություն | G89: -5028.1 | H89: -37639.1
F90: այդ թվում`
D91: 1231 | E91: 11001 | F91: Կոռուպցիոն հանցագործությունների բացահայտում և քննություն | G91: 0 | H91: -32611
F92: Հակակոռուպցիոն կոմիտե | G92: 0 | H92: -32611
D93: 1231 | E93: 31001 | F93: ՀՀ հակակոռուպցիոն կոմիտեի տեխնիկական հագեցվածության բարելավում | G93: -5028.1 | H93: -5028.1
F94: Հակակոռուպցիոն կոմիտե | G94: -5028.1 | H94: -5028.1
A95: 04 | F95: ՏՆՏԵՍԱԿԱՆ ՀԱՐԱԲԵՐՈՒԹՅՈՒՆՆԵՐ | G95: -3950348 | H95: -5161013.3
F96: այդ թվում`
B97: 02 | F97: Գյուղատնտեսություն, անտառային տնտեսություն, ձկնորսություն և որսորդություն | G97: -3950348 | H97: -5161013.3
F98: այդ թվում`
C99: 01 | F99: Գյուղատնտեսություն | G99: -3950348 | H99: -5161013.3
F100: այդ թվում`
D101: 1022 | E101: 12010 | F101: Անասնաբուծության ճյուղում իրականացվող ներդրումային ծրագրերին աջակցություն | G101: -2800000 | H101: -3500000
...

Sheet հավելված6
I1: Հավելված N 6
C2: ՀՀ կառավարության 2023 թվականի
C3: ___________ ___-ի N _______ -Ն որոշման
A7: «ՀԱՅԱՍՏԱՆԻ ՀԱՆՐԱՊԵՏՈՒԹՅԱՆ 2023 ԹՎԱԿԱՆԻ ՊԵՏԱԿԱՆ ԲՅՈՒՋԵԻ ՄԱՍԻՆ» ՕՐԵՆՔԻ N 1 ՀԱՎԵԼՎԱԾԻ N 5 ԱՂՅՈՒՍԱԿՈՒՄ ԵՎ ՀԱՅԱՍՏԱՆԻ ՀԱՆՐԱՊԵՏՈՒԹՅԱՆ ԿԱՌԱՎԱՐՈՒԹՅԱՆ 2022 ԹՎԱԿԱՆԻ ԴԵԿՏԵՄԲԵՐԻ 29-Ի N 2111-Ն ՈՐՈՇՄԱՆ N 5 ՀԱՎԵԼՎԱԾԻ N 4 ԱՂՅՈՒՍԱԿՈՒՄ ԿԱՏԱՐՎՈՂ ՓՈՓՈԽՈՒԹՅՈՒՆՆԵՐԸ
I8: հազ. դրամ
A9: Ծրագրային դասիչը | C9: Բյուջետային հատկացումների գլխավոր կարգադրիչների, ծրագրերի, միջոցառումների և միջոցառումները կատարող պետական մարմինների անվանումները | D9: Ցուցանիշների փոփոխությունը (նվազեցումները նշված են փակագծերում)
D10: Ինն ամիս | G10: Տարի
A11: Ծրագիր | B11: Միջոց_x000D_առում | D11: Ընդամենը | E11: այդ թվում | G11: Ընդամենը | H11: այդ թվում
E12: Դրամաշնոր_x000D_հային միջոցներ | F12: Համաֆինանսավորում | H12: Դրամաշնոր_x000D_հային միջոցներ | I12: Համաֆինանսավորում
C13: ԸՆԴԱՄԵՆԸ_x000D_ այդ թվում` | D13: =E13+F13 -> -338197.7 | E13: =+E14 -> -280460.5 | F13: =+F14 -> -57737.2 | G13: =H13+I13 -> -559398.2 | H13: =+H14 -> -477820.7 | I13: =+I14 -> -81577.5 | J13: -338197.7 | K13: -280460.5 | L13: -57737.2 | M13: -189096 | N13: -152700 | O13: -36396
C14: ՀՀ ԷԿՈՆՈՄԻԿԱՅԻ ՆԱԽԱՐԱՐՈՒԹՅՈՒՆ_x000D_ այդ թվում` | D14: =E14+F14 -> -338197.7 | E14: =E15 -> -280460.5 | F14: =F15 -> -57737.2 | G14: =H14+I14 -> -559398.2 | H14: =H15 -> -477820.7 | I14: =I15 -> -81577.5 | J14: -338197.7 | K14: -280460.5 | L14: -57737.2 | M14: -189096 | N14: -152700 | O14: -36396
A15: 1086 | C15: Գյուղատնտեսության խթանման ծրագիր | D15: =E15+F15 -> -338197.7 | E15: =E17+E28+E37 -> -280460.5 | F15: =F17+F28+F37 -> -57737.2 | G15: =H15+I15 -> -559398.2 | H15: =H17+H28+H37 -> -477820.7 | I15: =I17+I28+I37 -> -81577.5 | J15: -338197.7 | K15: -280460.5 | L15: -57737.2 | M15: -189096 | N15: -152700 | O15: -36396
C16: այդ թվում` | J16: 0
B17: 11004 | C17: Զարգացման ֆրանսիական գործակալության աջակցությամբ իրականացվող ՀՀ Արարատի և Արմավիրի մարզերում» ոռոգվող գյուղատնտեսության զարգացման դրամաշնորհային ծրագրի համակարգում և ղեկավարում | D17: =E17+F17 -> -138885.4 | E17: =E19 -> -114200 | F17: =F19 -> -24685.4 | G17: =H17+I17 -> -189096 | H17: =H19 -> -152700 | I17: =I19 -> -36396 | J17: -138885.4 | K17: -114200 | L17: -24685.4 | M17: -189096 | N17: -152700 | O17: -36396
C18: այդ թվում` ըստ կատարողների | J18: 0
C19: ՀՀ էկոնոմիկայի նախարարություն | D19: =E19+F19 -> -138885.4 | E19: =+E21 -> -114200 | F19: =+F21 -> -24685.4 | G19: =H19+I19 -> -189096 | H19: =+H21 -> -152700 | I19: =+I21 -> -36396 | J19: -138885.4 | K19: -114200 | L19: -24685.4 | M19: -189096 | N19: -152700 | O19: -36396
C20: այդ թվում` բյուջետային ծախսերի տնտեսագիտական դասակարգման հոդվածներ | J20: 0
C21: ԸՆԴԱՄԵՆԸ ԾԱԽՍԵՐ | D21: =E21+F21 -> -138885.4 | E21: =E22 -> -114200 | F21: =F22 -> -24685.4 | G21: =H21+I21 -> -189096 | H21: =H22 -> -152700 | I21: =I22 -> -36396 | J21: -138885.4 | K21: -114200 | L21: -24685.4 | M21: -189096 | N21: -152700 | O21: -36396
C22: ԸՆԹԱՑԻԿ ԾԱԽՍԵՐ | D22: =E22+F22 -> -138885.4 | E22: =E23+E26 -> -114200 | F22: =F23+F26 -> -24685.4 | G22: =H22+I22 -> -189096 | H22: =H23+H26 -> -152700 | I22: =I23+I26 -> -36396 | J22: -138885.4 | K22: -114200 | L22: -24685.4 | M22: -189096 | N22: -152700 | O22: -36396
C23: ԾԱՌԱՅՈՒԹՅՈՒՆՆԵՐԻ ԵՎ ԱՊՐԱՆՔՆԵՐԻ ՁԵՌՔԲԵՐՈՒՄ | D23: =E23+F23 -> -21900 | E23: =E24 -> -16700 | F23: =F24 -> -5200 | G23: =H23+I23 -> -25200 | H23: =H24 -> -20000 | I23: =I24 -> -5200 | J23: -21900 | K23: -16700 | L23: -5200 | M23: -25200 | N23: -20000 | O23: -5200
C24: Պայմանագրային այլ ծառայությունների ձեռքբերում | D24: =E24+F24 -> -21900 | E24: =E25 -> -16700 | F24: =F25 -> -5200 | G24: =H24+I24 -> -25200 | H24: =H25 -> -20000 | I24: =I25 -> -5200 | J24: -21900 | K24: -16700 | L24: -5200 | M24: -25200 | N24: -20000 | O24: -5200
C25: - Կառավարչական ծառայություններ | D25: =E25+F25 -> -21900 | E25: -16700 | F25: -5200 | G25: =H25+I25 -> -25200 | H25: -20000 | I25: -5200 | J25: -21900 | K25: -16700 | L25: -5200 | M25: -25200 | N25: -20000 | O25: -5200
C26: ԱՅԼ ԾԱԽՍԵՐ | D26: =E26+F26 -> -116985.4 | E26: =E27 -> -97500 | F26: =F27 -> -19485.4 | G26: =H26+I26 -> -163896 | H26: =H27 -> -132700 | I26: =I27 -> -31196 | J26: -116985.4 | K26: -97500 | L26: -19485.4 | M26: -163896 | N26: -132700 | O26: -31196
C27: Այլ ծախսեր | D27: =E27+F27 -> -116985.4 | E27: -97500 | F27: -19485.4 | G27: =H27+I27 -> -163896 | H27: -132700 | I27: -31196 | J27: -116985.4 | K27: -97500 | L27: -19485.4 | M27: -163896 | N27: -132700 | O27: -31196
B28: 12003 | C28: Զարգացման ֆրանսիական գործակալության աջակցությամբ ՀՀ Արարատի և Արմավիրի մարզերում ժամանակակաից պահանջներին համապատասխան ոռոգման համակարգերի ներդրման և զարգացմանն աջակցություն | D28: =E28+F28 -> -184312.3 | E28: =E30 -> -153593.5 | F28: =F30 -> -30718.8 | G28: =H28+I28 -> -255008.3 | H28: =H30 -> -220080.5 | I28: =I30 -> -34927.8 | J28: -184312.3 | K28: -153593.5 | L28: -30718.8 | M28: -255008.3 | N28: -220080.5 | O28: -34927.8
C29: այդ թվում` ըստ կատարողների | J29: 0 | M29: 0
C30: ՀՀ էկոնոմիկայի նախարարություն | D30: =E30+F30 -> -184312.3 | E30: =E32 -> -153593.5 | F30: =F32 -> -30718.8 | G30: =H30+I30 -> -255008.3 | H30: =H32 -> -220080.5 | I30: =I32 -> -34927.8 | J30: -184312.3 | K30: -153593.5 | L30: -30718.8 | M30: -255008.3 | N30: -220080.5 | O30: -34927.8
C31: այդ թվում` բյուջետային ծախսերի տնտեսագիտական դասակարգման հոդվածներ | J31: 0 | M31: 0
C32: ԸՆԴԱՄԵՆԸ ԾԱԽՍԵՐ | D32: =E32+F32 -> -184312.3 | E32: =E33 -> -153593.5 | F32: =F33 -> -30718.8 | G32: =H32+I32 -> -255008.3 | H32: =H33 -> -220080.5 | I32: =I33 -> -34927.8 | J32: -184312.3 | K32: -153593.5 | L32: -30718.8 | M32: -255008.3 | N32: -220080.5 | O32: -34927.8
C33: ԸՆԹԱՑԻԿ ԾԱԽՍԵՐ | D33: =E33+F33 -> -184312.3 | E33: =E34 -> -153593.5 | F33: =F34 -> -30718.8 | G33: =H33+I33 -> -255008.3 | H33: =H34 -> -220080.5 | I33: =I34 -> -34927.8 | J33: -184312.3 | K33: -153593.5 | L33: -30718.8 | M33: -255008.3 | N33: -220080.5 | O33: -34927.8
C34: ԴՐԱՄԱՇՆՈՐՀՆԵՐ | D34: =E34+F34 -> -184312.3 | E34: =E35 -> -153593.5 | F34: =F35 -> -30718.8 | G34: =H34+I34 -> -255008.3 | H34: =H35 -> -220080.5 | I34: =I35 -> -34927.8 | J34: -184312.3 | K34: -153593.5 | L34: -30718.8 | M34: -255008.3 | N34: -220080.5 | O34: -34927.8
C35: Ընթացիկ դրամաշնորհներ պետական հատվածի այլ մակարդակներին | D35: =E35+F35 -> -184312.3 | E35: =E36 -> -153593.5 | F35: =F36 -> -30718.8 | G35: =H35+I35 -> -255008.3 | H35: =H36 -> -220080.5 | I35: =I36 -> -34927.8 | J35: -184312.3 | K35: -153593.5 | L35: -30718.8 | M35: -255008.3 | N35: -220080.5 | O35: -34927.8
C36: - Այլ ընթացիկ դրամաշնորհներ | D36: =E36+F36 -> -184312.3 | E36: -153593.5 | F36: -30718.8 | G36: =H36+I36 -> -255008.3 | H36: -220080.5 | I36: -34927.8 | J36: -184312.3 | K36: -153593.5 | L36: -30718.8 | M36: -255008.3 | N36: -220080.5 | O36: -34927.8
B37: 31001 | C37: Զարգացման ֆրանսիական գործակալության աջակցությամբ իրականացվող ՀՀ Արարատի և Արմավիրի մարզերում Ոռոգվող գյուղատնտեսության զարգացման դրամաշնորհային ծրագիր | D37: =E37+F37 -> -15000 | E37: =E39 -> -12667 | F37: =F39 -> -2333 | G37: =H37+I37 -> -115293.9 | H37: =H39 -> -105040.2 | I37: =I39 -> -10253.7 | J37: -15000 | K37: -12667 | L37: -2333 | M37: -115293.9 | N37: -105040.2 | O37: -10253.7
C38: այդ թվում` ըստ կատարողների | J38: 0 | M38: 0
C39: ՀՀ էկոնոմիկայի նախարարություն | D39: =E39+F39 -> -15000 | E39: =E41 -> -12667 | F39: =F41 -> -2333 | G39: =H39+I39 -> -115293.9 | H39: =H41 -> -105040.2 | I39: =I41 -> -10253.7 | J39: -15000 | K39: -12667 | L39: -2333 | M39: -115293.9 | N39: -105040.2 | O39: -10253.7
C40: այդ թվում` բյուջետային ծախսերի տնտեսագիտական դասակարգման հոդվածներ | J40: 0 | M40: 0
C41: ԸՆԴԱՄԵՆԸ ԾԱԽՍԵՐ | D41: =E41+F41 -> -15000 | E41: =E42 -> -12667 | F41: =F42 -> -2333 | G41: =H41+I41 -> -115293.9 | H41: =H42 -> -105040.2 | I41: =I42 -> -10253.7 | J41: -15000 | K41: -12667 | L41: -2333 | M41: -115293.9 | N41: -105040.2 | O41: -10253.7
C42: ՈՉ ՖԻՆԱՆՍԱԿԱՆ ԱԿՏԻՎՆԵՐԻ ԳԾՈՎ ԾԱԽՍԵՐ | D42: =E42+F42 -> -15000 | E42: =E43 -> -12667 | F42: =F43 -> -2333 | G42: =H42+I42 -> -115293.9 | H42: =H43 -> -105040.2 | I42: =I43 -> -10253.7 | J42: -15000 | K42: -12667 | L42: -2333 | M42: -115293.9 | N42: -105040.2 | O42: -10253.7
C43: ՀԻՄՆԱԿԱՆ ՄԻՋՈՑՆԵՐ | D43: =E43+F43 -> -15000 | E43: =E44 -> -12667 | F43: =F44 -> -2333 | G43: =H43+I43 -> -115293.9 | H43: =H44 -> -105040.2 | I43: =I44 -> -10253.7 | J43: -15000 | K43: -12667 | L43: -2333 | M43: -115293.9 | N43: -105040.2 | O43: -10253.7
C44: ՄԵՔԵՆԱՆԵՐ ԵՎ ՍԱՐՔԱՎՈՐՈՒՄՆԵՐ | D44: =E44+F44 -> -15000 | E44: =E45 -> -12667 | F44: =F45 -> -2333 | G44: =H44+I44 -> -115293.9 | H44: =H45 -> -105040.2 | I44: =I45 -> -10253.7 | J44: -15000 | K44: -12667 | L44: -2333 | M44: -115293.9 | N44: -105040.2 | O44: -10253.7
C45: - Վարչական սարքավորումներ | D45: =E45+F45 -> -15000 | E45: -12667 | F45: -2333 | G45: =H45+I45 -> -115293.9 | H45: -105040.2 | I45: -10253.7 | J45: -15000 | K45: -12667 | L45: -2333 | M45: -115293.9 | N45: -105040.2 | O45: -10253.7

Sheet հավելված7
A1: Հավելված N 7
A2: ՀՀ կառավարության 2023 թվականի
A3: -ի N -Ն որոշման
A4: «ՀԱՅԱՍՏԱՆԻ ՀԱՆՐԱՊԵՏՈՒԹՅԱՆ 2023 ԹՎԱԿԱՆԻ ՊԵՏԱԿԱՆ ԲՅՈՒՋԵԻ ՄԱՍԻՆ» ՀԱՅԱՍՏԱՆԻ ՀԱՆՐԱՊԵՏՈՒԹՅԱՆ ՕՐԵՆՔԻ N 1 ՀԱՎԵԼՎԱԾԻ N 3 ԱՂՅՈՒՍԱԿՈՒՄ ԿԱՏԱՐՎՈՂ ՓՈՓՈԽՈՒԹՅՈՒՆՆԵՐԸ ԵՎ ԼՐԱՑՈՒՄՆԵՐԸ
G5: (հազ. դրամ)
A6: Ծրագրային դասիչ | C6: Բյուջետային գլխավոր կարգադրիչների, ծրագրերի, միջոցառումների և ուղղությունների անվանումները | D6: Ցուցանիշների փոփոխությունը (ավելացումները նշված են դրական նշանով, իսկ նվազեցումները՝ փակագծերում)
D7: Ընդամենը, | E7: այդ թվում՝
A8: Ծրագիր | B8: Միջոցառում | E8: Կառուցման աշխատանքներ | F8: Վերակառուցման, վերանորոգման և վերականգնման աշխատանքներ | G8: Նախագծահե- տազոտական, գեոդեզիա- քարտեզագրա- կան աշխա- տանքներ | H8: Ոչ ֆինանսական այլ ակտիվների ձեռքբերում
C9: ԸՆԴԱՄԵՆԸ | D9: =SUM(E9:H9) -> -571879.8 | E9: =E12+E16+E22+E26+E30+E34+E38+E41 -> -276661.4 | F9: =F12+F16+F22+F26+F30+F34+F38+F41 -> -35477.3 | G9: =G12+G16+G22+G26+G30+G34+G38+G41 -> 0 | H9: =H12+H16+H22+H26+H30+H34+H38+H41 -> -259741.1
C10: այդ թվում՝
C12: ՀՀ ԱԶԳԱՅԻՆ ԺՈՂՈՎ | D12: =+D14 -> -29000 | E12: =+E14 -> 0 | F12: =+F14 -> -18000 | G12: =+G14 -> 0 | H12: =+H14 -> -11000
C13: այդ թվում`
A14: 1024 | B14: 31003 | C14: ՀՀ Ազգային ժողովի շենքային պայմանների բարելավում | D14: =SUM(E14:H14) -> -29000 | F14: -18000 | H14: -11000
C16: ՀՀ ՔԱՂԱՔԱՇԻՆՈՒԹՅԱՆ ԿՈՄԻՏԵ | D16: =SUM(E16:H16) -> -162006.4 | E16: =E18 -> -162006.4 | F16: =F18 -> 0 | G16: =G18 -> 0 | H16: =H18 -> 0
C17: այդ թվում`
A18: 1103 | B18: 21001 | C18: Քաղաքաշինության բնագավառում պետական ծրագրերի իրականացման ապահովում | D18: =SUM(E18:H18) -> -162006.4 | E18: =SUM(E20:E20) -> -162006.4 | F18: =SUM(F20:F20) -> 0 | G18: =SUM(G20:G20) -> 0 | H18: =SUM(H20:H20) -> 0
C19: այդ թվում`
C20: ՀՀ Լոռու մարզի Ստեփանավան համայնքի Աշոտաբերդ թաղամասի կառուցապատման աշխատանքներ | D20: =SUM(E20:H20) -> -162006.4 | E20: -162006.4
C22: ՄԱՐԴՈՒ ԻՐԱՎՈՒՆՔՆԵՐԻ ՊԱՇՏՊԱՆԻ ԱՇԽԱՏԱԿԱԶՄ | D22: =SUM(D24:D24) -> -17477.3 | E22: =SUM(E24:E24) -> 0 | F22: =SUM(F24:F24) -> -17477.3 | G22: =SUM(G24:G24) -> 0 | H22: =SUM(H24:H24) -> 0
C23: այդ թվում`
A24: 1060 | B24: 31003 | C24: ՀՀ մարդու իրավունքների պաշտպանի աշխատակազմի շենքային պայմանների բարելավում | D24: =SUM(E24:H24) -> -17477.3 | E24: 0 | F24: -17477.3 | G24: 0 | H24: 0
C26: ՀՀ ՀԱԿԱԿՈՌՈՒՊՑԻՈՆ ԿՈՄԻՏԵ | D26: =D28 -> -5028.1 | E26: =E28 -> 0 | F26: =F28 -> 0 | G26: =G28 -> 0 | H26: =H28 -> -5028.1
C27: այդ թվում`
A28: 1231 | B28: 31001 | C28: Հակակոռուպցիոն կոմիտեի տեխնիկական հագեցվածության բարելավում | D28: =SUM(E28:H28) -> -5028.1 | H28: -5028.1
C30: ՀՀ ՎԻՃԱԿԱԳՐԱԿԱՆ ԿՈՄԻՏԵ | D30: =D32 -> -2132.4 | E30: =E32 -> 0 | F30: =F32 -> 0 | G30: =G32 -> 0 | H30: =H32 -> -2132.4
C31: այդ թվում`
A32: 1143 | B32: 31001 | C32: ՀՀ վիճակագրական կոմիտեի տեխնիկական հագեցվածության բարելավում | D32: =SUM(E32:H32) -> -2132.4 | H32: -2132.4
C34: ՀՀ ԱԶԳԱՅԻՆ ԱՆՎՏԱՆԳՈՒԹՅԱՆ ԾԱՌԱՅՈՒԹՅՈՒՆ | D34: =SUM(E34:H34) -> -240411 | E34: =+E36+E37 -> 0 | F34: =+F36+F37 -> 0 | G34: =+G36+G37 -> 0 | H34: =+H36+H37 -> -240411
C35: այդ թվում`
A36: 1036 | B36: 31002 | C36: ՊՊԾ տեխնիկական հագեցվածության բարելավում | D36: =SUM(E36:H36) -> -5522.6 | H36: -5522.6
A37: 1138 | B37: 31001 | C37: Ազգային անվտանգության համակարգի տեխնիկական հագեցվածության բարելավում | D37: =E37+F37+G37+H37 -> -234888.4 | H37: -234888.4
C38: Հեռուստատեսության և ռադիոյի հանձնաժողով | D38: -1169.6 | E38: 0 | F38: 0 | G38: 0 | H38: -1169.6
C39: այդ թվում՛
A40: 1007 | B40: 31001 | C40: Հեռուստատեսության և ռադիոյի հանձնաժողովի տեխնիկական հագեցվածության բարելավում | D40: -1169.6 | E40: 0 | F40: 0 | G40: 0
C41: ՀՀ ԿԱՌԱՎԱՐՈՒԹՅՈՒՆ | D41: =D43 -> -114655 | E41: =E43 -> -114655 | F41: =F43 -> 0 | G41: =G43 -> 0 | H41: =H43 -> 0
C42: այդ թվում` | E42: 0 | F42: 0 | G42: 0
A43: 1139 | B43: 11001 | C43: Պահուստային ֆոնդ | D43: =E43 -> -114655 | E43: -114655 | F43: 0 | G43: 0

Sheet հավելված8
A1: Հավելված N 8
A2: ՀՀ կառավարության 2023 թվականի
A3: -ի N -Ն որոշման
A5: ՀԱՅԱՍՏԱՆԻ ՀԱՆՐԱՊԵՏՈՒԹՅԱՆ ԿԱՌԱՎԱՐՈՒԹՅԱՆ 2022 ԹՎԱԿԱՆԻ ԴԵԿՏԵՄԲԵՐԻ 29-Ի N 2111-Ն ՈՐՈՇՄԱՆ N 5 ՀԱՎԵԼՎԱԾԻ N 2 ԱՂՅՈՒՍԱԿՈՒՄ ԿԱՏԱՐՎՈՂ ՓՈՓՈԽՈՒԹՅՈՒՆՆԵՐԸ ԵՎ ԼՐԱՑՈՒՄՆԵՐԸ
E6: (հազ. դրամ)
A7: Ծրագրային դասիչ | C7: Բյուջետային գլխավոր կարգադրիչների, ծրագրերի, միջոցառումների, միջոցառումները կատարող պետական մարմինների և ուղղությունների անվանումները | D7: Ցուցանիշների փոփոխությունը (ավելացումները նշված են դրական նշանով, իսկ նվազեցումները` փակագծերում)
D8: Ինն ամիս | E8: Տարի
A9: Ծրագիր | B9: Միջոցառում
C10: ԸՆԴԱՄԵՆԸ | D10: =+D12+D17+D22+D29+D34+D39+D47+D50 -> -560281.6 | E10: =+E12+E17+E22+E29+E34+E39+E47+E50 -> -571879.8
C11: այդ թվում՝
C12: ՀՀ ԱԶԳԱՅԻՆ ԺՈՂՈՎ | D12: =+D14 -> -29000 | E12: =+E14 -> -29000
C13: այդ թվում`
A14: 1024 | B14: 31003 | C14: ՀՀ Ազգային ժողովի շենքային պայմանների բարելավում | D14: =D16 -> -29000 | E14: =E16 -> -29000
C15: այդ թվում` ըստ կատարողների
C16: ՀՀ Ազգային Ժողով | D16: -29000 | E16: -29000
C17: ՄԱՐԴՈՒ ԻՐԱՎՈՒՆՔՆԵՐԻ ՊԱՇՏՊԱՆԻ ԱՇԽԱՏԱԿԱԶՄ | D17: =+D19 -> -15407.9 | E17: =+E19 -> -17477.3
C18: այդ թվում`
A19: 1060 | B19: 31003 | C19: ՀՀ մարդու իրավունքների պաշտպանի աշխատակազմի շենքային պայմանների բարելավում | D19: =+D21 -> -15407.9 | E19: =+E21 -> -17477.3
C20: այդ թվում` ըստ կատարողների
C21: Մարդու իրավունքների պաշտպանի աշխատակազմ | D21: -15407.9 | E21: -17477.3
C22: ՀՀ ՔԱՂԱՔԱՇԻՆՈՒԹՅԱՆ ԿՈՄԻՏԵ | D22: =+D24 -> -152477.6 | E22: =+E24 -> -162006.4
C23: այդ թվում`
A24: 1103 | B24: 21001 | C24: Քաղաքաշինության բնագավառում պետական ծրագրերի իրականացման ապահովում | D24: =D26 -> -152477.6 | E24: =E26 -> -162006.4
C25: այդ թվում` ըստ կատարողների
C26: ՀՀ քաղաքաշինության կոմիտե | D26: =D28 -> -152477.6 | E26: =E28 -> -162006.4
C27: այդ թվում՝ ըստ ուղղությունների
C28: ՀՀ Լոռու մարզի Ստեփանավան համայնքի Աշոտաբերդ թաղամասի կառուցապատման աշխատանքներ | D28: -152477.6 | E28: -162006.4
C29: ՀՀ ՀԱԿԱԿՈՌՈՒՊՑԻՈՆ ԿՈՄԻՏԵ | D29: =+D31 -> -5028.1 | E29: =+E31 -> -5028.1
C30: այդ թվում`
A31: 1231 | B31: 31001 | C31: Հակակոռուպցիոն կոմիտեի տեխնիկական հագեցվածության բարելավում | D31: =+D33 -> -5028.1 | E31: =+E33 -> -5028.1
C32: այդ թվում` ըստ կատարողների
C33: ՀՀ հակակոռուպցիոն կոմիտե | D33: -5028.1 | E33: -5028.1
C34: ՀՀ ՎԻՃԱԿԱԳՐԱԿԱՆ ԿՈՄԻՏԵ | D34: =+D36 -> -2132.4 | E34: =+E36 -> -2132.4
C35: այդ թվում`
A36: 1143 | B36: 31003 | C36: ՀՀ վիճակագրական կոմիտեի տեխնիկական կարողությունների զարգացում | D36: =+D38 -> -2132.4 | E36: =+E38 -> -2132.4
C37: այդ թվում` ըստ կատարողների
C38: ՀՀ վիճակագրական կոմիտե | D38: -2132.4 | E38: -2132.4
C39: ՀՀ ԱԶԳԱՅԻՆ ԱՆՎՏԱՆԳՈՒԹՅԱՆ ԾԱՌԱՅՈՒԹՅՈՒՆ | D39: =+D41+D44 -> -240411 | E39: =+E41+E44 -> -240411
C40: այդ թվում`
A41: 1036 | B41: 31002 | C41: ՊՊԾ տեխնիկական հագեցվածության բարելավում | D41: =D43 -> -5522.6 | E41: =E43 -> -5522.6
C42: այդ թվում` ըստ կատարողների
C43: ՀՀ պետական պահպանության ծառայություն | D43: -5522.6 | E43: -5522.6
A44: 1138 | B44: 31001 | C44: Ազգային անվտանգության համակարգի տեխնիկական հագեցվածության բարելավում | D44: =D46 -> -234888.4 | E44: =E46 -> -234888.4
C45: այդ թվում` ըստ կատարողների
C46: ՀՀ ազգային անվտանգության ծառայություն | D46: -234888.4 | E46: -234888.4
C47: Հեռուստատեսության և ռադիոյի հանձնաժողով | D47: -1169.6 | E47: -1169.6
C48: այդ թվում՛
A49: 1007 | B49: 31001 | C49: Հեռուստատեսության և ռադիոյի հանձնաժողովի տեխնիկական հագեցվածության բարելավում | D49: -1169.6 | E49: -1169.6
C50: ՀՀ ԿԱՌԱՎԱՐՈՒԹՅՈՒՆ | D50: =D52 -> -114655 | E50: =E52 -> -114655
C51: այդ թվում`
A52: 1139 | B52: 11001 | C52: Պահուստային ֆոնդ | D52: =հավելված7!D43 -> -114655 | E52: =հավելված7!E43 -> -114655

Sheet հավելված9
C1: Հավելված N 9
C2: ՀՀ կառավարության 2023 թվականի
C3: -ի N -Ն որոշման
A5: ՀԱՅԱՍՏԱՆԻ ՀԱՆՐԱՊԵՏՈՒԹՅԱՆ ԿԱՌԱՎԱՐՈՒԹՅԱՆ 2022 ԹՎԱԿԱՆԻ ԴԵԿՏԵՄԲԵՐԻ 29-Ի N 2111-Ն ՈՐՈՇՄԱՆ N 9 ՀԱՎԵԼՎԱԾՈՒՄ ԿԱՏԱՐՎՈՂ ՓՈՓՈԽՈՒԹՅՈՒՆԸ
C8: Աղյուսակ 9.1
A9: Հանրապետության նախագահի աշխատակազմ
A10: ՄԱՍ 2. ՊԵՏԱԿԱՆ ՄԱՐՄՆԻ ԳԾՈՎ ԱՐԴՅՈՒՆՔԱՅԻՆ (ԿԱՏԱՐՈՂԱԿԱՆ) ՑՈՒՑԱՆԻՇՆԵՐԸ
A12: Ծրագրի դասիչը | B12: Ծրագրի անվանումը
A13: 1154 | B13: Հանրապետության նախագահի լիազորությունների իրականացման ապահովում
A15: Ծրագրի միջոցառումները
C17: Ցուցանիշների փոփոխությունը (ավելացումները նշված են դրական նշանով, իսկ նվազեցումները փակագծերում)
A18: Ծրագրի դասիչը` | B18: 1154
A19: Միջոցառման դասիչը` | B19: 11001 | C19: Ինն ամիս | D19: Տարի
A20: Միջոցառման անվանումը` | B20: Հանրապետության նախագահի գործունեության և ներկայացուցչականության ապահովում
A21: Նկարագրությունը` | B21: Հանրապետության նախագահի` ներքին և արտաքին քաղաքականության առնչությամբ Սահմանադրությամբ սահմանված լիազորությունների իրականացման ապահովում
A22: Միջոցառման տեսակը` | B22: Ծառայությունների մատուցում
A23: Ակտիվն օգտագործող կազմակերպության անունը | B23: Հանրապետության նախագահի աշխատակազմ
A24: Արդյունքի չափորոշիչներ
A25: Միջոցառման վրա կատարվող ծախսը (հազար դրամ) | C25: -40000 | D25: -40000
C28: Աղյուսակ 9.2
A29: ՀՀ Ազգային ժողով
A30: ՄԱՍ 2. ՊԵՏԱԿԱՆ ՄԱՐՄՆԻ ԳԾՈՎ ԱՐԴՅՈՒՆՔԱՅԻՆ (ԿԱՏԱՐՈՂԱԿԱՆ) ՑՈՒՑԱՆԻՇՆԵՐԸ
A31: Ծրագրի դասիչը | B31: Ծրագրի անվանումը
A32: 1024 | B32: ՀՀ Ազգային ժողովի լիազորությունների իրականացման ապահովում
A34: Ծրագրի միջոցառումները
A36: Ծրագրի դասիչը` | B36: 1024
A37: Միջոցառման դասիչը` | B37: 31003 | C37: Ինն ամիս | D37: Տարի
A38: Միջոցառման անվանումը` | B38: ՀՀ Ազգային ժողովի շենքային պայմանների բարելավում
A39: Նկարագրությունը` | B39: ՀՀ Ազգային ժողովի շենք-շինությունների կապիտալ վերանորոգում և նախագծանախահաշվային փաստաթղթերի ձեռքբերում
A40: Միջոցառման տեսակը` | B40: Պետական մարմինների կողմից օգտագործվող ոչ ֆինանսական ակտիվների հետ գործառնություններ
A41: Ակտիվն օգտագործող կազմակերպության անունը | B41: ՀՀ Ազգային ժողով
A42: Արդյունքի չափորոշիչներ
A43: Միջոցառման վրա կատարվող ծախսը (հազար դրամ) | C43: -29000 | D43: -29000
C46: Աղյուսակ 9.4
A47: ՀՀ սահմանադրական դատարան
A48: ՄԱՍ 2. ՊԵՏԱԿԱՆ ՄԱՐՄՆԻ ԳԾՈՎ ԱՐԴՅՈՒՆՔԱՅԻՆ (ԿԱՏԱՐՈՂԱԿԱՆ) ՑՈՒՑԱՆԻՇՆԵՐԸ
A50: Ծրագրի դասիչը | B50: Ծրագրի անվանումը
A51: 1092 | B51: ՀՀ սահմանադրական դատարանի գործունեության ապահովում
A53: Ծրագրի միջոցառումները
A55: Ծրագրի դասիչը` | B55: 1092
A56: Միջոցառման դասիչը` | B56: 11001 | C56: Ինն ամիս | D56: Տարի
A57: Միջոցառման անվանումը` | B57: ՀՀ սահմանադրական դատարանի գործունեության և սահմանադրական արդարադատության ապահովում
A58: Նկարագրությունը` | B58: Վեճերի քննում, լուծում և որոշումների կայացում ՀՀ սահմանադրությանը համապատասխանության վերաբերյալ
A59: Միջոցառման տեսակը` | B59: Ծառայությունների մատուցում
A60: Ծառայությունը մատուցող կազմակերպության(ների) անվանում(ներ)ը | B60: ՀՀ սահմանադրական դատարան
A61: Արդյունքի չափորոշիչներ
A62: Միջոցառման վրա կատարվող ծախսը (հազար դրամ) | C62: -2000 | D62: -2000
C65: Աղյուսակ 9.6
A66: ՀՀ դատախազություն
A67: ՄԱՍ 2. ՊԵՏԱԿԱՆ ՄԱՐՄՆԻ ԳԾՈՎ ԱՐԴՅՈՒՆՔԱՅԻՆ (ԿԱՏԱՐՈՂԱԿԱՆ) ՑՈՒՑԱՆԻՇՆԵՐԸ
A69: Ծրագրի դասիչը | B69: Ծրագրի անվանումը
A70: 1087 | B70: Դատավարական ղեկավարում և դատախազական հսկողություն
A72: Ծրագրի միջոցառումները
A74: Ծրագրի դասիչը` | B74: 1087
A75: Միջոցառման դասիչը` | B75: 11001 | C75: Ինն ամիս | D75: Տարի
A76: Միջոցառման անվանումը` | B76: Քրեական հետապնդման, դատավարական ղեկավարման և դատախազական հսկողության ծառայությունների տրամադրում
A77: Նկարագրությունը` | B77: Քրեական հետապնդման, հարուցման, հետաքննության և նախաքննության օրինականության հսկողություն, մեղադրանքի պաշտպանություն հայցերի հարուցում, դատավճիռների և որոշումների բողոքարկում, պատիժների և հարկադրանքի այլ միջոցների կիրառման օրինականության հսկողություն
A78: Միջոցառման տեսակը` | B78: Ծառայությունների մատուցում
A79: Միջոցառումն իրականացնողի անվանումը | B79: ՀՀ դատախազություն
A80: Արդյունքի չափորոշիչներ
A81: Միջոցառման վրա կատարվող ծախսը (հազար դրամ) | C81: -3714.5 | D81: -15588.9
C84: Աղյուսակ 9.10
A85: ՀՀ էկոնոմիկայի նախարարություն
A86: ՄԱՍ 2. ՊԵՏԱԿԱՆ ՄԱՐՄՆԻ ԳԾՈՎ ԱՐԴՅՈՒՆՔԱՅԻՆ (ԿԱՏԱՐՈՂԱԿԱՆ) ՑՈՒՑԱՆԻՇՆԵՐԸ
A88: Ծրագրի դասիչը | B88: Ծրագրի անվանումը
A89: 1022 | B89: Գյուղատնտեսության խթանման ծրագիր
A91: Ծրագրի միջոցառումները
A93: Ծրագրի դասիչը` | B93: 1022
A94: Միջոցառման դասիչը` | B94: 12010 | C94: Ինն ամիս | D94: Տարի
A95: Միջոցառման անվանումը` | B95: Անասնաբուծության ճյուղում իրականացվող ներդրումային ծրագրերին աջակցություն
A96: Նկարագրությունը` | B96: Անասնաբուծության ճյուղում իրականացվող առնվազն 2.5 մլրդ դրամի ներդրումներից կապիտալ ներդրումների մասնակի փոխհատուցում
A97: Միջոցառման տեսակը` | B97: Տրանսֆերտների տրամադրում
A98: Շահառուների ընտրության չափանիշները | B98: ՀՀ գյուղատնտեսական տնտեսավարողներ՛ ընտրված ՀՀ կառավարության 03.03.2022թ. թիվ 276-Լ որոշմամբ հաստատված ծրագրի չափանիշներին համապատասխան
A99: Արդյունքի չափորոշիչներ
A100: Ծրագրի շրջանակում 2022 թվականից իրականացվող ներդրումային ծրագրեր, հատ | C100: -5 | D100: -5
A101: Միջոցառման վրա կատարվող ծախսը (հազար դրամ) | C101: -2800000 | D101: -3500000
A103: Ծրագրի դասիչը` | B103: 1022
A104: Միջոցառման դասիչը` | B104: 12011 | C104: Ինն ամիս | D104: Տարի
A105: Միջոցառման անվանումը` | B105: Հայաստանի Հանրապետությունում գյուղատնտեսական նշանակության հողերի միավորմանը (կոնսոլիդացիային) աջակցություն
A106: Նկարագրությունը` | B106: Գյուղատնտեսական նշանակության հողերի առանձին գույքային միավորների ձեռքբերման և դրանց սահմանների միավորման միջոցով առնվազն 30 հա հանրագումարային մակերեսով հողամասերի վրա իրականացված համալիր միջոցառումների համար փաստացի կատարված ծախսերի մասնակի փոխհատուցում
A107: Միջոցառման տեսակը` | B107: Տրանսֆերտների տրամադրում
A108: Շահառուների ընտրության չափանիշները | B108: ՀՀ տնտեսավարողներ՛ ՀՀ կառավարության 04.08.2022թ. թիվ1220-Լ որոշմամբ հաստատված ծրագրի չափանիշներին համապատասխան
A109: Արդյունքի չափորոշիչներ
A110: Ծրագրի շրջանակներում միավորված և շրջանառության մեջ ներառված գյուղատնտեսական նշանակության հողեր, հեկտար | C110: -750 | D110: -970
A111: Միջոցառման վրա կատարվող ծախսը (հազար դրամ) | C111: -682150.3 | D111: -951615.1
A114: Ծրագրի դասիչը | B114: Ծրագրի անվանումը
A115: 1086 | B115: Գյուղական ենթակառուցվածքների վերականգնում և զարգացում
A117: Ծրագրի միջոցառումները
A119: Ծրագրի դասիչը` | B119: 1086
A120: Միջոցառման դասիչը` | B120: 11004 | C120: Ինն ամիս | D120: Տարի
A121: Միջոցառման անվանումը` | B121: Զարգացման ֆրանսիական գործակալության աջակցությամբ իրականացվող ՀՀ Արարատի և Արմավիրի մարզերում» ոռոգվող գյուղատնտեսության զարգացման դրամաշնորհային ծրագրի համակարգում և ղեկավարում
A122: Նկարագրությունը` | B122: Զարգացման ֆրանսիական գործակալության աջակցությամբ իրականացվող ՀՀ Արարատի և Արմավիրի մարզերում ոռոգվող գյուղատնտեսության զարգացման դրամաշնորհային ծրագրի համակարգում և ղեկավարում
A123: Միջոցառման տեսակը` | B123: Ծառայությունների մատուցում
A124: Միջոցառումն իրականացնողի անվանումը? | B124: Մասնագիտացված միավոր
A125: Արդյունքի չափորոշիչներ
A126: Հատուկ ուսուցում ստացած շահառուներ, թիվ | C126: -700 | D126: -1000
A127: Միջոցառման վրա կատարվող ծախսը (հազար դրամ) | C127: -138885.4 | D127: -189096
A129: Ծրագրի դասիչը` | B129: 1086
A130: Միջոցառման դասիչը` | B130: 12003 | C130: Ինն ամիս | D130: Տարի
A131: Միջոցառման անվանումը` | B131: Զարգացման ֆրանսիական գործակալության աջակցությամբ ՀՀ Արարատի և Արմավիրի մարզերում ժամանակակաից պահանջներին համապատասխան ոռոգման համակարգերի ներդրման և զարգացմանն աջակցություն
...

Sheet հավելված10
C2: Հավելված N 10
C3: ՀՀ կառավարության 2023 թվականի
C4: -ի N -Ն որոշման
A6: ՀԱՅԱՍՏԱՆԻ ՀԱՆՐԱՊԵՏՈՒԹՅԱՆ ԿԱՌԱՎԱՐՈՒԹՅԱՆ 2022 ԹՎԱԿԱՆԻ ԴԵԿՏԵՄԲԵՐԻ 29-Ի N 2111-Ն ՈՐՈՇՄԱՆ N 9.1 ՀԱՎԵԼՎԱԾՈՒՄ ԿԱՏԱՐՎՈՂ ՓՈՓՈԽՈՒԹՅՈՒՆԸ
A7: Հավելված N 9.1ՀՀ 2022թվականի պետական բյուջեի ելքային ծրագրերի և միջոցառումների գծով արդյունքային (կատարողական) ցուցանիշների եռամսյակային (աճողական) համամասնությունները` ըստ միջոցառումները կատարող հանրային իշխանության մարմինների
C9: Աղյուսակ 9.1.1
A10: Հանրապետության նախագահի աշխատակազմ
A11: ՄԱՍ 1. ՊԵՏԱԿԱՆ ՄԱՐՄՆԻ ԳԾՈՎ ԱՐԴՅՈՒՆՔԱՅԻՆ (ԿԱՏԱՐՈՂԱԿԱՆ) ՑՈՒՑԱՆԻՇՆԵՐԸ
A13: Ծրագրի դասիչը | B13: Ծրագրի անվանումը
A14: 1154 | B14: Հանրապետության նախագահի լիազորությունների իրականացման ապահովում
A16: Ծրագրի միջոցառումները
C18: Ցուցանիշների փոփոխությունը (ավելացումները նշված են դրական նշանով, իսկ նվազեցումները փակագծերում)
A19: Ծրագրի դասիչը` | B19: 1154
A20: Միջոցառման դասիչը` | B20: 11001 | C20: Ինն ամիս | D20: Տարի
A21: Միջոցառման անվանումը` | B21: Հանրապետության նախագահի գործունեության և ներկայացուցչականության ապահովում
A22: Նկարագրությունը` | B22: Հանրապետության նախագահի` ներքին և արտաքին քաղաքականության առնչությամբ Սահմանադրությամբ սահմանված լիազորությունների իրականացման ապահովում
A23: Միջոցառման տեսակը` | B23: Ծառայությունների մատուցում
A24: Ակտիվն օգտագործող կազմակերպության անունը | B24: Հանրապետության նախագահի աշխատակազմ
A25: Արդյունքի չափորոշիչներ
A26: Միջոցառման վրա կատարվող ծախսը (հազար դրամ) | C26: -40000 | D26: -40000
C29: Աղյուսակ 9.1.2
A30: ՀՀ Ազգային ժողով
A31: ՄԱՍ 1. ՊԵՏԱԿԱՆ ՄԱՐՄՆԻ ԳԾՈՎ ԱՐԴՅՈՒՆՔԱՅԻՆ (ԿԱՏԱՐՈՂԱԿԱՆ) ՑՈՒՑԱՆԻՇՆԵՐԸ
A33: Ծրագրի դասիչը | B33: Ծրագրի անվանումը
A34: 1024 | B34: ՀՀ Ազգային ժողովի լիազորությունների իրականացման ապահովում
A36: Ծրագրի միջոցառումները
A38: Ծրագրի դասիչը` | B38: 1024
A39: Միջոցառման դասիչը` | B39: 31003 | C39: Ինն ամիս | D39: Տարի
A40: Միջոցառման անվանումը` | B40: ՀՀ Ազգային ժողովի շենքային պայմանների բարելավում
A41: Նկարագրությունը` | B41: ՀՀ Ազգային ժողովի շենք-շինությունների կապիտալ վերանորոգում և նախագծանախահաշվային փաստաթղթերի ձեռքբերում
A42: Միջոցառման տեսակը` | B42: Պետական մարմինների կողմից օգտագործվող ոչ ֆինանսական ակտիվների հետ գործառնություններ
A43: Ակտիվն օգտագործող կազմակերպության անունը | B43: ՀՀ Ազգային ժողով
A44: Արդյունքի չափորոշիչներ
A45: Միջոցառման վրա կատարվող ծախսը (հազար դրամ) | C45: -29000 | D45: -29000
C48: Աղյուսակ 9.1.4
A49: ՀՀ սահմանադրական դատարան
A50: ՄԱՍ 1. ՊԵՏԱԿԱՆ ՄԱՐՄՆԻ ԳԾՈՎ ԱՐԴՅՈՒՆՔԱՅԻՆ (ԿԱՏԱՐՈՂԱԿԱՆ) ՑՈՒՑԱՆԻՇՆԵՐԸ
A52: Ծրագրի դասիչը | B52: Ծրագրի անվանումը
A53: 1092 | B53: ՀՀ սահմանադրական դատարանի գործունեության ապահովում
A55: Ծրագրի միջոցառումները
A57: Ծրագրի դասիչը` | B57: 1092
A58: Միջոցառման դասիչը` | B58: 11001 | C58: Ինն ամիս | D58: Տարի
A59: Միջոցառման անվանումը` | B59: ՀՀ սահմանադրական դատարանի գործունեության և սահմանադրական արդարադատության ապահովում
A60: Նկարագրությունը` | B60: Վեճերի քննում, լուծում և որոշումների կայացում ՀՀ սահմանադրությանը համապատասխանության վերաբերյալ
A61: Միջոցառման տեսակը` | B61: Ծառայությունների մատուցում
A62: Ծառայությունը մատուցող կազմակերպության(ների) անվանում(ներ)ը | B62: ՀՀ սահմանադրական դատարան
A63: Արդյունքի չափորոշիչներ
A64: Միջոցառման վրա կատարվող ծախսը (հազար դրամ) | C64: -2000 | D64: -2000
C67: Աղյուսակ 9.1.6
A68: ՀՀ դատախազություն
A69: ՄԱՍ 1. ՊԵՏԱԿԱՆ ՄԱՐՄՆԻ ԳԾՈՎ ԱՐԴՅՈՒՆՔԱՅԻՆ (ԿԱՏԱՐՈՂԱԿԱՆ) ՑՈՒՑԱՆԻՇՆԵՐԸ
A71: Ծրագրի դասիչը | B71: Ծրագրի անվանումը
A72: 1087 | B72: Դատավարական ղեկավարում և դատախազական հսկողություն
A74: Ծրագրի միջոցառումները
A76: Ծրագրի դասիչը` | B76: 1087
A77: Միջոցառման դասիչը` | B77: 11001 | C77: Ինն ամիս | D77: Տարի
A78: Միջոցառման անվանումը` | B78: Քրեական հետապնդման, դատավարական ղեկավարման և դատախազական հսկողության ծառայությունների տրամադրում
A79: Նկարագրությունը` | B79: Քրեական հետապնդման, հարուցման, հետաքննության և նախաքննության օրինականության հսկողություն, մեղադրանքի պաշտպանություն հայցերի հարուցում, դատավճիռների և որոշումների բողոքարկում, պատիժների և հարկադրանքի այլ միջոցների կիրառման օրինականության հսկողություն
A80: Միջոցառման տեսակը` | B80: Ծառայությունների մատուցում
A81: Միջոցառումն իրականացնողի անվանումը | B81: ՀՀ դատախազություն
A82: Արդյունքի չափորոշիչներ
A83: Միջոցառման վրա կատարվող ծախսը (հազար դրամ) | C83: -3714.5 | D83: -15588.9
C86: Աղյուսակ 9.1.10
A87: ՀՀ էկոնոմիկայի նախարարություն
A88: ՄԱՍ 1. ՊԵՏԱԿԱՆ ՄԱՐՄՆԻ ԳԾՈՎ ԱՐԴՅՈՒՆՔԱՅԻՆ (ԿԱՏԱՐՈՂԱԿԱՆ) ՑՈՒՑԱՆԻՇՆԵՐԸ
A90: Ծրագրի դասիչը | B90: Ծրագրի անվանումը
A91: 1022 | B91: Գյուղատնտեսության խթանման ծրագիր
A93: Ծրագրի միջոցառումները
A95: Ծրագրի դասիչը` | B95: 1022
A96: Միջոցառման դասիչը` | B96: 12010 | C96: Ինն ամիս | D96: Տարի
A97: Միջոցառման անվանումը` | B97: Անասնաբուծության ճյուղում իրականացվող ներդրումային ծրագրերին աջակցություն
A98: Նկարագրությունը` | B98: Անասնաբուծության ճյուղում իրականացվող առնվազն 2.5 մլրդ դրամի ներդրումներից կապիտալ ներդրումների մասնակի փոխհատուցում
A99: Միջոցառման տեսակը` | B99: Տրանսֆերտների տրամադրում
A100: Շահառուների ընտրության չափանիշները | B100: ՀՀ գյուղատնտեսական տնտեսավարողներ՛ ընտրված ՀՀ կառավարության 03.03.2022թ. թիվ 276-Լ որոշմամբ հաստատված ծրագրի չափանիշներին համապատասխան
A101: Արդյունքի չափորոշիչներ
A102: Ծրագրի շրջանակում 2022 թվականից իրականացվող ներդրումային ծրագրեր, հատ | C102: -5 | D102: -5
A103: Միջոցառման վրա կատարվող ծախսը (հազար դրամ) | C103: -2800000 | D103: -3500000
A105: Ծրագրի դասիչը` | B105: 1022
A106: Միջոցառման դասիչը` | B106: 12011 | C106: Ինն ամիս | D106: Տարի
A107: Միջոցառման անվանումը` | B107: Հայաստանի Հանրապետությունում գյուղատնտեսական նշանակության հողերի միավորմանը (կոնսոլիդացիային) աջակցություն
A108: Նկարագրությունը` | B108: Գյուղատնտեսական նշանակության հողերի առանձին գույքային միավորների ձեռքբերման և դրանց սահմանների միավորման միջոցով առնվազն 30 հա հանրագումարային մակերեսով հողամասերի վրա իրականացված համալիր միջոցառումների համար փաստացի կատարված ծախսերի մասնակի փոխհատուցում
A109: Միջոցառման տեսակը` | B109: Տրանսֆերտների տրամադրում
A110: Շահառուների ընտրության չափանիշները | B110: ՀՀ տնտեսավարողներ՛ ՀՀ կառավարության 04.08.2022թ. թիվ1220-Լ որոշմամբ հաստատված ծրագրի չափանիշներին համապատասխան
A111: Արդյունքի չափորոշիչներ
A112: Ծրագրի շրջանակներում միավորված և շրջանառության մեջ ներառված գյուղատնտեսական նշանակության հողեր, հեկտար | C112: -750 | D112: -970
A113: Միջոցառման վրա կատարվող ծախսը (հազար դրամ) | C113: -682150.3 | D113: -951615.1
A116: Ծրագրի դասիչը | B116: Ծրագրի անվանումը
A117: 1086 | B117: Գյուղական ենթակառուցվածքների վերականգնում և զարգացում
A119: Ծրագրի միջոցառումները
A121: Ծրագրի դասիչը` | B121: 1086
A122: Միջոցառման դասիչը` | B122: 11004 | C122: Ինն ամիս | D122: Տարի
A123: Միջոցառման անվանումը` | B123: Զարգացման ֆրանսիական գործակալության աջակցությամբ իրականացվող ՀՀ Արարատի և Արմավիրի մարզերում» ոռոգվող գյուղատնտեսության զարգացման դրամաշնորհային ծրագրի համակարգում և ղեկավարում
A124: Նկարագրությունը` | B124: Զարգացման ֆրանսիական գործակալության աջակցությամբ իրականացվող ՀՀ Արարատի և Արմավիրի մարզերում ոռոգվող գյուղատնտեսության զարգացման դրամաշնորհային ծրագրի համակարգում և ղեկավարում
A125: Միջոցառման տեսակը` | B125: Ծառայությունների մատուցում
A126: Միջոցառումն իրականացնողի անվանումը? | B126: Մասնագիտացված միավոր
A127: Արդյունքի չափորոշիչներ
A128: Հատուկ ուսուցում ստացած շահառուներ, թիվ | C128: -700 | D128: -1000
A129: Միջոցառման վրա կատարվող ծախսը (հազար դրամ) | C129: -138885.4 | D129: -189096
A131: Ծրագրի դասիչը` | B131: 1086
A132: Միջոցառման դասիչը` | B132: 12003 | C132: Ինն ամիս | D132: Տարի
...

Sheet հավելված11
F1: Հավելված N 11
E2: ՀՀ կառավարության 2023 թվականի
E3: ________ N ____ որոշման
A6: ՀԱՅԱՍՏԱՆԻ ՀԱՆՐԱՊԵՏՈՒԹՅԱՆ ԿԱՌԱՎԱՐՈՒԹՅԱՆ 2022 ԹՎԱԿԱՆԻ ԴԵԿՏԵՄԲԵՐԻ 29-Ի N 2111-Ն ՈՐՈՇՄԱՆ N 10 ՀԱՎԵԼՎԱԾՈՒՄ ԿԱՏԱՐՎՈՂ ՓՈՓՈԽՈՒԹՅՈՒՆՆԵՐԸ
A8: Կոդը | B8: Անվանումը | C8: Գնման ձևը | D8: Չափման միավորը | E8: Ցուցանիշների փոփոխությունը (ավելացումները նշված են դրական նշանով, իսկ նվազեցումները` փակագծերում)
E9: միավորի գինը (դրամով) | F9: քանակը | G9: գումարը (հազար դրամով)
G10: =G11+G34+G42+G48+G104+G117+G138+G149+G167+G179+G251+G259+G273+G279 -> -526077
A11: ՀՀ Նախագահի աշխատակազմ | G11: =G12 -> -23498
A12: Բաժին N 01 Խումբ N 01 Դաս N 01 Օրենսդիր և գործադիր մարմիններ, պետական կառավարում | G12: =G13 -> -23498
A13: 1154 11001 | B13: Հանրապետության նախագահի գործունեության և ներկայացուցչականության ապահովում | G13: =G14+G30 -> -23498
B14: ՄԱՍ I. ԱՊՐԱՆՔՆԵՐ | G14: =G15+G16+G17+G18+G19+G20+G21+G22+G23+G24+G25+G26+G27+G28+G29 -> -11998
A15: 09132100/1 | B15: բենզին, պրեմիում | C15: ԷԱՃ | D15: լիտր | E15: 450 | F15: -4444.4 | G15: -2000
A16: 18511170/8 | B16: շքանշաններ | C16: ԷԱՃ | D16: հատ | E16: 145000 | F16: -12 | G16: -1740
A17: 18511170/9 | B17: շքանշաններ | C17: ԷԱՃ | D17: հատ | E17: 92000 | F17: -9 | G17: -828
A18: 18511180/14 | B18: մեդալներ, կրծքանշաններ | C18: ԷԱՃ | D18: հատ | E18: 22740 | F18: -100 | G18: -2274
A19: 18511180/15 | B19: մեդալներ, կրծքանշաններ | C19: ԷԱՃ | D19: հատ | E19: 19680 | F19: -19 | G19: -373.92
A20: 18511180/16 | B20: մեդալներ, կրծքանշաններ | C20: ԷԱՃ | D20: հատ | E20: 19800 | F20: -35 | G20: -693
A21: 18511180/17 | B21: մեդալներ, կրծքանշաններ | C21: ԷԱՃ | D21: հատ | E21: 19800 | F21: -35 | G21: -693
A22: 18511180/18 | B22: մեդալներ, կրծքանշաններ | C22: ԷԱՃ | D22: հատ | E22: 19800 | F22: -25 | G22: -495
A23: 18511180/19 | B23: մեդալներ, կրծքանշաններ | C23: ԷԱՃ | D23: հատ | E23: 19800 | F23: -35 | G23: -693
A24: 18511180/20 | B24: մեդալներ, կրծքանշաններ | C24: ԷԱՃ | D24: հատ | E24: 15900 | F24: -40 | G24: -636
A25: 18511180/21 | B25: մեդալներ, կրծքանշաններ | C25: ԷԱՃ | D25: հատ | E25: 12136 | F25: -30 | G25: -364.08
A26: 18511180/22 | B26: մեդալներ, կրծքանշաններ | C26: ԷԱՃ | D26: հատ | E26: 11000 | F26: -5 | G26: -55
... A29: 18511190/3 | B29: մեդալների և շքանշանների տուփեր | C29: ԷԱՃ | D29: հատ | E29: 16000 | F29: -8 | G29: -128
B30: ՄԱՍ III. ԾԱՌԱՅՈՒԹՅՈՒՆՆԵՐ | G30: =G31+G32 -> -11500
A31: 64111200/1 | B31: փոստային ծառայություններ` կապված նամակների հետ | C31: ՄԱ | D31: դրամ | G31: -1500
A32: 65311100/1 | B32: էլեկտրականության բաշխում | C32: ՄԱ | D32: դրամ | G32: -10000
A34: ՀՀ Ազգային ժողով | G34: =G35 -> -29000
A35: Բաժին N 01 Խումբ N 01 Դաս N 01 Օրենսդիր և գործադիր մարմիններ, պետական կառավարում | G35: =G36 -> -29000
A36: 1024 31003 | B36: ՀՀ Ազգային ժողովի շենքային պայմանների բարելավում | G36: =G37+G39 -> -29000
B37: ՄԱՍ I. ԱՊՐԱՆՔՆԵՐ | G37: =G38 -> -11000
A38: 42414700/1 | B38: Վերելակներ | C38: ԳՀ | D38: հատ | G38: -11000
B39: ՄԱՍ II. ԱՇԽԱՏԱՆՔՆԵՐ | G39: =G40 -> -18000
A40: 45311119/1 | B40: Վերելակների տեղադրման աշխատանքներ | C40: ԳՀ | D40: դրամ | G40: -18000
A42: ՀՀ սահմանադրական դատարան | G42: =G43 -> -2000
A43: Բաժին N 03 Խումբ N 03 Դաս N 01 Դատարաններ | G43: =G44 -> -2000
A44: 1092 11001 | B44: ՀՀ սահմանադրական դատարանի գործունեության և սահմանադրական արդարադատության ապահովում | G44: =G45 -> -2000
B45: ՄԱՍ II. ԱՇԽԱՏԱՆՔՆԵՐ | G45: =G46 -> -2000
A46: 45461100/501 | B46: շենքերի, շինությունների ընթացիկ նորոգման աշխատանքներ | C46: ԳՀ | D46: դրամ | G46: -2000
A48: ՀՀ դատախազություն | G48: =G49 -> -15588.9
A49: Բաժին N 03 Խումբ N 04 Դաս N 01 Դատախազություն | G49: =G50 -> -15588.9
A50: 1087 11001 | B50: Քրեական հետապնդման, դատավարական ղեկավարման և դատախազական հսկողության ծառայությունների տրամադրում | G50: =G51 -> -15588.9
B51: ՄԱՍ I. ԱՊՐԱՆՔՆԵՐ | G51: =G52+G53+G54+G55+G56+G57+G58+G59+G60+G61+G62+G63+G64+G65+G66+G67+G68+G69+G70+G71+G72+G73+G74+G75+G76+G77+G78+G79+G80+G81+G82+G83+G84+G85+G86+G87+G88+G89+G90+G91+G92+G93+G94+G95+G96+G97+G98+G99+G100+G101+G102 -> -15588.9
A52: 30199232/503 | B52: նամակի ծրար, A4 ձ―աչափի | C52: ԷԱՃ | D52: հատ | G52: -8
A53: 30197321/503 | B53: կարիչ, մինչ― 20 թերթի համար | C53: ԷԱՃ | D53: հատ | G53: -32.6
A54: 30121460/6 | B54: տոներային քարտրիջներ | C54: ԷԱՃ | D54: հատ | G54: -76.3
A55: 30197112/503 | B55: կարիչի մետաղալարե կապեր, միջին | C55: ԷԱՃ | D55: տուփ | G55: -85.2
A56: 22451200/502 | B56: վկայականներ | C56: ԷԱՃ | D56: հատ | G56: -73
A57: 30199232/506 | B57: նամակի ծրար, A4 ձ―աչափի | C57: ԷԱՃ | D57: հատ | G57: -10
A58: 30197331/502 | B58: դակիչ մեծ | C58: ԷԱՃ | D58: հատ | G58: -3.2
A59: 22451240/528 | B59: բլանկներ | C59: ԷԱՃ | D59: հատ | G59: -11
A60: 30121460/4 | B60: տոներային քարտրիջներ | C60: ԷԱՃ | D60: հատ | G60: -72
A61: 30197100/507 | B61: կարիչի մետաղալարե կապեր, մեծ | C61: ԷԱՃ | D61: տուփ | G61: -92.4
A62: 30199430/502 | B62: թուղթ նշումների, տրցակներով | C62: ԷԱՃ | D62: հատ | G62: -35
A63: 22811110/6 | B63: հաշվառման գրքեր | C63: ԷԱՃ | D63: հատ | G63: -78.5
... A102: 09211100/501 | B102: շարժիչի յուղեր | C102: ԷԱՃ | D102: լիտր | G102: -38.8
A104: ՀՀ արտաքին գործերի նախարարություն | G104: =G105+G112 -> -6434
A105: Բաժին N 01 Խումբ N 01 Դաս N 03 Արտաքին հարաբերություններ | G105: =G106+G109 -> -4034
A106: 1061 11001 | B106: Կառավարության արտաքին քաղաքականության մշակում և իրագործման ապահովում | G106: =G107 -> -2244.6
B107: ՄԱՍ I. ԱՊՐԱՆՔՆԵՐ | G107: =G108 -> -2244.6
A108: 09132200/1 | B108: բենզին, ռեգուլյար | C108: ԷԱՃ | D108: լիտր | E108: 430 | F108: -5220 | G108: -2244.6
A109: 1128 11001 | B109: Օտարերկրյա պետություններում և միջազգային կազմակերպություններում հավատարմագրված ՀՀ դիվանագիտական ծառայության մարմինների գործունեության իրականացում | G109: =G110 -> -1789.4
B110: ՄԱՍ III. ԾԱՌԱՅՈՒԹՅՈՒՆՆԵՐ | G110: =G111 -> -1789.4
A111: 66511140/3 | B111: Ապահովագրական ծախսեր | C111: ԲՄ | D111: դրամ | G111: -1789.4
A112: Բաժին N 02 Խումբ N 03 Դաս N 01 Արտաքին ռազմական օգնություն | G112: =G113 -> -2400
A113: 1118 12002 | B113: ՆԱՏՕ-ի հասարակական տեղեկատվական կենտրոնի գործունեության ապահովում | G113: =G114 -> -2400
B114: ՄԱՍ III. ԾԱՌԱՅՈՒԹՅՈՒՆՆԵՐ | G114: =G115 -> -2400
A115: 70221100/1 | B115: Ոչ բնակելի անշարժ գույքի վարձակալության կամ լիզինգի ծառայություններ | C115: ՄԱ | D115: դրամ | G115: -2400
A117: ՀՀ շրջակա միջավայրի նախարարություն | G117: =G118 -> -195653.7
A118: Բաժին N 05 Խումբ N 04 Դաս N 01 Կենսաբազմազանության և բնության պաշտպանություն | G118: =G119 -> -195653.7
A119: 1155 11002 | B119: Սևանա լճի ջրածածկ անտառտնկարկների մաքրում | G119: =G120+G128 -> -195653.7
B120: ՄԱՍ II. ԱՇԽԱՏԱՆՔՆԵՐ | G120: =G121+G123+G122+G124+G125+G126+G127 -> -191417.7
A121: 45111450/2 | B121: լանդշաֆտային աշխատանքներ կանաչ տարածքների համար | C121: ԲՄ | D121: դրամ | G121: -15751
A122: 45111450/3 | B122: լանդշաֆտային աշխատանքներ կանաչ տարածքների համար | C122: ԲՄ | D122: դրամ | G122: -19510.1
A123: 45111450/4 | B123: լանդշաֆտային աշխատանքներ կանաչ տարածքների համար | C123: ԲՄ | D123: դրամ | G123: -27122.8
A124: 45111450/5 | B124: լանդշաֆտային աշխատանքներ կանաչ տարածքների համար | C124: ԲՄ | D124: դրամ | G124: -37983.4
A125: 45111450/6 | B125: լանդշաֆտային աշխատանքներ կանաչ տարածքների համար | C125: ԲՄ | D125: դրամ | G125: -15323.8
A126: 45111450/7 | B126: լանդշաֆտային աշխատանքներ կանաչ տարածքների համար | C126: ԲՄ | D126: դրամ | G126: -58015.9
A127: 45111450/8 | B127: լանդշաֆտային աշխատանքներ կանաչ տարածքների համար | C127: ԲՄ | D127: դրամ | G127: -17710.7
B128: ՄԱՍ III. ԾԱՌԱՅՈՒԹՅՈՒՆՆԵՐ | G128: =G129+G130+G131+G132+G133+G134+G135+G136 -> -4236
A129: 71241700/3 | B129: շինարարական աշխատանքների վերահսկում | C129: ԲՄ | D129: դրամ | G129: -252
A130: 71241700/4 | B130: շինարարական աշխատանքների վերահսկում | C130: ԲՄ | D130: դրամ | G130: -312.1
A131: 71241700/5 | B131: շինարարական աշխատանքների վերահսկում | C131: ԲՄ | D131: դրամ | G131: -434
A132: 71241700/6 | B132: շինարարական աշխատանքների վերահսկում | C132: ԲՄ | D132: դրամ | G132: -607.8
A133: 71241700/7 | B133: շինարարական աշխատանքների վերահսկում | C133: ԲՄ | D133: դրամ | G133: -245.2
A134: 71241700/8 | B134: շինարարական աշխատանքների վերահսկում | C134: ԲՄ | D134: դրամ | G134: -928.3
A135: 71241700/9 | B135: շինարարական աշխատանքների վերահսկում | C135: ԲՄ | D135: դրամ | G135: -283.4
A136: 98111140/1 | B136: հեղինակային հսկողության ծառայություններ | C136: ՄԱ | D136: դրամ | G136: -1173.2
A138: ՀՀ վիճակագրական կոմիտե | G138: =G139 -> -2132.4
A139: Բաժին N 01 Խումբ N 03 Դաս N 02 Ծրագրման և վիճակագրական ընդհանուր ծառայություններ | G139: =G140 -> -2132.4
A140: 1143 31003 | B140: ՀՀ վիճակագրական կոմիտեի տեխնիկական կարողությունների զարգացում | G140: =G141+G146 -> -2132.4
B141: ՄԱՍ I. ԱՊՐԱՆՔՆԵՐ | G141: =G142+G143+G144+G145 -> -1082.4
A142: 39714200/1 | B142: օդորակիչ | C142: ԷԱՃ | D142: հատ | G142: -150
A143: 39714200/2 | B143: օդորակիչ | C143: ԷԱՃ | D143: հատ | G143: -516.4
A144: 39714200/3 | B144: օդորակիչ | C144: ԷԱՃ | D144: հատ | G144: -258
A145: 39714200/4 | B145: օդորակիչ | C145: ԷԱՃ | D145: հատ | G145: -158
B146: ՄԱՍ III. ԾԱՌԱՅՈՒԹՅՈՒՆՆԵՐ | G146: =G147 -> -1050
A147: 72711100/501 | B147: տեղեկատվական ցանցի տեղադրման, սպասարկման և համակարգչային ցանցի կառուցման ծառայություններ | C147: ԳՀ | D147: դրամ | G147: -1050
A149: Հեռուստատեսության և ռադիոյի հանձնաժողով | G149: =G150 -> -2314.6
A150: Բաժին N 08 Խումբ N 03 Դաս N 01 Հեռուստառադիոհաղորդումներ | G150: =G151+G154 -> -2314.6
...
