Workbook
Name _tab10: #REF!
Name _tab10: #REF!
Name _tab10: #REF!
Name _tab11: #REF!
Name _tab11: #REF!
Name _tab11: #REF!
Name _tab12: #REF!
Name _tab12: #REF!
Name _tab12: #REF!
Name _tab13: #REF!
Name _tab13: #REF!
Name _tab13: #REF!
Name _tab14: #REF!
Name _tab14: #REF!
Name _tab14: #REF!
Name _tab15: #REF!
Name _tab15: #REF!
Name _tab15: #REF!
Name _tab16: #REF!
Name _tab16: #REF!
Name _tab16: #REF!
Name _tab17: #REF!
Name _tab17: #REF!
Name _tab17: #REF!
Name _tab18: #REF!
Name _tab18: #REF!
Name _tab18: #REF!
Name _tab19: #REF!
Name _tab19: #REF!
Name _tab19: #REF!
Name _tab20: #REF!
Name _tab20: #REF!
Name _tab20: #REF!
Name _tab21: #REF!
Name _tab21: #REF!
Name _tab21: #REF!
Name _tab22: #REF!
Name _tab22: #REF!
Name _tab22: #REF!
Name _tab23: #REF!
Name _tab23: #REF!
Name _tab23: #REF!
Name _tab24: #REF!
Name _tab24: #REF!
Name _tab24: #REF!
Name _tab5: #REF!
Name _tab5: #REF!
Name _tab5: #REF!
Name _tab6: #REF!
Name _tab6: #REF!
Name _tab6: #REF!
Name _tab7: #REF!
Name _tab7: #REF!
Name _tab7: #REF!
Name _tab8: #REF!
Name _tab8: #REF!
Name _tab8: #REF!
Name _tab9: #REF!
Name _tab9: #REF!
Name _tab9: #REF!

Sheet 1
B1: Հավելված № 1
B2: ՀՀ կառավարության 2023 թվականի ----------
B3: № ---------- որոշման
B4: «ՀԱՅԱՍՏԱՆԻ ՀԱՆՐԱՊԵՏՈՒԹՅԱՆ 2023 ԹՎԱԿԱՆԻ ՊԵՏԱԿԱՆ ԲՅՈՒՋԵԻ ՄԱՍԻՆ» ՀԱՅԱՍՏԱՆԻ ՀԱՆՐԱՊԵՏՈՒԹՅԱՆ ՕՐԵՆՔԻ N 1 ՀԱՎԵԼՎԱԾԻ N 1 ԱՂՅՈՒՍԱԿՈՒՄ ԿԱՏԱՐՎՈՂ ՓՈՓՈԽՈՒԹՅՈՒՆՆԵՐԸ
D5: հազար դրամ
B6: Ծրագրային դասիչը | C6: Ծրագրի անվանումը | D6: Ցուցանիշների փոփոխությունները (ավելացումը նշված է դրական նշանով, իսկ նվազեցումը` փակագծերում)
D7: Տարի
B8: Ընդամենը | D8: =+D9+D10+D11+D12+D13+D14+D15 -> 0
B9: 1126 | C9: Առողջապահության ոլորտում պետական քաղաքականության մշակում, ծրագրերի համակարգում և մոնիտորինգ | D9: =+'2'!E17 -> 12991.5
B10: 1142 | C10: Դատաբժշկական և ախտաբանաանատոմիական ծառայություններ | D10: =+'2'!F23 -> 114000
B11: 1200 | C11: Մոր և մանկան առողջության պահպանում | D11: =+'2'!F36 -> -550000
B12: 1202 | C12: Ոչ վարակիչ հիվանդությունների բժշկական օգնության ապահովում | D12: =+'2'!F56 -> 1171000
B13: 1207 | C13: Սոցիալապես անապահով և առանձին խմբերի անձանց բժշկական օգնություն | D13: =+'2'!F94 -> -97991.5
B14: 1208 | C14: Վարակիչ հիվանդությունների կանխարգելման ծրագիր | D14: 50000
B15: 1139 | C15: ՀՀ կառավարության պահուստային ֆոնդ | D15: -700000

Sheet 2
B1: Հավելված № 2
B2: ՀՀ կառավարության 2023 թվականի ----------
B3: № ---------- որոշման
B4: «ՀԱՅԱՍՏԱՆԻ ՀԱՆՐԱՊԵՏՈՒԹՅԱՆ 2023 ԹՎԱԿԱՆԻ ՊԵՏԱԿԱՆ ԲՅՈՒՋԵԻ ՄԱՍԻՆ» ՀԱՅԱՍՏԱՆԻ ՀԱՆՐԱՊԵՏՈՒԹՅԱՆ ՕՐԵՆՔԻ N 1 ՀԱՎԵԼՎԱԾԻ N 2 ԱՂՅՈՒՍԱԿՈՒՄ ԿԱՏԱՐՎՈՂ ՎԵՐԱԲԱՇԽՈՒՄԸ ԵՎ ՀԱՅԱՍՏԱՆԻ ՀԱՆՐԱՊԵՏՈՒԹՅԱՆ ԿԱՌԱՎԱՐՈՒԹՅԱՆ 2022 ԹՎԱԿԱՆԻ ԴԵԿՏԵՄԲԵՐԻ 29-Ի № 2111-Ն ՈՐՈՇՄԱՆ № 5 ՀԱՎԵԼՎԱԾԻ № 1 ԱՂՅՈՒՍԱԿՈՒՄ ԿԱՏԱՐՎՈՂ ՓՈՓՈԽՈՒԹՅՈՒՆՆԵՐԸ
B5: հազար դրամ
B6: Ծրագրային դասիչը | D6: Բյուջետային հատկացումների գլխավոր կարգադրիչների, ծրագրերի և միջոցառումների անվանումները | E6: Ցուցանիշների փոփոխությունները (ավելացումները նշված են դրական նշանով, իսկ նվազեցումները` փակագծերում)
B7: Ծրագիր | C7: Միջոցառում | E7: Ինն ամիս | F7: Տարի
D8: ԸՆԴԱՄԵՆԸ | E8: =+E9+E126 -> 0 | F8: =+F9+F126 -> 0
D9: ՀՀ առողջապահության նախարարություն | E9: =+E10+E23+E36+E56+E94+E113 -> 0 | F9: =+F10+F23+F36+F56+F94+F113 -> 700000
B10: 1126 | D10: Ծրագրի անվանումը` | E10: =+E17 -> 12991.5 | F10: =+F17 -> 12991.5
D11: Առողջապահության ոլորտում պետական քաղաքականության մշակում, ծրագրերի համակարգում և մոնիտորինգ
D12: Ծրագրի նպատակը`
D13: Մարդու և հանրության առողջության պահպանում, բնակչության առողջության բարելավում, հիվանդությունների կանխարգելում, հաշմանդամության և մահացության ցուցանիշների նվազեցում
D14: Վերջնական արդյունքի նկարագրությունը`
D15: Առողջապահության ոլորտում իրականացվող ծրագրերի ազդեցության և արդյունավետության բարելավում
B16: Ծրագրի միջոցառումներ
C17: 11001 | D17: Միջոցառման անվանումը` | E17: 12991.5 | F17: 12991.5
D18: Առողջապահության ոլորտի պետական քաղաքականության մշակում, ծրագրերի համակարգում և մոնիտորինգ
D19: Միջոցառման նկարագրությունը`
D20: Մարդու և հանրության առողջության պահպանում, բնակչության առողջության բարելավում, հիվանդությունների կանխարգելում, հաշմանդամության և մահացության ցուցանիշների նվազեցում
D21: Միջոցառման տեսակը
D22: Ծառայությունների մատուցում
B23: 1142 | D23: Ծրագրի անվանումը` | E23: =+E30 -> 20000 | F23: =+F30 -> 114000
D24: Դատաբժշկական և ախտաբանաանատոմիական ծառայություններ
D25: Ծրագրի նպատակը`
D26: Պաթանատոմիական կանխորոշումների հիման վրա ախտորոշման և բուժման արդյունավետության բարձրացում
D27: Վերջնական արդյունքի նկարագրությունը`
D28: Մահերի պատճառների բացահայտում
B29: Ծրագրի միջոցառումներ
C30: 11001 | D30: Միջոցառման անվանումը` | E30: 20000 | F30: 114000
D31: Դատաբժշկական փորձաքննություններ
D32: Միջոցառման նկարագրությունը`
D33: Հանրապետության ուժային մարմինների որոշումների հիման վրա դատաբժշկական և գենետիկ փորձաքննությունների ապահովում` մահերի պատճառների վերհանման նպատակով դիակների փորձաքննություն
D34: Միջոցառման տեսակը
D35: Ծառայությունների մատուցում
B36: 1200 | D36: Ծրագրի անվանումը | E36: =+E43+E50 -> 0 | F36: =+F43+F50 -> -550000
D37: Մոր և մանկան առողջության պահպանում
D38: Ծրագրի նպատակը
D39: Մոր և մանկան առողջության պահպանում, կանանց և երեխաներին մատուցվող բժշկական ծառայությունների մատչելիության և որակի բարելավում
D40: Վերջնական արդյունքի նկարագրությունը
D41: Մանկական և մայրական մահացության և հիվանդացության կրճատում, կանանց վերարտադրողական առողջության բարելավում
B42: Ծրագրի միջոցառումներ
C43: 11001 | D43: Միջոցառման անվանումը` | E43: 0 | F43: -150000
D44: Մանկաբարձական բժշկական օգնության ծառայություններ
D45: Միջոցառման նկարագրությունը`
D46: Մանկաբարձական բժշկական օգնության համալիր միջոցառումների իրականացում, հղիության ախտաբանական ընթացքի բժշկական օգնություն և ծննդօգնություն
D47: Միջոցառման տեսակը
D48: Ծառայությունների մատուցում
B49: Ծրագրի միջոցառումներ
C50: 11003 | D50: Միջոցառման անվանումը` | E50: 0 | F50: -400000
D51: Երեխաներին բժշկական օգնության ծառայություններ
D52: Միջոցառման նկարագրությունը`
D53: Երեխաների (0-18 տարեկան երեխաներին) հիվանդանոցային բժշկական օգնության իրականացում (հետազոտում, ախտորոշում, բուժում)
D54: Միջոցառման տեսակը
D55: Ծառայությունների մատուցում
B56: 1202 | D56: Ծրագրի անվանումը` | E56: =+E63+E70+E76+E82+E88 -> 0 | F56: =+F63+F70+F76+F82+F88 -> 1171000
D57: Ոչ վարակիչ հիվանդությունների բժշկական օգնության ապահովում
D58: Ծրագրի նպատակը`
D59: Ոչ վարակիչ հիվանդությունների (մասնավորապես՛ սիրտանոթային, շաքարային դիաբետի և չարորակ նորագոյացությունների) բուժման արդյունավետության բարձրացում
D60: Վերջնական արդյունքի նկարագրությունը`
D61: Ոչ վարակիչ հիվանդություններով պայմանավորված հիվանդացության և մահացության նվազեցում
B62: Ծրագրի միջոցառումներ
C63: 11001 | D63: Միջոցառման անվանումը` | E63: 0 | F63: 250000
D64: Հեմոդիալիզի և պերիտոնիալ դիալիզի անցկացման ծառայություններ
D65: Միջոցառման նկարագրությունը`
D66: Հեմոդիալիզի կարիք ունեցող հիվանդների բժշկական օգնության համալիր միջոցառումների իրականացում
D67: Միջոցառման տեսակը
D68: Ծառայությունների մատուցում
B69: Ծրագրի միջոցառումներ
C70: 11002 | D70: Միջոցառման անվանումը` | E70: 0 | F70: 100000
D71: Անհետաձգելի բժշկական օգնության ծառայություններ
D72: Միջոցառման նկարագրությունը`
D73: Անհետաձգելի բժշկական օգնության իրականացում` ՀՀ առողջապահության նախարարի կողմից հաստատված հիվանդությունների, վիճակների ցանկի համաձայն
D74: Միջոցառման տեսակը
D75: Ծառայությունների մատուցում
C76: 11003 | D76: Միջոցառման անվանումը` | E76: 0 | F76: -150000
D77: Հոգեկան և նարկոլոգիական հիվանդների բժշկական օգնության ծառայություններ
D78: Միջոցառման նկարագրությունը`
D79: Հոգեկան և նարկոլոգիական հիվանդների բուժում և շարունակական հսկողության համալիր միջոցառումների իրականացում
D80: Միջոցառման տեսակը
D81: Ծառայությունների մատուցում
C82: 11004 | D82: Միջոցառման անվանումը` | E82: 0 | F82: 856000
D83: Ուռուցքաբանական և արյունաբանական հիվանդությունների բժշկական օգնության ծառայություններ
D84: Միջոցառման նկարագրությունը`
D85: Ուռուցքաբանական և արյունաբանական հիվանդների բուժում և շարունակական հսկողության համալիր միջոցառումների իրականացում
D86: Միջոցառման տեսակը
D87: Ծառայությունների մատուցում
C88: 11005 | D88: Միջոցառման անվանումը` | E88: 0 | F88: 115000
D89: Սրտի անհետաձգելի վիրահատություններ
D90: Միջոցառման նկարագրությունը`
D91: Սրտի անհետաձգելի վիրահատության կարիք ունեցող հիվանդների բժշկական օգնության իրականացում` ՀՀ առողջապահության նախարարի հրամանով սահմանված կարգով
D92: Միջոցառման տեսակը
D93: Ծառայությունների մատուցում
B94: 1207 | D94: Ծրագրի անվանումը` | E94: =+E101+E107 -> -82991.5 | F94: =+F101+F107 -> -97991.5
D95: Սոցիալապես անապահով և առանձին խմբերի անձանց բժշկական օգնություն
D96: Ծրագրի նպատակը`
D97: Սոցիալապես անապահով և հատուկ խմբերում ընդգրկված անձանց բժշկական օգնության հասանելիության և մատչելիության մակարդակի բարձրացում, հիվանդանոցային որակյալ բժշկական օգնության ապահովում
D98: Վերջնական արդյունքի նկարագրությունը`
D99: Սոցիալապես անապահով և հատուկ խմբերում ընդգրկված անձանց բժշկական օգնության հասանելիության և մատչելիության բարձրացում, ծառայությունների մատուցման հասցեականության բարելավում
B100: Ծրագրի միջոցառումներ
...

Sheet 3
B1: Հավելված № 3
B2: ՀՀ կառավարության 2023 թվականի -----------
B3: № ------------ -Ն որոշման
B4: ՀԱՅԱՍՏԱՆԻ ՀԱՆՐԱՊԵՏՈՒԹՅԱՆ ԿԱՌԱՎԱՐՈՒԹՅԱՆ 2022 ԹՎԱԿԱՆԻ ԴԵԿՏԵՄԲԵՐԻ 29-Ի № 2111-Ն ՈՐՈՇՄԱՆ NN 3 ԵՎ 4 ՀԱՎԵԼՎԱԾՆԵՐՈՒՄ ԿԱՏԱՐՎՈՂ ՓՈՓՈԽՈՒԹՅՈՒՆՆԵՐԸ
B5: հազար դրամ
B6: Գործառական դասիչը | E6: Ծրագրային դասիչը | G6: Բյուջետային հատկացումների գլխավոր կարգադրիչների, ծրագրերի, միջոցառումների և միջոցառումները կատարող պետական մարմինների անվանումները | H6: Ցուցանիշների փոփոխությունները (ավելացումները նշված են դրական նշանով, իսկ նվազեցումները` փակագծերում)
B7: բաժին | C7: խումբ | D7: դաս | E7: Ծրագիր | F7: Միջոցառում | H7: Ինն ամիս | I7: Տարի
B8: ԸՆԴԱՄԵՆԸ | H8: =+H9+H164 -> 0 | I8: =+I9+I164 -> 0
B9: 07 | G9: ԱՌՈՂՋԱՊԱՀՈՒԹՅՈՒՆ | H9: =+H11+H39+H133 -> 0 | I9: =+I11+I39+I133 -> 700000
G10: այդ թվում՝
C11: 02 | G11: Արտահիվանդանոցային ծառայություններ | H11: =+H13 -> 50000 | I11: =+I13 -> 300000
G12: այդ թվում՝
D13: 02 | G13: Մասնագիտացված բժշկական ծառայություններ | H13: =+H17+H28 -> 50000 | I13: =+I17+I28 -> 300000
G14: այդ թվում`
G15: ՀՀ առողջապահության նախարարություն | H15: =+H17 -> 0 | I15: =+I17 -> 250000
G16: այդ թվում՝
E17: 1202 | G17: Ոչ վարակիչ հիվանդությունների բժշկական օգնության ապահովում | H17: =+H19 -> 0 | I17: =+I19 -> 250000
G18: այդ թվում`
F19: 11001 | G19: Հեմոդիալիզի և պերիտոնիալ դիալիզի անցկացման ծառայություններ | H19: =+H21 -> 0 | I19: =+I21 -> 250000
G20: այդ թվում` ըստ կատարողների
G21: ՀՀ առողջապահության նախարարություն | H21: =+H23 -> 0 | I21: =+I23 -> 250000
G22: այդ թվում` բյուջետային ծախսերի տնտեսագիտական դասակարգման հոդվածներ
G23: ԸՆԴԱՄԵՆԸ ԾԱԽՍԵՐ | H23: =+H24 -> 0 | I23: =+I24 -> 250000
G24: ԸՆԹԱՑԻԿ ԾԱԽՍԵՐ | H24: =+H25 -> 0 | I24: =+I25 -> 250000
G25: ՍՈՑԻԱԼԱԿԱՆ ՆՊԱՍՏՆԵՐ ԵՎ ԿԵՆՍԱԹՈՇԱԿՆԵՐ | H25: =+H27 -> 0 | I25: =+I27 -> 250000
G26: Սոցիալական օգնության դրամական արտահայտությամբ նպաստներ (բյուջեից)
G27: - Այլ նպաստներ բյուջեից | H27: =+'2'!E63 -> 0 | I27: =+'2'!F63 -> 250000
E28: 1208 | G28: Ոչ վարակիչ հիվանդությունների բժշկական օգնության ապահովում | H28: =+H30 -> 50000 | I28: =+I30 -> 50000
G29: այդ թվում`
F30: 11001 | G30: ՄԻԱՎ/ՁԻԱՀ-ի կանխարգելման և բուժօգնության ծառայություններ | H30: =+H32 -> 50000 | I30: =+I32 -> 50000
G31: այդ թվում` ըստ կատարողների
G32: ՀՀ առողջապահության նախարարություն | H32: =+H34 -> 50000 | I32: =+I34 -> 50000
G33: այդ թվում` բյուջետային ծախսերի տնտեսագիտական դասակարգման հոդվածներ
G34: ԸՆԴԱՄԵՆԸ ԾԱԽՍԵՐ | H34: =+H35 -> 50000 | I34: =+I35 -> 50000
G35: ԸՆԹԱՑԻԿ ԾԱԽՍԵՐ | H35: =+H36 -> 50000 | I35: =+I36 -> 50000
G36: ԾԱՌԱՅՈՒԹՅՈՒՆՆԵՐԻ ԵՎ ԱՊՐԱՆՔՆԵՐԻ ՁԵՌՔԲԵՐՈՒՄ | H36: =+H38 -> 50000 | I36: =+I38 -> 50000
G37: Պայմանագրային այլ ծառայությունների ձեռքբերում
G38: - Ընդհանուր բնույթի այլ ծառայություններ | H38: =+'2'!E120 -> 50000 | I38: =+'2'!F120 -> 50000
C39: 03 | G39: Հիվանդանոցային ծառայություններ | H39: =+H41+H85+H109 -> -82991.5 | I39: =+I41+I85+I109 -> 273008.5
G40: այդ թվում՝
D41: 01 | G41: Ընդհանուր բնույթի հիվանդանոցային ծառայություններ | H41: =+H45+H65 -> -82991.5 | I41: =+I45+I65 -> 117008.5
G42: այդ թվում՝
G43: ՀՀ առողջապահության նախարարություն
G44: այդ թվում՝
E45: 1202 | G45: Ոչ վարակիչ հիվանդությունների բժշկական օգնության ապահովում | H45: =+H47+H56 -> 0 | I45: =+I47+I56 -> 215000
G46: այդ թվում`
F47: 11002 | G47: Անհետաձգելի բժշկական օգնության ծառայություններ | H47: =+H49 -> 0 | I47: =+I49 -> 100000
G48: այդ թվում` ըստ կատարողների
G49: ՀՀ առողջապահության նախարարություն | H49: =+H51 -> 0 | I49: =+I51 -> 100000
G50: այդ թվում` բյուջետային ծախսերի տնտեսագիտական դասակարգման հոդվածներ
G51: ԸՆԴԱՄԵՆԸ ԾԱԽՍԵՐ | H51: =+H52 -> 0 | I51: =+I52 -> 100000
G52: ԸՆԹԱՑԻԿ ԾԱԽՍԵՐ | H52: =+H53 -> 0 | I52: =+I53 -> 100000
G53: ԾԱՌԱՅՈՒԹՅՈՒՆՆԵՐԻ ԵՎ ԱՊՐԱՆՔՆԵՐԻ ՁԵՌՔԲԵՐՈՒՄ | H53: =+H55 -> 0 | I53: =+I55 -> 100000
G54: Պայմանագրային այլ ծառայությունների ձեռքբերում
G55: - Ընդհանուր բնույթի այլ ծառայություններ | H55: =+'2'!E70 -> 0 | I55: =+'2'!F70 -> 100000
F56: 11005 | G56: Սրտի անհետաձգելի վիրահատություններ | H56: =+H58 -> 0 | I56: =+I58 -> 115000
G57: այդ թվում` ըստ կատարողների
G58: ՀՀ առողջապահության նախարարություն | H58: =+H60 -> 0 | I58: =+I60 -> 115000
G59: այդ թվում` բյուջետային ծախսերի տնտեսագիտական դասակարգման հոդվածներ
G60: ԸՆԴԱՄԵՆԸ ԾԱԽՍԵՐ | H60: =+H61 -> 0 | I60: =+I61 -> 115000
G61: ԸՆԹԱՑԻԿ ԾԱԽՍԵՐ | H61: =+H62 -> 0 | I61: =+I62 -> 115000
G62: ՍՈՑԻԱԼԱԿԱՆ ՆՊԱՍՏՆԵՐ ԵՎ ԿԵՆՍԱԹՈՇԱԿՆԵՐ | H62: =+H64 -> 0 | I62: =+I64 -> 115000
G63: Սոցիալական օգնության դրամական արտահայտությամբ նպաստներ (բյուջեից)
G64: - Այլ նպաստներ բյուջեից | H64: =+'2'!E88 -> 0 | I64: =+'2'!F88 -> 115000
E65: 1207 | G65: Սոցիալապես անապահով և առանձին խմբերի անձանց բժշկական օգնություն | H65: =+H67+H76 -> -82991.5 | I65: =+I67+I76 -> -97991.5
G66: այդ թվում`
F67: 11003 | G67: Զինծառայողներին, ինչպես նաև փրկարար ծառայողներին և նրանց ընտանիքի անդամներին բժշկական օգնության ծառայություններ | H67: =+H69 -> -82991.5 | I67: =I69 -> -132991.5
G68: այդ թվում ըստ կատարողների
G69: ՀՀ առողջապահության նախարարություն | H69: =+H71 -> -82991.5 | I69: =I71 -> -132991.5
G70: այդ թվում` բյուջետային ծախսերի տնտեսագիտական դասակարգման հոդվածներ
G71: ԸՆԴԱՄԵՆԸ ԾԱԽՍԵՐ | H71: =+H72 -> -82991.5 | I71: =I73 -> -132991.5
G72: ԸՆԹԱՑԻԿ ԾԱԽՍԵՐ | H72: =+H73 -> -82991.5 | I72: =I73 -> -132991.5
G73: ՍՈՑԻԱԼԱԿԱՆ ՆՊԱՍՏՆԵՐ ԵՎ ԿԵՆՍԱԹՈՇԱԿՆԵՐ | H73: =+H75 -> -82991.5 | I73: =I75 -> -132991.5
G74: Սոցիալական օգնության դրամական արտահայտությամբ նպաստներ (բյուջեից)
G75: - Այլ նպաստներ բյուջեից | H75: =+'2'!E101 -> -82991.5 | I75: =+'2'!F101 -> -132991.5
F76: 11007 | G76: Փոխպատվաստման ծառայություններ | H76: =+H78 -> 0 | I76: =I78 -> 35000
G77: այդ թվում ըստ կատարողների
G78: ՀՀ առողջապահության նախարարություն | H78: =+H80 -> 0 | I78: =I80 -> 35000
G79: այդ թվում` բյուջետային ծախսերի տնտեսագիտական դասակարգման հոդվածներ
G80: ԸՆԴԱՄԵՆԸ ԾԱԽՍԵՐ | H80: =+H81 -> 0 | I80: =I82 -> 35000
G81: ԸՆԹԱՑԻԿ ԾԱԽՍԵՐ | H81: =+H82 -> 0 | I81: =I82 -> 35000
G82: ԾԱՌԱՅՈՒԹՅՈՒՆՆԵՐԻ ԵՎ ԱՊՐԱՆՔՆԵՐԻ ՁԵՌՔԲԵՐՈՒՄ | H82: =+H84 -> 0 | I82: =I84 -> 35000
G83: Պայմանագրային այլ ծառայությունների ձեռքբերում
G84: - Ընդհանուր բնույթի այլ ծառայություններ | H84: =+'2'!E107 -> 0 | I84: =+'2'!F107 -> 35000
D85: 02 | G85: Մասնագիտացված հիվանդանոցային ծառայություններ | H85: =+H89 -> 0 | I85: =+I89 -> 706000
G86: այդ թվում՝
G87: ՀՀ առողջապահության նախարարություն | H87: =+H89 -> 0 | I87: =+I89 -> 706000
G88: այդ թվում՝
E89: 1202 | G89: Ոչ վարակիչ հիվանդությունների բժշկական օգնության ապահովում | H89: =+H91+H100 -> 0 | I89: =+I91+I100 -> 706000
G90: այդ թվում`
F91: 11003 | G91: Հոգեկան և նարկոլոգիական հիվանդների բժշկական օգնության ծառայություններ | H91: =+H93 -> 0 | I91: =+I93 -> -150000
G92: այդ թվում` ըստ կատարողների
G93: ՀՀ առողջապահության նախարարություն | H93: =+H95 -> 0 | I93: =+I95 -> -150000
G94: այդ թվում` բյուջետային ծախսերի տնտեսագիտական դասակարգման հոդվածներ
G95: ԸՆԴԱՄԵՆԸ ԾԱԽՍԵՐ | H95: =+H96 -> 0 | I95: =+I96 -> -150000
G96: ԸՆԹԱՑԻԿ ԾԱԽՍԵՐ | H96: =+H97 -> 0 | I96: =+I97 -> -150000
G97: ԾԱՌԱՅՈՒԹՅՈՒՆՆԵՐԻ ԵՎ ԱՊՐԱՆՔՆԵՐԻ ՁԵՌՔԲԵՐՈՒՄ | H97: =+H99 -> 0 | I97: =+I99 -> -150000
G98: Պայմանագրային այլ ծառայությունների ձեռքբերում
G99: - Ընդհանուր բնույթի այլ ծառայություններ | H99: =+'2'!E76 -> 0 | I99: =+'2'!F76 -> -150000
F100: 11004 | G100: Ուռուցքաբանական և արյունաբանական հիվանդությունների բժշկական օգնության ծառայություններ | H100: =+H102 -> 0 | I100: =I102 -> 856000
...

Sheet 4
B1: Հավելված № 4
B2: ՀՀ կառավարության 2023 թվականի -----------
B3: № ------------ -Ն որոշման
B4: ՀԱՅԱՍՏԱՆԻ ՀԱՆՐԱՊԵՏՈՒԹՅԱՆ ԿԱՌԱՎԱՐՈՒԹՅԱՆ 2022 ԹՎԱԿԱՆԻ ԴԵԿՏԵՄԲԵՐԻ 29-Ի N 2111-Ն ՈՐՈՇՄԱՆ N 9 ՀԱՎԵԼՎԱԾԻ 9.8 ԱՂՅՈՒՍԱԿՈՒՄ ԿԱՏԱՐՎՈՂ ՓՈՓՈԽՈՒԹՅՈՒՆՆԵՐԸ
B5: ՄԱՍ 2. ՊԵՏԱԿԱՆ ՄԱՐՄՆԻ ԳԾՈՎ ԱՐԴՅՈՒՆՔԱՅԻՆ (ԿԱՏԱՐՈՂԱԿԱՆ) ՑՈՒՑԱՆԻՇՆԵՐԸ
B7: ՀՀ ԱՌՈՂՋԱՊԱՀՈՒԹՅԱՆ ՆԱԽԱՐԱՐՈՒԹՅՈՒՆ
B8: Ծրագրի դասիչը | C8: Ծրագրի անվանումը
B9: 1126 | C9: Առողջապահության ոլորտում պետական քաղաքականության մշակում, ծրագրերի համակարգում և մոնիտորինգ
B10: Ծրագրի միջոցառումները
B11: Ծրագրի դասիչը` | C11: 1126 | D11: Ցուցանիշների փոփոխությունը (ավելացումը նշված է դրական նշանով)
B12: Միջոցառման դասիչը` | C12: 11001 | D12: Ինն ամիս | E12: Տարի
B13: Միջոցառման անվանումը` | C13: Առողջապահության ոլորտում պետական քաղաքականության մշակում, ծրագրերի համակարգում և մոնիտորինգ
B14: Նկարագրությունը` | C14: Մարդու և հանրության առողջության պահպանում, բնակչության առողջության բարելավում, հիվանդությունների կանխարգելում, հաշմանդամության և մահացության ցուցանիշների նվազեցում
B15: Միջոցառման տեսակը` | C15: Ծառայությունների մատուցում
B16: Ծառայությունը մատուցող կազմակերպության(ների) անվանում(ներ)ը | C16: ՀՀ առողջապահության նախարարություն
B17: Արդյունքի չափորոշիչներ
B18: Միջոցառման վրա կատարվող ծախսը (հազար դրամ) | D18: =+'2'!E17 -> 12991.5 | E18: =+'1'!D9 -> 12991.5
B20: Ծրագրի դասիչը | C20: Ծրագրի անվանումը
B21: 1142 | C21: Դատաբժշկական և ախտաբանաանատոմիական ծառայություններ
B22: Ծրագրի միջոցառումները
B23: Ծրագրի դասիչը` | C23: 1142 | D23: Ցուցանիշների փոփոխությունը (ավելացումը նշված է դրական նշանով)
B24: Միջոցառման դասիչը` | C24: 11001 | D24: Ինն ամիս | E24: Տարի
B25: Միջոցառման անվանումը` | C25: Դատաբժշկական փորձաքննություններ
B26: Նկարագրությունը` | C26: Հանրապետության ուժային մարմինների որոշումների հիման վրա դատաբժշկական և գենետիկ փորձաքննությունների ապահովում` մահերի պատճառների վերհանման նպատակով դիակների փորձաքննություն
B27: Միջոցառման տեսակը` | C27: Ծառայությունների մատուցում
B28: Ծառայությունը մատուցող կազմակերպության(ների) անվանում(ներ)ը | C28: Մասնագիտացված կազմակերպություն
B29: Արդյունքի չափորոշիչներ
B30: Դատաբժշկական փորձաքննությունների թիվ, հատ | E30: 5521
B31: Դիակի փորձաքննությունների թիվ, հատ | E31: 1969
B32: Կենդանի անձի փորձաքննությունների թիվ, հատ | E32: -9473
B33: Հյուսվածքաբանական փորձաքննությունների թիվ, հատ | E33: -871
B34: Համալիր փորձաքննությունների թիվ, հատ | E34: -64
B35: Դատագենետիկական փորձաքննություն | E35: 2141
B36: Միջոցառման վրա կատարվող ծախսը (հազար դրամ) | D36: =+'2'!E30 -> 20000 | E36: =+'2'!F30 -> 114000
B38: Ծրագրի դասիչը | C38: Ծրագրի անվանումը
B39: 1200 | C39: Մոր և մանկան առողջության պահպանում
B40: Ծրագրի միջոցառումները
B41: Ծրագրի դասիչը` | C41: 1200 | D41: Ցուցանիշների փոփոխությունը (նվազեցումը նշված է փակագծերում)
B42: Միջոցառման դասիչը` | C42: 11001 | D42: Ինն ամիս | E42: Տարի
B43: Միջոցառման անվանումը` | C43: Մանկաբարձական բժշկական օգնության ծառայություններ
B44: Նկարագրությունը` | C44: Մանկաբարձական բժշկական օգնության համալիր միջոցառումների իրականացում, հղիության ախտաբանական ընթացքի բժշկական օգնություն և ծննդօգնություն
B45: Միջոցառման տեսակը` | C45: Ծառայությունների մատուցում
B46: Ծառայությունը մատուցող կազմակերպության(ների) անվանում(ներ)ը | C46: ՀՀ գնումների մասին օրենսդրությանը համապատասխան ընտրված կազմակերպություններ
B47: Արդյունքի չափորոշիչներ
B48: Մանկաբարձական բժշկական օգնության ծառայություններից օգտվելու դեպքերի թիվ, հատ | E48: -1043
B49: Ծնունդների թիվ, հատ, որից | E49: -730
B50: Կեսարյան հատումների թիվ, հատ | E50: -268
B51: Միջոցառման վրա կատարվող ծախսը (հազար դրամ) | D51: =+'2'!E43 -> 0 | E51: =+'2'!F43 -> -150000
B53: Ծրագրի դասիչը` | C53: 1200 | D53: Ցուցանիշների փոփոխությունը (նվազեցումը նշված է փակագծերում)
B54: Միջոցառման դասիչը` | C54: 11003 | D54: Ինն ամիս | E54: Տարի
B55: Միջոցառման անվանումը` | C55: Երեխաներին բժշկական օգնության ծառայություններ
B56: Նկարագրությունը` | C56: Երեխաների (0-18 տարեկան երեխաներին) հիվանդանոցային բժշկական օգնության իրականացում (հետազոտում, ախտորոշում, բուժում)
B57: Միջոցառման տեսակը` | C57: Ծառայությունների մատուցում
B58: Ծառայությունը մատուցող կազմակերպության(ների) անվանում(ներ)ը | C58: ՀՀ գնումների մասին օրենսդրությանը համապատասխան ընտրված կազմակերպություններ
B59: Արդյունքի չափորոշիչներ
B60: Երեխաների բժշկական օգնության գծով ծառայություններից օգտվելու դեպքերի թիվ, հատ | D60: -447 | E60: -3163
B61: ցերակային ստացիոնար և կարճաժամկետ կամ փոքր ծավալի բուժօգնության դեպքերի թիվ, հատ | D61: -45 | E61: -316
B62: Միջոցառման վրա կատարվող ծախսը (հազար դրամ) | D62: =+'2'!E50 -> 0 | E62: =+'2'!F50 -> -400000
B64: Ծրագրի դասիչը | C64: Ծրագրի անվանումը
B65: 1202 | C65: Ոչ վարակիչ հիվանդությունների բժշկական օգնության ապահովում
B66: Ծրագրի միջոցառումները
B67: Ծրագրի դասիչը` | C67: 1202 | D67: Ցուցանիշների փոփոխությունը (ավելացումը նշված է դրական նշանով)
B68: Միջոցառման դասիչը` | C68: 11001 | D68: Ինն ամիս | E68: Տարի
B69: Միջոցառման անվանումը` | C69: Հեմոդիալիզի և պերիտոնիալ դիալիզի անցկացման ծառայություններ
B70: Նկարագրությունը` | C70: Հեմոդիալիզի կարիք ունեցող հիվանդների բժշկական օգնության համալիր միջոցառումների իրականացում
B71: Միջոցառման տեսակը` | C71: Ծառայությունների մատուցում
B72: Ծառայությունը մատուցող կազմակերպության(ների) անվանում(ներ)ը | C72: ՀՀ գնումների մասին օրենսդրությանը համապատասխան ընտրված կազմակերպություններ
B73: Արդյունքի չափորոշիչներ
B74: Հեմոդիալիզի սեանսների թիվ, հատ | D74: -18767 | E74: 4568
B75: Միջոցառման վրա կատարվող ծախսը (հազար դրամ) | D75: =+'2'!E63 -> 0 | E75: =+'2'!F63 -> 250000
B77: Ծրագրի դասիչը` | C77: 1202 | D77: Ցուցանիշների փոփոխությունը (ավելացումը նշված է դրական նշանով)
B78: Միջոցառման դասիչը` | C78: 11002 | D78: Ինն ամիս | E78: Տարի
B79: Միջոցառման անվանումը` | C79: Անհետաձգելի բժշկական օգնության ծառայություններ
B80: Նկարագրությունը` | C80: Անհետաձգելի բժշկական օգնության իրականացում` ՀՀ առողջապահության նախարարի կողմից հաստատված հիվանդությունների, վիճակների ցանկի համաձայն
B81: Միջոցառման տեսակը` | C81: Ծառայությունների մատուցում
B82: Ծառայությունը մատուցող կազմակերպության(ների) անվանում(ներ)ը | C82: ՀՀ գնումների մասին օրենսդրությանը համապատասխան ընտրված կազմակերպություններ
B83: Արդյունքի չափորոշիչներ
B84: Հիվանդանոցային պայմաններում արտահիվանդանոցային բժշկական օգնություն (emergency) | E84: 1500
B85: Միջոցառման վրա կատարվող ծախսը (հազար դրամ) | D85: =+'2'!E70 -> 0 | E85: =+'2'!F70 -> 100000
B87: Ծրագրի դասիչը` | C87: 1202 | D87: Ցուցանիշների փոփոխությունը (նվազեցումը նշված է փակագծերում)
B88: Միջոցառման դասիչը` | C88: 11003 | D88: Ինն ամիս | E88: Տարի
B89: Միջոցառման անվանումը` | C89: Հոգեկան և նարկոլոգիական հիվանդների բժշկական օգնության ծառայություններ
B90: Նկարագրությունը` | C90: Հոգեկան և նարկոլոգիական հիվանդների բուժում և շարունակական հսկողության համալիր միջոցառումների իրականացում
B91: Միջոցառման տեսակը` | C91: Ծառայությունների մատուցում
B92: Ծառայությունը մատուցող կազմակերպության(ների) անվանում(ներ)ը | C92: ՀՀ գնումների մասին օրենսդրությանը համապատասխան ընտրված կազմակերպություններ
B93: Արդյունքի չափորոշիչներ
B94: Հոգեկան և նարկոլոգիական հիվանդների բժշկական օգնության գծով ծառայություններից օգտվելու դեպքերի թիվ, հատ | E94: -337
B95: Միջոցառման վրա կատարվող ծախսը (հազար դրամ) | D95: =+'2'!E76 -> 0 | E95: =+'2'!F76 -> -150000
B97: Ծրագրի դասիչը` | C97: 1202 | D97: Ցուցանիշների փոփոխությունը (ավելացումը նշված է դրական նշանով)
B98: Միջոցառման դասիչը` | C98: 11004 | D98: Ինն ամիս | E98: Տարի
B99: Միջոցառման անվանումը` | C99: Ուռուցքաբանական և արյունաբանական հիվանդությունների բժշկական օգնության ծառայություններ
B100: Նկարագրությունը` | C100: Ուռուցքաբանական և արյունաբանական հիվանդների բուժում և շարունակական հսկողության համալիր միջոցառումների իրականացում
B101: Միջոցառման տեսակը` | C101: Ծառայությունների մատուցում
B102: Ծառայությունը մատուցող կազմակերպության(ների) անվանում(ներ)ը | C102: ՀՀ գնումների մասին օրենսդրությանը համապատասխան ընտրված կազմակերպություններ
B103: Արդյունքի չափորոշիչներ
B104: Ուռուցքաբանական և արյունաբանական հիվանդությունների բժշկական օգնության գծով ծառայություններից օգտվելու դեպքերի թիվ, հատ | E104: 5025
B105: Վիրաբուժական միջամտությունների թիվ, հատ | E105: 1028
B106: Միջոցառման վրա կատարվող ծախսը (հազար դրամ) | D106: =+'2'!E82 -> 0 | E106: =+'2'!F82 -> 856000
B108: Ծրագրի դասիչը` | C108: 1202 | D108: Ցուցանիշների փոփոխությունը (ավելացումը նշված է դրական նշանով)
B109: Միջոցառման դասիչը` | C109: 11005 | D109: Ինն ամիս | E109: Տարի
...

Sheet 5
B1: Հավելված № 5
B2: ՀՀ կառավարության 2023 թվականի -----------
B3: № ------------ -Ն որոշման
B4: ՀԱՅԱՍՏԱՆԻ ՀԱՆՐԱՊԵՏՈՒԹՅԱՆ ԿԱՌԱՎԱՐՈՒԹՅԱՆ 2022 ԹՎԱԿԱՆԻ ԴԵԿՏԵՄԲԵՐԻ 29-Ի N 2111-Ն ՈՐՈՇՄԱՆ N 9.1 ՀԱՎԵԼՎԱԾԻ 9.1.8 ԱՂՅՈՒՍԱԿՈՒՄ ԿԱՏԱՐՎՈՂ ՓՈՓՈԽՈՒԹՅՈՒՆՆԵՐԸ
B5: ՄԱՍ 2. ՊԵՏԱԿԱՆ ՄԱՐՄՆԻ ԳԾՈՎ ԱՐԴՅՈՒՆՔԱՅԻՆ (ԿԱՏԱՐՈՂԱԿԱՆ) ՑՈՒՑԱՆԻՇՆԵՐԸ
B7: ՀՀ ԱՌՈՂՋԱՊԱՀՈՒԹՅԱՆ ՆԱԽԱՐԱՐՈՒԹՅՈՒՆ
B8: Ծրագրի դասիչը | C8: Ծրագրի անվանումը
B9: 1126 | C9: Առողջապահության ոլորտում պետական քաղաքականության մշակում, ծրագրերի համակարգում և մոնիտորինգ
B10: Ծրագրի միջոցառումները
B11: Ծրագրի դասիչը` | C11: 1126 | D11: Ցուցանիշների փոփոխությունը (ավելացումը նշված է դրական նշանով)
B12: Միջոցառման դասիչը` | C12: 11001 | D12: Ինն ամիս | E12: Տարի
B13: Միջոցառման անվանումը` | C13: Առողջապահության ոլորտում պետական քաղաքականության մշակում, ծրագրերի համակարգում և մոնիտորինգ
B14: Նկարագրությունը` | C14: Մարդու և հանրության առողջության պահպանում, բնակչության առողջության բարելավում, հիվանդությունների կանխարգելում, հաշմանդամության և մահացության ցուցանիշների նվազեցում
B15: Միջոցառման տեսակը` | C15: Ծառայությունների մատուցում
B16: Ծառայությունը մատուցող կազմակերպության(ների) անվանում(ներ)ը | C16: ՀՀ առողջապահության նախարարություն
B17: Արդյունքի չափորոշիչներ
B18: Միջոցառման վրա կատարվող ծախսը (հազար դրամ) | D18: =+'2'!E17 -> 12991.5 | E18: =+'1'!D9 -> 12991.5
B20: Ծրագրի դասիչը | C20: Ծրագրի անվանումը
B21: 1142 | C21: Դատաբժշկական և ախտաբանաանատոմիական ծառայություններ
B22: Ծրագրի միջոցառումները
B23: Ծրագրի դասիչը` | C23: 1142 | D23: Ցուցանիշների փոփոխությունը (ավելացումը նշված է դրական նշանով)
B24: Միջոցառման դասիչը` | C24: 11001 | D24: Ինն ամիս | E24: Տարի
B25: Միջոցառման անվանումը` | C25: Դատաբժշկական փորձաքննություններ
B26: Նկարագրությունը` | C26: Հանրապետության ուժային մարմինների որոշումների հիման վրա դատաբժշկական և գենետիկ փորձաքննությունների ապահովում` մահերի պատճառների վերհանման նպատակով դիակների փորձաքննություն
B27: Միջոցառման տեսակը` | C27: Ծառայությունների մատուցում
B28: Ծառայությունը մատուցող կազմակերպության(ների) անվանում(ներ)ը | C28: Մասնագիտացված կազմակերպություն
B29: Արդյունքի չափորոշիչներ
B30: Դատաբժշկական փորձաքննությունների թիվ, հատ | E30: 5521
B31: Դիակի փորձաքննությունների թիվ, հատ | E31: 1969
B32: Կենդանի անձի փորձաքննությունների թիվ, հատ | E32: -9473
B33: Հյուսվածքաբանական փորձաքննությունների թիվ, հատ | E33: -871
B34: Համալիր փորձաքննությունների թիվ, հատ | E34: -64
B35: Դատագենետիկական փորձաքննություն | E35: 2141
B36: Միջոցառման վրա կատարվող ծախսը (հազար դրամ) | D36: =+'2'!E30 -> 20000 | E36: =+'2'!F30 -> 114000
B38: Ծրագրի դասիչը | C38: Ծրագրի անվանումը
B39: 1200 | C39: Մոր և մանկան առողջության պահպանում
B40: Ծրագրի միջոցառումները
B41: Ծրագրի դասիչը` | C41: 1200 | D41: Ցուցանիշների փոփոխությունը (նվազեցումը նշված է փակագծերում)
B42: Միջոցառման դասիչը` | C42: 11001 | D42: Ինն ամիս | E42: Տարի
B43: Միջոցառման անվանումը` | C43: Մանկաբարձական բժշկական օգնության ծառայություններ
B44: Նկարագրությունը` | C44: Մանկաբարձական բժշկական օգնության համալիր միջոցառումների իրականացում, հղիության ախտաբանական ընթացքի բժշկական օգնություն և ծննդօգնություն
B45: Միջոցառման տեսակը` | C45: Ծառայությունների մատուցում
B46: Ծառայությունը մատուցող կազմակերպության(ների) անվանում(ներ)ը | C46: ՀՀ գնումների մասին օրենսդրությանը համապատասխան ընտրված կազմակերպություններ
B47: Արդյունքի չափորոշիչներ
B48: Մանկաբարձական բժշկական օգնության ծառայություններից օգտվելու դեպքերի թիվ, հատ | E48: -1043
B49: Ծնունդների թիվ, հատ, որից | E49: -730
B50: Կեսարյան հատումների թիվ, հատ | E50: -268
B51: Միջոցառման վրա կատարվող ծախսը (հազար դրամ) | D51: =+'2'!E43 -> 0 | E51: =+'2'!F43 -> -150000
B53: Ծրագրի դասիչը` | C53: 1200 | D53: Ցուցանիշների փոփոխությունը (նվազեցումը նշված է փակագծերում)
B54: Միջոցառման դասիչը` | C54: 11003 | D54: Ինն ամիս | E54: Տարի
B55: Միջոցառման անվանումը` | C55: Երեխաներին բժշկական օգնության ծառայություններ
B56: Նկարագրությունը` | C56: Երեխաների (0-18 տարեկան երեխաներին) հիվանդանոցային բժշկական օգնության իրականացում (հետազոտում, ախտորոշում, բուժում)
B57: Միջոցառման տեսակը` | C57: Ծառայությունների մատուցում
B58: Ծառայությունը մատուցող կազմակերպության(ների) անվանում(ներ)ը | C58: ՀՀ գնումների մասին օրենսդրությանը համապատասխան ընտրված կազմակերպություններ
B59: Արդյունքի չափորոշիչներ
B60: Երեխաների բժշկական օգնության գծով ծառայություններից օգտվելու դեպքերի թիվ, հատ | D60: -447 | E60: -3163
B61: ցերակային ստացիոնար և կարճաժամկետ կամ փոքր ծավալի բուժօգնության դեպքերի թիվ, հատ | D61: -45 | E61: -316
B62: Միջոցառման վրա կատարվող ծախսը (հազար դրամ) | D62: =+'2'!E50 -> 0 | E62: =+'2'!F50 -> -400000
B64: Ծրագրի դասիչը | C64: Ծրագրի անվանումը
B65: 1202 | C65: Ոչ վարակիչ հիվանդությունների բժշկական օգնության ապահովում
B66: Ծրագրի միջոցառումները
B67: Ծրագրի դասիչը` | C67: 1202 | D67: Ցուցանիշների փոփոխությունը (ավելացումը նշված է դրական նշանով)
B68: Միջոցառման դասիչը` | C68: 11001 | D68: Ինն ամիս | E68: Տարի
B69: Միջոցառման անվանումը` | C69: Հեմոդիալիզի և պերիտոնիալ դիալիզի անցկացման ծառայություններ
B70: Նկարագրությունը` | C70: Հեմոդիալիզի կարիք ունեցող հիվանդների բժշկական օգնության համալիր միջոցառումների իրականացում
B71: Միջոցառման տեսակը` | C71: Ծառայությունների մատուցում
B72: Ծառայությունը մատուցող կազմակերպության(ների) անվանում(ներ)ը | C72: ՀՀ գնումների մասին օրենսդրությանը համապատասխան ընտրված կազմակերպություններ
B73: Արդյունքի չափորոշիչներ
B74: Հեմոդիալիզի սեանսների թիվ, հատ | D74: -18767 | E74: 4568
B75: Միջոցառման վրա կատարվող ծախսը (հազար դրամ) | D75: =+'2'!E63 -> 0 | E75: =+'2'!F63 -> 250000
B77: Ծրագրի դասիչը` | C77: 1202 | D77: Ցուցանիշների փոփոխությունը (ավելացումը նշված է դրական նշանով)
B78: Միջոցառման դասիչը` | C78: 11002 | D78: Ինն ամիս | E78: Տարի
B79: Միջոցառման անվանումը` | C79: Անհետաձգելի բժշկական օգնության ծառայություններ
B80: Նկարագրությունը` | C80: Անհետաձգելի բժշկական օգնության իրականացում` ՀՀ առողջապահության նախարարի կողմից հաստատված հիվանդությունների, վիճակների ցանկի համաձայն
B81: Միջոցառման տեսակը` | C81: Ծառայությունների մատուցում
B82: Ծառայությունը մատուցող կազմակերպության(ների) անվանում(ներ)ը | C82: ՀՀ գնումների մասին օրենսդրությանը համապատասխան ընտրված կազմակերպություններ
B83: Արդյունքի չափորոշիչներ
B84: Հիվանդանոցային պայմաններում արտահիվանդանոցային բժշկական օգնություն (emergency) | E84: 1500
B85: Միջոցառման վրա կատարվող ծախսը (հազար դրամ) | D85: =+'2'!E70 -> 0 | E85: =+'2'!F70 -> 100000
B87: Ծրագրի դասիչը` | C87: 1202 | D87: Ցուցանիշների փոփոխությունը (նվազեցումը նշված է փակագծերում)
B88: Միջոցառման դասիչը` | C88: 11003 | D88: Ինն ամիս | E88: Տարի
B89: Միջոցառման անվանումը` | C89: Հոգեկան և նարկոլոգիական հիվանդների բժշկական օգնության ծառայություններ
B90: Նկարագրությունը` | C90: Հոգեկան և նարկոլոգիական հիվանդների բուժում և շարունակական հսկողության համալիր միջոցառումների իրականացում
B91: Միջոցառման տեսակը` | C91: Ծառայությունների մատուցում
B92: Ծառայությունը մատուցող կազմակերպության(ների) անվանում(ներ)ը | C92: ՀՀ գնումների մասին օրենսդրությանը համապատասխան ընտրված կազմակերպություններ
B93: Արդյունքի չափորոշիչներ
B94: Հոգեկան և նարկոլոգիական հիվանդների բժշկական օգնության գծով ծառայություններից օգտվելու դեպքերի թիվ, հատ | E94: -337
B95: Միջոցառման վրա կատարվող ծախսը (հազար դրամ) | D95: =+'2'!E76 -> 0 | E95: =+'2'!F76 -> -150000
B97: Ծրագրի դասիչը` | C97: 1202 | D97: Ցուցանիշների փոփոխությունը (ավելացումը նշված է դրական նշանով)
B98: Միջոցառման դասիչը` | C98: 11004 | D98: Ինն ամիս | E98: Տարի
B99: Միջոցառման անվանումը` | C99: Ուռուցքաբանական և արյունաբանական հիվանդությունների բժշկական օգնության ծառայություններ
B100: Նկարագրությունը` | C100: Ուռուցքաբանական և արյունաբանական հիվանդների բուժում և շարունակական հսկողության համալիր միջոցառումների իրականացում
B101: Միջոցառման տեսակը` | C101: Ծառայությունների մատուցում
B102: Ծառայությունը մատուցող կազմակերպության(ների) անվանում(ներ)ը | C102: ՀՀ գնումների մասին օրենսդրությանը համապատասխան ընտրված կազմակերպություններ
B103: Արդյունքի չափորոշիչներ
B104: Ուռուցքաբանական և արյունաբանական հիվանդությունների բժշկական օգնության գծով ծառայություններից օգտվելու դեպքերի թիվ, հատ | E104: 5025
B105: Վիրաբուժական միջամտությունների թիվ, հատ | E105: 1028
B106: Միջոցառման վրա կատարվող ծախսը (հազար դրամ) | D106: =+'2'!E82 -> 0 | E106: =+'2'!F82 -> 856000
B108: Ծրագրի դասիչը` | C108: 1202 | D108: Ցուցանիշների փոփոխությունը (ավելացումը նշված է դրական նշանով)
B109: Միջոցառման դասիչը` | C109: 11005 | D109: Ինն ամիս | E109: Տարի
...

Sheet 6
A1: Հավելված № 6
A2: ՀՀ կառավարության 2023 թվականի -----------
A3: № ------------ -Ն որոշման
A4: ՀԱՅԱՍՏԱՆԻ ՀԱՆՐԱՊԵՏՈՒԹՅԱՆ ԿԱՌԱՎԱՐՈՒԹՅԱՆ 2022 ԹՎԱԿԱՆԻ ԴԵԿՏԵՄԲԵՐԻ 29-Ի N 2111-Ն ՈՐՈՇՄԱՆ N 10 ՀԱՎԵԼՎԱԾՈՒՄ ԿԱՏԱՐՎՈՂ ՓՈՓՈԽՈՒԹՅՈՒՆՆԵՐԸ
A6: Կոդը | B6: Անվանումը | E6: Գնման ձևը | F6: Չափման միավորը | G6: Միավորի գինը | H6: Քանակը | I6: Գումարը (հազար դրամով)
A7: 1 | B7: 2 | C7: 3 | D7: 4 | E7: 5 | F7: 6 | G7: 7 | H7: 8 | I7: 9
A8: ՀՀ առողջապահության նախարարություն
A9: Բաժին N 07 | B9: Խումբ N 02 | C9: Դաս N 02 | D9: Մասնագիտացված բժշկական ծառայություններ | I9: =I10 -> 50000
A10: 1208 11001 | B10: ՄԻԱՎ/ՁԻԱՀ-ի կանխարգելման և բուժօգնության ծառայություններ | I10: =I11 -> 50000
B11: ՄԱՍ III. ԾԱՌԱՅՈՒԹՅՈՒՆՆԵՐ | I11: =I12 -> 50000
A12: 85121120-1 | B12: ամբուլատոր-բժշկական ծառայություններ | E12: ՄԱ | F12: դրամ | I12: 50000
A13: Բաժին N 07 | B13: Խումբ N 03 | C13: Դաս N 01 | D13: Ընդհանուր բնույթի հիվանդանոցային ծառայություններ | I13: =I14+I18 -> 135000
A14: 1202 11002 | B14: Անհետաձգելի բժշկական օգնության ծառայություններ | I14: =I15 -> 100000
B15: ՄԱՍ III. ԾԱՌԱՅՈՒԹՅՈՒՆՆԵՐ | I15: =I16 -> 100000
A16: 85111100-1 | B16: հիվանդանոցային ծառայություններ | E16: ՄԱ | F16: դրամ | I16: ='2'!F70 -> 100000
A18: 1207 11007 | B18: Փոխպատվաստման ծառայություններ | I18: =I19 -> 35000
B19: ՄԱՍ III. ԾԱՌԱՅՈՒԹՅՈՒՆՆԵՐ | I19: =I20 -> 35000
A20: 85111120-1 | B20: հիվանդանոցային ծառայություններ | E20: ՄԱ | F20: դրամ | I20: ='2'!F107 -> 35000
A21: Բաժին N 07 | B21: Խումբ N 03 | C21: Դաս N 02 | D21: Մասնագիտացված հիվանդանոցային ծառայություններ | I21: =I26+I24 -> 706000
A22: 1202 11003 | B22: Հոգեկան և նարկոլոգիական հիվանդների բժշկական օգնության ծառայություններ | I22: =I23 -> -150000
B23: ՄԱՍ III. ԾԱՌԱՅՈՒԹՅՈՒՆՆԵՐ | I23: =I24 -> -150000
A24: 85111170-1 | B24: հոգեբուժական հիվանդանոցների կողմից մատուցվող ծառայություններ | E24: ՄԱ | F24: դրամ | I24: ='2'!F76 -> -150000
A26: 1202 11004 | B26: Ուռուցքաբանական և արյունաբանական հիվանդությունների բժշկական օգնության ծառայություններ | I26: =I27 -> 856000
B27: ՄԱՍ III. ԾԱՌԱՅՈՒԹՅՈՒՆՆԵՐ | I27: =I28 -> 856000
A28: 85111100-1 | B28: հիվանդանոցային ծառայություններ | E28: ՄԱ | F28: դրամ | I28: ='2'!F82 -> 856000
A29: Բաժին N 07 | B29: Խումբ N 03 | C29: Դաս N 03 | D29: Մոր և մանկան բժշկական ծառայություններ | I29: =I30 -> -400000
A30: 1200 11003 | B30: Երեխաներին բժշկական օգնության ծառայություններ | I30: =I31 -> -400000
B31: ՄԱՍ III. ԾԱՌԱՅՈՒԹՅՈՒՆՆԵՐ | I31: =I32 -> -400000
A32: 85111120-1 | B32: հիվանդանոցների կողմից մատուցվող բժշկական ծառայություններ | E32: ՄԱ | F32: դրամ | I32: ='2'!F50 -> -400000
A33: Բաժին N 07 | B33: Խումբ N 06 | C33: Դաս N 01 | D33: Առողջապահական հարակից ծառայություններ և ծրագրեր | I33: =I34 -> 114000
A34: 1142 11001 | B34: Դատաբժշկական փորձաքննություններ | I34: =I35 -> 114000
B35: ՄԱՍ III. ԾԱՌԱՅՈՒԹՅՈՒՆՆԵՐ | I35: =I36 -> 114000
A36: 85121120-1 | B36: ամբուլատոր-բժշկական ծառայություններ | E36: ՄԱ | F36: դրամ | I36: ='2'!F23 -> 114000

Sheet 7
B1: Հավելված № 7
B2: ՀՀ կառավարության 2023 թվականի -----------
B3: № ------------ -Ն որոշման
B4: հազար դրամ
B5: ՀՀ ԿԱՌԱՎԱՐՈՒԹՅԱՆ ՊԱՀՈՒՍՏԱՅԻՆ ՖՈՆԴԻՑ ԿԱՏԱՐՎՈՂ ՀԱՏԿԱՑՈՒՄՆԵՐԻ ՎԵՐԱԲԵՐՅԱԼ
B6: Գործառական դասիչը | E6: Ծրագրային դասիչը | G6: Բյուջետային հատկացումների գլխավոր կարգադրիչների, ծրագրերի, միջոցառումների և միջոցառումները կատարող պետական մարմինների անվանումները | H6: Ցուցանիշների փոփոխությունները (ավելացումները նշված են դրական նշանով, իսկ նվազեցումները` փակագծերում)
B7: բաժին | C7: խումբ | D7: դաս | E7: Ծրագիր | F7: Միջոցառում | H7: Ինն ամիս | I7: Տարի
B8: ԸՆԴԱՄԵՆԸ | H8: =+H9+H28 -> 0 | I8: =+I9+I28 -> 0
B9: 07 | G9: ԱՌՈՂՋԱՊԱՀՈՒԹՅՈՒՆ | H9: =+H11 -> 0 | I9: =+I11 -> 700000
G10: այդ թվում՝
C11: 03 | G11: Հիվանդանոցային ծառայություններ | H11: =+H13 -> 0 | I11: =+I13 -> 700000
G12: այդ թվում՝
D13: 02 | G13: Մասնագիտացված հիվանդանոցային ծառայություններ | H13: =+H15 -> 0 | I13: =+I17 -> 700000
G14: այդ թվում՝
G15: ՀՀ առողջապահության նախարարություն | H15: =+H17 -> 0 | I15: =+I17 -> 700000
G16: այդ թվում՝
E17: 1202 | G17: Ոչ վարակիչ հիվանդությունների բժշկական օգնության ապահովում | H17: =+H19 -> 0 | I17: =+I19 -> 700000
G18: այդ թվում`
F19: 11004 | G19: Ուռուցքաբանական և արյունաբանական հիվանդությունների բժշկական օգնության ծառայություններ | H19: =+H21 -> 0 | I19: =I21 -> 700000
G20: այդ թվում` ըստ կատարողների
G21: ՀՀ առողջապահության նախարարություն | H21: =+H23 -> 0 | I21: =I23 -> 700000
G22: այդ թվում` բյուջետային ծախսերի տնտեսագիտական դասակարգման հոդվածներ
G23: ԸՆԴԱՄԵՆԸ ԾԱԽՍԵՐ | H23: =+H24 -> 0 | I23: =I25 -> 700000
G24: ԸՆԹԱՑԻԿ ԾԱԽՍԵՐ | H24: =+H25 -> 0 | I24: =I25 -> 700000
G25: ԾԱՌԱՅՈՒԹՅՈՒՆՆԵՐԻ ԵՎ ԱՊՐԱՆՔՆԵՐԻ ՁԵՌՔԲԵՐՈՒՄ | H25: =+H27 -> 0 | I25: =I27 -> 700000
G26: Պայմանագրային այլ ծառայությունների ձեռքբերում
G27: - Ընդհանուր բնույթի այլ ծառայություններ | H27: ='4'!D106 -> 0 | I27: 700000
B28: 11 | G28: ՀՀ ԿԱՌԱՎԱՐՈՒԹՅՈՒՆ | H28: =+H29 -> 0 | I28: =+I29 -> -700000
G29: ՀԻՄՆԱԿԱՆ ԲԱԺԻՆՆԵՐԻՆ ՉԴԱՍՎՈՂ ՊԱՀՈՒՍՏԱՅԻՆ ՖՈՆԴԵՐ | H29: =+H31 -> 0 | I29: =+I31 -> -700000
G30: այդ թվում՝
C31: 01 | G31: ՀՀ կառավարության և համայնքների պահուստային ֆոնդ | H31: =+H33 -> 0 | I31: =+I33 -> -700000
G32: այդ թվում՝
D33: 01 | G33: ՀՀ կառավարության պահուստային ֆոնդ | H33: =+H35 -> 0 | I33: =+I35 -> -700000
G34: այդ թվում՝
G35: ՀՀ կառավարություն | H35: =+H37 -> 0 | I35: =+I37 -> -700000
G36: այդ թվում՝
E37: 1139 | G37: ՀՀ կառավարության պահուստային ֆոնդ | H37: =+H39 -> 0 | I37: =+I39 -> -700000
G38: այդ թվում`
F39: 11001 | G39: ՀՀ կառավարության պահուստային ֆոնդ | H39: =+H41 -> 0 | I39: =+I41 -> -700000
G40: այդ թվում ըստ կատարողների
G41: ՀՀ կառավարություն | H41: =+H43 -> 0 | I41: =+I43 -> -700000
G42: այդ թվում` բյուջետային ծախսերի տնտեսագիտական դասակարգման հոդվածներ
G43: ԸՆԴԱՄԵՆԸ ԾԱԽՍԵՐ | H43: =+H44 -> 0 | I43: =+I44 -> -700000
G44: ԸՆԹԱՑԻԿ ԾԱԽՍԵՐ | H44: =+H45 -> 0 | I44: =+I45 -> -700000
G45: ԱՅԼ ԾԱԽՍԵՐ | H45: =+H46 -> 0 | I45: =+I46 -> -700000
G46: Պահուստային միջոցներ | H46: 0 | I46: =+'1'!D15 -> -700000
