Workbook
Name _tab10: #REF!
Name _tab10: #REF!
Name _tab10: #REF!
Name _tab11: #REF!
Name _tab11: #REF!
Name _tab11: #REF!
Name _tab12: #REF!
Name _tab12: #REF!
Name _tab12: #REF!
Name _tab13: #REF!
Name _tab13: #REF!
Name _tab13: #REF!
Name _tab14: #REF!
Name _tab14: #REF!
Name _tab14: #REF!
Name _tab15: #REF!
Name _tab15: #REF!
Name _tab15: #REF!
Name _tab16: #REF!
Name _tab16: #REF!
Name _tab16: #REF!
Name _tab17: #REF!
Name _tab17: #REF!
Name _tab17: #REF!
Name _tab18: #REF!
Name _tab18: #REF!
Name _tab18: #REF!
Name _tab19: #REF!
Name _tab19: #REF!
Name _tab19: #REF!
Name _tab20: #REF!
Name _tab20: #REF!
Name _tab20: #REF!
Name _tab21: #REF!
Name _tab21: #REF!
Name _tab21: #REF!
Name _tab22: #REF!
Name _tab22: #REF!
Name _tab22: #REF!
Name _tab23: #REF!
Name _tab23: #REF!
Name _tab23: #REF!
Name _tab24: #REF!
Name _tab24: #REF!
Name _tab24: #REF!
Name _tab5: #REF!
Name _tab5: #REF!
Name _tab5: #REF!
Name _tab6: #REF!
Name _tab6: #REF!
Name _tab6: #REF!
Name _tab7: #REF!
Name _tab7: #REF!
Name _tab7: #REF!
Name _tab8: #REF!
Name _tab8: #REF!
Name _tab8: #REF!
Name _tab9: #REF!
Name _tab9: #REF!
Name _tab9: #REF!

Sheet 1
B1: Հավելված № 1
B2: ՀՀ կառավարության 2023 թվականի ----------
B3: № ---------- որոշման
B4: «ՀԱՅԱՍՏԱՆԻ ՀԱՆՐԱՊԵՏՈՒԹՅԱՆ 2023 ԹՎԱԿԱՆԻ ՊԵՏԱԿԱՆ ԲՅՈՒՋԵԻ ՄԱՍԻՆ» ՀԱՅԱՍՏԱՆԻ ՀԱՆՐԱՊԵՏՈՒԹՅԱՆ ՕՐԵՆՔԻ N 1 ՀԱՎԵԼՎԱԾԻ N 1 ԱՂՅՈՒՍԱԿՈՒՄ ԿԱՏԱՐՎՈՂ ՓՈՓՈԽՈՒԹՅՈՒՆՆԵՐԸ
D5: հազար դրամ
B6: Ծրագրային դասիչը | C6: Ծրագրի անվանումը | D6: Ցուցանիշների փոփոխությունները (ավելացումը նշված է դրական նշանով, իսկ նվազեցումը` փակագծերում)
D7: Տարի
B8: Ընդամենը | D8: =+D9+D10+D11+D12+D13+D14+D15 -> 0
B9: 1126 | C9: Առողջապահության ոլորտում պետական քաղաքականության մշակում, ծրագրերի համակարգում և մոնիտորինգ | D9: =+'2'!E17 -> 12991.5
B10: 1142 | C10: Դատաբժշկական և ախտաբանաանատոմիական ծառայություններ | D10: =+'2'!F23 -> 114000
B11: 1200 | C11: Մոր և մանկան առողջության պահպանում | D11: =+'2'!F36 -> -550000
B12: 1202 | C12: Ոչ վարակիչ հիվանդությունների բժշկական օգնության ապահովում | D12: =+'2'!F56 -> 1171000
B13: 1207 | C13: Սոցիալապես անապահով և առանձին խմբերի անձանց բժշկական օգնություն | D13: =+'2'!F94 -> -97991.5
B14: 1208 | C14: Վարակիչ հիվանդությունների կանխարգելման ծրագիր | D14: 50000
B15: 1139 | C15: ՀՀ կառավարության պահուստային ֆոնդ | D15: -700000

Sheet 2
B1: Հավելված № 2
B2: ՀՀ կառավարության 2023 թվականի ----------
B3: № ---------- որոշման
B4: «ՀԱՅԱՍՏԱՆԻ ՀԱՆՐԱՊԵՏՈՒԹՅԱՆ 2023 ԹՎԱԿԱՆԻ ՊԵՏԱԿԱՆ ԲՅՈՒՋԵԻ ՄԱՍԻՆ» ՀԱՅԱՍՏԱՆԻ ՀԱՆՐԱՊԵՏՈՒԹՅԱՆ ՕՐԵՆՔԻ N 1 ՀԱՎԵԼՎԱԾԻ N 2 ԱՂՅՈՒՍԱԿՈՒՄ ԿԱՏԱՐՎՈՂ ՎԵՐԱԲԱՇԽՈՒՄԸ ԵՎ ՀԱՅԱՍՏԱՆԻ ՀԱՆՐԱՊԵՏՈՒԹՅԱՆ ԿԱՌԱՎԱՐՈՒԹՅԱՆ 2022 ԹՎԱԿԱՆԻ ԴԵԿՏԵՄԲԵՐԻ 29-Ի № 2111-Ն ՈՐՈՇՄԱՆ № 5 ՀԱՎԵԼՎԱԾԻ № 1 ԱՂՅՈՒՍԱԿՈՒՄ ԿԱՏԱՐՎՈՂ ՓՈՓՈԽՈՒԹՅՈՒՆՆԵՐԸ
B5: հազար դրամ
B6: Ծրագրային դասիչը | D6: Բյուջետային հատկացումների գլխավոր կարգադրիչների, ծրագրերի և միջոցառումների անվանումները | E6: Ցուցանիշների փոփոխությունները (ավելացումները նշված են դրական նշանով, իսկ նվազեցումները` փակագծերում)
B7: Ծրագիր | C7: Միջոցառում | E7: Ինն ամիս | F7: Տարի
D8: ԸՆԴԱՄԵՆԸ | E8: =+E9+E126 -> 0 | F8: =+F9+F126 -> 0
D9: ՀՀ առողջապահության նախարարություն | E9: =+E10+E23+E36+E56+E94+E113 -> 0 | F9: =+F10+F23+F36+F56+F94+F113 -> 700000
B10: 1126 | D10: Ծրագրի անվանումը` | E10: =+E17 -> 12991.5 | F10: =+F17 -> 12991.5
D11: Առողջապահության ոլորտում պետական քաղաքականության մշակում, ծրագրերի համակարգում և մոնիտորինգ
D12: Ծրագրի նպատակը`
D13: Մարդու և հանրության առողջության պահպանում, բնակչության առողջության բարելավում, հիվանդությունների կանխարգելում, հաշմանդամության և մահացության ցուցանիշների նվազեցում
D14: Վերջնական արդյունքի նկարագրությունը`
D15: Առողջապահության ոլորտում իրականացվող ծրագրերի ազդեցության և արդյունավետության բարելավում
B16: Ծրագրի միջոցառումներ
C17: 11001 | D17: Միջոցառման անվանումը` | E17: 12991.5 | F17: 12991.5
D18: Առողջապահության ոլորտի պետական քաղաքականության մշակում, ծրագրերի համակարգում և մոնիտորինգ
D19: Միջոցառման նկարագրությունը`
D20: Մարդու և հանրության առողջության պահպանում, բնակչության առողջության բարելավում, հիվանդությունների կանխարգելում, հաշմանդամության և մահացության ցուցանիշների նվազեցում
D21: Միջոցառման տեսակը
D22: Ծառայությունների մատուցում
B23: 1142 | D23: Ծրագրի անվանումը` | E23: =+E30 -> 20000 | F23: =+F30 -> 114000
D24: Դատաբժշկական և ախտաբանաանատոմիական ծառայություններ
D25: Ծրագրի նպատակը`
D26: Պաթանատոմիական կանխորոշումների հիման վրա ախտորոշման և բուժման արդյունավետության բարձրացում
D27: Վերջնական արդյունքի նկարագրությունը`
D28: Մահերի պատճառների բացահայտում
B29: Ծրագրի միջոցառումներ
C30: 11001 | D30: Միջոցառման անվանումը` | E30: 20000 | F30: 114000
D31: Դատաբժշկական փորձաքննություններ
D32: Միջոցառման նկարագրությունը`
D33: Հանրապետության ուժային մարմինների որոշումների հիման վրա դատաբժշկական և գենետիկ փորձաքննությունների ապահովում` մահերի պատճառների վերհանման նպատակով դիակների փորձաքննություն
D34: Միջոցառման տեսակը
D35: Ծառայությունների մատուցում
B36: 1200 | D36: Ծրագրի անվանումը | E36: =+E43+E50 -> 0 | F36: =+F43+F50 -> -550000
D37: Մոր և մանկան առողջության պահպանում
D38: Ծրագրի նպատակը
D39: Մոր և մանկան առողջության պահպանում, կանանց և երեխաներին մատուցվող բժշկական ծառայությունների մատչելիության և որակի բարելավում
D40: Վերջնական արդյունքի նկարագրությունը
...

Sheet 3
B1: Հավելված № 3
B2: ՀՀ կառավարության 2023 թվականի -----------
B3: № ------------ -Ն որոշման
B4: ՀԱՅԱՍՏԱՆԻ ՀԱՆՐԱՊԵՏՈՒԹՅԱՆ ԿԱՌԱՎԱՐՈՒԹՅԱՆ 2022 ԹՎԱԿԱՆԻ ԴԵԿՏԵՄԲԵՐԻ 29-Ի № 2111-Ն ՈՐՈՇՄԱՆ NN 3 ԵՎ 4 ՀԱՎԵԼՎԱԾՆԵՐՈՒՄ ԿԱՏԱՐՎՈՂ ՓՈՓՈԽՈՒԹՅՈՒՆՆԵՐԸ
B5: հազար դրամ
B6: Գործառական դասիչը | E6: Ծրագրային դասիչը | G6: Բյուջետային հատկացումների գլխավոր կարգադրիչների, ծրագրերի, միջոցառումների և միջոցառումները կատարող պետական մարմինների անվանումները | H6: Ցուցանիշների փոփոխությունները (ավելացումները նշված են դրական նշանով, իսկ նվազեցումները` փակագծերում)
B7: բաժին | C7: խումբ | D7: դաս | E7: Ծրագիր | F7: Միջոցառում | H7: Ինն ամիս | I7: Տարի
B8: ԸՆԴԱՄԵՆԸ | H8: =+H9+H164 -> 0 | I8: =+I9+I164 -> 0
B9: 07 | G9: ԱՌՈՂՋԱՊԱՀՈՒԹՅՈՒՆ | H9: =+H11+H39+H133 -> 0 | I9: =+I11+I39+I133 -> 700000
G10: այդ թվում՝
C11: 02 | G11: Արտահիվանդանոցային ծառայություններ | H11: =+H13 -> 50000 | I11: =+I13 -> 300000
G12: այդ թվում՝
D13: 02 | G13: Մասնագիտացված բժշկական ծառայություններ | H13: =+H17+H28 -> 50000 | I13: =+I17+I28 -> 300000
G14: այդ թվում`
G15: ՀՀ առողջապահության նախարարություն | H15: =+H17 -> 0 | I15: =+I17 -> 250000
G16: այդ թվում՝
E17: 1202 | G17: Ոչ վարակիչ հիվանդությունների բժշկական օգնության ապահովում | H17: =+H19 -> 0 | I17: =+I19 -> 250000
G18: այդ թվում`
F19: 11001 | G19: Հեմոդիալիզի և պերիտոնիալ դիալիզի անցկացման ծառայություններ | H19: =+H21 -> 0 | I19: =+I21 -> 250000
G20: այդ թվում` ըստ կատարողների
G21: ՀՀ առողջապահության նախարարություն | H21: =+H23 -> 0 | I21: =+I23 -> 250000
G22: այդ թվում` բյուջետային ծախսերի տնտեսագիտական դասակարգման հոդվածներ
G23: ԸՆԴԱՄԵՆԸ ԾԱԽՍԵՐ | H23: =+H24 -> 0 | I23: =+I24 -> 250000
G24: ԸՆԹԱՑԻԿ ԾԱԽՍԵՐ | H24: =+H25 -> 0 | I24: =+I25 -> 250000
G25: ՍՈՑԻԱԼԱԿԱՆ ՆՊԱՍՏՆԵՐ ԵՎ ԿԵՆՍԱԹՈՇԱԿՆԵՐ | H25: =+H27 -> 0 | I25: =+I27 -> 250000
G26: Սոցիալական օգնության դրամական արտահայտությամբ նպաստներ (բյուջեից)
G27: - Այլ նպաստներ բյուջեից | H27: =+'2'!E63 -> 0 | I27: =+'2'!F63 -> 250000
E28: 1208 | G28: Ոչ վարակիչ հիվանդությունների բժշկական օգնության ապահովում | H28: =+H30 -> 50000 | I28: =+I30 -> 50000
G29: այդ թվում`
F30: 11001 | G30: ՄԻԱՎ/ՁԻԱՀ-ի կանխարգելման և բուժօգնության ծառայություններ | H30: =+H32 -> 50000 | I30: =+I32 -> 50000
G31: այդ թվում` ըստ կատարողների
G32: ՀՀ առողջապահության նախարարություն | H32: =+H34 -> 50000 | I32: =+I34 -> 50000
G33: այդ թվում` բյուջետային ծախսերի տնտեսագիտական դասակարգման հոդվածներ
G34: ԸՆԴԱՄԵՆԸ ԾԱԽՍԵՐ | H34: =+H35 -> 50000 | I34: =+I35 -> 50000
G35: ԸՆԹԱՑԻԿ ԾԱԽՍԵՐ | H35: =+H36 -> 50000 | I35: =+I36 -> 50000
G36: ԾԱՌԱՅՈՒԹՅՈՒՆՆԵՐԻ ԵՎ ԱՊՐԱՆՔՆԵՐԻ ՁԵՌՔԲԵՐՈՒՄ | H36: =+H38 -> 50000 | I36: =+I38 -> 50000
G37: Պայմանագրային այլ ծառայությունների ձեռքբերում
G38: - Ընդհանուր բնույթի այլ ծառայություններ | H38: =+'2'!E120 -> 50000 | I38: =+'2'!F120 -> 50000
C39: 03 | G39: Հիվանդանոցային ծառայություններ | H39: =+H41+H85+H109 -> -82991.5 | I39: =+I41+I85+I109 -> 273008.5
G40: այդ թվում՝
...

Sheet 4
B1: Հավելված № 4
B2: ՀՀ կառավարության 2023 թվականի -----------
B3: № ------------ -Ն որոշման
B4: ՀԱՅԱՍՏԱՆԻ ՀԱՆՐԱՊԵՏՈՒԹՅԱՆ ԿԱՌԱՎԱՐՈՒԹՅԱՆ 2022 ԹՎԱԿԱՆԻ ԴԵԿՏԵՄԲԵՐԻ 29-Ի N 2111-Ն ՈՐՈՇՄԱՆ N 9 ՀԱՎԵԼՎԱԾԻ 9.8 ԱՂՅՈՒՍԱԿՈՒՄ ԿԱՏԱՐՎՈՂ ՓՈՓՈԽՈՒԹՅՈՒՆՆԵՐԸ
B5: ՄԱՍ 2. ՊԵՏԱԿԱՆ ՄԱՐՄՆԻ ԳԾՈՎ ԱՐԴՅՈՒՆՔԱՅԻՆ (ԿԱՏԱՐՈՂԱԿԱՆ) ՑՈՒՑԱՆԻՇՆԵՐԸ
B7: ՀՀ ԱՌՈՂՋԱՊԱՀՈՒԹՅԱՆ ՆԱԽԱՐԱՐՈՒԹՅՈՒՆ
B8: Ծրագրի դասիչը | C8: Ծրագրի անվանումը
B9: 1126 | C9: Առողջապահության ոլորտում պետական քաղաքականության մշակում, ծրագրերի համակարգում և մոնիտորինգ
B10: Ծրագրի միջոցառումները
B11: Ծրագրի դասիչը` | C11: 1126 | D11: Ցուցանիշների փոփոխությունը (ավելացումը նշված է դրական նշանով)
B12: Միջոցառման դասիչը` | C12: 11001 | D12: Ինն ամիս | E12: Տարի
B13: Միջոցառման անվանումը` | C13: Առողջապահության ոլորտում պետական քաղաքականության մշակում, ծրագրերի համակարգում և մոնիտորինգ
B14: Նկարագրությունը` | C14: Մարդու և հանրության առողջության պահպանում, բնակչության առողջության բարելավում, հիվանդությունների կանխարգելում, հաշմանդամության և մահացության ցուցանիշների նվազեցում
B15: Միջոցառման տեսակը` | C15: Ծառայությունների մատուցում
B16: Ծառայությունը մատուցող կազմակերպության(ների) անվանում(ներ)ը | C16: ՀՀ առողջապահության նախարարություն
B17: Արդյունքի չափորոշիչներ
B18: Միջոցառման վրա կատարվող ծախսը (հազար դրամ) | D18: =+'2'!E17 -> 12991.5 | E18: =+'1'!D9 -> 12991.5
B20: Ծրագրի դասիչը | C20: Ծրագրի անվանումը
B21: 1142 | C21: Դատաբժշկական և ախտաբանաանատոմիական ծառայություններ
B22: Ծրագրի միջոցառումները
B23: Ծրագրի դասիչը` | C23: 1142 | D23: Ցուցանիշների փոփոխությունը (ավելացումը նշված է դրական նշանով)
B24: Միջոցառման դասիչը` | C24: 11001 | D24: Ինն ամիս | E24: Տարի
B25: Միջոցառման անվանումը` | C25: Դատաբժշկական փորձաքննություններ
B26: Նկարագրությունը` | C26: Հանրապետության ուժային մարմինների որոշումների հիման վրա դատաբժշկական և գենետիկ փորձաքննությունների ապահովում` մահերի պատճառների վերհանման նպատակով դիակների փորձաքննություն
B27: Միջոցառման տեսակը` | C27: Ծառայությունների մատուցում
B28: Ծառայությունը մատուցող կազմակերպության(ների) անվանում(ներ)ը | C28: Մասնագիտացված կազմակերպություն
B29: Արդյունքի չափորոշիչներ
B30: Դատաբժշկական փորձաքննությունների թիվ, հատ | E30: 5521
B31: Դիակի փորձաքննությունների թիվ, հատ | E31: 1969
B32: Կենդանի անձի փորձաքննությունների թիվ, հատ | E32: -9473
B33: Հյուսվածքաբանական փորձաքննությունների թիվ, հատ | E33: -871
B34: Համալիր փորձաքննությունների թիվ, հատ | E34: -64
B35: Դատագենետիկական փորձաքննություն | E35: 2141
B36: Միջոցառման վրա կատարվող ծախսը (հազար դրամ) | D36: =+'2'!E30 -> 20000 | E36: =+'2'!F30 -> 114000
B38: Ծրագրի դասիչը | C38: Ծրագրի անվանումը
B39: 1200 | C39: Մոր և մանկան առողջության պահպանում
B40: Ծրագրի միջոցառումները
B41: Ծրագրի դասիչը` | C41: 1200 | D41: Ցուցանիշների փոփոխությունը (նվազեցումը նշված է փակագծերում)
B42: Միջոցառման դասիչը` | C42: 11001 | D42: Ինն ամիս | E42: Տարի
B43: Միջոցառման անվանումը` | C43: Մանկաբարձական բժշկական օգնության ծառայություններ
...

Sheet 5
B1: Հավելված № 5
B2: ՀՀ կառավարության 2023 թվականի -----------
B3: № ------------ -Ն որոշման
B4: ՀԱՅԱՍՏԱՆԻ ՀԱՆՐԱՊԵՏՈՒԹՅԱՆ ԿԱՌԱՎԱՐՈՒԹՅԱՆ 2022 ԹՎԱԿԱՆԻ ԴԵԿՏԵՄԲԵՐԻ 29-Ի N 2111-Ն ՈՐՈՇՄԱՆ N 9.1 ՀԱՎԵԼՎԱԾԻ 9.1.8 ԱՂՅՈՒՍԱԿՈՒՄ ԿԱՏԱՐՎՈՂ ՓՈՓՈԽՈՒԹՅՈՒՆՆԵՐԸ
B5: ՄԱՍ 2. ՊԵՏԱԿԱՆ ՄԱՐՄՆԻ ԳԾՈՎ ԱՐԴՅՈՒՆՔԱՅԻՆ (ԿԱՏԱՐՈՂԱԿԱՆ) ՑՈՒՑԱՆԻՇՆԵՐԸ
B7: ՀՀ ԱՌՈՂՋԱՊԱՀՈՒԹՅԱՆ ՆԱԽԱՐԱՐՈՒԹՅՈՒՆ
B8: Ծրագրի դասիչը | C8: Ծրագրի անվանումը
B9: 1126 | C9: Առողջապահության ոլորտում պետական քաղաքականության մշակում, ծրագրերի համակարգում և մոնիտորինգ
B10: Ծրագրի միջոցառումները
B11: Ծրագրի դասիչը` | C11: 1126 | D11: Ցուցանիշների փոփոխությունը (ավելացումը նշված է դրական նշանով)
B12: Միջոցառման դասիչը` | C12: 11001 | D12: Ինն ամիս | E12: Տարի
B13: Միջոցառման անվանումը` | C13: Առողջապահության ոլորտում պետական քաղաքականության մշակում, ծրագրերի համակարգում և մոնիտորինգ
B14: Նկարագրությունը` | C14: Մարդու և հանրության առողջության պահպանում, բնակչության առողջության բարելավում, հիվանդությունների կանխարգելում, հաշմանդամության և մահացության ցուցանիշների նվազեցում
B15: Միջոցառման տեսակը` | C15: Ծառայությունների մատուցում
B16: Ծառայությունը մատուցող կազմակերպության(ների) անվանում(ներ)ը | C16: ՀՀ առողջապահության նախարարություն
B17: Արդյունքի չափորոշիչներ
B18: Միջոցառման վրա կատարվող ծախսը (հազար դրամ) | D18: =+'2'!E17 -> 12991.5 | E18: =+'1'!D9 -> 12991.5
B20: Ծրագրի դասիչը | C20: Ծրագրի անվանումը
B21: 1142 | C21: Դատաբժշկական և ախտաբանաանատոմիական ծառայություններ
B22: Ծրագրի միջոցառումները
B23: Ծրագրի դասիչը` | C23: 1142 | D23: Ցուցանիշների փոփոխությունը (ավելացումը նշված է դրական նշանով)
B24: Միջոցառման դասիչը` | C24: 11001 | D24: Ինն ամիս | E24: Տարի
B25: Միջոցառման անվանումը` | C25: Դատաբժշկական փորձաքննություններ
B26: Նկարագրությունը` | C26: Հանրապետության ուժային մարմինների որոշումների հիման վրա դատաբժշկական և գենետիկ փորձաքննությունների ապահովում` մահերի պատճառների վերհանման նպատակով դիակների փորձաքննություն
B27: Միջոցառման տեսակը` | C27: Ծառայությունների մատուցում
B28: Ծառայությունը մատուցող կազմակերպության(ների) անվանում(ներ)ը | C28: Մասնագիտացված կազմակերպություն
B29: Արդյունքի չափորոշիչներ
B30: Դատաբժշկական փորձաքննությունների թիվ, հատ | E30: 5521
B31: Դիակի փորձաքննությունների թիվ, հատ | E31: 1969
B32: Կենդանի անձի փորձաքննությունների թիվ, հատ | E32: -9473
B33: Հյուսվածքաբանական փորձաքննությունների թիվ, հատ | E33: -871
B34: Համալիր փորձաքննությունների թիվ, հատ | E34: -64
B35: Դատագենետիկական փորձաքննություն | E35: 2141
B36: Միջոցառման վրա կատարվող ծախսը (հազար դրամ) | D36: =+'2'!E30 -> 20000 | E36: =+'2'!F30 -> 114000
B38: Ծրագրի դասիչը | C38: Ծրագրի անվանումը
B39: 1200 | C39: Մոր և մանկան առողջության պահպանում
B40: Ծրագրի միջոցառումները
B41: Ծրագրի դասիչը` | C41: 1200 | D41: Ցուցանիշների փոփոխությունը (նվազեցումը նշված է փակագծերում)
B42: Միջոցառման դասիչը` | C42: 11001 | D42: Ինն ամիս | E42: Տարի
B43: Միջոցառման անվանումը` | C43: Մանկաբարձական բժշկական օգնության ծառայություններ
...

Sheet 6
A1: Հավելված № 6
A2: ՀՀ կառավարության 2023 թվականի -----------
A3: № ------------ -Ն որոշման
A4: ՀԱՅԱՍՏԱՆԻ ՀԱՆՐԱՊԵՏՈՒԹՅԱՆ ԿԱՌԱՎԱՐՈՒԹՅԱՆ 2022 ԹՎԱԿԱՆԻ ԴԵԿՏԵՄԲԵՐԻ 29-Ի N 2111-Ն ՈՐՈՇՄԱՆ N 10 ՀԱՎԵԼՎԱԾՈՒՄ ԿԱՏԱՐՎՈՂ ՓՈՓՈԽՈՒԹՅՈՒՆՆԵՐԸ
A6: Կոդը | B6: Անվանումը | E6: Գնման ձևը | F6: Չափման միավորը | G6: Միավորի գինը | H6: Քանակը | I6: Գումարը (հազար դրամով)
A7: 1 | B7: 2 | C7: 3 | D7: 4 | E7: 5 | F7: 6 | G7: 7 | H7: 8 | I7: 9
A8: ՀՀ առողջապահության նախարարություն
A9: Բաժին N 07 | B9: Խումբ N 02 | C9: Դաս N 02 | D9: Մասնագիտացված բժշկական ծառայություններ | I9: =I10 -> 50000
A10: 1208 11001 | B10: ՄԻԱՎ/ՁԻԱՀ-ի կանխարգելման և բուժօգնության ծառայություններ | I10: =I11 -> 50000
B11: ՄԱՍ III. ԾԱՌԱՅՈՒԹՅՈՒՆՆԵՐ | I11: =I12 -> 50000
A12: 85121120-1 | B12: ամբուլատոր-բժշկական ծառայություններ | E12: ՄԱ | F12: դրամ | I12: 50000
A13: Բաժին N 07 | B13: Խումբ N 03 | C13: Դաս N 01 | D13: Ընդհանուր բնույթի հիվանդանոցային ծառայություններ | I13: =I14+I18 -> 135000
A14: 1202 11002 | B14: Անհետաձգելի բժշկական օգնության ծառայություններ | I14: =I15 -> 100000
B15: ՄԱՍ III. ԾԱՌԱՅՈՒԹՅՈՒՆՆԵՐ | I15: =I16 -> 100000
A16: 85111100-1 | B16: հիվանդանոցային ծառայություններ | E16: ՄԱ | F16: դրամ | I16: ='2'!F70 -> 100000
A18: 1207 11007 | B18: Փոխպատվաստման ծառայություններ | I18: =I19 -> 35000
B19: ՄԱՍ III. ԾԱՌԱՅՈՒԹՅՈՒՆՆԵՐ | I19: =I20 -> 35000
A20: 85111120-1 | B20: հիվանդանոցային ծառայություններ | E20: ՄԱ | F20: դրամ | I20: ='2'!F107 -> 35000
A21: Բաժին N 07 | B21: Խումբ N 03 | C21: Դաս N 02 | D21: Մասնագիտացված հիվանդանոցային ծառայություններ | I21: =I26+I24 -> 706000
A22: 1202 11003 | B22: Հոգեկան և նարկոլոգիական հիվանդների բժշկական օգնության ծառայություններ | I22: =I23 -> -150000
B23: ՄԱՍ III. ԾԱՌԱՅՈՒԹՅՈՒՆՆԵՐ | I23: =I24 -> -150000
A24: 85111170-1 | B24: հոգեբուժական հիվանդանոցների կողմից մատուցվող ծառայություններ | E24: ՄԱ | F24: դրամ | I24: ='2'!F76 -> -150000
A26: 1202 11004 | B26: Ուռուցքաբանական և արյունաբանական հիվանդությունների բժշկական օգնության ծառայություններ | I26: =I27 -> 856000
B27: ՄԱՍ III. ԾԱՌԱՅՈՒԹՅՈՒՆՆԵՐ | I27: =I28 -> 856000
A28: 85111100-1 | B28: հիվանդանոցային ծառայություններ | E28: ՄԱ | F28: դրամ | I28: ='2'!F82 -> 856000
A29: Բաժին N 07 | B29: Խումբ N 03 | C29: Դաս N 03 | D29: Մոր և մանկան բժշկական ծառայություններ | I29: =I30 -> -400000
A30: 1200 11003 | B30: Երեխաներին բժշկական օգնության ծառայություններ | I30: =I31 -> -400000
B31: ՄԱՍ III. ԾԱՌԱՅՈՒԹՅՈՒՆՆԵՐ | I31: =I32 -> -400000
A32: 85111120-1 | B32: հիվանդանոցների կողմից մատուցվող բժշկական ծառայություններ | E32: ՄԱ | F32: դրամ | I32: ='2'!F50 -> -400000
A33: Բաժին N 07 | B33: Խումբ N 06 | C33: Դաս N 01 | D33: Առողջապահական հարակից ծառայություններ և ծրագրեր | I33: =I34 -> 114000
A34: 1142 11001 | B34: Դատաբժշկական փորձաքննություններ | I34: =I35 -> 114000
B35: ՄԱՍ III. ԾԱՌԱՅՈՒԹՅՈՒՆՆԵՐ | I35: =I36 -> 114000
A36: 85121120-1 | B36: ամբուլատոր-բժշկական ծառայություններ | E36: ՄԱ | F36: դրամ | I36: ='2'!F23 -> 114000

Sheet 7
B1: Հավելված № 7
B2: ՀՀ կառավարության 2023 թվականի -----------
B3: № ------------ -Ն որոշման
B4: հազար դրամ
B5: ՀՀ ԿԱՌԱՎԱՐՈՒԹՅԱՆ ՊԱՀՈՒՍՏԱՅԻՆ ՖՈՆԴԻՑ ԿԱՏԱՐՎՈՂ ՀԱՏԿԱՑՈՒՄՆԵՐԻ ՎԵՐԱԲԵՐՅԱԼ
B6: Գործառական դասիչը | E6: Ծրագրային դասիչը | G6: Բյուջետային հատկացումների գլխավոր կարգադրիչների, ծրագրերի, միջոցառումների և միջոցառումները կատարող պետական մարմինների անվանումները | H6: Ցուցանիշների փոփոխությունները (ավելացումները նշված են դրական նշանով, իսկ նվազեցումները` փակագծերում)
B7: բաժին | C7: խումբ | D7: դաս | E7: Ծրագիր | F7: Միջոցառում | H7: Ինն ամիս | I7: Տարի
B8: ԸՆԴԱՄԵՆԸ | H8: =+H9+H28 -> 0 | I8: =+I9+I28 -> 0
B9: 07 | G9: ԱՌՈՂՋԱՊԱՀՈՒԹՅՈՒՆ | H9: =+H11 -> 0 | I9: =+I11 -> 700000
G10: այդ թվում՝
C11: 03 | G11: Հիվանդանոցային ծառայություններ | H11: =+H13 -> 0 | I11: =+I13 -> 700000
G12: այդ թվում՝
D13: 02 | G13: Մասնագիտացված հիվանդանոցային ծառայություններ | H13: =+H15 -> 0 | I13: =+I17 -> 700000
G14: այդ թվում՝
G15: ՀՀ առողջապահության նախարարություն | H15: =+H17 -> 0 | I15: =+I17 -> 700000
G16: այդ թվում՝
E17: 1202 | G17: Ոչ վարակիչ հիվանդությունների բժշկական օգնության ապահովում | H17: =+H19 -> 0 | I17: =+I19 -> 700000
G18: այդ թվում`
F19: 11004 | G19: Ուռուցքաբանական և արյունաբանական հիվանդությունների բժշկական օգնության ծառայություններ | H19: =+H21 -> 0 | I19: =I21 -> 700000
G20: այդ թվում` ըստ կատարողների
G21: ՀՀ առողջապահության նախարարություն | H21: =+H23 -> 0 | I21: =I23 -> 700000
G22: այդ թվում` բյուջետային ծախսերի տնտեսագիտական դասակարգման հոդվածներ
G23: ԸՆԴԱՄԵՆԸ ԾԱԽՍԵՐ | H23: =+H24 -> 0 | I23: =I25 -> 700000
G24: ԸՆԹԱՑԻԿ ԾԱԽՍԵՐ | H24: =+H25 -> 0 | I24: =I25 -> 700000
G25: ԾԱՌԱՅՈՒԹՅՈՒՆՆԵՐԻ ԵՎ ԱՊՐԱՆՔՆԵՐԻ ՁԵՌՔԲԵՐՈՒՄ | H25: =+H27 -> 0 | I25: =I27 -> 700000
G26: Պայմանագրային այլ ծառայությունների ձեռքբերում
G27: - Ընդհանուր բնույթի այլ ծառայություններ | H27: ='4'!D106 -> 0 | I27: 700000
B28: 11 | G28: ՀՀ ԿԱՌԱՎԱՐՈՒԹՅՈՒՆ | H28: =+H29 -> 0 | I28: =+I29 -> -700000
G29: ՀԻՄՆԱԿԱՆ ԲԱԺԻՆՆԵՐԻՆ ՉԴԱՍՎՈՂ ՊԱՀՈՒՍՏԱՅԻՆ ՖՈՆԴԵՐ | H29: =+H31 -> 0 | I29: =+I31 -> -700000
G30: այդ թվում՝
C31: 01 | G31: ՀՀ կառավարության և համայնքների պահուստային ֆոնդ | H31: =+H33 -> 0 | I31: =+I33 -> -700000
G32: այդ թվում՝
D33: 01 | G33: ՀՀ կառավարության պահուստային ֆոնդ | H33: =+H35 -> 0 | I33: =+I35 -> -700000
G34: այդ թվում՝
G35: ՀՀ կառավարություն | H35: =+H37 -> 0 | I35: =+I37 -> -700000
G36: այդ թվում՝
E37: 1139 | G37: ՀՀ կառավարության պահուստային ֆոնդ | H37: =+H39 -> 0 | I37: =+I39 -> -700000
G38: այդ թվում`
F39: 11001 | G39: ՀՀ կառավարության պահուստային ֆոնդ | H39: =+H41 -> 0 | I39: =+I41 -> -700000
G40: այդ թվում ըստ կատարողների
...
