Workbook
Name a: #REF!
Name a: #REF!
Name AgencyCode: #REF!
Name AgencyCode: #REF!
Name AgencyCode: #REF!
Name AgencyName: #REF!
Name AgencyName: #REF!
Name AgencyName: #REF!
Name davit: #REF!
Name davit: #REF!
Name Functional1: #REF!
Name Functional1: #REF!
Name Functional1: #REF!
Name ggg: #REF!
Name ggg: #REF!
Name PANature: #REF!
Name PANature: #REF!
Name PANature: #REF!
Name PAType: #REF!
Name PAType: #REF!
Name PAType: #REF!
Name Performance2: #REF!
Name Performance2: #REF!
Name Performance2: #REF!
Name PerformanceType: #REF!
Name PerformanceType: #REF!
Name PerformanceType: #REF!
Name Հավելված: #REF!
Name Հավելված: #REF!
Name Մաս: #REF!
Name Մաս: #REF!
Name շախմատիստ: #REF!
Name շախմատիստ: #REF!

Sheet Հավելված N 1
C1: Հավելված N 1
C2: ՀՀ կառավարության 2023 թվականի
C3: ______________ ի ___Ն որոշման
A6: «ՀԱՅԱUՏԱՆԻ ՀԱՆՐԱՊԵՏՈՒԹՅԱՆ 2023 ԹՎԱԿԱՆԻ ՊԵՏԱԿԱՆ ԲՅՈՒՋԵԻ ՄԱUԻՆ» ՀԱՅԱUՏԱՆԻ ՀԱՆՐԱՊԵՏՈՒԹՅԱՆ OՐԵՆՔԻ N 1 ՀԱՎԵԼՎԱԾԻ N 2 ԱՂՅՈՒՍԱԿՈՒՄ ԿԱՏԱՐՎՈՂ ՎԵՐԱԲԱՇԽՈՒՄԸ ԵՎ ՀԱՅԱՍՏԱՆԻ ՀԱՆՐԱՊԵՏՈՒԹՅԱՆ ԿԱՌԱՎԱՐՈՒԹՅԱՆ 2022 ԹՎԱԿԱՆԻ ԴԵԿՏԵՄԲԵՐԻ 29-Ի N 2111-Ն ՈՐՈՇՄԱՆ N 5 ՀԱՎԵԼՎԱԾԻ N 1 ԱՂՅՈՒՍԱԿՈՒՄ ԿԱՏԱՐՎՈՂ ՓՈՓՈԽՈՒԹՅՈՒՆՆԵՐԸ ԵՎ ԼՐԱՑՈՒՄՆԵՐԸ
E9: հազ. դրամներով
A10: Ծրագրային դասիչը | C10: Բյուջետային հատկացումների գլխավոր կարգադրիչների, ծրագրերի և միջոցառումների անվանումները | D10: Ցուցանիշների փոփոխությունը (ավելացումները նշված են դրական նշանով, իսկ նվազեցումները՝ փակագծերում)
A11: Ծրագիր | B11: Միջոցառում | D11: Ինն ամիս | E11: Տարի
A12: 1192 | C12: ԸՆԴԱՄԵՆԸ | D12: =+D14+D130 -> 0 | E12: =+E14+E130 -> 0
C13: այդ թվում
C14: ՀՀ ԿՐԹՈՒԹՅԱՆ, ԳԻՏՈՒԹՅԱՆ, ՄՇԱԿՈՒՅԹԻ ԵՎ ՍՊՈՐՏԻ ՆԱԽԱՐԱՐՈՒԹՅՈՒՆ | D14: =+D16+D35+D48+D61+D74+D87 -> -1431410.5 | E14: =+E16+E35+E48+E61+E74+E87 -> -1868106.8
A15: 1045 | C15: Ծրագրի անվանումը`
C16: Նախնական (արհեստագործական) և միջին մասնագիտական կրթություն | D16: =+D23+D29 -> -653446.2 | E16: =+E23+E29 -> -850565.3
C17: Ծրագրի նպատակը`
C18: Աշխատաշուկայի արդի պահանջներին համապատասխան նախնական մասնագիտական (արհեստագործական) և միջին մասնագիտական կրթության որակավորում ունեցող մասնագետների պատրաստում, կրթության մատչելիության ապահովում:
C19: Վերջնական արդյունքի նկարագրությունը`
C20: Նախնական (արհեստագործական) և միջին մասնագիտական կրթության գրավչության բարձրացում, մատչելի և մրցունակ նախնական (արհեստագործական) և միջին մասնագիտական կրթության ապահովում
C21: Ծրագրի միջոցառումներ
B22: 32001 | C22: Միջոցառման անվանումը`
C23: Նախնական մասնագիտական (արհեստագործական) և միջին մասնագիտական ուսումնական հաստատությունների շենքային պայմանների բարելավում | D23: =+'Հավելված N 2'!G67 -> -264013.5 | E23: =+'Հավելված N 2'!H67 -> -330699.7
C24: Միջոցառման նկարագրությունը`
C25: ՆՄՄԿՈՒ հաստատությունների շենքերի հիմնանորոգման և նախագծման (շինարարական աշխատանքներ, ջեռուցման համակարգի ստեղծում, ներքին հարդարում, տարածքի բարեկարգում) աշխատանքների իրականացում
C26: Միջոցառման տեսակը
C27: Այլ պետական կազմակերպությունների կողմից օգտագործվող ոչ ֆինանսական ակտիվների հետ գործառնություններ
B28: 32005 | C28: Միջոցառման անվանումը`
C29: Նախնական մասնագիտական (արհեստագործական) և միջին մասնագիտական ուսումնական հաստատությունների շենքերի կառուցում | D29: =+'Հավելված N 2'!G78 -> -389432.7 | E29: =+'Հավելված N 2'!H78 -> -519865.6
C30: Միջոցառման նկարագրությունը`
C31: ՆՄՄԿՈՒ հաստատությունների շենքերի (մասնաշենքերի) կառուցման և նախագծման աշխատանքների իրականացում
C32: Միջոցառման տեսակը
C33: Այլ պետական կազմակերպությունների կողմից օգտագործվող ոչ ֆինանսական ակտիվների հետ գործառնություններ
A34: 1075 | C34: Ծրագրի անվանումը`
C35: Մշակութային ժառանգության ծրագիր | D35: =+D42 -> -117379.8 | E35: =+E42 -> -199482
C36: Ծրագրի նպատակը`
C37: Մշակութային ժառանգության պահպանում, օգտագործում, համալրում և հանրահռչակում
C38: Վերջնական արդյունքի նկարագրությունը`
C39: Մշակութային ժառանգության շարունակական պահպանում, մշակութային զբոսաշրջության զարգացում և խթանում
C40: Ծրագրի միջոցառումներ
B41: 32001 | C41: Միջոցառման անվանումը`
C42: Ներդրումներ թանգարանների և պատկերասրահների հիմնանորոգման համար | D42: =+'Հավելված N 2'!G24 -> -117379.8 | E42: =+'Հավելված N 2'!H24 -> -199482
C43: Միջոցառման նկարագրությունը`
C44: Թանգարանների և պատկերասրահների շենքերի, մասնաշենքերի հիմնանորոգում, համաշինարարական աշխատանքներ, ջեռուցման համակարգի իրականացում, ներքին հարդարում, տարածքի բարեկարգում և նախագծում
...

Sheet Հավելված N 2
F1: Հավելված N 2
F2: ՀՀ կառավարության 2023 թվականի
F3: ______________ ի ___Ն որոշման
A5: ՀԱՅԱՍՏԱՆԻ ՀԱՆՐԱՊԵՏՈՒԹՅԱՆ ԿԱՌԱՎԱՐՈՒԹՅԱՆ 2022 ԹՎԱԿԱՆԻ ԴԵԿՏԵՄԲԵՐԻ 29-Ի N2111-Ն ՈՐՈՇՄԱՆ N 3 ԵՎ N 4 ՀԱՎԵԼՎԱԾՆԵՐՈՒՄ ԿԱՏԱՐՎՈՂ ՓՈՓՈԽՈՒԹՅՈՒՆՆԵՐԸ ԵՎ ԼՐԱՑՈՒՄՆԵՐԸ
H8: հազ. դրամներով
A9: Գործառական դասիչը | D9: Ծրագրային դասիչը | F9: Բյուջետային հատկացումների գլխավոր կարգադրիչների, ծրագրերի, միջոցառումների և միջոցառումները կատարող պետական մարմինների անվանումները | G9: Ցուցանիշների փոփոխությունը (ավելացումները նշված են դրական նշանով, իսկ նվազեցումները՝ փակագծերում)
A10: Բաժին | B10: Խումբ | C10: Դաս | D10: Ծրագիր | E10: Միջոցառում | G10: Ինն ամիս | H10: Տարի
F11: ԸՆԴԱՄԵՆԸ | G11: =+G13+G174 -> 0 | H11: =+H13+H174 -> 0
F12: այդ թվում՝
F13: ՀՀ ԿՐԹՈՒԹՅԱՆ, ԳԻՏՈՒԹՅԱՆ, ՄՇԱԿՈՒՅԹԻ ԵՎ ՍՊՈՐՏԻ ՆԱԽԱՐԱՐՈՒԹՅՈՒՆ | G13: =+G14+G57 -> -1431410.5 | H13: =+H14+H57 -> -1868106.8
A14: 08 | F14: ՀԱՆԳԻՍՏ, ՄՇԱԿՈՒՅԹ ԵՎ ԿՐՈՆ | G14: =+G16 -> -117379.8 | H14: =+H16 -> 79472.6
F15: այդ թվում`
B16: 02 | F16: Մշակութային ծառայություններ | G16: =+G18+G35 -> -117379.8 | H16: =+H18+H35 -> 79472.6
F17: այդ թվում`
C18: 02 | F18: Թանգարաններ և ցուցասրահներ | G18: =+G20 -> -117379.8 | H18: =+H20 -> -199482
F19: այդ թվում`
F20: ՀՀ կրթության, գիտության, մշակույթի և սպորտի նախարարություն | G20: =+G22 -> -117379.8 | H20: =+H22 -> -199482
F21: այդ թվում`
D22: 1075 | E22: Մշակութային ժառանգության ծրագիր | G22: =+G24 -> -117379.8 | H22: =+H24 -> -199482
F23: այդ թվում`
E24: 32001 | F24: Ներդրումներ թանգարանների և պատկերասրահների հիմնանորոգման համար | G24: =+G26 -> -117379.8 | H24: =+H26 -> -199482
F25: այդ թվում` ըստ կատարողների
F26: ՀՀ քաղաքաշինության կոմիտե | G26: =+G28 -> -117379.8 | H26: =+H28 -> -199482
F27: այդ թվում՝ բյուջետային ծախսերի տնտեսագիտական դասակարգման հոդվածներ
F28: ԸՆԴԱՄԵՆԸ ԾԱԽՍԵՐ | G28: =+G29 -> -117379.8 | H28: =+H29 -> -199482
F29: ՈՉ ՖԻՆԱՆՍԱԿԱՆ ԱԿՏԻՎՆԵՐԻ ԳԾՈՎ ԾԱԽՍԵՐ | G29: =+G30 -> -117379.8 | H29: =+H30 -> -199482
F30: ՀԻՄՆԱԿԱՆ ՄԻՋՈՑՆԵՐ | G30: =+G31+G33 -> -117379.8 | H30: =+H31+H33 -> -199482
F31: ՇԵՆՔԵՐ ԵՎ ՇԻՆՈՒԹՅՈՒՆՆԵՐ | G31: =+G32 -> -82102 | H31: =+H32 -> -164204.2
F32: - Շենքերի և շինությունների կապիտալ վերանորոգում | G32: =+'Հավելված N 4'!E35 -> -82102 | H32: =+'Հավելված N 4'!F35 -> -164204.2
F33: ԱՅԼ ՀԻՄՆԱԿԱՆ ՄԻՋՈՑՆԵՐ | G33: =+G34 -> -35277.8 | H33: =+H34 -> -35277.8
F34: - Նախագծահետազոտական ծախսեր | G34: =+'Հավելված N 4'!E37 -> -35277.8 | H34: =+'Հավելված N 4'!F37 -> -35277.8
C35: 05 | F35: Արվեստ | G35: =+G37 -> 0 | H35: =+H37 -> 278954.6
F36: այդ թվում`
F37: ՀՀ կրթության, գիտության, մշակույթի և սպորտի նախարարություն | G37: =+G39 -> 0 | H37: =+H39 -> 278954.6
F38: այդ թվում`
D39: 1168 | E39: Արվեստների ծրագիր | G39: =+G41 -> 0 | H39: =+H41 -> 278954.6
F40: այդ թվում`
E41: 32001 | F41: Ներդրումներ թատրոնների շենքերի կապիտալ վերանորոգման համար | G41: =+G43+G50 -> 0 | H41: =+H43+H50 -> 278954.6
F42: այդ թվում` ըստ կատարողների
F43: ՀՀ քաղաքաշինության կոմիտե | G43: =+G45 -> 0 | H43: =+H45 -> 79472.6
...

Sheet Հավելված N 3
F1: Հավելված N 3
F2: ՀՀ կառավարության 2023 թվականի
F3: ______________ ի ___Ն որոշման
A6: «ՀԱՅԱUՏԱՆԻ ՀԱՆՐԱՊԵՏՈՒԹՅԱՆ 2023 ԹՎԱԿԱՆԻ ՊԵՏԱԿԱՆ ԲՅՈՒՋԵԻ ՄԱUԻՆ» ՀԱՅԱUՏԱՆԻ ՀԱՆՐԱՊԵՏՈՒԹՅԱՆ OՐԵՆՔԻ N 1 ՀԱՎԵԼՎԱԾԻ N 3 ԱՂՅՈՒՍԱԿՈՒՄ ԿԱՏԱՐՎՈՂ ՓՈՓՈԽՈՒԹՅՈՒՆՆԵՐԸ ԵՎ ԼՐԱՑՈՒՄՆԵՐԸ
H9: հազ. դրամներով
A10: Ծրագրային դասիչ | C10: Բյուջետային գլխավոր կարգադրիչների, ծրագրերի, միջոցառումների և ուղղությունների անվանումները | D10: Ընդամենը | E10: Ցուցանիշների փոփոխությունը (ավելացումները նշված են դրական նշանով, իսկ նվազեցումները՝ փակագծերում)
A11: Ծրագիր | B11: Միջոցառում | E11: Կառուցման աշխատանքներ | F11: Վերակառուցման, վերանորոգման և վերականգնման աշխատանքներ | G11: Նախագծահե- տազոտական, գեոդեզիա- քարտեզագրա- կան աշխա- տանքներ | H11: Ոչ ֆինանսական այլ ակտիվների ձեռքբերում
C12: ԸՆԴԱՄԵՆԸ | D12: =SUM(E12:H12) -> -1868106.8 | E12: =+E14 -> -1235618.7 | F12: =+F14 -> -446163.9 | G12: =+G14 -> -186324.2 | H12: =+H14 -> 0
C13: այդ թվում՝
C14: ՀՀ ԿՐԹՈՒԹՅԱՆ, ԳԻՏՈՒԹՅԱՆ, ՄՇԱԿՈՒՅԹԻ ԵՎ ՍՊՈՐՏԻ ՆԱԽԱՐԱՐՈՒԹՅՈՒՆ | D14: =SUM(E14:H14) -> -1868106.8 | E14: =+E16+E22+E28+E34+E38+E61+E66+E71+E84+E102+E106+E129 -> -1235618.7 | F14: =+F16+F22+F28+F34+F38+F61+F66+F71+F84+F102+F106+F129 -> -446163.9 | G14: =+G16+G22+G28+G34+G38+G61+G66+G71+G84+G102+G106+G129 -> -186324.2 | H14: =+H16+H22+H28+H34+H38+H61+H66+H71+H84+H102+H106+H129 -> 0
C15: այդ թվում`
A16: 1045 | B16: 32001 | C16: Նախնական մասնագիտական (արհեստագործական) և միջին մասնագիտական ուսումնական հաստատությունների շենքային պայմանների բարելավում | D16: =+E16+F16+G16+H16 -> -330699.7 | E16: =+E18+E20 -> 0 | F16: =+F18+F20 -> -318250.3 | G16: =+G18+G20 -> -12449.4 | H16: =+H18+H20 -> 0
C17: այդ թվում`
C18: Երևան քաղաք | D18: =SUM(E18:H18) -> -12449.4 | E18: =+E19 -> 0 | F18: =+F19 -> 0 | G18: =+G19 -> -12449.4 | H18: =+H19 -> 0
C19: «Երևանի թեթև արդյունաբերության պետական քոլեջ» ՊՈԱԿ | D19: =+E19+F19+G19+H19 -> -12449.4 | G19: =+'Հավելված N 7'!I31 -> -12449.4
C20: ՀՀ Արարատի մարզ | D20: =SUM(E20:H20) -> -318250.3 | E20: =+E21 -> 0 | F20: =+F21 -> -318250.3 | G20: =+G21 -> 0 | H20: =+H21 -> 0
C21: «Մասիսի պետական գյուղատնտեսական քոլեջ» ՊՈԱԿ | D21: =+E21+F21+G21+H21 -> -318250.3 | F21: =+'Հավելված N 7'!I29+'Հավելված N 7'!I32+'Հավելված N 7'!I33 -> -318250.3
A22: 1045 | B22: 32005 | C22: Նախնական մասնագիտական (արհեստագործական) և միջին մասնագիտական ուսումնական հաստատությունների շենքերի կառուցում | D22: =+E22+F22+G22+H22 -> -519865.6 | E22: =+E24+E26 -> -519865.6 | F22: =+F24+F26 -> 0 | G22: =+G24+G26 -> 0 | H22: =+H24+H26 -> 0
C23: այդ թվում`
C24: ՀՀ Գեղարքունիքի մարզ | D24: =SUM(E24:H24) -> -168849.2 | E24: =+E25 -> -168849.2 | F24: =+F25 -> 0 | G24: =+G25 -> 0 | H24: =+H25 -> 0
C25: «Գավառի ակադեմիկոս Ա. Թամամշևի անվան պետական գյուղատնտեսական քոլեջ» ՊՈԱԿ | D25: =+E25+F25+G25+H25 -> -168849.2 | E25: =+'Հավելված N 7'!I36+'Հավելված N 7'!I39+'Հավելված N 7'!I41 -> -168849.2
C26: ՀՀ Լոռու մարզ | D26: =SUM(E26:H26) -> -351016.4 | E26: =+E27 -> -351016.4 | F26: =+F27 -> 0 | G26: =+G27 -> 0 | H26: =+H27 -> 0
C27: «Ստեփանավանի պրոֆ. Քալանթարի անվան պետական գյուղատնտեսական քոլեջ» ՊՈԱԿ | D27: =+E27+F27+G27+H27 -> -351016.4 | E27: =+'Հավելված N 7'!I37+'Հավելված N 7'!I40+'Հավելված N 7'!I42 -> -351016.4
A28: 1075 | B28: 32001 | C28: Ներդրումներ թանգարանների և պատկերասրահների հիմնանորոգման համար | D28: =+E28+F28+G28+H28 -> -199482 | E28: =+E30+E32 -> 0 | F28: =+F30+F32 -> -164204.2 | G28: =+G30+G32 -> -35277.8 | H28: =+H30+H32 -> 0
C29: այդ թվում`
C30: Երևան քաղաք | D30: =SUM(E30:H30) -> -164204.2 | E30: =+E31 -> 0 | F30: =+F31 -> -164204.2 | G30: =+G31 -> 0 | H30: =+H31 -> 0
C31: Հայաստանի ազգային պատկերասրահ ՊՈԱԿ-ի Արա Սարգսյանի և Հակոբ Կոջոյանի տուն-թանգարան մասնաճյուղ | D31: =+E31+F31+G31+H31 -> -164204.2 | F31: =+'Հավելված N 7'!I14+'Հավելված N 7'!I16+'Հավելված N 7'!I17 -> -164204.2
C32: ՀՀ Շիրակի մարզ | D32: =SUM(E32:H32) -> -35277.8 | E32: =+E33 -> 0 | F32: =+F33 -> 0 | G32: =+G33 -> -35277.8 | H32: =+H33 -> 0
C33: «Շիրակի երկրագիտական թանգարան» ՊՈԱԿ | D33: =+E33+F33+G33+H33 -> -35277.8 | G33: =+'Հավելված N 7'!I18+'Հավելված N 7'!I19 -> -35277.8
A34: 1111 | B34: 32001 | C34: Բարձրագույն ուսումնական հաստատությունների և ««Զեյթուն» ուսանողական ավան» հիմնադրամի շենքային պայմանների բարելավում | D34: =+E34+F34+G34+H34 -> -267295.4 | E34: =+E36 -> 0 | F34: =+F36 -> -267295.4 | G34: =+G36 -> 0 | H34: =+H36 -> 0
C35: այդ թվում`
C36: Երևան քաղաք | D36: =SUM(E36:H36) -> -267295.4 | E36: =+E37 -> 0 | F36: =+F37 -> -267295.4 | G36: =+G37 -> 0 | H36: =+H37 -> 0
C37: «Երևանի Կոմիտասի անվան պետական կոնսերվատորիա» ՊՈԱԿ | D37: =+E37+F37+G37+H37 -> -267295.4 | F37: =+'Հավելված N 7'!I45+'Հավելված N 7'!I47+'Հավելված N 7'!I48 -> -267295.4
A38: 1146 | B38: 12010 | C38: «Մոդուլային» տիպի մանկապարտեզների շենքային ապահովում | D38: =+E38+F38+G38+H38 -> -1751820.2 | E38: =+E40+E42+E44+E48+E50+E52+E55+E57+E59 -> -1741940.2 | F38: =+F40+F42+F44+F48+F50+F52+F55+F57+F59 -> 0 | G38: =+G40+G42+G44+G48+G50+G52+G55+G57+G59 -> -9880 | H38: =+H40+H42+H44+H48+H50+H52+H55+H57+H59 -> 0
C39: այդ թվում`
C40: ՀՀ Արագածոտնի մարզ | D40: =SUM(E40:H40) -> -297217.5 | E40: =+E41 -> -297217.5 | F40: =+F41 -> 0 | G40: =+G41 -> 0 | H40: =+H41 -> 0
C41: ՀՀ Արագածոտնի մարզի Ալագյազ համայնքում «Մոդուլային» տիպի 144 տեղ հզորությամբ մսուր-մանկապարտեզ | D41: =+E41+F41+G41+H41 -> -297217.5 | E41: =+'Հավելված N 7'!I52+'Հավելված N 7'!I63+'Հավելված N 7'!I73 -> -297217.5
C42: ՀՀ Արարատի մարզ | D42: =SUM(E42:H42) -> -49913.4 | E42: =+E43 -> -49913.4 | F42: =+F43 -> 0 | G42: =+G43 -> 0 | H42: =+H43 -> 0
C43: ՀՀ Արարատի մարզի Արալեզ համայնքում «Մոդուլային» տիպի 144 տեղ հզորությամբ մսուր-մանկապարտեզ | D43: =+E43+F43+G43+H43 -> -49913.4 | E43: =+'Հավելված N 7'!I60+'Հավելված N 7'!I64+'Հավելված N 7'!I74 -> -49913.4
C44: ՀՀ Արմավիրի մարզ | D44: =SUM(E44:H44) -> 82521.2 | E44: =SUM(E45:E47) -> 82521.2 | F44: =SUM(F45:F47) -> 0 | G44: =SUM(G45:G47) -> 0 | H44: =SUM(H45:H47) -> 0
...

Sheet Հավելված N 4
D1: Հավելված N 4
D2: ՀՀ կառավարության 2023 թվականի
D3: ______________ ի ___Ն որոշման
B5: ՀԱՅԱՍՏԱՆԻ ՀԱՆՐԱՊԵՏՈՒԹՅԱՆ ԿԱՌԱՎԱՐՈՒԹՅԱՆ 2022 ԹՎԱԿԱՆԻ ԴԵԿՏԵՄԲԵՐԻ 29-Ի N 2111-Ն ՈՐՈՇՄԱՆ N 5 ՀԱՎԵԼՎԱԾԻ N 2 ԱՂՅՈՒՍԱԿՈՒՄ ԿԱՏԱՐՎՈՂ ՓՈՓՈԽՈՒԹՅՈՒՆՆԵՐԸ ԵՎ ԼՐԱՑՈՒՄՆԵՐԸ
F8: հազ. դրամներով
B9: Ծրագրային դասիչ | D9: Բյուջետային գլխավոր կարգադրիչների, ծրագրերի, միջոցառումների, միջոցառումները կատարող պետական մարմինների և ուղղությունների անվանումները | E9: Ցուցանիշների փոփոխությունը (ավելացումները նշված են դրական նշանով, իսկ նվազեցումները՝ փակագծերում)
B10: Ծրագիր | C10: Միջոցառում | E10: Ինն ամիս | F10: Տարի
D12: ՀՀ ԿՐԹՈՒԹՅԱՆ, ԳԻՏՈՒԹՅԱՆ, ՄՇԱԿՈՒՅԹԻ ԵՎ ՍՊՈՐՏԻ ՆԱԽԱՐԱՐՈՒԹՅՈՒՆ | E12: =+E14+E22+E30+E38+E44+E73+E80+E87+E102+E134+E140+E165 -> -1431410.5 | F12: =+F14+F22+F30+F38+F44+F73+F80+F87+F102+F134+F140+F165 -> -1868106.8
D13: այդ թվում՝
B14: 1045 | C14: 32001 | D14: Նախնական մասնագիտական (արհեստագործական) և միջին մասնագիտական ուսումնական հաստատությունների շենքային պայմանների բարելավում | E14: =+E16 -> -264013.5 | F14: =+F16 -> -330699.7
D15: այդ թվում` ըստ կատարողների
D16: ՀՀ քաղաքաշինության կոմիտե | E16: =+E18+E20 -> -264013.5 | F16: =+F18+F20 -> -330699.7
D17: այդ թվում՝ ըստ ուղղությունների
D18: Երևան քաղաք | E18: =+E19 -> -27188.4 | F18: =+F19 -> -12449.4
D19: «Երևանի թեթև արդյունաբերության պետական քոլեջ» ՊՈԱԿ | E19: -27188.4 | F19: =+'Հավելված N 3'!D19 -> -12449.4
D20: ՀՀ Արարատի մարզ | E20: =+E21 -> -236825.1 | F20: =+F21 -> -318250.3
D21: =+'Հավելված N 3'!C21 -> «Մասիսի պետական գյուղատնտեսական քոլեջ» ՊՈԱԿ | E21: -236825.1 | F21: =+'Հավելված N 3'!D21 -> -318250.3
B22: 1045 | C22: 32005 | D22: Նախնական մասնագիտական (արհեստագործական) և միջին մասնագիտական ուսումնական հաստատությունների շենքերի կառուցում | E22: =+E24 -> -389432.7 | F22: =+F24 -> -519865.6
D23: այդ թվում` ըստ կատարողների
D24: ՀՀ քաղաքաշինության կոմիտե | E24: =+E26+E28 -> -389432.7 | F24: =+F26+F28 -> -519865.6
D25: այդ թվում՝ ըստ ուղղությունների
D26: ՀՀ Գեղարքունիքի մարզ | E26: =+E27 -> -162124.5 | F26: =+F27 -> -168849.2
D27: =+'Հավելված N 3'!C25 -> «Գավառի ակադեմիկոս Ա. Թամամշևի անվան պետական գյուղատնտեսական քոլեջ» ՊՈԱԿ | E27: -162124.5 | F27: =+'Հավելված N 3'!D25 -> -168849.2
D28: ՀՀ Լոռու մարզ | E28: =+E29 -> -227308.2 | F28: =+F29 -> -351016.4
D29: =+'Հավելված N 3'!C27 -> «Ստեփանավանի պրոֆ. Քալանթարի անվան պետական գյուղատնտեսական քոլեջ» ՊՈԱԿ | E29: -227308.2 | F29: =+'Հավելված N 3'!D27 -> -351016.4
B30: 1075 | C30: 32001 | D30: Ներդրումներ թանգարանների և պատկերասրահների հիմնանորոգման համար | E30: =+E32 -> -117379.8 | F30: =+F32 -> -199482
D31: այդ թվում` ըստ կատարողների
D32: ՀՀ քաղաքաշինության կոմիտե | E32: =+E34+E36 -> -117379.8 | F32: =+F34+F36 -> -199482
D33: այդ թվում՝ ըստ ուղղությունների
D34: Երևան քաղաք | E34: =+E35 -> -82102 | F34: =+F35 -> -164204.2
D35: =+'Հավելված N 3'!C31 -> Հայաստանի ազգային պատկերասրահ ՊՈԱԿ-ի Արա Սարգսյանի և Հակոբ Կոջոյանի տուն-թանգարան մասնաճյուղ | E35: -82102 | F35: =+'Հավելված N 3'!D31 -> -164204.2
D36: ՀՀ Շիրակի մարզ | E36: =+E37 -> -35277.8 | F36: =+F37 -> -35277.8
D37: =+'Հավելված N 3'!C33 -> «Շիրակի երկրագիտական թանգարան» ՊՈԱԿ | E37: -35277.8 | F37: =+'Հավելված N 3'!D33 -> -35277.8
B38: 1111 | C38: 32001 | D38: Բարձրագույն ուսումնական հաստատությունների և ««Զեյթուն» ուսանողական ավան» հիմնադրամի շենքային պայմանների բարելավում | E38: =+E40 -> -106918.2 | F38: =+F40 -> -267295.4
D39: այդ թվում` ըստ կատարողների
D40: ՀՀ քաղաքաշինության կոմիտե | E40: =+E42 -> -106918.2 | F40: =+F42 -> -267295.4
D41: այդ թվում՝ ըստ ուղղությունների
D42: Երևան քաղաք | E42: =+E43 -> -106918.2 | F42: =+F43 -> -267295.4
D43: =+'Հավելված N 3'!C37 -> «Երևանի Կոմիտասի անվան պետական կոնսերվատորիա» ՊՈԱԿ | E43: -106918.2 | F43: =+'Հավելված N 3'!D37 -> -267295.4
B44: 1146 | C44: 12010 | D44: «Մոդուլային» տիպի մանկապարտեզների շենքային ապահովում | E44: =+E46 -> -1249723.7 | F44: =+F46 -> -1751820.2
...

Sheet Հավելված N 5
C1: Հավելված N 5
C2: ՀՀ կառավարության 2023 թվականի
C3: ______________ ի ___Ն որոշման
B6: ՀԱՅԱՍՏԱՆԻ ՀԱՆՐԱՊԵՏՈՒԹՅԱՆ ԿԱՌԱՎԱՐՈՒԹՅԱՆ 2022 ԹՎԱԿԱՆԻ ԴԵԿՏԵՄԲԵՐԻ 29-Ի N 2111-Ն ՈՐՈՇՄԱՆ N 9 ՀԱՎԵԼՎԱԾԻ NN 9.13 ԵՎ 9.47 ԱՂՅՈՒՍԱԿՆԵՐՈՒՄ ԿԱՏԱՐՎՈՂ ՓՈՓՈԽՈՒԹՅՈՒՆՆԵՐԸ ԵՎ ԼՐԱՑՈՒՄՆԵՐԸ
A8: Աղյուսակ 9․13
C9: ՀՀ կրթության, գիտության, մշակույթի և սպորտի նախարարություն
B10: ՄԱՍ 2. ՊԵՏԱԿԱՆ ՄԱՐՄՆԻ ԳԾՈՎ ԱՐԴՅՈՒՆՔԱՅԻՆ (ԿԱՏԱՐՈՂԱԿԱՆ) ՑՈՒՑԱՆԻՇՆԵՐԸ
B13: Ծրագրի դասիչը | C13: Ծրագրի անվանումը
B14: 1045 | C14: Նախնական (արհեստագործական) և միջին մասնագիտական կրթություն
B16: Ծրագրի միջոցառումները | D16: Ցուցանիշների փոփոխությունը (նվազեցումները նշված են փակագծերում)
B17: Ծրագրի դասիչը՝ | C17: 1045
B18: Միջոցառման դասիչը՝ | C18: 32001 | D18: Ինն ամիս | E18: Տարի
B19: Միջոցառման անվանումը՝ | C19: Նախնական մասնագիտական (արհեստագործական) և միջին մասնագիտական ուսումնական հաստատությունների շենքային պայմանների բարելավում
B20: Նկարագրությունը՝ | C20: ՆՄՄԿՈՒ հաստատությունների շենքերի հիմնանորոգման և նախագծման (շինարարական աշխատանքներ, ջեռուցման համակարգի ստեղծում, ներքին հարդարում, տարածքի բարեկարգում) աշխատանքների իրականացում
B21: Միջոցառման տեսակը՝ | C21: Այլ պետական կազմակերպությունների կողմից օգտագործվող ոչ ֆինանսական ակտիվների հետ գործառնություններ
B22: Ակտիվն օգտագործող կազմակերպությունների անվանումները | C22: Նախնական մասնագիտական (արհեստագործական) և միջին մասնագիտական ուսումնական հաստատություններ
B23: Արդյունքի չափորոշիչներ
B24: Նախագծանախահաշվային փաստաթղթերի քանակ, հատ | D24: -1 | E24: 0
B25: Միջոցառման վրա կատարվող ծախսը (հազար դրամ) | D25: =+'Հավելված N 1'!D23 -> -264013.5 | E25: =+'Հավելված N 1'!E23 -> -330699.7
B27: Ծրագրի միջոցառումները | D27: Ցուցանիշների փոփոխությունը (նվազեցումները նշված են փակագծերում)
B28: Ծրագրի դասիչը՝ | C28: 1045
B29: Միջոցառման դասիչը՝ | C29: 32005 | D29: Ինն ամիս | E29: Տարի
B30: Միջոցառման անվանումը` | C30: Նախնական մասնագիտական (արհեստագործական) և միջին մասնագիտական ուսումնական հաստատությունների շենքերի կառուցում
B31: Նկարագրությունը` | C31: ՆՄՄԿՈՒ հաստատությունների շենքերի (մասնաշենքերի) կառուցման և նախագծման աշխատանքների իրականացում
B32: Միջոցառման տեսակը` | C32: Այլ պետական կազմակերպությունների կողմից օգտագործվող ոչ ֆինանսական ակտիվների հետ գործառնություններ
B33: Ակտիվն օգտագործող կազմակերպությունների անվանումները | C33: Նախնական մասնագիտական (արհեստագործական) և միջին մասնագիտական ուսումնական հաստատություններ
B34: Արդյունքի չափորոշիչներ
B35: Միջոցառման վրա կատարվող ծախսը (հազար դրամ) | D35: =+'Հավելված N 1'!D29 -> -389432.7 | E35: =+'Հավելված N 1'!E29 -> -519865.6
B37: Ծրագրի դասիչը | C37: Ծրագրի անվանումը
B38: 1075 | C38: Մշակութային ժառանգության ծրագիր
B40: Ծրագրի միջոցառումները | D40: Ցուցանիշների փոփոխությունը (նվազեցումները նշված են փակագծերում)
B41: Ծրագրի դասիչը՝ | C41: 1075
B42: Միջոցառման դասիչը՝ | C42: 32001 | D42: Ինն ամիս | E42: Տարի
B43: Միջոցառման անվանումը` | C43: Ներդրումներ թանգարանների և պատկերասրահների հիմնանորոգման համար
B44: Նկարագրությունը` | C44: Թանգարանների և պատկերասրահների շենքերի, մասնաշենքերի հիմնանորոգում, համաշինարարական աշխատանքներ, ջեռուցման համակարգի իրականացում, ներքին հարդարում, տարածքի բարեկարգում և նախագծում
B45: Միջոցառման տեսակը` | C45: Այլ պետական կազմակերպությունների կողմից օգտագործվող ոչ ֆինանսական ակտիվների հետ գործառնություններ
B46: Ակտիվն օգտագործող կազմակերպությունների անվանումները | C46: Թանգարաններ և պատկերասրահներ
B47: Արդյունքի չափորոշիչներ
B48: Հիմնանորոգվող թանգարաններ և պատկերասրահներ քանակ, հատ | D48: -1 | E48: -1
B49: Նախագծվող թանգարաններ և պատկերասրահներ քանակ, հատ | D49: -1 | E49: -1
...

Sheet Հավելված N 6
C1: Հավելված N 6
C2: ՀՀ կառավարության 2023 թվականի
C3: ______________ ի ___Ն որոշման
B6: ՀԱՅԱՍՏԱՆԻ ՀԱՆՐԱՊԵՏՈՒԹՅԱՆ ԿԱՌԱՎԱՐՈՒԹՅԱՆ 2022 ԹՎԱԿԱՆԻ ԴԵԿՏԵՄԲԵՐԻ 29-Ի N 2111-Ն ՈՐՈՇՄԱՆ N 9.1 ՀԱՎԵԼՎԱԾԻ NN 9.1.41 ԵՎ 9.1.58 ԱՂՅՈՒՍԱԿՆԵՐՈՒՄ ԿԱՏԱՐՎՈՂ ՓՈՓՈԽՈՒԹՅՈՒՆՆԵՐԸ ԵՎ ԼՐԱՑՈՒՄՆԵՐԸ
A8: Աղյուսակ 9․1.41
C9: ՀՀ քաղաքաշինության կոմիտե
B10: ՄԱՍ 1. ՊԵՏԱԿԱՆ ՄԱՐՄՆԻ ԳԾՈՎ ԱՐԴՅՈՒՆՔԱՅԻՆ (ԿԱՏԱՐՈՂԱԿԱՆ) ՑՈՒՑԱՆԻՇՆԵՐԸ
B13: Ծրագրի դասիչը | C13: Ծրագրի անվանումը
B14: 1045 | C14: Նախնական (արհեստագործական) և միջին մասնագիտական կրթություն
B16: Ծրագրի միջոցառումները | D16: Ցուցանիշների փոփոխությունը (նվազեցումները նշված են փակագծերում)
B17: Ծրագրի դասիչը՝ | C17: 1045
B18: Միջոցառման դասիչը՝ | C18: 32001 | D18: Ինն ամիս | E18: Տարի
B19: Միջոցառման անվանումը՝ | C19: Նախնական մասնագիտական (արհեստագործական) և միջին մասնագիտական ուսումնական հաստատությունների շենքային պայմանների բարելավում
B20: Նկարագրությունը՝ | C20: ՆՄՄԿՈՒ հաստատությունների շենքերի հիմնանորոգման և նախագծման (շինարարական աշխատանքներ, ջեռուցման համակարգի ստեղծում, ներքին հարդարում, տարածքի բարեկարգում) աշխատանքների իրականացում
B21: Միջոցառման տեսակը՝ | C21: Այլ պետական կազմակերպությունների կողմից օգտագործվող ոչ ֆինանսական ակտիվների հետ գործառնություններ
B22: Ակտիվն օգտագործող կազմակերպությունների անվանումները | C22: Նախնական մասնագիտական (արհեստագործական) և միջին մասնագիտական ուսումնական հաստատություններ
B23: Արդյունքի չափորոշիչներ
B24: Նախագծանախահաշվային փաստաթղթերի քանակ, հատ | D24: -1 | E24: 0
B25: Միջոցառման վրա կատարվող ծախսը (հազար դրամ) | D25: =+'Հավելված N 2'!G69 -> -264013.5 | E25: =+'Հավելված N 2'!H69 -> -330699.7
B27: Ծրագրի միջոցառումները | D27: Ցուցանիշների փոփոխությունը (նվազեցումները նշված են փակագծերում)
B28: Ծրագրի դասիչը՝ | C28: 1045
B29: Միջոցառման դասիչը՝ | C29: 32005 | D29: Ինն ամիս | E29: Տարի
B30: Միջոցառման անվանումը` | C30: Նախնական մասնագիտական (արհեստագործական) և միջին մասնագիտական ուսումնական հաստատությունների շենքերի կառուցում
B31: Նկարագրությունը` | C31: ՆՄՄԿՈՒ հաստատությունների շենքերի (մասնաշենքերի) կառուցման և նախագծման աշխատանքների իրականացում
B32: Միջոցառման տեսակը` | C32: Այլ պետական կազմակերպությունների կողմից օգտագործվող ոչ ֆինանսական ակտիվների հետ գործառնություններ
B33: Ակտիվն օգտագործող կազմակերպությունների անվանումները | C33: Նախնական մասնագիտական (արհեստագործական) և միջին մասնագիտական ուսումնական հաստատություններ
B34: Արդյունքի չափորոշիչներ
B35: Միջոցառման վրա կատարվող ծախսը (հազար դրամ) | D35: =+'Հավելված N 2'!G80 -> -389432.7 | E35: =+'Հավելված N 2'!H80 -> -519865.6
B37: Ծրագրի դասիչը | C37: Ծրագրի անվանումը
B38: 1075 | C38: Մշակութային ժառանգության ծրագիր
B40: Ծրագրի միջոցառումները | D40: Ցուցանիշների փոփոխությունը (նվազեցումները նշված են փակագծերում)
B41: Ծրագրի դասիչը՝ | C41: 1075
B42: Միջոցառման դասիչը՝ | C42: 32001 | D42: Ինն ամիս | E42: Տարի
B43: Միջոցառման անվանումը` | C43: Ներդրումներ թանգարանների և պատկերասրահների հիմնանորոգման համար
B44: Նկարագրությունը` | C44: Թանգարանների և պատկերասրահների շենքերի, մասնաշենքերի հիմնանորոգում, համաշինարարական աշխատանքներ, ջեռուցման համակարգի իրականացում, ներքին հարդարում, տարածքի բարեկարգում և նախագծում
B45: Միջոցառման տեսակը` | C45: Այլ պետական կազմակերպությունների կողմից օգտագործվող ոչ ֆինանսական ակտիվների հետ գործառնություններ
B46: Ակտիվն օգտագործող կազմակերպությունների անվանումները | C46: Թանգարաններ և պատկերասրահներ
B47: Արդյունքի չափորոշիչներ
B48: Հիմնանորոգվող թանգարաններ և պատկերասրահներ քանակ, հատ | D48: -1 | E48: -1
B49: Նախագծվող թանգարաններ և պատկերասրահներ քանակ, հատ | D49: -1 | E49: -1
...

Sheet Հավելված N 7
H1: Հավելված N 7
H2: ՀՀ կառավարության 2023 թվականի
H3: ______________ ի ___Ն որոշման
A5: ՀԱՅԱՍՏԱՆԻ ՀԱՆՐԱՊԵՏՈՒԹՅԱՆ ԿԱՌԱՎԱՐՈՒԹՅԱՆ 2022 ԹՎԱԿԱՆԻ ԴԵԿՏԵՄԲԵՐԻ 29-Ի N 2111-Ն ՈՐՈՇՄԱՆ N 10 ՀԱՎԵԼՎԱԾՈՒՄ ԿԱՏԱՐՎՈՂ ՓՈՓՈԽՈՒԹՅՈՒՆՆԵՐԸ ԵՎ ԼՐԱՑՈՒՄՆԵՐԸ
A7: Կոդը | B7: Անվանումը | E7: Գնման ձևը | F7: Չափման միավորը | G7: Միավորի գինը | H7: Ցուցանիշների փոփոխությունը (ավելացումները նշված են դրական նշանով, իսկ նվազեցումները՝ փակագծերում)
H8: Քանակը | I8: Գումարը (հազար դրամ)
A9: 1 | B9: 2 | E9: 3 | F9: 4 | G9: 5 | H9: 6 | I9: 7
A10: ՀՀ քաղաքաշինության կոմիտե | I10: =+I11+I20+I26 -> -2067588.8
A11: Բաժին N 08 | B11: Խումբ N 02 | C11: Դաս N 02 | D11: Թանգարաններ և ցուցասրահներ | I11: =+I12 -> -199482
A12: 1075-32001 | B12: Ներդրումներ թանգարանների և պատկերասրահների հիմնանորոգման համար | I12: =+I13+I15 -> -199482
B13: ՄԱՍ II. ԱՇԽԱՏԱՆՔՆԵՐ | I13: =SUM(I14:I14) -> -161417
A14: 45611200-1 | B14: մշակութային օբյեկտների հիմնանորոգում | E14: ԲՄ | F14: դրամ | G14: 161417000 | H14: -1 | I14: =+ROUND(H14*G14/1000,1) -> -161417
B15: ՄԱՍ III. ԾԱՌԱՅՈՒԹՅՈՒՆՆԵՐ | I15: =SUM(I16:I19) -> -38065
A16: 71351540-1 | B16: տեխնիկական հսկողության ծառայություններ | E16: ԳՀ | F16: դրամ | G16: 1990800 | H16: -1 | I16: =+ROUND(H16*G16/1000,1) -> -1990.8
A17: 98111140-1 | B17: հեղինակային հսկողության ծառայություններ | E17: ՄԱ | F17: դրամ | G17: 796400 | H17: -1 | I17: =+ROUND(H17*G17/1000,1) -> -796.4
A18: 71241200-1 | B18: նախագծերի պատրաստում, ծախսերի գնահատում | E18: ԳՀ | F18: դրամ | G18: 33597900 | H18: -1 | I18: =+ROUND(H18*G18/1000,1) -> -33597.9
A19: 50531140-1 | B19: փորձաքննության ծառայություններ | E19: ԳՀ | F19: դրամ | G19: 1679900 | H19: -1 | I19: =+ROUND(H19*G19/1000,1) -> -1679.9
A20: Բաժին N 08 | B20: Խումբ N 02 | C20: Դաս N 05 | D20: Արվեստ | I20: =+I21 -> 79472.6
A21: 1168-32001 | B21: Ներդրումներ թատրոնների շենքերի կապիտալ վերանորոգման համար | I21: =+I22+I24 -> 79472.6
B22: ՄԱՍ II. ԱՇԽԱՏԱՆՔՆԵՐ | I22: =SUM(I23:I23) -> 78532
A23: 45611200-2 | B23: մշակութային օբյեկտների հիմնանորոգում | E23: ԲՄ | F23: դրամ | I23: 78532
B24: ՄԱՍ III. ԾԱՌԱՅՈՒԹՅՈՒՆՆԵՐ | I24: =SUM(I25:I25) -> 940.6
A25: 71351540 | B25: տեխնիկական հսկողության ծառայություններ | E25: ԳՀ | F25: դրամ | G25: 940600 | H25: 1 | I25: =+ROUND(H25*G25/1000,1) -> 940.6
A26: Բաժին N 09 | B26: Խումբ N 06 | C26: Դաս N 01 | D26: Կրթությանը տրամադրվող օժանդակ ծառայություններ | I26: =+I27+I34+I43+I49+I86+I94+I114+I134+I138+I187 -> -1947579.4
A27: 1045-32001 | B27: Նախնական մասնագիտական (արհեստագործական) և միջին մասնագիտական ուսումնական հաստատությունների շենքային պայմանների բարելավում | I27: =+I28+I30 -> -330699.7
B28: ՄԱՍ II. ԱՇԽԱՏԱՆՔՆԵՐ | I28: =+I29 -> -307191.5
A29: 45451700-1 | B29: վերակառուցման աշխատանքներ | E29: ԲՄ | F29: դրամ | I29: -307191.5
B30: ՄԱՍ III. ԾԱՌԱՅՈՒԹՅՈՒՆՆԵՐ | I30: =SUM(I31:I33) -> -23508.2
A31: 71241200-1 | B31: նախագծերի պատրաստում, ծախսերի գնահատում | E31: ԳՀ | F31: դրամ | I31: -12449.4
A32: 71351540-1 | B32: տեխնիկական հսկողության ծառայություններ | E32: ԳՀ | F32: դրամ | I32: -9215.7
A33: 98111140-1 | B33: հեղինակային հսկողության ծառայություններ | E33: ՄԱ | F33: դրամ | I33: -1843.1
A34: 1045-32005 | B34: Նախնական մասնագիտական (արհեստագործական) և միջին մասնագիտական ուսումնական հաստատությունների շենքերի կառուցում | I34: =+I35+I38 -> -519865.6
B35: ՄԱՍ II. ԱՇԽԱՏԱՆՔՆԵՐ | I35: =SUM(I36:I37) -> -501800.6
A36: 45221142-2 | B36: ընդհանուր շինարարական աշխատանքներ | E36: ԲՄ | F36: դրամ | I36: -162981.7
A37: 45221142-3 | B37: ընդհանուր շինարարական աշխատանքներ | E37: ԲՄ | F37: դրամ | I37: -338818.9
B38: ՄԱՍ III. ԾԱՌԱՅՈՒԹՅՈՒՆՆԵՐ | I38: =SUM(I39:I42) -> -18065
A39: 71351540-2 | B39: տեխնիկական հսկողության ծառայություններ | E39: ԳՀ | F39: դրամ | I39: -4889.5
A40: 71351540-3 | B40: տեխնիկական հսկողության ծառայություններ | E40: ԳՀ | F40: դրամ | I40: -10164.6
A41: 98111140-2 | B41: հեղինակային հսկողության ծառայություններ | E41: ՄԱ | F41: դրամ | I41: -978
A42: 98111140-3 | B42: հեղինակային հսկողության ծառայություններ | E42: ՄԱ | F42: դրամ | I42: -2032.9
...
