Workbook
Name a: #REF!
Name a: #REF!
Name AgencyCode: #REF!
Name AgencyCode: #REF!
Name AgencyCode: #REF!
Name AgencyName: #REF!
Name AgencyName: #REF!
Name AgencyName: #REF!
Name davit: #REF!
Name davit: #REF!
Name Functional1: #REF!
Name Functional1: #REF!
Name Functional1: #REF!
Name ggg: #REF!
Name ggg: #REF!
Name PANature: #REF!
Name PANature: #REF!
Name PANature: #REF!
Name PAType: #REF!
Name PAType: #REF!
Name PAType: #REF!
Name Performance2: #REF!
Name Performance2: #REF!
Name Performance2: #REF!
Name PerformanceType: #REF!
Name PerformanceType: #REF!
Name PerformanceType: #REF!
Name Հավելված: #REF!
Name Հավելված: #REF!
Name Մաս: #REF!
Name Մաս: #REF!
Name շախմատիստ: #REF!
Name շախմատիստ: #REF!

Sheet Հավելված N 1
C1: Հավելված N 1
C2: ՀՀ կառավարության 2023 թվականի
C3: ______________ ի ___Ն որոշման
A6: «ՀԱՅԱUՏԱՆԻ ՀԱՆՐԱՊԵՏՈՒԹՅԱՆ 2023 ԹՎԱԿԱՆԻ ՊԵՏԱԿԱՆ ԲՅՈՒՋԵԻ ՄԱUԻՆ» ՀԱՅԱUՏԱՆԻ ՀԱՆՐԱՊԵՏՈՒԹՅԱՆ OՐԵՆՔԻ N 1 ՀԱՎԵԼՎԱԾԻ N 2 ԱՂՅՈՒՍԱԿՈՒՄ ԿԱՏԱՐՎՈՂ ՎԵՐԱԲԱՇԽՈՒՄԸ ԵՎ ՀԱՅԱՍՏԱՆԻ ՀԱՆՐԱՊԵՏՈՒԹՅԱՆ ԿԱՌԱՎԱՐՈՒԹՅԱՆ 2022 ԹՎԱԿԱՆԻ ԴԵԿՏԵՄԲԵՐԻ 29-Ի N 2111-Ն ՈՐՈՇՄԱՆ N 5 ՀԱՎԵԼՎԱԾԻ N 1 ԱՂՅՈՒՍԱԿՈՒՄ ԿԱՏԱՐՎՈՂ ՓՈՓՈԽՈՒԹՅՈՒՆՆԵՐԸ ԵՎ ԼՐԱՑՈՒՄՆԵՐԸ
E9: հազ. դրամներով
A10: Ծրագրային դասիչը | C10: Բյուջետային հատկացումների գլխավոր կարգադրիչների, ծրագրերի և միջոցառումների անվանումները | D10: Ցուցանիշների փոփոխությունը (ավելացումները նշված են դրական նշանով, իսկ նվազեցումները՝ փակագծերում)
A11: Ծրագիր | B11: Միջոցառում | D11: Ինն ամիս | E11: Տարի
A12: 1192 | C12: ԸՆԴԱՄԵՆԸ | D12: =+D14+D130 -> 0 | E12: =+E14+E130 -> 0
C13: այդ թվում
C14: ՀՀ ԿՐԹՈՒԹՅԱՆ, ԳԻՏՈՒԹՅԱՆ, ՄՇԱԿՈՒՅԹԻ ԵՎ ՍՊՈՐՏԻ ՆԱԽԱՐԱՐՈՒԹՅՈՒՆ | D14: =+D16+D35+D48+D61+D74+D87 -> -1431410.5 | E14: =+E16+E35+E48+E61+E74+E87 -> -1868106.8
A15: 1045 | C15: Ծրագրի անվանումը`
C16: Նախնական (արհեստագործական) և միջին մասնագիտական կրթություն | D16: =+D23+D29 -> -653446.2 | E16: =+E23+E29 -> -850565.3
C17: Ծրագրի նպատակը`
C18: Աշխատաշուկայի արդի պահանջներին համապատասխան նախնական մասնագիտական (արհեստագործական) և միջին մասնագիտական կրթության որակավորում ունեցող մասնագետների պատրաստում, կրթության մատչելիության ապահովում:
C19: Վերջնական արդյունքի նկարագրությունը`
C20: Նախնական (արհեստագործական) և միջին մասնագիտական կրթության գրավչության բարձրացում, մատչելի և մրցունակ նախնական (արհեստագործական) և միջին մասնագիտական կրթության ապահովում
C21: Ծրագրի միջոցառումներ
B22: 32001 | C22: Միջոցառման անվանումը`
C23: Նախնական մասնագիտական (արհեստագործական) և միջին մասնագիտական ուսումնական հաստատությունների շենքային պայմանների բարելավում | D23: =+'Հավելված N 2'!G67 -> -264013.5 | E23: =+'Հավելված N 2'!H67 -> -330699.7
C24: Միջոցառման նկարագրությունը`
C25: ՆՄՄԿՈՒ հաստատությունների շենքերի հիմնանորոգման և նախագծման (շինարարական աշխատանքներ, ջեռուցման համակարգի ստեղծում, ներքին հարդարում, տարածքի բարեկարգում) աշխատանքների իրականացում
C26: Միջոցառման տեսակը
C27: Այլ պետական կազմակերպությունների կողմից օգտագործվող ոչ ֆինանսական ակտիվների հետ գործառնություններ
B28: 32005 | C28: Միջոցառման անվանումը`
C29: Նախնական մասնագիտական (արհեստագործական) և միջին մասնագիտական ուսումնական հաստատությունների շենքերի կառուցում | D29: =+'Հավելված N 2'!G78 -> -389432.7 | E29: =+'Հավելված N 2'!H78 -> -519865.6
C30: Միջոցառման նկարագրությունը`
C31: ՆՄՄԿՈՒ հաստատությունների շենքերի (մասնաշենքերի) կառուցման և նախագծման աշխատանքների իրականացում
C32: Միջոցառման տեսակը
C33: Այլ պետական կազմակերպությունների կողմից օգտագործվող ոչ ֆինանսական ակտիվների հետ գործառնություններ
A34: 1075 | C34: Ծրագրի անվանումը`
C35: Մշակութային ժառանգության ծրագիր | D35: =+D42 -> -117379.8 | E35: =+E42 -> -199482
C36: Ծրագրի նպատակը`
C37: Մշակութային ժառանգության պահպանում, օգտագործում, համալրում և հանրահռչակում
C38: Վերջնական արդյունքի նկարագրությունը`
C39: Մշակութային ժառանգության շարունակական պահպանում, մշակութային զբոսաշրջության զարգացում և խթանում
C40: Ծրագրի միջոցառումներ
B41: 32001 | C41: Միջոցառման անվանումը`
C42: Ներդրումներ թանգարանների և պատկերասրահների հիմնանորոգման համար | D42: =+'Հավելված N 2'!G24 -> -117379.8 | E42: =+'Հավելված N 2'!H24 -> -199482
C43: Միջոցառման նկարագրությունը`
C44: Թանգարանների և պատկերասրահների շենքերի, մասնաշենքերի հիմնանորոգում, համաշինարարական աշխատանքներ, ջեռուցման համակարգի իրականացում, ներքին հարդարում, տարածքի բարեկարգում և նախագծում
C45: Միջոցառման տեսակը
C46: Այլ պետական կազմակերպությունների կողմից օգտագործվող ոչ ֆինանսական ակտիվների հետ գործառնություններ
A47: 1111 | C47: Ծրագրի անվանումը`
C48: Բարձրագույն և հետբուհական մասնագիտական կրթության ծրագիր | D48: =+D55 -> -106918.2 | E48: =+E55 -> -267295.4
C49: Ծրագրի նպատակը`
C50: Ապահովել մատչելի, որակյալ և մրցունակ բարձրագույն և հետբուհական մասնագիտական կրթություն:
C51: Վերջնական արդյունքի նկարագրությունը`
C52: Գիտելիքների տնտեսության և գիտության զարգացման արդի պահանջներին համապատասխան բարձրագույն և հետբուհական մասնագիտական որակավորում ունեցող մասնագետների պատրաստում
C53: Ծրագրի միջոցառումներ
B54: 32001 | C54: Միջոցառման անվանումը`
C55: Բարձրագույն ուսումնական հաստատությունների և «Զեյթուն» ուսանողական ավան» հիմնադրամի շենքային պայմանների բարելավում | D55: =+'Հավելված N 2'!G89 -> -106918.2 | E55: =+'Հավելված N 2'!H89 -> -267295.4
C56: Միջոցառման նկարագրությունը`
C57: Բարձրագույն ուսումնական հաստատությունների և «Զեյթուն» ուսանողական ավան» հիմնադրամի շենքային պայմանների բարելավում
C58: Միջոցառման տեսակը
C59: Այլ պետական կազմակերպությունների կողմից օգտագործվող ոչ ֆինանսական ակտիվների հետ գործառնություններ
A60: 1146 | C60: Ծրագրի անվանումը`
C61: Հանրակրթության ծրագիր | D61: =+D68 -> -1249723.7 | E61: =+E68 -> -1751820.2
C62: Ծրագրի նպատակը`
C63: Ապահովել անվճար և որակյալ հանրակրթություն
C64: Վերջնական արդյունքի նկարագրությունը`
C65: Մտավոր, հոգևոր, ֆիզիկական և սոցիալական ունակությունների համակողմանի ու ներդաշնակ զարգացմամբ, հայրենասիրության, պետականության և մարդասիրության ոգով դաստիրակված, պատշաճ վարքով և վարվելակերպով անձի ձևավորում
C66: Ծրագրի միջոցառումներ
B67: 12010 | C67: Միջոցառման անվանումը`
C68: «Մոդուլային» տիպի մանկապարտեզների շենքային ապահովում | D68: =+'Հավելված N 2'!G100 -> -1249723.7 | E68: =+'Հավելված N 2'!H100 -> -1751820.2
C69: Միջոցառման նկարագրությունը`
C70: Համայնքներում «Մոդուլային» տիպի մանկապարտեզների կառուցում և նախագծում
C71: Միջոցառման տեսակը
C72: Տրանսֆերտների տրամադրում
A73: 1168 | C73: Ծրագրի անվանումը`
C74: Արվեստների ծրագիր | D74: =+D81 -> 0 | E74: =+E81 -> 278954.6
C75: Ծրագրի նպատակը`
C76: Նպաստել ազգային հենքի վրա ժամանակակից թատերարվեստի, երաժշտարվեստի, կերպարվեստի և պարարվեստի զարգացմանը և հանրահռչակմանը
C77: Վերջնական արդյունքի նկարագրությունը`
C78: Մրցունակ արվեստային արտադրանքի ստեղծում, ստեղծագործական գործընթացների խթանում, արվեստի նոր նախագծերի ներդրում և մշակութային կյանքում հասարակության ներգրավում
C79: Ծրագրի միջոցառումներ
B80: 32001 | C80: Միջոցառման անվանումը`
C81: Ներդրումներ թատրոնների և համերգային կազմակերպությունների շենքերի կապիտալ վերանորոգման համար | D81: =+'Հավելված N 2'!G41 -> 0 | E81: =+'Հավելված N 2'!H41 -> 278954.6
C82: Միջոցառման նկարագրությունը`
C83: Թատրոնների և համերգային կազմակերպությունների շենքերի մասնաշենքերի հիմնանորոգում, համաշինարարական աշխատանքներ, ջեռուցման համակարգի իրականացում, ներքին հարդարում, տարածքի բարեկարգում և նախագծում
C84: Միջոցառման տեսակը
C85: Այլ պետական կազմակերպությունների կողմից օգտագործվող ոչ ֆինանսական ակտիվների հետ գործառնություններ
A86: 1183 | C86: Ծրագրի անվանումը`
C87: Ապահով դպրոց | D87: =+D94+D100+D106+D112+D118+D124 -> 696057.4 | E87: =+E94+E100+E106+E112+E118+E124 -> 922101.5
C88: Ծրագրի նպատակը`
C89: Դպրոցներին սպառնացող աղետների ռիսկի կառավարման կարողությունների հզորացում, դպրոցի անձնակազմի և աշակերտների անվտանգության ապահովման մակարդակի բարձրացում՛ կիրառելով ներառական և երեխայակենտրոն մոտեցում
C90: Վերջնական արդյունքի նկարագրությունը`
C91: Դպրոցական միջավայրի բարելավում
C92: Ծրագրի միջոցառումներ
B93: 32001 | C93: Միջոցառման անվանումը`
C94: Կրթական օբյեկտների շենքային պայմանների բարելավում | D94: =+'Հավելված N 2'!G113 -> -116082.1 | E94: =+'Հավելված N 2'!H113 -> -353700.3
C95: Միջոցառման նկարագրությունը`
C96: Կրթական օբյեկտների շենքերի (մասնաշենքերի) հիմնանորոգում (համաշինարարական աշխատանքներ, ջեռուցման համակարգի իրականացում, ներքին հարդարում, տարածքի բարեկարգում) և նախագծում
C97: Միջոցառման տեսակը
C98: Այլ պետական կազմակերպությունների կողմից օգտագործվող ոչ ֆինանսական ակտիվների հետ գործառնություններ
B99: 32002 | C99: Միջոցառման անվանումը`
C100: Կրթական օբյեկտների շենքային ապահովվածության բարելավում | D100: =+'Հավելված N 2'!G124 -> -942437.2 | E100: =+'Հավելված N 2'!H124 -> -1259302.9
C101: Միջոցառման նկարագրությունը`
C102: Կրթական օբյեկտների շենքերի (մասնաշենքերի) կառուցում (համաշինարարական աշխատանքներ, ջեռուցման համակարգի իրականացում, ներքին հարդարում, տարածքի բարեկարգում) և նախագծում
C103: Միջոցառման տեսակը
C104: Այլ պետական կազմակերպությունների կողմից օգտագործվող ոչ ֆինանսական ակտիվների հետ գործառնություններ
...

Sheet Հավելված N 2
F1: Հավելված N 2
F2: ՀՀ կառավարության 2023 թվականի
F3: ______________ ի ___Ն որոշման
A5: ՀԱՅԱՍՏԱՆԻ ՀԱՆՐԱՊԵՏՈՒԹՅԱՆ ԿԱՌԱՎԱՐՈՒԹՅԱՆ 2022 ԹՎԱԿԱՆԻ ԴԵԿՏԵՄԲԵՐԻ 29-Ի N2111-Ն ՈՐՈՇՄԱՆ N 3 ԵՎ N 4 ՀԱՎԵԼՎԱԾՆԵՐՈՒՄ ԿԱՏԱՐՎՈՂ ՓՈՓՈԽՈՒԹՅՈՒՆՆԵՐԸ ԵՎ ԼՐԱՑՈՒՄՆԵՐԸ
H8: հազ. դրամներով
A9: Գործառական դասիչը | D9: Ծրագրային դասիչը | F9: Բյուջետային հատկացումների գլխավոր կարգադրիչների, ծրագրերի, միջոցառումների և միջոցառումները կատարող պետական մարմինների անվանումները | G9: Ցուցանիշների փոփոխությունը (ավելացումները նշված են դրական նշանով, իսկ նվազեցումները՝ փակագծերում)
A10: Բաժին | B10: Խումբ | C10: Դաս | D10: Ծրագիր | E10: Միջոցառում | G10: Ինն ամիս | H10: Տարի
F11: ԸՆԴԱՄԵՆԸ | G11: =+G13+G174 -> 0 | H11: =+H13+H174 -> 0
F12: այդ թվում՝
F13: ՀՀ ԿՐԹՈՒԹՅԱՆ, ԳԻՏՈՒԹՅԱՆ, ՄՇԱԿՈՒՅԹԻ ԵՎ ՍՊՈՐՏԻ ՆԱԽԱՐԱՐՈՒԹՅՈՒՆ | G13: =+G14+G57 -> -1431410.5 | H13: =+H14+H57 -> -1868106.8
A14: 08 | F14: ՀԱՆԳԻՍՏ, ՄՇԱԿՈՒՅԹ ԵՎ ԿՐՈՆ | G14: =+G16 -> -117379.8 | H14: =+H16 -> 79472.6
F15: այդ թվում`
B16: 02 | F16: Մշակութային ծառայություններ | G16: =+G18+G35 -> -117379.8 | H16: =+H18+H35 -> 79472.6
F17: այդ թվում`
C18: 02 | F18: Թանգարաններ և ցուցասրահներ | G18: =+G20 -> -117379.8 | H18: =+H20 -> -199482
F19: այդ թվում`
F20: ՀՀ կրթության, գիտության, մշակույթի և սպորտի նախարարություն | G20: =+G22 -> -117379.8 | H20: =+H22 -> -199482
F21: այդ թվում`
D22: 1075 | E22: Մշակութային ժառանգության ծրագիր | G22: =+G24 -> -117379.8 | H22: =+H24 -> -199482
F23: այդ թվում`
E24: 32001 | F24: Ներդրումներ թանգարանների և պատկերասրահների հիմնանորոգման համար | G24: =+G26 -> -117379.8 | H24: =+H26 -> -199482
F25: այդ թվում` ըստ կատարողների
F26: ՀՀ քաղաքաշինության կոմիտե | G26: =+G28 -> -117379.8 | H26: =+H28 -> -199482
F27: այդ թվում՝ բյուջետային ծախսերի տնտեսագիտական դասակարգման հոդվածներ
F28: ԸՆԴԱՄԵՆԸ ԾԱԽՍԵՐ | G28: =+G29 -> -117379.8 | H28: =+H29 -> -199482
F29: ՈՉ ՖԻՆԱՆՍԱԿԱՆ ԱԿՏԻՎՆԵՐԻ ԳԾՈՎ ԾԱԽՍԵՐ | G29: =+G30 -> -117379.8 | H29: =+H30 -> -199482
F30: ՀԻՄՆԱԿԱՆ ՄԻՋՈՑՆԵՐ | G30: =+G31+G33 -> -117379.8 | H30: =+H31+H33 -> -199482
F31: ՇԵՆՔԵՐ ԵՎ ՇԻՆՈՒԹՅՈՒՆՆԵՐ | G31: =+G32 -> -82102 | H31: =+H32 -> -164204.2
F32: - Շենքերի և շինությունների կապիտալ վերանորոգում | G32: =+'Հավելված N 4'!E35 -> -82102 | H32: =+'Հավելված N 4'!F35 -> -164204.2
F33: ԱՅԼ ՀԻՄՆԱԿԱՆ ՄԻՋՈՑՆԵՐ | G33: =+G34 -> -35277.8 | H33: =+H34 -> -35277.8
F34: - Նախագծահետազոտական ծախսեր | G34: =+'Հավելված N 4'!E37 -> -35277.8 | H34: =+'Հավելված N 4'!F37 -> -35277.8
C35: 05 | F35: Արվեստ | G35: =+G37 -> 0 | H35: =+H37 -> 278954.6
F36: այդ թվում`
F37: ՀՀ կրթության, գիտության, մշակույթի և սպորտի նախարարություն | G37: =+G39 -> 0 | H37: =+H39 -> 278954.6
F38: այդ թվում`
D39: 1168 | E39: Արվեստների ծրագիր | G39: =+G41 -> 0 | H39: =+H41 -> 278954.6
F40: այդ թվում`
E41: 32001 | F41: Ներդրումներ թատրոնների շենքերի կապիտալ վերանորոգման համար | G41: =+G43+G50 -> 0 | H41: =+H43+H50 -> 278954.6
F42: այդ թվում` ըստ կատարողների
F43: ՀՀ քաղաքաշինության կոմիտե | G43: =+G45 -> 0 | H43: =+H45 -> 79472.6
F44: այդ թվում՝ բյուջետային ծախսերի տնտեսագիտական դասակարգման հոդվածներ
F45: ԸՆԴԱՄԵՆԸ ԾԱԽՍԵՐ | G45: =+G46 -> 0 | H45: =+H46 -> 79472.6
F46: ՈՉ ՖԻՆԱՆՍԱԿԱՆ ԱԿՏԻՎՆԵՐԻ ԳԾՈՎ ԾԱԽՍԵՐ | G46: =+G47 -> 0 | H46: =+H47 -> 79472.6
F47: ՀԻՄՆԱԿԱՆ ՄԻՋՈՑՆԵՐ | G47: =+G48 -> 0 | H47: =+H48 -> 79472.6
F48: ՇԵՆՔԵՐ ԵՎ ՇԻՆՈՒԹՅՈՒՆՆԵՐ | G48: =+G49 -> 0 | H48: =+H49 -> 79472.6
F49: - Շենքերի և շինությունների կապիտալ վերանորոգում | G49: =+'Հավելված N 4'!E75 -> 0 | H49: =+'Հավելված N 4'!F75 -> 79472.6
F50: ՀՀ կառավարություն | G50: =+G52 -> 0 | H50: =+H52 -> 199482
F51: այդ թվում՝ բյուջետային ծախսերի տնտեսագիտական դասակարգման հոդվածներ
F52: ԸՆԴԱՄԵՆԸ ԾԱԽՍԵՐ | G52: =+G53 -> 0 | H52: =+H53 -> 199482
F53: ՈՉ ՖԻՆԱՆՍԱԿԱՆ ԱԿՏԻՎՆԵՐԻ ԳԾՈՎ ԾԱԽՍԵՐ | G53: =+G54 -> 0 | H53: =+H54 -> 199482
F54: ՀԻՄՆԱԿԱՆ ՄԻՋՈՑՆԵՐ | G54: =+G55 -> 0 | H54: =+H55 -> 199482
F55: ՇԵՆՔԵՐ ԵՎ ՇԻՆՈՒԹՅՈՒՆՆԵՐ | G55: =+G56 -> 0 | H55: =+H56 -> 199482
F56: - Շենքերի և շինությունների կապիտալ վերանորոգում | G56: =+'Հավելված N 4'!E79 -> 0 | H56: =+'Հավելված N 4'!F79 -> 199482
A57: 09 | F57: ԿՐԹՈՒԹՅՈՒՆ | G57: =+G59 -> -1314030.7 | H57: =+H59 -> -1947579.4
F58: այդ թվում`
B59: 06 | F59: Կրթությանը տրամադրվող օժանդակ ծառայություններ | G59: =+G61 -> -1314030.7 | H59: =+H61 -> -1947579.4
F60: այդ թվում`
C61: 01 | F61: Կրթությանը տրամադրվող օժանդակ ծառայություններ | G61: =+G63 -> -1314030.7 | H61: =+H63 -> -1947579.4
F62: այդ թվում`
F63: ՀՀ կրթության, գիտության, մշակույթի և սպորտի նախարարություն | G63: =+G65+G87+G98+G111 -> -1314030.7 | H63: =+H65+H87+H98+H111 -> -1947579.4
F64: այդ թվում՝
D65: 1045 | E65: Նախնական (արհեստագործական) և միջին մասնագիտական կրթություն | G65: =+G67+G78 -> -653446.2 | H65: =+H67+H78 -> -850565.3
F66: այդ թվում`
E67: 32001 | F67: Նախնական մասնագիտական (արհեստագործական) և միջին մասնագիտական ուսումնական հաստատությունների շենքային պայմանների բարելավում | G67: =+G69 -> -264013.5 | H67: =+H69 -> -330699.7
F68: այդ թվում` ըստ կատարողների
F69: ՀՀ քաղաքաշինության կոմիտե | G69: =+G71 -> -264013.5 | H69: =+H71 -> -330699.7
F70: այդ թվում՝ բյուջետային ծախսերի տնտեսագիտական դասակարգման հոդվածներ
F71: ԸՆԴԱՄԵՆԸ ԾԱԽՍԵՐ | G71: =+G72 -> -264013.5 | H71: =+H72 -> -330699.7
F72: ՈՉ ՖԻՆԱՆՍԱԿԱՆ ԱԿՏԻՎՆԵՐԻ ԳԾՈՎ ԾԱԽՍԵՐ | G72: =+G73 -> -264013.5 | H72: =+H73 -> -330699.7
F73: ՀԻՄՆԱԿԱՆ ՄԻՋՈՑՆԵՐ | G73: =+G74+G76 -> -264013.5 | H73: =+H74+H76 -> -330699.7
F74: ՇԵՆՔԵՐ ԵՎ ՇԻՆՈՒԹՅՈՒՆՆԵՐ | G74: =+G75 -> -236825.1 | H74: =+H75 -> -318250.3
F75: - Շենքերի և շինությունների կապիտալ վերանորոգում | G75: =+'Հավելված N 4'!E21 -> -236825.1 | H75: =+'Հավելված N 4'!F21 -> -318250.3
F76: ԱՅԼ ՀԻՄՆԱԿԱՆ ՄԻՋՈՑՆԵՐ | G76: =+G77 -> -27188.4 | H76: =+H77 -> -12449.4
F77: - Նախագծահետազոտական ծախսեր | G77: =+'Հավելված N 4'!E19 -> -27188.4 | H77: =+'Հավելված N 4'!F19 -> -12449.4
E78: 32005 | F78: Նախնական մասնագիտական (արհեստագործական) և միջին մասնագիտական ուսումնական հաստատությունների շենքերի կառուցում | G78: =+G80 -> -389432.7 | H78: =+H80 -> -519865.6
F79: այդ թվում` ըստ կատարողների
F80: ՀՀ քաղաքաշինության կոմիտե | G80: =+G82 -> -389432.7 | H80: =+H82 -> -519865.6
F81: այդ թվում՝ բյուջետային ծախսերի տնտեսագիտական դասակարգման հոդվածներ
F82: ԸՆԴԱՄԵՆԸ ԾԱԽՍԵՐ | G82: =+G83 -> -389432.7 | H82: =+H83 -> -519865.6
F83: ՈՉ ՖԻՆԱՆՍԱԿԱՆ ԱԿՏԻՎՆԵՐԻ ԳԾՈՎ ԾԱԽՍԵՐ | G83: =+G84 -> -389432.7 | H83: =+H84 -> -519865.6
F84: ՀԻՄՆԱԿԱՆ ՄԻՋՈՑՆԵՐ | G84: =+G85 -> -389432.7 | H84: =+H85 -> -519865.6
F85: ՇԵՆՔԵՐ ԵՎ ՇԻՆՈՒԹՅՈՒՆՆԵՐ | G85: =+G86 -> -389432.7 | H85: =+H86 -> -519865.6
F86: - Շենքերի և շինությունների շինարարություն | G86: =+'Հավելված N 4'!E24 -> -389432.7 | H86: =+'Հավելված N 4'!F24 -> -519865.6
D87: 1111 | E87: Բարձրագույն և հետբուհական մասնագիտական կրթության ծրագիր | G87: =+G89 -> -106918.2 | H87: =+H89 -> -267295.4
F88: այդ թվում`
E89: 32001 | F89: Բարձրագույն ուսումնական հաստատությունների և «Զեյթուն» ուսանողական ավան» հիմնադրամի շենքային պայմանների բարելավում | G89: =+G91 -> -106918.2 | H89: =+H91 -> -267295.4
F90: այդ թվում` ըստ կատարողների
F91: ՀՀ քաղաքաշինության կոմիտե | G91: =+G93 -> -106918.2 | H91: =+H93 -> -267295.4
F92: այդ թվում՝ բյուջետային ծախսերի տնտեսագիտական դասակարգման հոդվածներ
F93: ԸՆԴԱՄԵՆԸ ԾԱԽՍԵՐ | G93: =+G94 -> -106918.2 | H93: =+H94 -> -267295.4
F94: ՈՉ ՖԻՆԱՆՍԱԿԱՆ ԱԿՏԻՎՆԵՐԻ ԳԾՈՎ ԾԱԽՍԵՐ | G94: =+G95 -> -106918.2 | H94: =+H95 -> -267295.4
F95: ՀԻՄՆԱԿԱՆ ՄԻՋՈՑՆԵՐ | G95: =+G96 -> -106918.2 | H95: =+H96 -> -267295.4
F96: ՇԵՆՔԵՐ ԵՎ ՇԻՆՈՒԹՅՈՒՆՆԵՐ | G96: =+G97 -> -106918.2 | H96: =+H97 -> -267295.4
F97: - Շենքերի և շինությունների կապիտալ վերանորոգում | G97: =+'Հավելված N 4'!E40 -> -106918.2 | H97: =+'Հավելված N 4'!F40 -> -267295.4
D98: 1146 | E98: Հանրակրթության ծրագիր | G98: =+G100 -> -1249723.7 | H98: =+H100 -> -1751820.2
F99: այդ թվում`
E100: 12010 | F100: «Մոդուլային» տիպի մանկապարտեզների շենքային ապահովում | G100: =+G102 -> -1249723.7 | H100: =+H102 -> -1751820.2
F101: այդ թվում` ըստ կատարողների
F102: ՀՀ քաղաքաշինության կոմիտե | G102: =+G104 -> -1249723.7 | H102: =+H104 -> -1751820.2
F103: այդ թվում՝ բյուջետային ծախսերի տնտեսագիտական դասակարգման հոդվածներ
...

Sheet Հավելված N 3
F1: Հավելված N 3
F2: ՀՀ կառավարության 2023 թվականի
F3: ______________ ի ___Ն որոշման
A6: «ՀԱՅԱUՏԱՆԻ ՀԱՆՐԱՊԵՏՈՒԹՅԱՆ 2023 ԹՎԱԿԱՆԻ ՊԵՏԱԿԱՆ ԲՅՈՒՋԵԻ ՄԱUԻՆ» ՀԱՅԱUՏԱՆԻ ՀԱՆՐԱՊԵՏՈՒԹՅԱՆ OՐԵՆՔԻ N 1 ՀԱՎԵԼՎԱԾԻ N 3 ԱՂՅՈՒՍԱԿՈՒՄ ԿԱՏԱՐՎՈՂ ՓՈՓՈԽՈՒԹՅՈՒՆՆԵՐԸ ԵՎ ԼՐԱՑՈՒՄՆԵՐԸ
H9: հազ. դրամներով
A10: Ծրագրային դասիչ | C10: Բյուջետային գլխավոր կարգադրիչների, ծրագրերի, միջոցառումների և ուղղությունների անվանումները | D10: Ընդամենը | E10: Ցուցանիշների փոփոխությունը (ավելացումները նշված են դրական նշանով, իսկ նվազեցումները՝ փակագծերում)
A11: Ծրագիր | B11: Միջոցառում | E11: Կառուցման աշխատանքներ | F11: Վերակառուցման, վերանորոգման և վերականգնման աշխատանքներ | G11: Նախագծահե- տազոտական, գեոդեզիա- քարտեզագրա- կան աշխա- տանքներ | H11: Ոչ ֆինանսական այլ ակտիվների ձեռքբերում
C12: ԸՆԴԱՄԵՆԸ | D12: =SUM(E12:H12) -> -1868106.8 | E12: =+E14 -> -1235618.7 | F12: =+F14 -> -446163.9 | G12: =+G14 -> -186324.2 | H12: =+H14 -> 0
C13: այդ թվում՝
C14: ՀՀ ԿՐԹՈՒԹՅԱՆ, ԳԻՏՈՒԹՅԱՆ, ՄՇԱԿՈՒՅԹԻ ԵՎ ՍՊՈՐՏԻ ՆԱԽԱՐԱՐՈՒԹՅՈՒՆ | D14: =SUM(E14:H14) -> -1868106.8 | E14: =+E16+E22+E28+E34+E38+E61+E66+E71+E84+E102+E106+E129 -> -1235618.7 | F14: =+F16+F22+F28+F34+F38+F61+F66+F71+F84+F102+F106+F129 -> -446163.9 | G14: =+G16+G22+G28+G34+G38+G61+G66+G71+G84+G102+G106+G129 -> -186324.2 | H14: =+H16+H22+H28+H34+H38+H61+H66+H71+H84+H102+H106+H129 -> 0
C15: այդ թվում`
A16: 1045 | B16: 32001 | C16: Նախնական մասնագիտական (արհեստագործական) և միջին մասնագիտական ուսումնական հաստատությունների շենքային պայմանների բարելավում | D16: =+E16+F16+G16+H16 -> -330699.7 | E16: =+E18+E20 -> 0 | F16: =+F18+F20 -> -318250.3 | G16: =+G18+G20 -> -12449.4 | H16: =+H18+H20 -> 0
C17: այդ թվում`
C18: Երևան քաղաք | D18: =SUM(E18:H18) -> -12449.4 | E18: =+E19 -> 0 | F18: =+F19 -> 0 | G18: =+G19 -> -12449.4 | H18: =+H19 -> 0
C19: «Երևանի թեթև արդյունաբերության պետական քոլեջ» ՊՈԱԿ | D19: =+E19+F19+G19+H19 -> -12449.4 | G19: =+'Հավելված N 7'!I31 -> -12449.4
C20: ՀՀ Արարատի մարզ | D20: =SUM(E20:H20) -> -318250.3 | E20: =+E21 -> 0 | F20: =+F21 -> -318250.3 | G20: =+G21 -> 0 | H20: =+H21 -> 0
C21: «Մասիսի պետական գյուղատնտեսական քոլեջ» ՊՈԱԿ | D21: =+E21+F21+G21+H21 -> -318250.3 | F21: =+'Հավելված N 7'!I29+'Հավելված N 7'!I32+'Հավելված N 7'!I33 -> -318250.3
A22: 1045 | B22: 32005 | C22: Նախնական մասնագիտական (արհեստագործական) և միջին մասնագիտական ուսումնական հաստատությունների շենքերի կառուցում | D22: =+E22+F22+G22+H22 -> -519865.6 | E22: =+E24+E26 -> -519865.6 | F22: =+F24+F26 -> 0 | G22: =+G24+G26 -> 0 | H22: =+H24+H26 -> 0
C23: այդ թվում`
C24: ՀՀ Գեղարքունիքի մարզ | D24: =SUM(E24:H24) -> -168849.2 | E24: =+E25 -> -168849.2 | F24: =+F25 -> 0 | G24: =+G25 -> 0 | H24: =+H25 -> 0
C25: «Գավառի ակադեմիկոս Ա. Թամամշևի անվան պետական գյուղատնտեսական քոլեջ» ՊՈԱԿ | D25: =+E25+F25+G25+H25 -> -168849.2 | E25: =+'Հավելված N 7'!I36+'Հավելված N 7'!I39+'Հավելված N 7'!I41 -> -168849.2
C26: ՀՀ Լոռու մարզ | D26: =SUM(E26:H26) -> -351016.4 | E26: =+E27 -> -351016.4 | F26: =+F27 -> 0 | G26: =+G27 -> 0 | H26: =+H27 -> 0
C27: «Ստեփանավանի պրոֆ. Քալանթարի անվան պետական գյուղատնտեսական քոլեջ» ՊՈԱԿ | D27: =+E27+F27+G27+H27 -> -351016.4 | E27: =+'Հավելված N 7'!I37+'Հավելված N 7'!I40+'Հավելված N 7'!I42 -> -351016.4
A28: 1075 | B28: 32001 | C28: Ներդրումներ թանգարանների և պատկերասրահների հիմնանորոգման համար | D28: =+E28+F28+G28+H28 -> -199482 | E28: =+E30+E32 -> 0 | F28: =+F30+F32 -> -164204.2 | G28: =+G30+G32 -> -35277.8 | H28: =+H30+H32 -> 0
C29: այդ թվում`
C30: Երևան քաղաք | D30: =SUM(E30:H30) -> -164204.2 | E30: =+E31 -> 0 | F30: =+F31 -> -164204.2 | G30: =+G31 -> 0 | H30: =+H31 -> 0
C31: Հայաստանի ազգային պատկերասրահ ՊՈԱԿ-ի Արա Սարգսյանի և Հակոբ Կոջոյանի տուն-թանգարան մասնաճյուղ | D31: =+E31+F31+G31+H31 -> -164204.2 | F31: =+'Հավելված N 7'!I14+'Հավելված N 7'!I16+'Հավելված N 7'!I17 -> -164204.2
C32: ՀՀ Շիրակի մարզ | D32: =SUM(E32:H32) -> -35277.8 | E32: =+E33 -> 0 | F32: =+F33 -> 0 | G32: =+G33 -> -35277.8 | H32: =+H33 -> 0
C33: «Շիրակի երկրագիտական թանգարան» ՊՈԱԿ | D33: =+E33+F33+G33+H33 -> -35277.8 | G33: =+'Հավելված N 7'!I18+'Հավելված N 7'!I19 -> -35277.8
A34: 1111 | B34: 32001 | C34: Բարձրագույն ուսումնական հաստատությունների և ««Զեյթուն» ուսանողական ավան» հիմնադրամի շենքային պայմանների բարելավում | D34: =+E34+F34+G34+H34 -> -267295.4 | E34: =+E36 -> 0 | F34: =+F36 -> -267295.4 | G34: =+G36 -> 0 | H34: =+H36 -> 0
C35: այդ թվում`
C36: Երևան քաղաք | D36: =SUM(E36:H36) -> -267295.4 | E36: =+E37 -> 0 | F36: =+F37 -> -267295.4 | G36: =+G37 -> 0 | H36: =+H37 -> 0
C37: «Երևանի Կոմիտասի անվան պետական կոնսերվատորիա» ՊՈԱԿ | D37: =+E37+F37+G37+H37 -> -267295.4 | F37: =+'Հավելված N 7'!I45+'Հավելված N 7'!I47+'Հավելված N 7'!I48 -> -267295.4
A38: 1146 | B38: 12010 | C38: «Մոդուլային» տիպի մանկապարտեզների շենքային ապահովում | D38: =+E38+F38+G38+H38 -> -1751820.2 | E38: =+E40+E42+E44+E48+E50+E52+E55+E57+E59 -> -1741940.2 | F38: =+F40+F42+F44+F48+F50+F52+F55+F57+F59 -> 0 | G38: =+G40+G42+G44+G48+G50+G52+G55+G57+G59 -> -9880 | H38: =+H40+H42+H44+H48+H50+H52+H55+H57+H59 -> 0
C39: այդ թվում`
C40: ՀՀ Արագածոտնի մարզ | D40: =SUM(E40:H40) -> -297217.5 | E40: =+E41 -> -297217.5 | F40: =+F41 -> 0 | G40: =+G41 -> 0 | H40: =+H41 -> 0
C41: ՀՀ Արագածոտնի մարզի Ալագյազ համայնքում «Մոդուլային» տիպի 144 տեղ հզորությամբ մսուր-մանկապարտեզ | D41: =+E41+F41+G41+H41 -> -297217.5 | E41: =+'Հավելված N 7'!I52+'Հավելված N 7'!I63+'Հավելված N 7'!I73 -> -297217.5
C42: ՀՀ Արարատի մարզ | D42: =SUM(E42:H42) -> -49913.4 | E42: =+E43 -> -49913.4 | F42: =+F43 -> 0 | G42: =+G43 -> 0 | H42: =+H43 -> 0
C43: ՀՀ Արարատի մարզի Արալեզ համայնքում «Մոդուլային» տիպի 144 տեղ հզորությամբ մսուր-մանկապարտեզ | D43: =+E43+F43+G43+H43 -> -49913.4 | E43: =+'Հավելված N 7'!I60+'Հավելված N 7'!I64+'Հավելված N 7'!I74 -> -49913.4
C44: ՀՀ Արմավիրի մարզ | D44: =SUM(E44:H44) -> 82521.2 | E44: =SUM(E45:E47) -> 82521.2 | F44: =SUM(F45:F47) -> 0 | G44: =SUM(G45:G47) -> 0 | H44: =SUM(H45:H47) -> 0
C45: ՀՀ Արմավիրի մարզի Արևիկ համայնքում «Մոդուլային» տիպի 144 տեղ հզորությամբ մսուր-մանկապարտեզ | D45: =+E45+F45+G45+H45 -> 205409.1 | E45: =+'Հավելված N 7'!I51+'Հավելված N 7'!I62+'Հավելված N 7'!I72 -> 205409.1
C46: ՀՀ Արմավիրի մարզի Այգևան համայնքում «Մոդուլային» տիպի 144 տեղ հզորությամբ մսուր-մանկապարտեզ | D46: =+E46+F46+G46+H46 -> 80254.7 | E46: =+'Հավելված N 7'!I53+'Հավելված N 7'!I65+'Հավելված N 7'!I75 -> 80254.7
C47: ՀՀ Արմավիրի մարզի Լենուղի համայնքում «Մոդուլային» տիպի 144 տեղ հզորությամբ մսուր-մանկապարտեզ | D47: =+E47+F47+G47+H47 -> -203142.6 | E47: =+'Հավելված N 7'!I56+'Հավելված N 7'!I71+'Հավելված N 7'!I76 -> -203142.6
C48: ՀՀ Գեղարքունիքի մարզ | D48: =SUM(E48:H48) -> -356335.5 | E48: =+E49 -> -356335.5 | F48: =+F49 -> 0 | G48: =+G49 -> 0 | H48: =+H49 -> 0
C49: ՀՀ Գեղարքունիքի մարզի Աստղաձոր համայնքում «Մոդուլային» տիպի 144 տեղ հզորությամբ մսուր-մանկապարտեզ | D49: =+E49+F49+G49+H49 -> -356335.5 | E49: =+'Հավելված N 7'!I54+'Հավելված N 7'!I66+'Հավելված N 7'!I77 -> -356335.5
C50: ՀՀ Լոռու մարզ | D50: =SUM(E50:H50) -> -90099 | E50: =+E51 -> -90099 | F50: =+F51 -> 0 | G50: =+G51 -> 0 | H50: =+H51 -> 0
C51: ՀՀ Լոռու մարզի Սպիտակ համայնքում «Մոդուլային» տիպի 144 տեղ հզորությամբ մսուր-մանկապարտեզ | D51: =+E51+F51+G51+H51 -> -90099 | E51: =+'Հավելված N 7'!I55+'Հավելված N 7'!I67+'Հավելված N 7'!I78 -> -90099
C52: ՀՀ Կոտայքի մարզ | D52: =SUM(E52:H52) -> -322612.73 | E52: =SUM(E53:E54) -> -317672.73 | F52: =SUM(F53:F54) -> 0 | G52: =SUM(G53:G54) -> -4940 | H52: =SUM(H53:H54) -> 0
C53: ՀՀ Կոտայքի մարզի Հրազդան համայնքում «Մոդուլային» տիպի 144 տեղ հզորությամբ մսուր-մանկապարտեզ | D53: =+E53+F53+G53+H53 -> -317672.73 | E53: =+'Հավելված N 7'!I59+'Հավելված N 7'!I68+'Հավելված N 7'!I79 -> -317672.73
C54: ՀՀ Կոտայքի մարզի Չարենցավան համայնքի Ֆանտան բնակավայրում «Մոդուլային» տիպի 144 տեղ հզորությամբ մսուր-մանկապարտեզ | D54: =+E54+F54+G54+H54 -> -4940 | G54: =+'Հավելված N 7'!I83+'Հավելված N 7'!I85 -> -4940
C55: ՀՀ Սյունիքի մարզ | D55: =SUM(E55:H55) -> -4940 | E55: =SUM(E56:E56) -> 0 | F55: =SUM(F56:F56) -> 0 | G55: =SUM(G56:G56) -> -4940 | H55: =SUM(H56:H56) -> 0
C56: ՀՀ Սյունիքի մարզի Սիսիան համայնքում «Մոդուլային» տիպի 144 տեղ հզորությամբ մսուր-մանկապարտեզ | D56: =+E56+F56+G56+H56 -> -4940 | G56: =+'Հավելված N 7'!I82+'Հավելված N 7'!I84 -> -4940
C57: ՀՀ Վայոց Ձոր | D57: =SUM(E57:H57) -> -226100 | E57: =SUM(E58:E58) -> -226100 | F57: =SUM(F58:F58) -> 0 | G57: =SUM(G58:G58) -> 0 | H57: =SUM(H58:H58) -> 0
C58: ՀՀ Վայոց ձորի մարզի Եղեգիս համայնքի Շատին բնակավայրում «Մոդուլային» տիպի 250 տեղ հզորությամբ մսուր-մանկապարտեզ | D58: =+E58+F58+G58+H58 -> -226100 | E58: =+'Հավելված N 7'!I57+'Հավելված N 7'!I69+'Հավելված N 7'!I80 -> -226100
C59: ՀՀ Տավուշի մարզ | D59: =SUM(E59:H59) -> -487123.3 | E59: =SUM(E60:E60) -> -487123.3 | F59: =SUM(F60:F60) -> 0 | G59: =SUM(G60:G60) -> 0 | H59: =SUM(H60:H60) -> 0
C60: ՀՀ Տավուշի մարզի Այրում համայնքի Բագրատաշեն բնակավայրում «Մոդուլային» տիպի 144 տեղ հզորությամբ մսուր-մանկապարտեզ | D60: =+E60+F60+G60+H60 -> -487123.3 | E60: =+'Հավելված N 7'!I58+'Հավելված N 7'!I70+'Հավելված N 7'!I81 -> -487123.3
A61: 1168 | B61: 32001 | C61: Ներդրումներ թատրոնների շենքերի կապիտալ վերանորոգման համար | D61: =+E61+F61+G61+H61 -> 278954.6 | E61: =+E63+E65 -> 0 | F61: =+F63+F65 -> 278954.6 | G61: =+G63+G65 -> 0 | H61: =+H63+H65 -> 0
C62: այդ թվում`
C63: Երևան քաղաք | D63: =SUM(E63:H63) -> 79472.6 | E63: =+E64 -> 0 | F63: =+F64 -> 79472.6 | G63: =+G64 -> 0 | H63: =+H64 -> 0
C64: Երևանի մնջախաղի պետական թատրոնի շենքի վերակառուցում | D64: =+E64+F64+G64+H64 -> 79472.6 | F64: =+'Հավելված N 7'!I23+'Հավելված N 7'!I25 -> 79472.6
C65: Ներդրումներ թատրոնների և համերգային կազմակերպությունների շենքերի կապիտալ վերանորոգման համար | D65: =SUM(E65:H65) -> 199482 | E65: 0 | F65: 199482 | G65: 0 | H65: 0
A66: 1183 | B66: 32001 | C66: Կրթական օբյեկտների շենքային պայմանների բարելավում | D66: =+E66+F66+G66+H66 -> -353700.3 | E66: =+E68 -> 0 | F66: =+F68 -> -290205.2 | G66: =+G68 -> -63495.1 | H66: =+H68 -> 0
C67: այդ թվում`
C68: Երևան քաղաք | D68: =SUM(E68:H68) -> -353700.3 | E68: =SUM(E69:E70) -> 0 | F68: =SUM(F69:F70) -> -290205.2 | G68: =SUM(G69:G70) -> -63495.1 | H68: =SUM(H69:H70) -> 0
C69: «Երևանի թիվ 22 հիմնական դպրոց» ՊՈԱԿ | D69: =+E69+F69+G69+H69 -> -290205.2 | F69: =+'Հավելված N 7'!I88+'Հավելված N 7'!I90+'Հավելված N 7'!I91 -> -290205.2
C70: «Երևանի Հ. Խաչատրյանի անվան N 199 հիմնական դպրոց» ՊՈԱԿ | D70: =+E70+F70+G70+H70 -> -63495.1 | G70: =+'Հավելված N 7'!I92+'Հավելված N 7'!I93 -> -63495.1
A71: 1183 | B71: 32002 | C71: Կրթական օբյեկտների շենքային ապահովվածության բարելավում | D71: =+E71+F71+G71+H71 -> -1259302.9 | E71: =+E73+E75+E78+E80+E82 -> -1214084 | F71: =+F73+F75+F78+F80+F82 -> 0 | G71: =+G73+G75+G78+G80+G82 -> -45218.9 | H71: =+H73+H75+H78+H80+H82 -> 0
C72: այդ թվում`
C73: Երևան քաղաք | D73: =SUM(E73:H73) -> -45218.9 | E73: =+E74 -> 0 | F73: =+F74 -> 0 | G73: =+G74 -> -45218.9 | H73: =+H74 -> 0
C74: «Երևանի Վ. Տերյանի անվան հ. 60 դպրոց» ՊՈԱԿ | D74: =+E74+F74+G74+H74 -> -45218.9 | G74: =+'Հավելված N 7'!I112+'Հավելված N 7'!I113 -> -45218.9
C75: ՀՀ Արարատի մարզ | D75: =SUM(E75:H75) -> -316251.2 | E75: =SUM(E76:E77) -> -316251.2 | F75: =SUM(F76:F77) -> 0 | G75: =SUM(G76:G77) -> 0 | H75: =SUM(H76:H77) -> 0
C76: «Մասիսի թիվ 5 ավագ դպրոց» ՊՈԱԿ | D76: =+E76+F76+G76+H76 -> -2609.7 | E76: =+'Հավելված N 7'!I96+'Հավելված N 7'!I102+'Հավելված N 7'!I107 -> -2609.7
C77: «Բարձրաշենի միջնակարգ դպրոց»ՊՈԱԿ | D77: =+E77+F77+G77+H77 -> -313641.5 | E77: =+'Հավելված N 7'!I97+'Հավելված N 7'!I103+'Հավելված N 7'!I108 -> -313641.5
C78: ՀՀ Արմավիրի մարզ | D78: =SUM(E78:H78) -> -301052.2 | E78: =+E79 -> -301052.2 | F78: =+F79 -> 0 | G78: =+G79 -> 0 | H78: =+H79 -> 0
C79: «Վաղարշապատի Մովսես Խորենացու անվան N 10 ավագ դպրոց» ՊՈԱԿ | D79: =+E79+F79+G79+H79 -> -301052.2 | E79: =+'Հավելված N 7'!I98+'Հավելված N 7'!I104+'Հավելված N 7'!I109 -> -301052.2
C80: ՀՀ Գեղարքունիքի մարզ | D80: =SUM(E80:H80) -> -285259.5 | E80: =+E81 -> -285259.5 | F80: =+F81 -> 0 | G80: =+G81 -> 0 | H80: =+H81 -> 0
C81: «Վարդենիսի Հ. Համբարձումյանի անվան ավագ դպրոց» ՊՈԱԿ | D81: =+E81+F81+G81+H81 -> -285259.5 | E81: =+'Հավելված N 7'!I99+'Հավելված N 7'!I105+'Հավելված N 7'!I110 -> -285259.5
C82: ՀՀ Կոտայքի մարզ | D82: =SUM(E82:H82) -> -311521.1 | E82: =+E83 -> -311521.1 | F82: =+F83 -> 0 | G82: =+G83 -> 0 | H82: =+H83 -> 0
C83: «Հրազդանի Լևոն Խեչոյանի անվան թիվ 10 ավագ դպրոց» ՊՈԱԿ | D83: =+E83+F83+G83+H83 -> -311521.1 | E83: =+'Հավելված N 7'!I100+'Հավելված N 7'!I106+'Հավելված N 7'!I111 -> -311521.1
A84: 1183 | B84: 32003 | C84: Փոքրաքանակ երեխաներով համալրված հանրակրթական դպրոցների և կրթահամալիրների մոդուլային շենքերի կառուցում | D84: =SUM(E84:H84) -> 1442123.3 | E84: =+E86+E89+E92+E95+E98+E100 -> 1442123.3 | F84: =+F86+F89+F92+F95+F98+F100 -> 0 | G84: =+G86+G89+G92+G95+G98+G100 -> 0 | H84: =+H86+H89+H92+H95+H98+H100 -> 0
C85: այդ թվում`
C86: ՀՀ Լոռու մարզ | D86: =SUM(E86:H86) -> 180438.6 | E86: =SUM(E87:E88) -> 180438.6 | F86: =SUM(F87:F88) -> 0 | G86: =SUM(G87:G88) -> 0 | H86: =SUM(H87:H88) -> 0
C87: «Հագվու հիմնական դպրոց» ՊՈԱԿ | D87: =+E87+F87+G87+H87 -> 33021.8 | E87: =+'Հավելված N 7'!I116+1739+104.3 -> 33021.8
C88: «Մեդովկայի միջնակարգ դպրոց» ՊՈԱԿ | D88: =+E88+F88+G88+H88 -> 147416.8 | E88: =+'Հավելված N 7'!I117+5291.7+731.1 -> 147416.8
C89: ՀՀ Կոտայքի մարզ | D89: =SUM(E89:H89) -> 33539.3 | E89: =SUM(E90:E91) -> 33539.3 | F89: =SUM(F90:F91) -> 0 | G89: =SUM(G90:G91) -> 0 | H89: =SUM(H90:H91) -> 0
C90: Ջրառատի միջնակարգ դպրոց ՊՈԱԿ | D90: =+E90+F90+G90+H90 -> 16119.4 | E90: =+'Հավելված N 7'!I118+576.4 -> 16119.4
C91: Կաթնաղբյուրի հիմնական դպրոց ՊՈԱԿ | D91: =+E91+F91+G91+H91 -> 17419.9 | E91: =+'Հավելված N 7'!I119+682.5 -> 17419.9
C92: ՀՀ Շիրակի մարզ | D92: =SUM(E92:H92) -> 314483.9 | E92: =SUM(E93:E94) -> 314483.9 | F92: =SUM(F93:F94) -> 0 | G92: =SUM(G93:G94) -> 0 | H92: =SUM(H93:H94) -> 0
C93: «Արեգնադեմի միջնակարգ դպրոց» ՊՈԱԿ | D93: =+E93+F93+G93+H93 -> 157403.3 | E93: =+'Հավելված N 7'!I120+6532.3+871 -> 157403.3
C94: «Կապսի միջնակարգ դպրոց» ՊՈԱԿ | D94: =+E94+F94+G94+H94 -> 157080.6 | E94: =+'Հավելված N 7'!I121+6061.8+835.7 -> 157080.6
C95: ՀՀ Սյունիքի մարզ | D95: =SUM(E95:H95) -> 540863.6 | E95: =SUM(E96:E97) -> 540863.6 | F95: =SUM(F96:F97) -> 0 | G95: =SUM(G96:G97) -> 0 | H95: =SUM(H96:H97) -> 0
C96: «Վաղատինի միջնակարգ դպրոց» ՊՈԱԿ | D96: =+E96+F96+G96+H96 -> 269924.3 | E96: =+'Հավելված N 7'!I122+8929.5+1688.6 -> 269924.3
C97: «Դարբասի միջնակարգ դպրոց» ՊՈԱԿ | D97: =+E97+F97+G97+H97 -> 270939.3 | E97: =+'Հավելված N 7'!I123+10001+1353.8 -> 270939.3
C98: ՀՀ Վայոց Ձորի մարզ | D98: =SUM(E98:H98) -> 85654.3 | E98: =+E99 -> 85654.3 | F98: =+F99 -> 0 | G98: =+G99 -> 0 | H98: =+H99 -> 0
C99: Եղեգիսի միջնակարգ դպրոց ՊՈԱԿ | D99: =+E99+F99+G99+H99 -> 85654.3 | E99: =+'Հավելված N 7'!I124+'Հավելված N 7'!I131+509 -> 85654.3
C100: ՀՀ Տավուշի մարզ | D100: =SUM(E100:H100) -> 287143.6 | E100: =+E101 -> 287143.6 | F100: =+F101 -> 0 | G100: =+G101 -> 0 | H100: =+H101 -> 0
C101: «Կիրանցի Գ.Վարդանյանի անվ. հիմնական դպրոց» ՊՈԱԿ | D101: =+E101+F101+G101+H101 -> 287143.6 | E101: =+'Հավելված N 7'!I125+'Հավելված N 7'!I132+1519 -> 287143.6
A102: 1183 | B102: 32004 | C102: Ավագ մակարդակի կրթություն իրականացնող ուսումնական հաստատությունների շենքային պայմանների բարելավում | D102: =+E102+F102+G102+H102 -> -20003 | E102: =+E104 -> 0 | F102: =+F104 -> 0 | G102: =+G104 -> -20003 | H102: =+H104 -> 0
C103: այդ թվում`
C104: ՀՀ Սյունիքի մարզ | D104: =SUM(E104:H104) -> -20003 | E104: =+E105 -> 0 | F104: =+F105 -> 0 | G104: =+G105 -> -20003 | H104: =+H105 -> 0
...

Sheet Հավելված N 4
D1: Հավելված N 4
D2: ՀՀ կառավարության 2023 թվականի
D3: ______________ ի ___Ն որոշման
B5: ՀԱՅԱՍՏԱՆԻ ՀԱՆՐԱՊԵՏՈՒԹՅԱՆ ԿԱՌԱՎԱՐՈՒԹՅԱՆ 2022 ԹՎԱԿԱՆԻ ԴԵԿՏԵՄԲԵՐԻ 29-Ի N 2111-Ն ՈՐՈՇՄԱՆ N 5 ՀԱՎԵԼՎԱԾԻ N 2 ԱՂՅՈՒՍԱԿՈՒՄ ԿԱՏԱՐՎՈՂ ՓՈՓՈԽՈՒԹՅՈՒՆՆԵՐԸ ԵՎ ԼՐԱՑՈՒՄՆԵՐԸ
F8: հազ. դրամներով
B9: Ծրագրային դասիչ | D9: Բյուջետային գլխավոր կարգադրիչների, ծրագրերի, միջոցառումների, միջոցառումները կատարող պետական մարմինների և ուղղությունների անվանումները | E9: Ցուցանիշների փոփոխությունը (ավելացումները նշված են դրական նշանով, իսկ նվազեցումները՝ փակագծերում)
B10: Ծրագիր | C10: Միջոցառում | E10: Ինն ամիս | F10: Տարի
D12: ՀՀ ԿՐԹՈՒԹՅԱՆ, ԳԻՏՈՒԹՅԱՆ, ՄՇԱԿՈՒՅԹԻ ԵՎ ՍՊՈՐՏԻ ՆԱԽԱՐԱՐՈՒԹՅՈՒՆ | E12: =+E14+E22+E30+E38+E44+E73+E80+E87+E102+E134+E140+E165 -> -1431410.5 | F12: =+F14+F22+F30+F38+F44+F73+F80+F87+F102+F134+F140+F165 -> -1868106.8
D13: այդ թվում՝
B14: 1045 | C14: 32001 | D14: Նախնական մասնագիտական (արհեստագործական) և միջին մասնագիտական ուսումնական հաստատությունների շենքային պայմանների բարելավում | E14: =+E16 -> -264013.5 | F14: =+F16 -> -330699.7
D15: այդ թվում` ըստ կատարողների
D16: ՀՀ քաղաքաշինության կոմիտե | E16: =+E18+E20 -> -264013.5 | F16: =+F18+F20 -> -330699.7
D17: այդ թվում՝ ըստ ուղղությունների
D18: Երևան քաղաք | E18: =+E19 -> -27188.4 | F18: =+F19 -> -12449.4
D19: «Երևանի թեթև արդյունաբերության պետական քոլեջ» ՊՈԱԿ | E19: -27188.4 | F19: =+'Հավելված N 3'!D19 -> -12449.4
D20: ՀՀ Արարատի մարզ | E20: =+E21 -> -236825.1 | F20: =+F21 -> -318250.3
D21: =+'Հավելված N 3'!C21 -> «Մասիսի պետական գյուղատնտեսական քոլեջ» ՊՈԱԿ | E21: -236825.1 | F21: =+'Հավելված N 3'!D21 -> -318250.3
B22: 1045 | C22: 32005 | D22: Նախնական մասնագիտական (արհեստագործական) և միջին մասնագիտական ուսումնական հաստատությունների շենքերի կառուցում | E22: =+E24 -> -389432.7 | F22: =+F24 -> -519865.6
D23: այդ թվում` ըստ կատարողների
D24: ՀՀ քաղաքաշինության կոմիտե | E24: =+E26+E28 -> -389432.7 | F24: =+F26+F28 -> -519865.6
D25: այդ թվում՝ ըստ ուղղությունների
D26: ՀՀ Գեղարքունիքի մարզ | E26: =+E27 -> -162124.5 | F26: =+F27 -> -168849.2
D27: =+'Հավելված N 3'!C25 -> «Գավառի ակադեմիկոս Ա. Թամամշևի անվան պետական գյուղատնտեսական քոլեջ» ՊՈԱԿ | E27: -162124.5 | F27: =+'Հավելված N 3'!D25 -> -168849.2
D28: ՀՀ Լոռու մարզ | E28: =+E29 -> -227308.2 | F28: =+F29 -> -351016.4
D29: =+'Հավելված N 3'!C27 -> «Ստեփանավանի պրոֆ. Քալանթարի անվան պետական գյուղատնտեսական քոլեջ» ՊՈԱԿ | E29: -227308.2 | F29: =+'Հավելված N 3'!D27 -> -351016.4
B30: 1075 | C30: 32001 | D30: Ներդրումներ թանգարանների և պատկերասրահների հիմնանորոգման համար | E30: =+E32 -> -117379.8 | F30: =+F32 -> -199482
D31: այդ թվում` ըստ կատարողների
D32: ՀՀ քաղաքաշինության կոմիտե | E32: =+E34+E36 -> -117379.8 | F32: =+F34+F36 -> -199482
D33: այդ թվում՝ ըստ ուղղությունների
D34: Երևան քաղաք | E34: =+E35 -> -82102 | F34: =+F35 -> -164204.2
D35: =+'Հավելված N 3'!C31 -> Հայաստանի ազգային պատկերասրահ ՊՈԱԿ-ի Արա Սարգսյանի և Հակոբ Կոջոյանի տուն-թանգարան մասնաճյուղ | E35: -82102 | F35: =+'Հավելված N 3'!D31 -> -164204.2
D36: ՀՀ Շիրակի մարզ | E36: =+E37 -> -35277.8 | F36: =+F37 -> -35277.8
D37: =+'Հավելված N 3'!C33 -> «Շիրակի երկրագիտական թանգարան» ՊՈԱԿ | E37: -35277.8 | F37: =+'Հավելված N 3'!D33 -> -35277.8
B38: 1111 | C38: 32001 | D38: Բարձրագույն ուսումնական հաստատությունների և ««Զեյթուն» ուսանողական ավան» հիմնադրամի շենքային պայմանների բարելավում | E38: =+E40 -> -106918.2 | F38: =+F40 -> -267295.4
D39: այդ թվում` ըստ կատարողների
D40: ՀՀ քաղաքաշինության կոմիտե | E40: =+E42 -> -106918.2 | F40: =+F42 -> -267295.4
D41: այդ թվում՝ ըստ ուղղությունների
D42: Երևան քաղաք | E42: =+E43 -> -106918.2 | F42: =+F43 -> -267295.4
D43: =+'Հավելված N 3'!C37 -> «Երևանի Կոմիտասի անվան պետական կոնսերվատորիա» ՊՈԱԿ | E43: -106918.2 | F43: =+'Հավելված N 3'!D37 -> -267295.4
B44: 1146 | C44: 12010 | D44: «Մոդուլային» տիպի մանկապարտեզների շենքային ապահովում | E44: =+E46 -> -1249723.7 | F44: =+F46 -> -1751820.2
D45: այդ թվում` ըստ կատարողների
D46: ՀՀ քաղաքաշինության կոմիտե | E46: =+E48+E49+E50+E51+E53+E55+E59+E61+E64+E67+E69+E71 -> -1249723.7 | F46: =+F48+F49+F50+F51+F53+F55+F59+F61+F64+F67+F69+F71 -> -1751820.2
D47: այդ թվում` ըստ ուղղությունների
D48: «Մոդուլային» տիպի 50 տեղ հզորությամբ մսուր-մանկապարտեզի բազմակի օգտագործման օրինակելի նախագծանախահաշվային փաստաթղթեր | E48: -9990 | F48: 0
D49: «Մոդուլային» տիպի 100 տեղ հզորությամբ մսուր-մանկապարտեզի բազմակի օգտագործման օրինակելի նախագծանախահաշվային փաստաթղթեր | E49: -28500 | F49: 0
D50: «Մոդուլային» տիպի 200 տեղ հզորությամբ մսուր-մանկապարտեզի բազմակի օգտագործման օրինակելի նախագծանախահաշվային փաստաթղթեր | E50: -36020 | F50: 0
D51: ՀՀ Արագածոտնի մարզ | E51: =+E52 -> -148608.7 | F51: =+F52 -> -297217.5
D52: =+'Հավելված N 3'!C41 -> ՀՀ Արագածոտնի մարզի Ալագյազ համայնքում «Մոդուլային» տիպի 144 տեղ հզորությամբ մսուր-մանկապարտեզ | E52: -148608.7 | F52: =+'Հավելված N 3'!D41 -> -297217.5
D53: ՀՀ Արարատի մարզ | E53: =+E54 -> -24956.7 | F53: =+F54 -> -49913.4
D54: =+'Հավելված N 3'!C43 -> ՀՀ Արարատի մարզի Արալեզ համայնքում «Մոդուլային» տիպի 144 տեղ հզորությամբ մսուր-մանկապարտեզ | E54: -24956.7 | F54: =+'Հավելված N 3'!D43 -> -49913.4
D55: ՀՀ Արմավիրի մարզ | E55: =SUM(E56:E58) -> 1133.2 | F55: =SUM(F56:F58) -> 82521.2
D56: =+'Հավելված N 3'!C45 -> ՀՀ Արմավիրի մարզի Արևիկ համայնքում «Մոդուլային» տիպի 144 տեղ հզորությամբ մսուր-մանկապարտեզ | E56: 102704.5 | F56: =+'Հավելված N 3'!D45 -> 205409.1
D57: =+'Հավելված N 3'!C46 -> ՀՀ Արմավիրի մարզի Այգևան համայնքում «Մոդուլային» տիպի 144 տեղ հզորությամբ մսուր-մանկապարտեզ | E57: 0 | F57: =+'Հավելված N 3'!D46 -> 80254.7
D58: =+'Հավելված N 3'!C47 -> ՀՀ Արմավիրի մարզի Լենուղի համայնքում «Մոդուլային» տիպի 144 տեղ հզորությամբ մսուր-մանկապարտեզ | E58: -101571.3 | F58: =+'Հավելված N 3'!D47 -> -203142.6
D59: ՀՀ Գեղարքունիքի մարզ | E59: =+E60 -> -178167.8 | F59: =+F60 -> -356335.5
D60: =+'Հավելված N 3'!C49 -> ՀՀ Գեղարքունիքի մարզի Աստղաձոր համայնքում «Մոդուլային» տիպի 144 տեղ հզորությամբ մսուր-մանկապարտեզ | E60: -178167.8 | F60: =+'Հավելված N 3'!D49 -> -356335.5
D61: ՀՀ Լոռու մարզ | E61: =SUM(E62:E63) -> -221585.7 | F61: =SUM(F62:F63) -> -90099
D62: =+'Հավելված N 3'!C51 -> ՀՀ Լոռու մարզի Սպիտակ համայնքում «Մոդուլային» տիպի 144 տեղ հզորությամբ մսուր-մանկապարտեզ | E62: =-45105.1+55.5 -> -45049.6 | F62: =+'Հավելված N 3'!D51 -> -90099
D63: ՀՀ Լոռու մարզի Լեռնավան համայնքում «Մոդուլային» տիպի 144 տեղ հզորությամբ մսուր-մանկապարտեզ | E63: -176536.1 | F63: 0
D64: ՀՀ Կոտայքի մարզ | E64: =SUM(E65:E66) -> -163776.4 | F64: =SUM(F65:F66) -> -322612.73
D65: =+'Հավելված N 3'!C53 -> ՀՀ Կոտայքի մարզի Հրազդան համայնքում «Մոդուլային» տիպի 144 տեղ հզորությամբ մսուր-մանկապարտեզ | E65: -158836.4 | F65: =+'Հավելված N 3'!D53 -> -317672.73
D66: =+'Հավելված N 3'!C54 -> ՀՀ Կոտայքի մարզի Չարենցավան համայնքի Ֆանտան բնակավայրում «Մոդուլային» տիպի 144 տեղ հզորությամբ մսուր-մանկապարտեզ | E66: -4940 | F66: =+'Հավելված N 3'!D54 -> -4940
D67: ՀՀ Սյունիքի մարզ | E67: =+E68 -> -4940 | F67: =+F68 -> -4940
D68: =+'Հավելված N 3'!C56 -> ՀՀ Սյունիքի մարզի Սիսիան համայնքում «Մոդուլային» տիպի 144 տեղ հզորությամբ մսուր-մանկապարտեզ | E68: -4940 | F68: =+'Հավելված N 3'!D56 -> -4940
D69: ՀՀ Վայոց Ձորի մարզ | E69: =+E70 -> -190750 | F69: =+F70 -> -226100
D70: =+'Հավելված N 3'!C58 -> ՀՀ Վայոց ձորի մարզի Եղեգիս համայնքի Շատին բնակավայրում «Մոդուլային» տիպի 250 տեղ հզորությամբ մսուր-մանկապարտեզ | E70: -190750 | F70: =+'Հավելված N 3'!D58 -> -226100
D71: ՀՀ Տավուշի մարզ | E71: =+E72 -> -243561.6 | F71: =+F72 -> -487123.3
D72: =+'Հավելված N 3'!C60 -> ՀՀ Տավուշի մարզի Այրում համայնքի Բագրատաշեն բնակավայրում «Մոդուլային» տիպի 144 տեղ հզորությամբ մսուր-մանկապարտեզ | E72: -243561.6 | F72: =+'Հավելված N 3'!D60 -> -487123.3
B73: 1168 | C73: 32001 | D73: Ներդրումներ թատրոնների շենքերի կապիտալ վերանորոգման համար | E73: =+E75+E79 -> 0 | F73: =+F75+F79 -> 278954.6
D74: այդ թվում` ըստ կատարողների
D75: ՀՀ քաղաքաշինության կոմիտե | E75: =+E77 -> 0 | F75: =+F77 -> 79472.6
D76: այդ թվում` ըստ ուղղությունների
D77: Երևան քաղաք | E77: =+E78 -> 0 | F77: =+F78 -> 79472.6
D78: =+'Հավելված N 3'!C64 -> Երևանի մնջախաղի պետական թատրոնի շենքի վերակառուցում | F78: =+'Հավելված N 3'!D64 -> 79472.6
D79: ՀՀ կառավարություն | E79: 0 | F79: =+'Հավելված N 3'!D65 -> 199482
B80: 1183 | C80: 32001 | D80: Կրթական օբյեկտների շենքային պայմանների բարելավում | E80: =+E82 -> -116082.1 | F80: =+F82 -> -353700.3
D81: այդ թվում` ըստ կատարողների
D82: ՀՀ քաղաքաշինության կոմիտե | E82: =+E84 -> -116082.1 | F82: =+F84 -> -353700.3
D83: այդ թվում` ըստ ուղղությունների
D84: Երևան քաղաք | E84: =SUM(E85:E86) -> -116082.1 | F84: =SUM(F85:F86) -> -353700.3
D85: =+'Հավելված N 3'!C69 -> «Երևանի թիվ 22 հիմնական դպրոց» ՊՈԱԿ | E85: -116082.1 | F85: =+'Հավելված N 3'!D69 -> -290205.2
D86: =+'Հավելված N 3'!C70 -> «Երևանի Հ. Խաչատրյանի անվան N 199 հիմնական դպրոց» ՊՈԱԿ | E86: 0 | F86: =+'Հավելված N 3'!D70 -> -63495.1
B87: 1183 | C87: 32002 | D87: Կրթական օբյեկտների շենքային ապահովվածության բարելավում | E87: =+E89 -> -942437.2 | F87: =+F89 -> -1259302.9
D88: այդ թվում` ըստ կատարողների
D89: ՀՀ քաղաքաշինության կոմիտե | E89: =+E91+E93+E96+E98+E100 -> -942437.2 | F89: =+F91+F93+F96+F98+F100 -> -1259302.9
D90: այդ թվում` ըստ ուղղությունների
D91: Երևան քաղաք | E91: =SUM(E92:E92) -> 0 | F91: =SUM(F92:F92) -> -45218.9
D92: =+'Հավելված N 3'!C74 -> «Երևանի Վ. Տերյանի անվան հ. 60 դպրոց» ՊՈԱԿ | E92: 0 | F92: =+'Հավելված N 3'!D74 -> -45218.9
D93: ՀՀ Արարատի մարզ | E93: =SUM(E94:E95) -> -260420.8 | F93: =SUM(F94:F95) -> -316251.2
D94: =+'Հավելված N 3'!C76 -> «Մասիսի թիվ 5 ավագ դպրոց» ՊՈԱԿ | E94: 0 | F94: =+'Հավելված N 3'!D76 -> -2609.7
D95: =+'Հավելված N 3'!C77 -> «Բարձրաշենի միջնակարգ դպրոց»ՊՈԱԿ | E95: -260420.8 | F95: =+'Հավելված N 3'!D77 -> -313641.5
D96: ՀՀ Արմավիրի մարզ | E96: =SUM(E97:E97) -> -228226 | F96: =SUM(F97:F97) -> -301052.2
D97: =+'Հավելված N 3'!C79 -> «Վաղարշապատի Մովսես Խորենացու անվան N 10 ավագ դպրոց» ՊՈԱԿ | E97: -228226 | F97: =+'Հավելված N 3'!D79 -> -301052.2
D98: ՀՀ Գեղարքունիքի մարզ | E98: =SUM(E99:E99) -> -220329.8 | F98: =SUM(F99:F99) -> -285259.5
D99: =+'Հավելված N 3'!C81 -> «Վարդենիսի Հ. Համբարձումյանի անվան ավագ դպրոց» ՊՈԱԿ | E99: -220329.8 | F99: =+'Հավելված N 3'!D81 -> -285259.5
D100: ՀՀ Կոտայքի մարզ | E100: =SUM(E101:E101) -> -233460.6 | F100: =SUM(F101:F101) -> -311521.1
D101: =+'Հավելված N 3'!C83 -> «Հրազդանի Լևոն Խեչոյանի անվան թիվ 10 ավագ դպրոց» ՊՈԱԿ | E101: -233460.6 | F101: =+'Հավելված N 3'!D83 -> -311521.1
B102: 1183 | C102: 32003 | D102: Փոքրաքանակ երեխաներով համալրված հանրակրթական դպրոցների և կրթահամալիրների մոդուլային շենքերի կառուցում | E102: =+E104 -> 1002513.8 | F102: =+F104 -> 1442123.3
D103: այդ թվում` ըստ կատարողների
D104: ՀՀ քաղաքաշինության կոմիտե | E104: =+E106+E108+E110+E112+E114+E117+E121+E124+E127+E130 -> 1002513.8 | F104: =+F106+F108+F110+F112+F114+F117+F121+F124+F127+F130 -> 1442123.3
...

Sheet Հավելված N 5
C1: Հավելված N 5
C2: ՀՀ կառավարության 2023 թվականի
C3: ______________ ի ___Ն որոշման
B6: ՀԱՅԱՍՏԱՆԻ ՀԱՆՐԱՊԵՏՈՒԹՅԱՆ ԿԱՌԱՎԱՐՈՒԹՅԱՆ 2022 ԹՎԱԿԱՆԻ ԴԵԿՏԵՄԲԵՐԻ 29-Ի N 2111-Ն ՈՐՈՇՄԱՆ N 9 ՀԱՎԵԼՎԱԾԻ NN 9.13 ԵՎ 9.47 ԱՂՅՈՒՍԱԿՆԵՐՈՒՄ ԿԱՏԱՐՎՈՂ ՓՈՓՈԽՈՒԹՅՈՒՆՆԵՐԸ ԵՎ ԼՐԱՑՈՒՄՆԵՐԸ
A8: Աղյուսակ 9․13
C9: ՀՀ կրթության, գիտության, մշակույթի և սպորտի նախարարություն
B10: ՄԱՍ 2. ՊԵՏԱԿԱՆ ՄԱՐՄՆԻ ԳԾՈՎ ԱՐԴՅՈՒՆՔԱՅԻՆ (ԿԱՏԱՐՈՂԱԿԱՆ) ՑՈՒՑԱՆԻՇՆԵՐԸ
B13: Ծրագրի դասիչը | C13: Ծրագրի անվանումը
B14: 1045 | C14: Նախնական (արհեստագործական) և միջին մասնագիտական կրթություն
B16: Ծրագրի միջոցառումները | D16: Ցուցանիշների փոփոխությունը (նվազեցումները նշված են փակագծերում)
B17: Ծրագրի դասիչը՝ | C17: 1045
B18: Միջոցառման դասիչը՝ | C18: 32001 | D18: Ինն ամիս | E18: Տարի
B19: Միջոցառման անվանումը՝ | C19: Նախնական մասնագիտական (արհեստագործական) և միջին մասնագիտական ուսումնական հաստատությունների շենքային պայմանների բարելավում
B20: Նկարագրությունը՝ | C20: ՆՄՄԿՈՒ հաստատությունների շենքերի հիմնանորոգման և նախագծման (շինարարական աշխատանքներ, ջեռուցման համակարգի ստեղծում, ներքին հարդարում, տարածքի բարեկարգում) աշխատանքների իրականացում
B21: Միջոցառման տեսակը՝ | C21: Այլ պետական կազմակերպությունների կողմից օգտագործվող ոչ ֆինանսական ակտիվների հետ գործառնություններ
B22: Ակտիվն օգտագործող կազմակերպությունների անվանումները | C22: Նախնական մասնագիտական (արհեստագործական) և միջին մասնագիտական ուսումնական հաստատություններ
B23: Արդյունքի չափորոշիչներ
B24: Նախագծանախահաշվային փաստաթղթերի քանակ, հատ | D24: -1 | E24: 0
B25: Միջոցառման վրա կատարվող ծախսը (հազար դրամ) | D25: =+'Հավելված N 1'!D23 -> -264013.5 | E25: =+'Հավելված N 1'!E23 -> -330699.7
B27: Ծրագրի միջոցառումները | D27: Ցուցանիշների փոփոխությունը (նվազեցումները նշված են փակագծերում)
B28: Ծրագրի դասիչը՝ | C28: 1045
B29: Միջոցառման դասիչը՝ | C29: 32005 | D29: Ինն ամիս | E29: Տարի
B30: Միջոցառման անվանումը` | C30: Նախնական մասնագիտական (արհեստագործական) և միջին մասնագիտական ուսումնական հաստատությունների շենքերի կառուցում
B31: Նկարագրությունը` | C31: ՆՄՄԿՈՒ հաստատությունների շենքերի (մասնաշենքերի) կառուցման և նախագծման աշխատանքների իրականացում
B32: Միջոցառման տեսակը` | C32: Այլ պետական կազմակերպությունների կողմից օգտագործվող ոչ ֆինանսական ակտիվների հետ գործառնություններ
B33: Ակտիվն օգտագործող կազմակերպությունների անվանումները | C33: Նախնական մասնագիտական (արհեստագործական) և միջին մասնագիտական ուսումնական հաստատություններ
B34: Արդյունքի չափորոշիչներ
B35: Միջոցառման վրա կատարվող ծախսը (հազար դրամ) | D35: =+'Հավելված N 1'!D29 -> -389432.7 | E35: =+'Հավելված N 1'!E29 -> -519865.6
B37: Ծրագրի դասիչը | C37: Ծրագրի անվանումը
B38: 1075 | C38: Մշակութային ժառանգության ծրագիր
B40: Ծրագրի միջոցառումները | D40: Ցուցանիշների փոփոխությունը (նվազեցումները նշված են փակագծերում)
B41: Ծրագրի դասիչը՝ | C41: 1075
B42: Միջոցառման դասիչը՝ | C42: 32001 | D42: Ինն ամիս | E42: Տարի
B43: Միջոցառման անվանումը` | C43: Ներդրումներ թանգարանների և պատկերասրահների հիմնանորոգման համար
B44: Նկարագրությունը` | C44: Թանգարանների և պատկերասրահների շենքերի, մասնաշենքերի հիմնանորոգում, համաշինարարական աշխատանքներ, ջեռուցման համակարգի իրականացում, ներքին հարդարում, տարածքի բարեկարգում և նախագծում
B45: Միջոցառման տեսակը` | C45: Այլ պետական կազմակերպությունների կողմից օգտագործվող ոչ ֆինանսական ակտիվների հետ գործառնություններ
B46: Ակտիվն օգտագործող կազմակերպությունների անվանումները | C46: Թանգարաններ և պատկերասրահներ
B47: Արդյունքի չափորոշիչներ
B48: Հիմնանորոգվող թանգարաններ և պատկերասրահներ քանակ, հատ | D48: -1 | E48: -1
B49: Նախագծվող թանգարաններ և պատկերասրահներ քանակ, հատ | D49: -1 | E49: -1
B50: Միջոցառման վրա կատարվող ծախսը (հազար դրամ) | D50: =+'Հավելված N 1'!D42 -> -117379.8 | E50: =+'Հավելված N 1'!E42 -> -199482
B52: Ծրագրի դասիչը | C52: Ծրագրի անվանումը
B53: 1111 | C53: Բարձրագույն և հետբուհական մասնագիտական կրթության ծրագիր
B55: Ծրագրի միջոցառումները | D55: Ցուցանիշների փոփոխությունը (նվազեցումները նշված են փակագծերում)
B56: Ծրագրի դասիչը՝ | C56: 1111
B57: Միջոցառման դասիչը՝ | C57: 32001 | D57: Ինն ամիս | E57: Տարի
B58: Միջոցառման անվանումը` | C58: Բարձրագույն ուսումնական հաստատությունների և «Զեյթուն» ուսանողական ավան» հիմնադրամի շենքային պայմանների բարելավում
B59: Նկարագրությունը` | C59: Բարձրագույն ուսումնական հաստատությունների և «Զեյթուն» ուսանողական ավան» հիմնադրամի շենքային պայմանների բարելավում
B60: Միջոցառման տեսակը` | C60: Այլ պետական կազմակերպությունների կողմից օգտագործվող ոչ ֆինանսական ակտիվների հետ գործառնություններ
B61: Ակտիվն օգտագործող կազմակերպությունների անվանումները | C61: Բարձրագույն ուսումնական հաստատություններ
B62: Արդյունքի չափորոշիչներ
B63: Միջոցառման վրա կատարվող ծախսը (հազար դրամ) | D63: =+'Հավելված N 1'!D55 -> -106918.2 | E63: =+'Հավելված N 1'!E55 -> -267295.4
B65: Ծրագրի դասիչը | C65: Ծրագրի անվանումը
B66: 1146 | C66: Հանրակրթության ծրագիր
B68: Ծրագրի միջոցառումները | D68: Ցուցանիշների փոփոխությունը (նվազեցումները նշված են փակագծերում)
B69: Ծրագրի դասիչը՝ | C69: 1146
B70: Միջոցառման դասիչը՝ | C70: 12010 | D70: Ինն ամիս | E70: Տարի
B71: Միջոցառման անվանումը` | C71: «Մոդուլային» տիպի մանկապարտեզների շենքային ապահովում
B72: Նկարագրությունը` | C72: Համայնքներում «Մոդուլային» տիպի մանկապարտեզների կառուցում և նախագծում
B73: Միջոցառման տեսակը` | C73: Տրանսֆերտների տրամադրում
B74: Շահառուների ընտրության չափանիշները | C74: Նախադպրոցական կրթությույն իրականացնող ուսումնական հաստատություններ
B75: Արդյունքի չափորոշիչներ
B76: Նախագծանախահաշվային փաստաթղթերի քանակ, հատ | D76: -5 | E76: -2
B77: Միջոցառման վրա կատարվող ծախսը (հազար դրամ) | D77: =+'Հավելված N 1'!D68 -> -1249723.7 | E77: =+'Հավելված N 1'!E68 -> -1751820.2
B79: Ծրագրի դասիչը | C79: Ծրագրի անվանումը
B80: 1168 | C80: Արվեստների ծրագիր
B82: Ծրագրի միջոցառումները | D82: Ցուցանիշների փոփոխությունը (ավելացումները նշված են դրական նշանով)
B83: Ծրագրի դասիչը՝ | C83: 1168
B84: Միջոցառման դասիչը՝ | C84: 32001 | D84: Ինն ամիս | E84: Տարի
B85: Միջոցառման անվանումը` | C85: Ներդրումներ թատրոնների և համերգային կազմակերպությունների շենքերի կապիտալ վերանորոգման համար
B86: Նկարագրությունը` | C86: Թատրոնների և համերգային կազմակերպությունների շենքերի մասնաշենքերի հիմնանորոգում, համաշինարարական աշխատանքներ, ջեռուցման համակարգի իրականացում, ներքին հարդարում, տարածքի բարեկարգում և նախագծում
B87: Միջոցառման տեսակը` | C87: Այլ պետական կազմակերպությունների կողմից օգտագործվող ոչ ֆինանսական ակտիվների հետ գործառնություններ
B88: Ակտիվն օգտագործող կազմակերպությունների անվանումները | C88: Թատրոններ
B89: Արդյունքի չափորոշիչներ
B90: Միջոցառման վրա կատարվող ծախսը (հազար դրամ) | D90: =+'Հավելված N 1'!D81 -> 0 | E90: =+'Հավելված N 1'!E81 -> 278954.6
B92: Ծրագրի դասիչը | C92: Ծրագրի անվանումը
B93: 1183 | C93: Ապահով դպրոց
B95: Ծրագրի միջոցառումները | D95: Ցուցանիշների փոփոխությունը (նվազեցումները նշված են փակագծերում)
B96: Ծրագրի դասիչը` | C96: 1183
B97: Միջոցառման դասիչը` | C97: 32001 | D97: Ինն ամիս | E97: Տարի
B98: Միջոցառման անվանումը` | C98: Կրթական օբյեկտների շենքային պայմանների բարելավում
B99: Նկարագրությունը` | C99: Կրթական օբյեկտների շենքերի (մասնաշենքերի) հիմնանորոգում (համաշինարարական աշխատանքներ, ջեռուցման համակարգի իրականացում, ներքին հարդարում, տարածքի բարեկարգում) և նախագծում
B100: Միջոցառման տեսակը` | C100: Այլ պետական կազմակերպությունների կողմից օգտագործվող ոչ ֆինանսական ակտիվների հետ գործառնություններ
B101: Ակտիվն օգտագործող կազմակերպությունների անվանումները | C101: Հանրակրթական դպրոցներ
B102: Արդյունքի չափորոշիչներ
B103: Կազմակերպությունների թիվը, որտեղ կատարվում են ներդրումները, հատ | D103: -1 | E103: -1
B104: Նախագծանախահաշվային փաստաթղթերի քանակ, հատ | D104: 0 | E104: -1
B105: Հաստատությունների քանակ, որոնց շինարարական աշխատանքների ավարտվածության աստիճանը 100% է, հատ | E105: -1
B106: Միջոցառման վրա կատարվող ծախսը (հազար դրամ) | D106: =+'Հավելված N 1'!D94 -> -116082.1 | E106: =+'Հավելված N 1'!E94 -> -353700.3
B108: Ծրագրի միջոցառումները | D108: Ցուցանիշների փոփոխությունը (նվազեցումները նշված են փակագծերում)
B109: Ծրագրի դասիչը` | C109: 1183
B110: Միջոցառման դասիչը` | C110: 32002 | D110: Ինն ամիս | E110: Տարի
B111: Միջոցառման անվանումը` | C111: Կրթական օբյեկտների շենքային ապահովվածության բարելավում
B112: Նկարագրությունը` | C112: Կրթական օբյեկտների շենքերի (մասնաշենքերի) կառուցում (համաշինարարական աշխատանքներ, ջեռուցման համակարգի իրականացում, ներքին հարդարում, տարածքի բարեկարգում) և նախագծում
B113: Միջոցառման տեսակը` | C113: Այլ պետական կազմակերպությունների կողմից օգտագործվող ոչ ֆինանսական ակտիվների հետ գործառնություններ
B114: Ակտիվն օգտագործող կազմակերպությունների անվանումները | C114: Հանրակրթական դպրոցներ
B115: Արդյունքի չափորոշիչներ
B116: Նախագծանախահաշվային փաստաթղթերի քանակ, հատ | D116: 0 | E116: -1
B117: Միջոցառման վրա կատարվող ծախսը (հազար դրամ) | D117: =+'Հավելված N 1'!D100 -> -942437.2 | E117: =+'Հավելված N 1'!E100 -> -1259302.9
B119: Ծրագրի միջոցառումները | D119: Ցուցանիշների փոփոխությունը (ավելացումները նշված են դրական նշանով, իսկ նվազեցումները՝ փակագծերում)
...

Sheet Հավելված N 6
C1: Հավելված N 6
C2: ՀՀ կառավարության 2023 թվականի
C3: ______________ ի ___Ն որոշման
B6: ՀԱՅԱՍՏԱՆԻ ՀԱՆՐԱՊԵՏՈՒԹՅԱՆ ԿԱՌԱՎԱՐՈՒԹՅԱՆ 2022 ԹՎԱԿԱՆԻ ԴԵԿՏԵՄԲԵՐԻ 29-Ի N 2111-Ն ՈՐՈՇՄԱՆ N 9.1 ՀԱՎԵԼՎԱԾԻ NN 9.1.41 ԵՎ 9.1.58 ԱՂՅՈՒՍԱԿՆԵՐՈՒՄ ԿԱՏԱՐՎՈՂ ՓՈՓՈԽՈՒԹՅՈՒՆՆԵՐԸ ԵՎ ԼՐԱՑՈՒՄՆԵՐԸ
A8: Աղյուսակ 9․1.41
C9: ՀՀ քաղաքաշինության կոմիտե
B10: ՄԱՍ 1. ՊԵՏԱԿԱՆ ՄԱՐՄՆԻ ԳԾՈՎ ԱՐԴՅՈՒՆՔԱՅԻՆ (ԿԱՏԱՐՈՂԱԿԱՆ) ՑՈՒՑԱՆԻՇՆԵՐԸ
B13: Ծրագրի դասիչը | C13: Ծրագրի անվանումը
B14: 1045 | C14: Նախնական (արհեստագործական) և միջին մասնագիտական կրթություն
B16: Ծրագրի միջոցառումները | D16: Ցուցանիշների փոփոխությունը (նվազեցումները նշված են փակագծերում)
B17: Ծրագրի դասիչը՝ | C17: 1045
B18: Միջոցառման դասիչը՝ | C18: 32001 | D18: Ինն ամիս | E18: Տարի
B19: Միջոցառման անվանումը՝ | C19: Նախնական մասնագիտական (արհեստագործական) և միջին մասնագիտական ուսումնական հաստատությունների շենքային պայմանների բարելավում
B20: Նկարագրությունը՝ | C20: ՆՄՄԿՈՒ հաստատությունների շենքերի հիմնանորոգման և նախագծման (շինարարական աշխատանքներ, ջեռուցման համակարգի ստեղծում, ներքին հարդարում, տարածքի բարեկարգում) աշխատանքների իրականացում
B21: Միջոցառման տեսակը՝ | C21: Այլ պետական կազմակերպությունների կողմից օգտագործվող ոչ ֆինանսական ակտիվների հետ գործառնություններ
B22: Ակտիվն օգտագործող կազմակերպությունների անվանումները | C22: Նախնական մասնագիտական (արհեստագործական) և միջին մասնագիտական ուսումնական հաստատություններ
B23: Արդյունքի չափորոշիչներ
B24: Նախագծանախահաշվային փաստաթղթերի քանակ, հատ | D24: -1 | E24: 0
B25: Միջոցառման վրա կատարվող ծախսը (հազար դրամ) | D25: =+'Հավելված N 2'!G69 -> -264013.5 | E25: =+'Հավելված N 2'!H69 -> -330699.7
B27: Ծրագրի միջոցառումները | D27: Ցուցանիշների փոփոխությունը (նվազեցումները նշված են փակագծերում)
B28: Ծրագրի դասիչը՝ | C28: 1045
B29: Միջոցառման դասիչը՝ | C29: 32005 | D29: Ինն ամիս | E29: Տարի
B30: Միջոցառման անվանումը` | C30: Նախնական մասնագիտական (արհեստագործական) և միջին մասնագիտական ուսումնական հաստատությունների շենքերի կառուցում
B31: Նկարագրությունը` | C31: ՆՄՄԿՈՒ հաստատությունների շենքերի (մասնաշենքերի) կառուցման և նախագծման աշխատանքների իրականացում
B32: Միջոցառման տեսակը` | C32: Այլ պետական կազմակերպությունների կողմից օգտագործվող ոչ ֆինանսական ակտիվների հետ գործառնություններ
B33: Ակտիվն օգտագործող կազմակերպությունների անվանումները | C33: Նախնական մասնագիտական (արհեստագործական) և միջին մասնագիտական ուսումնական հաստատություններ
B34: Արդյունքի չափորոշիչներ
B35: Միջոցառման վրա կատարվող ծախսը (հազար դրամ) | D35: =+'Հավելված N 2'!G80 -> -389432.7 | E35: =+'Հավելված N 2'!H80 -> -519865.6
B37: Ծրագրի դասիչը | C37: Ծրագրի անվանումը
B38: 1075 | C38: Մշակութային ժառանգության ծրագիր
B40: Ծրագրի միջոցառումները | D40: Ցուցանիշների փոփոխությունը (նվազեցումները նշված են փակագծերում)
B41: Ծրագրի դասիչը՝ | C41: 1075
B42: Միջոցառման դասիչը՝ | C42: 32001 | D42: Ինն ամիս | E42: Տարի
B43: Միջոցառման անվանումը` | C43: Ներդրումներ թանգարանների և պատկերասրահների հիմնանորոգման համար
B44: Նկարագրությունը` | C44: Թանգարանների և պատկերասրահների շենքերի, մասնաշենքերի հիմնանորոգում, համաշինարարական աշխատանքներ, ջեռուցման համակարգի իրականացում, ներքին հարդարում, տարածքի բարեկարգում և նախագծում
B45: Միջոցառման տեսակը` | C45: Այլ պետական կազմակերպությունների կողմից օգտագործվող ոչ ֆինանսական ակտիվների հետ գործառնություններ
B46: Ակտիվն օգտագործող կազմակերպությունների անվանումները | C46: Թանգարաններ և պատկերասրահներ
B47: Արդյունքի չափորոշիչներ
B48: Հիմնանորոգվող թանգարաններ և պատկերասրահներ քանակ, հատ | D48: -1 | E48: -1
B49: Նախագծվող թանգարաններ և պատկերասրահներ քանակ, հատ | D49: -1 | E49: -1
B50: Միջոցառման վրա կատարվող ծախսը (հազար դրամ) | D50: =+'Հավելված N 2'!G26 -> -117379.8 | E50: =+'Հավելված N 2'!H26 -> -199482
B52: Ծրագրի դասիչը | C52: Ծրագրի անվանումը
B53: 1111 | C53: Բարձրագույն և հետբուհական մասնագիտական կրթության ծրագիր
B55: Ծրագրի միջոցառումները | D55: Ցուցանիշների փոփոխությունը (նվազեցումները նշված են փակագծերում)
B56: Ծրագրի դասիչը՝ | C56: 1111
B57: Միջոցառման դասիչը՝ | C57: 32001 | D57: Ինն ամիս | E57: Տարի
B58: Միջոցառման անվանումը` | C58: Բարձրագույն ուսումնական հաստատությունների և «Զեյթուն» ուսանողական ավան» հիմնադրամի շենքային պայմանների բարելավում
B59: Նկարագրությունը` | C59: Բարձրագույն ուսումնական հաստատությունների և «Զեյթուն» ուսանողական ավան» հիմնադրամի շենքային պայմանների բարելավում
B60: Միջոցառման տեսակը` | C60: Այլ պետական կազմակերպությունների կողմից օգտագործվող ոչ ֆինանսական ակտիվների հետ գործառնություններ
B61: Ակտիվն օգտագործող կազմակերպությունների անվանումները | C61: Բարձրագույն ուսումնական հաստատություններ
B62: Արդյունքի չափորոշիչներ
B63: Միջոցառման վրա կատարվող ծախսը (հազար դրամ) | D63: =+'Հավելված N 2'!G91 -> -106918.2 | E63: =+'Հավելված N 2'!H91 -> -267295.4
B65: Ծրագրի դասիչը | C65: Ծրագրի անվանումը
B66: 1146 | C66: Հանրակրթության ծրագիր
B68: Ծրագրի միջոցառումները | D68: Ցուցանիշների փոփոխությունը (նվազեցումները նշված են փակագծերում)
B69: Ծրագրի դասիչը՝ | C69: 1146
B70: Միջոցառման դասիչը՝ | C70: 12010 | D70: Ինն ամիս | E70: Տարի
B71: Միջոցառման անվանումը` | C71: «Մոդուլային» տիպի մանկապարտեզների շենքային ապահովում
B72: Նկարագրությունը` | C72: Համայնքներում «Մոդուլային» տիպի մանկապարտեզների կառուցում և նախագծում
B73: Միջոցառման տեսակը` | C73: Տրանսֆերտների տրամադրում
B74: Շահառուների ընտրության չափանիշները | C74: Նախադպրոցական կրթությույն իրականացնող ուսումնական հաստատություններ
B75: Արդյունքի չափորոշիչներ
B76: Նախագծանախահաշվային փաստաթղթերի քանակ, հատ | D76: -5 | E76: -2
B77: Միջոցառման վրա կատարվող ծախսը (հազար դրամ) | D77: =+'Հավելված N 2'!G102 -> -1249723.7 | E77: =+'Հավելված N 2'!H102 -> -1751820.2
B79: Ծրագրի դասիչը | C79: Ծրագրի անվանումը
B80: 1168 | C80: Արվեստների ծրագիր
B82: Ծրագրի միջոցառումները | D82: Ցուցանիշների փոփոխությունը (ավելացումները նշված են դրական նշանով)
B83: Ծրագրի դասիչը՝ | C83: 1168
B84: Միջոցառման դասիչը՝ | C84: 32001 | D84: Ինն ամիս | E84: Տարի
B85: Միջոցառման անվանումը` | C85: Ներդրումներ թատրոնների և համերգային կազմակերպությունների շենքերի կապիտալ վերանորոգման համար
B86: Նկարագրությունը` | C86: Թատրոնների և համերգային կազմակերպությունների շենքերի մասնաշենքերի հիմնանորոգում, համաշինարարական աշխատանքներ, ջեռուցման համակարգի իրականացում, ներքին հարդարում, տարածքի բարեկարգում և նախագծում
B87: Միջոցառման տեսակը` | C87: Այլ պետական կազմակերպությունների կողմից օգտագործվող ոչ ֆինանսական ակտիվների հետ գործառնություններ
B88: Ակտիվն օգտագործող կազմակերպությունների անվանումները | C88: Թատրոններ
B89: Արդյունքի չափորոշիչներ
B90: Միջոցառման վրա կատարվող ծախսը (հազար դրամ) | D90: =+'Հավելված N 2'!G43 -> 0 | E90: =+'Հավելված N 2'!H43 -> 79472.6
B92: Ծրագրի դասիչը | C92: Ծրագրի անվանումը
B93: 1183 | C93: Ապահով դպրոց
B95: Ծրագրի միջոցառումները | D95: Ցուցանիշների փոփոխությունը (նվազեցումները նշված են փակագծերում)
B96: Ծրագրի դասիչը` | C96: 1183
B97: Միջոցառման դասիչը` | C97: 32001 | D97: Ինն ամիս | E97: Տարի
B98: Միջոցառման անվանումը` | C98: Կրթական օբյեկտների շենքային պայմանների բարելավում
B99: Նկարագրությունը` | C99: Կրթական օբյեկտների շենքերի (մասնաշենքերի) հիմնանորոգում (համաշինարարական աշխատանքներ, ջեռուցման համակարգի իրականացում, ներքին հարդարում, տարածքի բարեկարգում) և նախագծում
B100: Միջոցառման տեսակը` | C100: Այլ պետական կազմակերպությունների կողմից օգտագործվող ոչ ֆինանսական ակտիվների հետ գործառնություններ
B101: Ակտիվն օգտագործող կազմակերպությունների անվանումները | C101: Հանրակրթական դպրոցներ
B102: Արդյունքի չափորոշիչներ
B103: Կազմակերպությունների թիվը, որտեղ կատարվում են ներդրումները, հատ | D103: -1 | E103: -1
B104: Նախագծանախահաշվային փաստաթղթերի քանակ, հատ | D104: 0 | E104: -1
B105: Հաստատությունների քանակ, որոնց շինարարական աշխատանքների ավարտվածության աստիճանը 100% է, հատ | E105: -1
B106: Միջոցառման վրա կատարվող ծախսը (հազար դրամ) | D106: =+'Հավելված N 2'!G115 -> -116082.1 | E106: =+'Հավելված N 2'!H115 -> -353700.3
B108: Ծրագրի միջոցառումները | D108: Ցուցանիշների փոփոխությունը (նվազեցումները նշված են փակագծերում)
B109: Ծրագրի դասիչը` | C109: 1183
B110: Միջոցառման դասիչը` | C110: 32002 | D110: Ինն ամիս | E110: Տարի
B111: Միջոցառման անվանումը` | C111: Կրթական օբյեկտների շենքային ապահովվածության բարելավում
B112: Նկարագրությունը` | C112: Կրթական օբյեկտների շենքերի (մասնաշենքերի) կառուցում (համաշինարարական աշխատանքներ, ջեռուցման համակարգի իրականացում, ներքին հարդարում, տարածքի բարեկարգում) և նախագծում
B113: Միջոցառման տեսակը` | C113: Այլ պետական կազմակերպությունների կողմից օգտագործվող ոչ ֆինանսական ակտիվների հետ գործառնություններ
B114: Ակտիվն օգտագործող կազմակերպությունների անվանումները | C114: Հանրակրթական դպրոցներ
B115: Արդյունքի չափորոշիչներ
B116: Նախագծանախահաշվային փաստաթղթերի քանակ, հատ | D116: 0 | E116: -1
B117: Միջոցառման վրա կատարվող ծախսը (հազար դրամ) | D117: =+'Հավելված N 2'!G126 -> -942437.2 | E117: =+'Հավելված N 2'!H126 -> -1259302.9
B119: Ծրագրի միջոցառումները | D119: Ցուցանիշների փոփոխությունը (ավելացումները նշված են դրական նշանով, իսկ նվազեցումները՝ փակագծերում)
...

Sheet Հավելված N 7
H1: Հավելված N 7
H2: ՀՀ կառավարության 2023 թվականի
H3: ______________ ի ___Ն որոշման
A5: ՀԱՅԱՍՏԱՆԻ ՀԱՆՐԱՊԵՏՈՒԹՅԱՆ ԿԱՌԱՎԱՐՈՒԹՅԱՆ 2022 ԹՎԱԿԱՆԻ ԴԵԿՏԵՄԲԵՐԻ 29-Ի N 2111-Ն ՈՐՈՇՄԱՆ N 10 ՀԱՎԵԼՎԱԾՈՒՄ ԿԱՏԱՐՎՈՂ ՓՈՓՈԽՈՒԹՅՈՒՆՆԵՐԸ ԵՎ ԼՐԱՑՈՒՄՆԵՐԸ
A7: Կոդը | B7: Անվանումը | E7: Գնման ձևը | F7: Չափման միավորը | G7: Միավորի գինը | H7: Ցուցանիշների փոփոխությունը (ավելացումները նշված են դրական նշանով, իսկ նվազեցումները՝ փակագծերում)
H8: Քանակը | I8: Գումարը (հազար դրամ)
A9: 1 | B9: 2 | E9: 3 | F9: 4 | G9: 5 | H9: 6 | I9: 7
A10: ՀՀ քաղաքաշինության կոմիտե | I10: =+I11+I20+I26 -> -2067588.8
A11: Բաժին N 08 | B11: Խումբ N 02 | C11: Դաս N 02 | D11: Թանգարաններ և ցուցասրահներ | I11: =+I12 -> -199482
A12: 1075-32001 | B12: Ներդրումներ թանգարանների և պատկերասրահների հիմնանորոգման համար | I12: =+I13+I15 -> -199482
B13: ՄԱՍ II. ԱՇԽԱՏԱՆՔՆԵՐ | I13: =SUM(I14:I14) -> -161417
A14: 45611200-1 | B14: մշակութային օբյեկտների հիմնանորոգում | E14: ԲՄ | F14: դրամ | G14: 161417000 | H14: -1 | I14: =+ROUND(H14*G14/1000,1) -> -161417
B15: ՄԱՍ III. ԾԱՌԱՅՈՒԹՅՈՒՆՆԵՐ | I15: =SUM(I16:I19) -> -38065
A16: 71351540-1 | B16: տեխնիկական հսկողության ծառայություններ | E16: ԳՀ | F16: դրամ | G16: 1990800 | H16: -1 | I16: =+ROUND(H16*G16/1000,1) -> -1990.8
A17: 98111140-1 | B17: հեղինակային հսկողության ծառայություններ | E17: ՄԱ | F17: դրամ | G17: 796400 | H17: -1 | I17: =+ROUND(H17*G17/1000,1) -> -796.4
A18: 71241200-1 | B18: նախագծերի պատրաստում, ծախսերի գնահատում | E18: ԳՀ | F18: դրամ | G18: 33597900 | H18: -1 | I18: =+ROUND(H18*G18/1000,1) -> -33597.9
A19: 50531140-1 | B19: փորձաքննության ծառայություններ | E19: ԳՀ | F19: դրամ | G19: 1679900 | H19: -1 | I19: =+ROUND(H19*G19/1000,1) -> -1679.9
A20: Բաժին N 08 | B20: Խումբ N 02 | C20: Դաս N 05 | D20: Արվեստ | I20: =+I21 -> 79472.6
A21: 1168-32001 | B21: Ներդրումներ թատրոնների շենքերի կապիտալ վերանորոգման համար | I21: =+I22+I24 -> 79472.6
B22: ՄԱՍ II. ԱՇԽԱՏԱՆՔՆԵՐ | I22: =SUM(I23:I23) -> 78532
A23: 45611200-2 | B23: մշակութային օբյեկտների հիմնանորոգում | E23: ԲՄ | F23: դրամ | I23: 78532
B24: ՄԱՍ III. ԾԱՌԱՅՈՒԹՅՈՒՆՆԵՐ | I24: =SUM(I25:I25) -> 940.6
A25: 71351540 | B25: տեխնիկական հսկողության ծառայություններ | E25: ԳՀ | F25: դրամ | G25: 940600 | H25: 1 | I25: =+ROUND(H25*G25/1000,1) -> 940.6
A26: Բաժին N 09 | B26: Խումբ N 06 | C26: Դաս N 01 | D26: Կրթությանը տրամադրվող օժանդակ ծառայություններ | I26: =+I27+I34+I43+I49+I86+I94+I114+I134+I138+I187 -> -1947579.4
A27: 1045-32001 | B27: Նախնական մասնագիտական (արհեստագործական) և միջին մասնագիտական ուսումնական հաստատությունների շենքային պայմանների բարելավում | I27: =+I28+I30 -> -330699.7
B28: ՄԱՍ II. ԱՇԽԱՏԱՆՔՆԵՐ | I28: =+I29 -> -307191.5
A29: 45451700-1 | B29: վերակառուցման աշխատանքներ | E29: ԲՄ | F29: դրամ | I29: -307191.5
B30: ՄԱՍ III. ԾԱՌԱՅՈՒԹՅՈՒՆՆԵՐ | I30: =SUM(I31:I33) -> -23508.2
A31: 71241200-1 | B31: նախագծերի պատրաստում, ծախսերի գնահատում | E31: ԳՀ | F31: դրամ | I31: -12449.4
A32: 71351540-1 | B32: տեխնիկական հսկողության ծառայություններ | E32: ԳՀ | F32: դրամ | I32: -9215.7
A33: 98111140-1 | B33: հեղինակային հսկողության ծառայություններ | E33: ՄԱ | F33: դրամ | I33: -1843.1
A34: 1045-32005 | B34: Նախնական մասնագիտական (արհեստագործական) և միջին մասնագիտական ուսումնական հաստատությունների շենքերի կառուցում | I34: =+I35+I38 -> -519865.6
B35: ՄԱՍ II. ԱՇԽԱՏԱՆՔՆԵՐ | I35: =SUM(I36:I37) -> -501800.6
A36: 45221142-2 | B36: ընդհանուր շինարարական աշխատանքներ | E36: ԲՄ | F36: դրամ | I36: -162981.7
A37: 45221142-3 | B37: ընդհանուր շինարարական աշխատանքներ | E37: ԲՄ | F37: դրամ | I37: -338818.9
B38: ՄԱՍ III. ԾԱՌԱՅՈՒԹՅՈՒՆՆԵՐ | I38: =SUM(I39:I42) -> -18065
A39: 71351540-2 | B39: տեխնիկական հսկողության ծառայություններ | E39: ԳՀ | F39: դրամ | I39: -4889.5
A40: 71351540-3 | B40: տեխնիկական հսկողության ծառայություններ | E40: ԳՀ | F40: դրամ | I40: -10164.6
A41: 98111140-2 | B41: հեղինակային հսկողության ծառայություններ | E41: ՄԱ | F41: դրամ | I41: -978
A42: 98111140-3 | B42: հեղինակային հսկողության ծառայություններ | E42: ՄԱ | F42: դրամ | I42: -2032.9
A43: 1111-32001 | B43: Բարձրագույն ուսումնական հաստատությունների և ««Զեյթուն» ուսանողական ավան» հիմնադրամի շենքային պայմանների բարելավում | I43: =+I44+I46 -> -267295.4
B44: ՄԱՍ II. ԱՇԽԱՏԱՆՔՆԵՐ | I44: =+I45 -> -260254.7
A45: 45221142-1 | B45: ընդհանուր շինարարական աշխատանքներ | E45: ԲՄ | F45: դրամ | I45: -260254.7
B46: ՄԱՍ III. ԾԱՌԱՅՈՒԹՅՈՒՆՆԵՐ | I46: =SUM(I47:I48) -> -7040.7
A47: 71351540-1 | B47: տեխնիկական հսկողության ծառայություններ | E47: ԳՀ | F47: դրամ | I47: -5540.9
A48: 98111140-1 | B48: հեղինակային հսկողության ծառայություններ | E48: ՄԱ | F48: դրամ | I48: -1499.8
A49: 1146-12010 | B49: «Մոդուլային» տիպի մանկապարտեզների շենքային ապահովում | I49: =+I50+I61 -> -1751820.2
B50: ՄԱՍ II. ԱՇԽԱՏԱՆՔՆԵՐ | I50: =SUM(I51:I60) -> -1567537.5
A51: 45221142 | B51: ընդհանուր շինարարական աշխատանքներ | E51: ՀԲՄ | F51: դրամ | G51: 200000000 | H51: 1 | I51: =+ROUND(H51*G51/1000,1) -> 200000
A52: 45221142-1 | B52: ընդհանուր շինարարական աշխատանքներ | E52: ՀԲՄ | F52: դրամ | I52: -284146.7
A53: 45221142-3 | B53: ընդհանուր շինարարական աշխատանքներ | E53: ՀԲՄ | F53: դրամ | I53: 85211.8
A54: 45221142-8 | B54: ընդհանուր շինարարական աշխատանքներ | E54: ՀԲՄ | F54: դրամ | I54: -330595.6
A55: 45221142-9 | B55: ընդհանուր շինարարական աշխատանքներ | E55: ՀԲՄ | F55: դրամ | I55: -78134.8
A56: 45221142-21 | B56: ընդհանուր շինարարական աշխատանքներ | E56: ԲՄ | F56: դրամ | I56: -200805.2
A57: 45221142-16 | B57: ընդհանուր շինարարական աշխատանքներ | E57: ԲՄ | F57: դրամ | I57: -200000
A58: 45221142-22 | B58: ընդհանուր շինարարական աշխատանքներ | E58: ԲՄ | F58: դրամ | I58: -415710.3
A59: 45221142-559 | B59: ընդհանուր շինարարական աշխատանքներ | E59: ԲՄ | F59: դրամ | I59: -300000
A60: 45221142-569 | B60: ընդհանուր շինարարական աշխատանքներ | E60: ԲՄ | F60: դրամ | I60: -43356.7
B61: ՄԱՍ III. ԾԱՌԱՅՈՒԹՅՈՒՆՆԵՐ | I61: =SUM(I62:I85) -> -184282.73
A62: 71351540 | B62: տեխնիկական հսկողության ծառայություններ | E62: ԳՀ | F62: դրամ | G62: 4065600 | H62: 1 | I62: =+ROUND(H62*G62/1000,1) -> 4065.6
A63: 71351540-1 | B63: տեխնիկական հսկողության ծառայություններ | E63: ԳՀ | F63: դրամ | I63: -11365.9
A64: 71351540-2 | B64: տեխնիկական հսկողության ծառայություններ | E64: ԳՀ | F64: դրամ | I64: -5988.3
A65: 71351540-3 | B65: տեխնիկական հսկողության ծառայություններ | E65: ԳՀ | F65: դրամ | I65: -5077.1
A66: 71351540-8 | B66: տեխնիկական հսկողության ծառայություններ | E66: ԳՀ | F66: դրամ | I66: -23522.9
A67: 71351540-9 | B67: տեխնիկական հսկողության ծառայություններ | E67: ԳՀ | F67: դրամ | I67: -12075.3
A68: 71351540-13 | B68: տեխնիկական հսկողության ծառայություններ | E68: ԳՀ | F68: դրամ | I68: -15596.3
A69: 71351540-16 | B69: տեխնիկական հսկողության ծառայություններ | E69: ԳՀ | F69: դրամ | I69: -6000
A70: 71351540-17 | B70: տեխնիկական հսկողության ծառայություններ | E70: ԳՀ | F70: դրամ | I70: -22292.9
A71: 71351540-614 | B71: տեխնիկական հսկողության ծառայություններ | E71: ԳՀ | F71: դրամ | I71: -849.9
A72: 98111140 | B72: հեղինակային հսկողության ծառայություններ | E72: ՄԱ | F72: դրամ | G72: 1343500 | H72: 1 | I72: =+ROUND(H72*G72/1000,1) -> 1343.5
A73: 98111140-1 | B73: հեղինակային հսկողության ծառայություններ | E73: ՄԱ | F73: դրամ | I73: -1704.9
A74: 98111140-2 | B74: հեղինակային հսկողության ծառայություններ | E74: ՄԱ | F74: դրամ | I74: -568.4
A75: 98111140-3 | B75: հեղինակային հսկողության ծառայություններ | E75: ՄԱ | F75: դրամ | I75: 120
A76: 98111140-7 | B76: հեղինակային հսկողության ծառայություններ | E76: ՄԱ | F76: դրամ | I76: -1487.5
A77: 98111140-8 | B77: հեղինակային հսկողության ծառայություններ | E77: ՄԱ | F77: դրամ | I77: -2217
A78: 98111140-9 | B78: հեղինակային հսկողության ծառայություններ | E78: ՄԱ | F78: դրամ | I78: 111.1
A79: 98111140-13 | B79: հեղինակային հսկողության ծառայություններ | E79: ՄԱ | F79: դրամ | I79: -2076.43
A80: 98111140-16 | B80: հեղինակային հսկողության ծառայություններ | E80: ՄԱ | F80: դրամ | I80: -20100
A81: 98111140-17 | B81: հեղինակային հսկողության ծառայություններ | E81: ՄԱ | F81: դրամ | I81: -49120.1
A82: 71241200-1 | B82: նախագծերի պատրաստում, ծախսերի գնահատում | E82: ԳՀ | F82: դրամ | G82: 4740000 | H82: -1 | I82: =+ROUND(H82*G82/1000,1) -> -4740
A83: 71241200-2 | B83: նախագծերի պատրաստում, ծախսերի գնահատում | E83: ԳՀ | F83: դրամ | G83: 4740000 | H83: -1 | I83: =+ROUND(H83*G83/1000,1) -> -4740
A84: 50531140-1 | B84: փորձաքննության ծառայություններ | E84: ԳՀ | F84: դրամ | G84: 200000 | H84: -1 | I84: =+ROUND(H84*G84/1000,1) -> -200
A85: 50531140-2 | B85: փորձաքննության ծառայություններ | E85: ԳՀ | F85: դրամ | G85: 200000 | H85: -1 | I85: =+ROUND(H85*G85/1000,1) -> -200
A86: 1183-32001 | B86: Կրթական օբյեկտների շենքային պայմանների բարելավում | I86: =+I87+I89 -> -353700.3
B87: ՄԱՍ II. ԱՇԽԱՏԱՆՔՆԵՐ | I87: =+I88 -> -286550.2
A88: 45611100-1 | B88: կրթական օբյեկտների հիմնանորոգում | E88: ԲՄ | F88: դրամ | G88: 286550200 | H88: -1 | I88: =+ROUND(H88*G88/1000,1) -> -286550.2
B89: ՄԱՍ III. ԾԱՌԱՅՈՒԹՅՈՒՆՆԵՐ | I89: =SUM(I90:I93) -> -67150.1
A90: 71351540-1 | B90: տեխնիկական հսկողության ծառայություններ | E90: ԳՀ | F90: դրամ | G90: 2250800 | H90: -1 | I90: =+ROUND(H90*G90/1000,1) -> -2250.8
A91: 98111140-1 | B91: հեղինակային հսկողության ծառայություններ | E91: ՄԱ | F91: դրամ | G91: 1404200 | H91: -1 | I91: =+ROUND(H91*G91/1000,1) -> -1404.2
A92: 71241200-1 | B92: նախագծերի պատրաստում, ծախսերի գնահատում | E92: ԳՀ | F92: դրամ | G92: 61347900 | H92: -1 | I92: =+ROUND(H92*G92/1000,1) -> -61347.9
A93: 50531140-1 | B93: փորձաքննության ծառայություններ | E93: ԳՀ | F93: դրամ | G93: 2147200 | H93: -1 | I93: =+ROUND(H93*G93/1000,1) -> -2147.2
A94: 1183-32002 | B94: Կրթական օբյեկտների շենքային ապահովվածության բարելավում | I94: =+I95+I101 -> -1259302.9
B95: ՄԱՍ II. ԱՇԽԱՏԱՆՔՆԵՐ | I95: =SUM(I96:I100) -> -1172337.8
A96: 45221142-2 | B96: ընդհանուր շինարարական աշխատանքներ | E96: ԲՄ | F96: դրամ | I96: -2961
A97: 45221142-4 | B97: ընդհանուր շինարարական աշխատանքներ | E97: ԲՄ | F97: դրամ | I97: -302742.7
A98: 45221142-5 | B98: ընդհանուր շինարարական աշխատանքներ | E98: ԲՄ | F98: դրամ | I98: -290590.9
A99: 45221142-7 | B99: ընդհանուր շինարարական աշխատանքներ | E99: ԲՄ | F99: դրամ | I99: -275347
A100: 45221142-9 | B100: ընդհանուր շինարարական աշխատանքներ | E100: ԲՄ | F100: դրամ | I100: -300696.2
B101: ՄԱՍ III. ԾԱՌԱՅՈՒԹՅՈՒՆՆԵՐ | I101: =SUM(I102:I113) -> -86965.1
A102: 71351540-2 | B102: տեխնիկական հսկողության ծառայություններ | E102: ԳՀ | F102: դրամ | I102: 6.1
...
