Workbook

Sheet 1
B2: Հավելված N 1
B3: ՀՀ կառավարության 2023 թվականի
B4: ______________ ի ___Ն որոշման
A6: «ՀԱՅԱՍՏԱՆԻ ՀԱՆՐԱՊԵՏՈՒԹՅԱՆ 2023 ԹՎԱԿԱՆԻ ՊԵՏԱԿԱՆ ԲՅՈՒՋԵԻ ՄԱՍԻՆ» ՀԱՅԱՍՏԱՆԻ ՀԱՆՐԱՊԵՏՈՒԹՅԱՆ ՕՐԵՆՔԻ 2-ՐԴ ՀՈԴՎԱԾԻ ԱՂՅՈՒՍԱԿՈՒՄ ԿԱՏԱՐՎՈՂ ՓՈՓՈԽՈՒԹՅՈՒՆՆԵՐԸ
B8: հազար դրամներով
B9: Ցուցանիշների փոփոխությունը (նվազեցումները նշված են փակագծերում)
A10: 1. Եկամուտների գծով | B10: 0
A11: 2. Ծախսերի գծով | B11: =+'4'!H11 -> 443154.17
A12: 3. Դեֆիցիտը (պակասուրդը) | B12: =-B10+B11 -> 443154.17

Sheet 2
C2: Հավելված N 2
C3: ՀՀ կառավարության 2023 թվականի
C4: ______________ ի ___Ն որոշման
A6: «ՀԱՅԱՍՏԱՆԻ ՀԱՆՐԱՊԵՏՈՒԹՅԱՆ 2023 ԹՎԱԿԱՆԻ ՊԵՏԱԿԱՆ ԲՅՈՒՋԵԻ ՄԱՍԻՆ» ՀԱՅԱՍՏԱՆԻ ՀԱՆՐԱՊԵՏՈՒԹՅԱՆ ՕՐԵՆՔԻ 3-ՐԴ ՀՈԴՎԱԾԻ ԱՂՅՈՒՍԱԿՈՒՄ, N 3 ՀԱՎԵԼՎԱԾԻ N 1 ԱՂՅՈՒՍԱԿՈՒՄ ԵՎ ՀԱՅԱՍՏԱՆԻ ՀԱՆՐԱՊԵՏՈՒԹՅԱՆ ԿԱՌԱՎԱՐՈՒԹՅԱՆ 2022 ԹՎԱԿԱՆԻ ԴԵԿՏԵՄԲԵՐԻ 29-Ի N 2111-Ն ՈՐՈՇՄԱՆ N 1 ՀԱՎԵԼՎԱԾԻ N 1 ԱՂՅՈՒՍԱԿՈՒՄ ԿԱՏԱՐՎՈՂ ՓՈՓՈԽՈՒԹՅՈՒՆՆԵՐԸ
C8: հազար դրամներով
A9: Պետական բյուջեի դեֆիցիտի ֆինանսավորման աղբյուրներն ու դրանց տարրերի անվանումները | B9: Ցուցանիշների փոփոխությունը (մուտքերի նվազեցումը նշված է փակագծերում)
B10: Ինն ամիս | C10: Տարի
A11: ԸՆԴԱՄԵՆԸ | B11: =+B13 -> 443154.17 | C11: =+C13 -> 443154.17
A12: այդ թվում՝
A13: Բ. Արտաքին աղբյուրներ - ընդամենը | B13: =+B15 -> 443154.17 | C13: =+C15 -> 443154.17
A14: այդ թվում
A15: 1. Փոխառու զուտ միջոցներ | B15: =+B17 -> 443154.17 | C15: =+C17 -> 443154.17
A16: այդ թվում՝
A17: 1.1. Վարկերի և փոխատվությունների ստացում | B17: =+B19 -> 443154.17 | C17: =+C19 -> 443154.17
A18: որից`
A19: նպատակային վարկերի գծով | B19: =+'5'!E14 -> 443154.17 | C19: =+'5'!H14 -> 443154.17

Sheet 3
E2: Հավելված N 3
E3: ՀՀ կառավարության 2023 թվականի
E4: ______________ ի ___Ն որոշման
A6: «ՀԱՅԱUՏԱՆԻ ՀԱՆՐԱՊԵՏՈՒԹՅԱՆ 2023 ԹՎԱԿԱՆԻ ՊԵՏԱԿԱՆ ԲՅՈՒՋԵԻ ՄԱUԻՆ» ՀԱՅԱՍՏԱՆԻ ՀԱՆՐԱՊԵՏՈՒԹՅԱՆ OՐԵՆՔԻ N 1 ՀԱՎԵԼՎԱԾԻ N 2 ԱՂՅՈՒՍԱԿՈՒՄ ԿԱՏԱՐՎՈՂ ՎԵՐԱԲԱՇԽՈՒՄԸ ԵՎ ՀԱՅԱՍՏԱՆԻ ՀԱՆՐԱՊԵՏՈՒԹՅԱՆ ԿԱՌԱՎԱՐՈՒԹՅԱՆ 2022 ԹՎԱԿԱՆԻ ԴԵԿՏԵՄԲԵՐԻ 29-Ի N 2111-Ն ՈՐՈՇՄԱՆ N 5 ՀԱՎԵԼՎԱԾԻ N 1 ԱՂՅՈՒՍԱԿՈՒՄ ԿԱՏԱՐՎՈՂ ՓՈՓՈԽՈՒԹՅՈՒՆՆԵՐԸ
E7: հազար դրամներով
A8: Ծրագրային դասիչը | C8: Բյուջետային հատկացումների գլխավոր կարգադրիչների, ծրագրերի և միջոցառումների անվանումները | D8: Ցուցանիշների փոփոխությունը (ավելացումները նշված են դրական նշանով, իսկ նվազեցումները` փակագծերում)
A9: Ծրագիր | B9: Միջոցառում
D10: Ինն ամիս | E10: Տարի
C11: ԸՆԴԱՄԵՆԸ | D11: =D12+D38 -> 443154.17 | E11: =E12+E38 -> 443154.17
C12: ՀՀ աշխատանքի և սոցիալական հարցերի նախարարություն | D12: =D13 -> 485420.8 | E12: =E13 -> 485420.8
A13: 1206 | C13: Ծրագրի անվանումը` | D13: =+D20+D26+D32 -> 485420.8 | E13: =+E20+E26+E32 -> 485420.8
C14: Սոցիալական պաշտպանության համակարգի բարեփոխումներ
C15: Ծրագրի նպատակը`
C16: Մատուցվող սոցիալական պաշտպանության ծառայությունների բարելավում, ինչպես նաև ծառայություններ մատուցող գերատեսչություններում վերլուծական, մոնիթորինգի և գնահատման գործառույթների ուժեղացում:
C17: Վերջնական արդյունքի նկարագրությունը`
C18: Մատուցվող սոցիալական պաշտպանության ծառայությունների բարելավում և մատչելիության աճ
A19: Ծրագրի միջոցառումներ
B20: 11001 | C20: Միջոցառման անվանումը` | D20: ='5'!D20 -> 140109.2 | E20: ='5'!G20 -> 140109.2
C21: Համաշխարհային բանկի աջակցությամբ իրականացվող սոցիալական պաշտպանության ոլորտի վարչարարության երկրորդ ծրագիր
C22: Միջոցառման նկարագրությունը`
C23: Սոցիալական պաշտպանության ոլորտի բարեփոխումներին ուղղված խորհրդատվական և այլ ծառայությունների ձեռքբերում
C24: Միջոցառման տեսակը
C25: Ծառայությունների մատուցում
B26: 32001 | C26: Միջոցառման անվանումը` | D26: ='5'!D30 -> 213983.2 | E26: ='5'!G30 -> 213983.2
C27: Համաշխարհային բանկի աջակցությամբ իրականացվող Սոցիալական պաշտպանության ոլորտի վարչարարության երկրորդ ծրագրի շրջանակներում շենքերի և շինությունների հիմնանորոգում
C28: Միջոցառման նկարագրությունը`
C29: Ծրագրի շրջանակներում ընտրված համալիր սոցիալական ծառայության կենտրոնների, ինչպես նաև Զբաղվածության պետական գործակալության և Բժշկասոցիալական փորձաքննության գործակալության կենտրոնական գրասենյակների կառուցում, վերակառուցում կամ վերանորոգում
C30: Միջոցառման տեսակը
C31: Այլ պետական կազմակերպությունների կողմից օգտագործվող ոչ ֆինանսական ակտիվների հետ գործառնություններ
B32: 32002 | C32: Միջոցառման անվանումը` | D32: ='5'!D39 -> 131328.4 | E32: ='5'!G39 -> 131328.4
C33: Համաշխարհային բանկի աջակցությամբ իրականացվող Սոցիալական պաշտպանության վարչարարության երկրորդ ծրագրի շրջանակներում սարքավորումների, ծրագրային ապահովման և աշխատանքային միջավայրի արդիականացում
C34: Միջոցառման նկարագրությունը`
C35: Ինտեգրված սոցիալական ծառայության համակարգի մաս կազմող կառույցների տեխնիկական կարողությունների և աշխատանքային միջավայրի բարելավում
C36: Միջոցառման տեսակը
C37: Այլ պետական կազմակերպությունների կողմից օգտագործվող ոչ ֆինանսական ակտիվների հետ գործառնություններ
C38: ՀՀ կառավարություն | D38: =D39 -> -42266.633 | E38: =E39 -> -42266.633
A39: 1139 | C39: Ծրագրի անվանումը` | D39: =+D46 -> -42266.633 | E39: =+E46 -> -42266.633
C40: ՀՀ կառավարության պահուստային ֆոնդ
C41: Ծրագրի նպատակը`
C42: Պետական բյուջեում չկանխատեսված, ինչպես նաև բյուջետային երաշխիքների ապահովման ծախսերի ֆինանսավորման ապահովում
C43: Վերջնական արդյունքի նկարագրությունը`
C44: Պահուստային ֆոնդի կառավարման արդյունավետության և թափանցիկության ապահովում
A45: Ծրագրի միջոցառումներ
B46: 11001 | C46: Միջոցառման անվանումը` | D46: ='4'!G68 -> -42266.633 | E46: ='4'!H68 -> -42266.633
C47: ՀՀ կառավարության պահուստային ֆոնդ
C48: Միջոցառման նկարագրությունը`
C49: ՀՀ պետական բյուջեում նախատեսված ելքերի լրացուցիչ ֆինանսավորման՝ պետական բյուջեում չկանխատեսված ելքերի, ինչպես նաև բյուջետային երաշխիքների ապահովման ելքերի ֆինանսավորման ապահովում
C50: Միջոցառման տեսակը
C51: Ծառայությունների մատուցում

Sheet 4
H2: Հավելված N 4
H3: ՀՀ կառավարության 2023 թվականի
H4: ______________ ի ___Ն որոշման
A6: ՀԱՅԱՍՏԱՆԻ ՀԱՆՐԱՊԵՏՈՒԹՅԱՆ ԿԱՌԱՎԱՐՈՒԹՅԱՆ 2022 ԹՎԱԿԱՆԻ ԴԵԿՏԵՄԲԵՐԻ 29-Ի N 2111-Ն ՈՐՈՇՄԱՆ NN 3 ԵՎ 4 ՀԱՎԵԼՎԱԾՆԵՐՈՒՄ ԿԱՏԱՐՎՈՂ ՓՈՓՈԽՈՒԹՅՈՒՆՆԵՐԸ
H7: հազար դրամներով
A8: Գործառնական դասիչը | D8: Ծրագրային դասիչը | F8: Բյուջետային ծախսերի գործառական դասակարգման բաժինների, խմբերի և դասերի, բյուջետային ծրագերի միջոցառումների, բյուջետային հատկացումների գլխավոր կարգադրիչների և բյուջետային ծախսերի տնտեսագիտական դասակարգման հոդվածների անվանումները | G8: Ցուցանիշների փոփոխությունը (ավելացումները նշված են դրական նշանով, իսկ նվազեցումները` փակագծերում)
A9: Բաժին | B9: Խումբ | C9: Դաս | D9: Ծրագիր | E9: Միջոցառում
G10: Ինն ամիս | H10: Տարի
F11: ԸՆԴԱՄԵՆԸ՝ ԾԱԽՍԵՐ | G11: =G13+G51 -> 443154.17 | H11: =H13+H51 -> 443154.17
F12: այդ թվում`
A13: 10 | F13: ՍՈՑԻԱԼԱԿԱՆ ՊԱՇՏՊԱՆՈՒԹՅՈՒՆ | G13: =+G15 -> 485420.8 | H13: =+H15 -> 485420.8
F14: այդ թվում՝
B15: 09 | F15: Սոցիալական պաշտպանություն (այլ դասերին չպատկանող) | G15: =+G17 -> 485420.8 | H15: =+H17 -> 485420.8
F16: այդ թվում՝
C17: 01 | F17: Սոցիալական պաշտպանություն (այլ դասերին չպատկանող) | G17: =G19 -> 485420.8 | H17: =H19 -> 485420.8
F18: այդ թվում`
F19: ՀՀ աշխատանքի և սոցիալական հարցերի նախարարություն | G19: =G21 -> 485420.8 | H19: =H21 -> 485420.8
F20: այդ թվում՝
D21: 1206 | F21: Սոցիալական պաշտպանության համակարգի բարեփոխումներ | G21: =G23+G32+G41 -> 485420.8 | H21: =H23+H32+H41 -> 485420.8
F22: այդ թվում՝
E23: 11001 | F23: Համաշխարհային բանկի աջակցությամբ իրականացվող սոցիալական պաշտպանության ոլորտի վարչարարության երկրորդ ծրագիր | G23: =+G25 -> 140109.2 | H23: =+H25 -> 140109.2
F24: այդ թվում` ըստ կատարողների
F25: ՀՀ աշխատանքի և սոցիալական հարցերի նախարարություն | G25: =G27 -> 140109.2 | H25: =H27 -> 140109.2
F26: այդ թվում` բյուջետային ծախսերի տնտեսագիտական դասակարգման հոդվածներ
F27: ԸՆԴԱՄԵՆԸ ԾԱԽՍԵՐ | G27: =G28 -> 140109.2 | H27: =H28 -> 140109.2
F28: ԸՆԹԱՑԻԿ ԾԱԽՍԵՐ | G28: =G29 -> 140109.2 | H28: =H29 -> 140109.2
F29: ԱՅԼ ԾԱԽՍԵՐ | G29: =G30+G31 -> 140109.2 | H29: =H30+H31 -> 140109.2
F30: - Հարկեր, պարտադիր վճարներ և տույժեր, որոնք կառավարման տարբեր մակարդակների կողմից կիրառվում են միմյանց նկատմամբ | G30: ='5'!D28 -> 3040 | H30: ='5'!G28 -> 3040
F31: - Այլ ծախսեր | G31: ='5'!D29 -> 137069.2 | H31: ='5'!G29 -> 137069.2
E32: 32001 | F32: Համաշխարհային բանկի աջակցությամբ իրականացվող Սոցիալական պաշտպանության ոլորտի վարչարարության երկրորդ ծրագրի շրջանակներում շենքերի և շինությունների հիմնանորոգում | G32: =+G34 -> 213983.2 | H32: =+H34 -> 213983.2
F33: այդ թվում` ըստ կատարողների
F34: ՀՀ աշխատանքի և սոցիալական հարցերի նախարարություն | G34: =G36 -> 213983.2 | H34: =H36 -> 213983.2
F35: այդ թվում` բյուջետային ծախսերի տնտեսագիտական դասակարգման հոդվածներ
F36: ԸՆԴԱՄԵՆԸ ԾԱԽՍԵՐ | G36: =G37 -> 213983.2 | H36: =H37 -> 213983.2
F37: ՈՉ ՖԻՆԱՆՍԱԿԱՆ ԱԿՏԻՎՆԵՐԻ ԳԾՈՎ ԾԱԽՍԵՐ | G37: =G38 -> 213983.2 | H37: =H38 -> 213983.2
F38: ՀԻՄՆԱԿԱՆ ՄԻՋՈՑՆԵՐ | G38: =G39 -> 213983.2 | H38: =H39 -> 213983.2
F39: ՇԵՆՔԵՐ ԵՎ ՇԻՆՈՒԹՅՈՒՆՆԵՐ | G39: =SUM(G40:G40) -> 213983.2 | H39: =SUM(H40:H40) -> 213983.2
F40: - Շենքերի և շինությունների կապիտալ վերանորոգում | G40: ='5'!D38 -> 213983.2 | H40: ='5'!G38 -> 213983.2
E41: 32002 | F41: Համաշխարհային բանկի աջակցությամբ իրականացվող Պետական հատվածի արդիականացման չորրորդ ծրագրի շրջանակներում էլեկտրոնային կառավարման համակարգերի և սարքավորումների ձեռքբերում | G41: =+G43 -> 131328.4 | H41: =+H43 -> 131328.4
F42: այդ թվում` ըստ կատարողների
F43: ՀՀ աշխատանքի և սոցիալական հարցերի նախարարություն | G43: =G45 -> 131328.4 | H43: =H45 -> 131328.4
F44: այդ թվում` բյուջետային ծախսերի տնտեսագիտական դասակարգման հոդվածներ
F45: ԸՆԴԱՄԵՆԸ ԾԱԽՍԵՐ | G45: =G46 -> 131328.4 | H45: =H46 -> 131328.4
F46: ՈՉ ՖԻՆԱՆՍԱԿԱՆ ԱԿՏԻՎՆԵՐԻ ԳԾՈՎ ԾԱԽՍԵՐ | G46: =G47 -> 131328.4 | H46: =H47 -> 131328.4
F47: ՀԻՄՆԱԿԱՆ ՄԻՋՈՑՆԵՐ | G47: =G48 -> 131328.4 | H47: =H48 -> 131328.4
F48: ՄԵՔԵՆԱՆԵՐ ԵՎ ՍԱՐՔԱՎՈՐՈՒՄՆԵՐ | G48: =SUM(G49:G50) -> 131328.4 | H48: =SUM(H49:H50) -> 131328.4
F49: - Տրանսպորտային սարքավորումներ | G49: ='5'!D47 -> 215000 | H49: ='5'!G47 -> 215000
F50: - Այլ մեքենաներ և սարքավորումներ | G50: ='5'!D48 -> -83671.6 | H50: ='5'!G48 -> -83671.6
A51: 11 | F51: ՀԻՄՆԱԿԱՆ ԲԱԺԻՆՆԵՐԻՆ ՉԴԱՍՎՈՂ ՊԱՀՈՒՍՏԱՅԻՆ ՖՈՆԴԵՐ | G51: =G53+G95 -> -42266.633 | H51: =H53+H95 -> -42266.633
F52: այդ թվում`
B53: 01 | F53: ՀՀ կառավարության և համայնքների պահուստային ֆոնդ | G53: =G55+G82+G69 -> -42266.633 | H53: =H55+H82+H69 -> -42266.633
F54: այդ թվում`
C55: 01 | F55: ՀՀ կառավարության պահուստային ֆոնդ | G55: =G59 -> -42266.633 | H55: =H59 -> -42266.633
F56: այդ թվում`
F57: ՀՀ կառավարություն | G57: =G59 -> -42266.633 | H57: =H59 -> -42266.633
F58: այդ թվում`
D59: 1139 | F59: ՀՀ կառավարության պահուստային ֆոնդ | G59: =G61 -> -42266.633 | H59: =H61 -> -42266.633
F60: այդ թվում`
E61: 11001 | F61: ՀՀ կառավարության պահուստային ֆոնդ | G61: =G63 -> -42266.633 | H61: =H63 -> -42266.633
F62: այդ թվում` ըստ կատարողների
F63: ՀՀ կառավարություն | G63: =G65 -> -42266.633 | H63: =H65 -> -42266.633
F64: այդ թվում` բյուջետային ծախսերի տնտեսագիտական դասակարգման հոդվածներ
F65: ԸՆԴԱՄԵՆԸ ԾԱԽՍԵՐ | G65: =G66 -> -42266.633 | H65: =H66 -> -42266.633
F66: ԸՆԹԱՑԻԿ ԾԱԽՍԵՐ | G66: =G67 -> -42266.633 | H66: =H67 -> -42266.633
F67: ԱՅԼ ԾԱԽՍԵՐ | G67: =G68 -> -42266.633 | H67: =H68 -> -42266.633
F68: Պահուստային միջոցներ | G68: =-'5'!F14 -> -42266.633 | H68: =-'5'!I14 -> -42266.633

Sheet 5
I2: Հավելված N 5
I3: ՀՀ կառավարության 2023 թվականի
I4: ______________ ի ___Ն որոշման
A6: «ՀԱՅԱՍՏԱՆԻ ՀԱՆՐԱՊԵՏՈՒԹՅԱՆ 2023 ԹՎԱԿԱՆԻ ՊԵՏԱԿԱՆ ԲՅՈՒՋԵԻ ՄԱՍԻՆ» ՀԱՅԱՍՏԱՆԻ ՀԱՆՐԱՊԵՏՈՒԹՅԱՆ ՕՐԵՆՔԻ N 1 ՀԱՎԵԼՎԱԾԻ N 4 ԱՂՅՈՒՍԱԿՈՒՄ ԿԱՏԱՐՎՈՂ ՎԵՐԱԲԱՇԽՈՒՄԸ ԵՎ ՀԱՅԱՍՏԱՆԻ ՀԱՆՐԱՊԵՏՈՒԹՅԱՆ ԿԱՌԱՎԱՐՈՒԹՅԱՆ 2022 ԹՎԱԿԱՆԻ ԴԵԿՏԵՄԲԵՐԻ 29-Ի N 2111-Ն ՈՐՈՇՄԱՆ N 5 ՀԱՎԵԼՎԱԾԻ N 3 ԱՂՅՈՒՍԱԿՈՒՄ ԿԱՏԱՐՎՈՂ ՓՈՓՈԽՈՒԹՅՈՒՆՆԵՐԸ
I8: հազար դրամներով
A9: Ծրագրային դասիչը | C9: Բյուջետային հատկացումների գլխավոր կարգադրիչների, ծրագրերի, միջոցառումների և միջոցառումները կատարող պետական մարմինների անվանումները | D9: Ցուցանիշների փոփոխությունը (ավելացումները նշված են դրական նշանով, իսկ նվազեցումները` փակագծերում)
D11: Ինն ամիս | G11: Տարի
A12: ծրագիրը | B12: միջոցառումը | D12: ընդամենը | E12: այդ թվում՝ | G12: ընդամենը | H12: այդ թվում՝
E13: վարկային միջոցներ | F13: համաֆինան_x000D_ սավորում | H13: վարկային միջոցներ | I13: համաֆինան_x000D_ սավորում
C14: ԸՆԴԱՄԵՆԸ այդ թվում` | D14: =E14+F14 -> 485420.8 | E14: =E18 -> 443154.17 | F14: =F18 -> 42266.633 | G14: =H14+I14 -> 485420.8 | H14: =H15+H16 -> 443154.17 | I14: =I15+I16 -> 42266.633
C15: - ԸՆԹԱՑԻԿ ԾԱԽՍԵՐ | D15: =+E15+F15 -> 140109.2 | E15: =E20 -> 124449.8 | F15: =F20 -> 15659.4 | G15: =+H15+I15 -> 140109.2 | H15: =H20 -> 124449.8 | I15: =I20 -> 15659.4
C16: - ՈՉ ՖԻՆԱՆՍԱԿԱՆ ԱԿՏԻՎՆԵՐԻ ԳԾՈՎ ԾԱԽՍԵՐ | D16: =E16+F16 -> 131328.4 | E16: =E39 -> 131608.07 | F16: =F39 -> -279.66667 | G16: =H16+I16 -> 345311.6 | H16: =H39+H30 -> 318704.37 | I16: =I39+I30 -> 26607.233
C17: ՀՀ ԱՇԽԱՏԱՆՔԻ ԵՎ ՍՈՑԻԱԼԱԿԱՆ ՀԱՐՑԵՐԻ ՆԱԽԱՐԱՐՈՒԹՅՈՒՆ այդ թվում` | D17: =D18 -> 485420.8 | E17: =E18 -> 443154.17 | F17: =F18 -> 42266.633 | G17: =G18 -> 485420.8 | H17: =H18 -> 443154.17 | I17: =I18 -> 42266.633
A18: 1206 | C18: Սոցիալական պաշտպանության համակարգի բարեփոխումներ | D18: =+E18+F18 -> 485420.8 | E18: =+E20+E30+E39 -> 443154.17 | F18: =+F20+F30+F39 -> 42266.633 | G18: =+H18+I18 -> 485420.8 | H18: =+H20+H30+H39 -> 443154.17 | I18: =+I20+I30+I39 -> 42266.633
C19: այդ թվում՝
B20: 11001 | C20: Համաշխարհային բանկի աջակցությամբ իրականացվող սոցիալական պաշտպանության ոլորտի վարչարարության երկրորդ ծրագիր | D20: =+E20+F20 -> 140109.2 | E20: =E24 -> 124449.8 | F20: =F24 -> 15659.4 | G20: =+H20+I20 -> 140109.2 | H20: =H24 -> 124449.8 | I20: =I24 -> 15659.4
C21: այդ թվում` ըստ կատարողների
C22: ՀՀ աշխատանքի և սոցիալական հարցերի նախարարություն | D22: =E22+F22 -> 140109.2 | E22: =E20 -> 124449.8 | F22: =F20 -> 15659.4 | G22: =H22+I22 -> 140109.2 | H22: =H20 -> 124449.8 | I22: =I20 -> 15659.4
C23: այդ թվում` բյուջետային ծախսերի տնտեսագիտական դասակարգման հոդվածներ
C24: ԸՆԴԱՄԵՆԸ ԾԱԽՍԵՐ | D24: =E24+F24 -> 140109.2 | E24: =E25 -> 124449.8 | F24: =F25 -> 15659.4 | G24: =H24+I24 -> 140109.2 | H24: =H25 -> 124449.8 | I24: =I25 -> 15659.4
C25: ԸՆԹԱՑԻԿ ԾԱԽՍԵՐ | D25: =E25+F25 -> 140109.2 | E25: =E26 -> 124449.8 | F25: =F26 -> 15659.4 | G25: =H25+I25 -> 140109.2 | H25: =H26 -> 124449.8 | I25: =I26 -> 15659.4
C26: ԾԱՌԱՅՈՒԹՅՈՒՆՆԵՐԻ ԵՎ ԱՊՐԱՆՔՆԵՐԻ ՁԵՌՔԲԵՐՈՒՄ | D26: =E26+F26 -> 140109.2 | E26: =E27+E28 -> 124449.8 | F26: =F27 -> 15659.4 | G26: =H26+I26 -> 140109.2 | H26: =H27 -> 124449.8 | I26: =I27 -> 15659.4
C27: ԱՅԼ ԾԱԽՍԵՐ | D27: =E27+F27 -> 140109.2 | E27: =E29 -> 124449.8 | F27: =F28+F29 -> 15659.4 | G27: =H27+I27 -> 140109.2 | H27: =H28+H29 -> 124449.8 | I27: =I28+I29 -> 15659.4
C28: - Հարկեր, պարտադիր վճարներ և տույժեր, որոնք կառավարման տարբեր մակարդակների կողմից կիրառվում են միմյանց նկատմամբ | D28: =E28+F28 -> 3040 | E28: 0 | F28: 3040 | G28: =H28+I28 -> 3040 | H28: 0 | I28: =F28 -> 3040
C29: - Այլ ծախսեր | D29: =E29+F29 -> 137069.2 | E29: 124449.8 | F29: 12619.4 | G29: =H29+I29 -> 137069.2 | H29: =E29 -> 124449.8 | I29: =F29 -> 12619.4
B30: 32001 | C30: Համաշխարհային բանկի աջակցությամբ իրականացվող Սոցիալական պաշտպանության ոլորտի վարչարարության երկրորդ ծրագրի շրջանակներում շենքերի և շինությունների հիմնանորոգում | D30: =E30+F30 -> 213983.2 | E30: =E32 -> 187096.3 | F30: =F32 -> 26886.9 | G30: =H30+I30 -> 213983.2 | H30: =H32 -> 187096.3 | I30: =I32 -> 26886.9
C31: այդ թվում` ըստ կատարողների
C32: ՀՀ աշխատանքի և սոցիալական հարցերի նախարարություն | D32: =E32+F32 -> 213983.2 | E32: =E34 -> 187096.3 | F32: =F34 -> 26886.9 | G32: =H32+I32 -> 213983.2 | H32: =H34 -> 187096.3 | I32: =I34 -> 26886.9
C33: այդ թվում` բյուջետային ծախսերի տնտեսագիտական դասակարգման հոդվածներ
C34: ԸՆԴԱՄԵՆԸ ԾԱԽՍԵՐ | D34: =E34+F34 -> 213983.2 | E34: =E35 -> 187096.3 | F34: =F35 -> 26886.9 | G34: =H34+I34 -> 213983.2 | H34: =H35 -> 187096.3 | I34: =I35 -> 26886.9
C35: ՈՉ ՖԻՆԱՆՍԱԿԱՆ ԱԿՏԻՎՆԵՐԻ ԳԾՈՎ ԾԱԽՍԵՐ | D35: =E35+F35 -> 213983.2 | E35: =E36 -> 187096.3 | F35: =F36 -> 26886.9 | G35: =H35+I35 -> 213983.2 | H35: =H36 -> 187096.3 | I35: =I36 -> 26886.9
C36: ՀԻՄՆԱԿԱՆ ՄԻՋՈՑՆԵՐ | D36: =E36+F36 -> 213983.2 | E36: =E37 -> 187096.3 | F36: =F37 -> 26886.9 | G36: =H36+I36 -> 213983.2 | H36: =H37 -> 187096.3 | I36: =I37 -> 26886.9
C37: ՇԵՆՔԵՐ ԵՎ ՇԻՆՈՒԹՅՈՒՆՆԵՐ | D37: =E37+F37 -> 213983.2 | E37: =E38 -> 187096.3 | F37: =F38 -> 26886.9 | G37: =H37+I37 -> 213983.2 | H37: =H38 -> 187096.3 | I37: =I38 -> 26886.9
C38: - Շենքերի և շինությունների կապիտալ վերանորոգում | D38: =E38+F38 -> 213983.2 | E38: 187096.3 | F38: 26886.9 | G38: =H38+I38 -> 213983.2 | H38: =E38 -> 187096.3 | I38: =F38 -> 26886.9
B39: 32002 | C39: Համաշխարհային բանկի աջակցությամբ իրականացվող Սոցիալական պաշտպանության վարչարարության երկրորդ ծրագրի շրջանակներում սարքավորումների, ծրագրային ապահովման և աշխատանքային միջավայրի արդիականացում | D39: =+E39+F39 -> 131328.4 | E39: =E41 -> 131608.07 | F39: =F41 -> -279.66667 | G39: =H39+I39 -> 131328.4 | H39: =H41 -> 131608.07 | I39: =I41 -> -279.66667
C40: այդ թվում` ըստ կատարողների
C41: ՀՀ աշխատանքի և սոցիալական հարցերի նախարարություն | D41: =E41+F41 -> 131328.4 | E41: =E43 -> 131608.07 | F41: =F43 -> -279.66667 | G41: =H41+I41 -> 131328.4 | H41: =H43 -> 131608.07 | I41: =I43 -> -279.66667
C42: այդ թվում` բյուջետային ծախսերի տնտեսագիտական դասակարգման հոդվածներ
C43: ԸՆԴԱՄԵՆԸ ԾԱԽՍԵՐ | D43: =E43+F43 -> 131328.4 | E43: =E44 -> 131608.07 | F43: =F44 -> -279.66667 | G43: =H43+I43 -> 131328.4 | H43: =H44 -> 131608.07 | I43: =I44 -> -279.66667
C44: ՈՉ ՖԻՆԱՆՍԱԿԱՆ ԱԿՏԻՎՆԵՐԻ ԳԾՈՎ ԾԱԽՍԵՐ | D44: =E44+F44 -> 131328.4 | E44: =E45 -> 131608.07 | F44: =F45 -> -279.66667 | G44: =H44+I44 -> 131328.4 | H44: =H45 -> 131608.07 | I44: =I45 -> -279.66667
C45: ՀԻՄՆԱԿԱՆ ՄԻՋՈՑՆԵՐ | D45: =E45+F45 -> 131328.4 | E45: =E46 -> 131608.07 | F45: =F46 -> -279.66667 | G45: =H45+I45 -> 131328.4 | H45: =H46 -> 131608.07 | I45: =I46 -> -279.66667
C46: ՄԵՔԵՆԱՆԵՐ ԵՎ ՍԱՐՔԱՎՈՐՈՒՄՆԵՐ | D46: =E46+F46 -> 131328.4 | E46: =E47+E48 -> 131608.07 | F46: =F47+F48 -> -279.66667 | G46: =H46+I46 -> 131328.4 | H46: =H48+H47 -> 131608.07 | I46: =I48+I47 -> -279.66667
C47: - Տրանսպորտային սարքավորումներ | D47: =E47+F47 -> 215000 | E47: =215000/1.2 -> 179166.67 | F47: =215000/6 -> 35833.333 | G47: =H47+I47 -> 215000 | H47: =215000/1.2 -> 179166.67 | I47: =215000/6 -> 35833.333
C48: - Այլ մեքենաներ և սարքավորումներ | D48: =E48+F48 -> -83671.6 | E48: -47558.6 | F48: -36113 | G48: =H48+I48 -> -83671.6 | H48: -47558.6 | I48: -36113

Sheet 6
C2: Հավելված N 6
B3: ՀՀ կառավարության 2023 թվականի
B4: ______________ ի ___Ն որոշման
A8: ՀԱՅԱՍՏԱՆԻ ՀԱՆՐԱՊԵՏՈՒԹՅԱՆ ԿԱՌԱՎԱՐՈՒԹՅԱՆ 2022 ԹՎԱԿԱՆԻ ԴԵԿՏԵՄԲԵՐԻ 29-Ի N 2111-Ն ՈՐՈՇՄԱՆ N 9 ՀԱՎԵԼՎԱԾԻ N 9.15 ԱՂՅՈՒՍԱԿՈՒՄ ԿԱՏԱՐՎՈՂ ՓՈՓՈԽՈՒԹՅՈՒՆՆԵՐԸ ԵՎ ԼՐԱՑՈՒՄՆԵՐԸ
A10: ՀՀ աշխատանքի և սոցիալական հարցերի նախարարություն
A11: ՄԱՍ 2. ՊԵՏԱԿԱՆ ՄԱՐՄՆԻ ԳԾՈՎ ԱՐԴՅՈՒՆՔԱՅԻՆ (ԿԱՏԱՐՈՂԱԿԱՆ) ՑՈՒՑԱՆԻՇՆԵՐԸ
A13: Ծրագրի դասիչը | B13: Ծրագրի անվանումը
A14: 1206 | B14: Սոցիալական պաշտպանության համակարգի բարեփոխումներ
A16: Ծրագրի միջոցառումները
A17: Ծրագրի դասիչը` | B17: 1206 | C17: Ցուցանիշների փոփոխությունը (ավելացումները նշված են դրական նշանով, իսկ նվազեցումները` փակագծերում)
A18: Միջոցառման դասիչը` | B18: 11001 | C18: Ինն ամիս | D18: Տարի
A19: Միջոցառման անվանումը` | B19: Համաշխարհային բանկի աջակցությամբ իրականացվող սոցիալական պաշտպանության ոլորտի վարչարարության երկրորդ ծրագիր
A20: Նկարագրությունը` | B20: Սոցիալական պաշտպանության ոլորտի բարեփոխումներին ուղղված խորհրդատվական և այլ ծառայությունների ձեռքբերում
A21: Միջոցառման տեսակը` | B21: Ծառայությունների մատուցում
A22: Ծառայությունը մատուցող կազմակերպություն(ների) անվանում(ներ)ը՛ | B22: Մասնագիտացված միավոր
A23: Արդյունքի չափորոշիչներ
A24: Միջոցառման վրա կատարվող ծախսը (հազար դրամ) | C24: ='5'!D20 -> 140109.2 | D24: ='3'!E20 -> 140109.2
A28: Ծրագրի դասիչը` | B28: 1206 | C28: Ցուցանիշների փոփոխությունը (ավելացումները նշված են դրական նշանով, իսկ նվազեցումները` փակագծերում)
A29: Միջոցառման դասիչը` | B29: 32001 | C29: Ինն ամիս | D29: Տարի
A30: Միջոցառման անվանումը` | B30: Համաշխարհային բանկի աջակցությամբ իրականացվող Սոցիալական պաշտպանության ոլորտի վարչարարության երկրորդ ծրագրի շրջանակներում շենքերի և շինությունների հիմնանորոգում
A31: Նկարագրությունը` | B31: Ծրագրի շրջանակներում ընտրված համալիր սոցիալական ծառայության կենտրոնների, ինչպես նաև Զբաղվածության պետական գործակալության և Բժշկասոցիալական փորձաքննության գործակալության կենտրոնական գրասենյակների կառուցում, վերակառուցում կամ վերանորոգում
A32: Միջոցառման տեսակը` | B32: Այլ պետական կազմակերպությունների կողմից օգտագործվող ոչ ֆինանսական ակտիվների հետ գործառնություններ
A33: Միջոցառումն իրականացնողի անվանումը | B33: Մասնագիտացված միավոր
A34: Արդյունքի չափորոշիչներ
A35: Կառուցվող, վերակառուցվող կամ վերանորոգվող օբյեկտների միավոր քանակ, հատ | C35: 2 | D35: 2
A36: Կառուցվող, վերակառուցվող կամ վերանորոգվող օբյեկտների մակերես, ք.մ. | C36: 2169.23 | D36: 2169.23
A37: Միջոցառման վրա կատարվող ծախսը (հազար դրամ) | C37: ='3'!D26 -> 213983.2 | D37: ='3'!E26 -> 213983.2
A41: Ծրագրի դասիչը` | B41: 1206 | C41: Ցուցանիշների փոփոխությունը (ավելացումները նշված են դրական նշանով, իսկ նվազեցումները` փակագծերում)
A42: Միջոցառման դասիչը` | B42: 32002 | C42: Ինն ամիս | D42: Տարի
A43: Միջոցառման անվանումը` | B43: Համաշխարհային բանկի աջակցությամբ իրականացվող Սոցիալական պաշտպանության վարչարարության երկրորդ ծրագրի շրջանակներում սարքավորումների, ծրագրային ապահովման և աշխատանքային միջավայրի արդիականացում
A44: Նկարագրությունը` | B44: Ինտեգրված սոցիալական ծառայության համակարգի մաս կազմող կառույցների տեխնիկական կարողությունների և աշխատանքային միջավայրի բարելավում
A45: Միջոցառման տեսակը` | B45: Այլ պետական կազմակերպությունների կողմից օգտագործվող ոչ ֆինանսական ակտիվների հետ գործառնություններ
A46: Միջոցառումն իրականացնողի անվանումը | B46: Մասնագիտացված միավոր
A47: Արդյունքի չափորոշիչներ
A49: Այլ սարքավորումների քանակ, հատ | C49: -1 | D49: -1
A50: Մարդատար ավտոմեքենաների քանակ, հատ | C50: 15 | D50: 15
A51: Ավտոմեքենաների ծառայության կանխատեսվող միջին ժամկետ, տարի | C51: 10 | D51: 10
A52: Էլեկտրոնային սոցիալական ծառայությունների մեկ միասնական տեղեկատվական համակարգի ներդրման արդյունքում համապատասխան արտաքին տվյալների շտեմարանների թիվը, որոնցից ՄՍԾՏԿ-ների սոցիալական աշխատողները կարող են առցանց ստանալ/ստուգել անհրաժեշտ տեղեկությունները | C52: -6 | D52: =C52 -> -6
A54: Միջոցառման վրա կատարվող ծախսը (հազար դրամ) | C54: ='3'!D32 -> 131328.4 | D54: ='3'!E32 -> 131328.4
A59: ՀԱՅԱՍՏԱՆԻ ՀԱՆՐԱՊԵՏՈՒԹՅԱՆ ԿԱՌԱՎԱՐՈՒԹՅԱՆ 2022 ԹՎԱԿԱՆԻ ԴԵԿՏԵՄԲԵՐԻ 23-Ի N 2111-Ն ՈՐՈՇՄԱՆ N 9 ՀԱՎԵԼՎԱԾԻ N 9.47 ԱՂՅՈՒՍԱԿՈՒՄ ԿԱՏԱՐՎՈՂ ՓՈՓՈԽՈՒԹՅՈՒՆՆԵՐԸ
A61: ՀՀ կառավարություն
A62: ՄԱՍ 2. ՊԵՏԱԿԱՆ ՄԱՐՄՆԻ ԳԾՈՎ ԱՐԴՅՈՒՆՔԱՅԻՆ (ԿԱՏԱՐՈՂԱԿԱՆ) ՑՈՒՑԱՆԻՇՆԵՐԸ
A64: Ծրագրի դասիչը | B64: Ծրագրի անվանումը
A65: 1139 | B65: ՀՀ կառավարության պահուստային ֆոնդ
A67: Ծրագրի միջոցառումները
A68: Ծրագրի դասիչը` | B68: 1139
A69: Միջոցառման դասիչը` | B69: 11001 | C69: Ինն ամիս | D69: Տարի
A70: Միջոցառման անվանումը` | B70: ՀՀ կառավարության պահուստային ֆոնդ
A71: Նկարագրությունը` | B71: ՀՀ պետական բյուջեում նախատեսված ելքերի լրացուցիչ ֆինանսավորման՝ պետական բյուջեում չկանխատեսված ելքերի, ինչպես նաև բյուջետային երաշխիքների ապահովման ելքերի ֆինանսավորման ապահովում
A72: Միջոցառման տեսակը` | B72: Ծառայությունների մատուցում
A73: Միջոցառումն իրականացնողի անվանումը | B73: ՀՀ կառավարություն
A74: Արդյունքի չափորոշիչներ
A75: Միջոցառման վրա կատարված ծախսը (հազար դրամ) | C75: ='3'!D46 -> -42266.633 | D75: ='3'!E46 -> -42266.633

Sheet 7
D2: Հավելված N 7
B3: ՀՀ կառավարության 2023 թվականի
B4: ______________ ի ___Ն որոշման
A8: ՀԱՅԱՍՏԱՆԻ ՀԱՆՐԱՊԵՏՈՒԹՅԱՆ ԿԱՌԱՎԱՐՈՒԹՅԱՆ 2022 ԹՎԱԿԱՆԻ ԴԵԿՏԵՄԲԵՐԻ 29-Ի N 2111-Ն ՈՐՈՇՄԱՆ N 9.1 ՀԱՎԵԼՎԱԾԻ N 9.1.15 ԱՂՅՈՒՍԱԿՈՒՄ ԿԱՏԱՐՎՈՂ ՓՈՓՈԽՈՒԹՅՈՒՆՆԵՐԸ ԵՎ ԼՐԱՑՈՒՄՆԵՐԸ
A10: ՀՀ աշխատանքի և սոցիալական հարցերի նախարարություն
A11: ՄԱՍ 1. ՊԵՏԱԿԱՆ ՄԱՐՄՆԻ ԳԾՈՎ ԱՐԴՅՈՒՆՔԱՅԻՆ (ԿԱՏԱՐՈՂԱԿԱՆ) ՑՈՒՑԱՆԻՇՆԵՐԸ
A13: Ծրագրի դասիչը | B13: Ծրագրի անվանումը
A14: 1018 | B14: Սոցիալական պաշտպանության համակարգի բարեփոխումներ
A16: Ծրագրի միջոցառումները
A17: Ծրագրի դասիչը` | B17: 1206 | C17: Ցուցանիշների փոփոխությունը (ավելացումները նշված են դրական նշանով, իսկ նվազեցումները` փակագծերում)
A18: Միջոցառման դասիչը` | B18: 11001 | C18: Ինն ամիս | D18: Տարի
A19: Միջոցառման անվանումը` | B19: Համաշխարհային բանկի աջակցությամբ իրականացվող սոցիալական պաշտպանության ոլորտի վարչարարության երկրորդ ծրագիր
A20: Նկարագրությունը` | B20: Սոցիալական պաշտպանության ոլորտի բարեփոխումներին ուղղված խորհրդատվական և այլ ծառայությունների ձեռքբերում
A21: Միջոցառման տեսակը` | B21: Ծառայությունների մատուցում
A22: Ծառայությունը մատուցող կազմակերպություն(ների) անվանում(ներ)ը՛ | B22: Մասնագիտացված միավոր
A23: Արդյունքի չափորոշիչներ
A24: Միջոցառման վրա կատարվող ծախսը (հազար դրամ) | C24: ='3'!D20 -> 140109.2 | D24: ='3'!E20 -> 140109.2
A28: Ծրագրի դասիչը` | B28: 1206 | C28: Ցուցանիշների փոփոխությունը (ավելացումները նշված են դրական նշանով, իսկ նվազեցումները` փակագծերում)
A29: Միջոցառման դասիչը` | B29: 32001 | C29: Ինն ամիս | D29: Տարի
A30: Միջոցառման անվանումը` | B30: Համաշխարհային բանկի աջակցությամբ իրականացվող Սոցիալական պաշտպանության ոլորտի վարչարարության երկրորդ ծրագրի շրջանակներում շենքերի և շինությունների հիմնանորոգում
A31: Նկարագրությունը` | B31: Ծրագրի շրջանակներում ընտրված համալիր սոցիալական ծառայության կենտրոնների, ինչպես նաև Զբաղվածության պետական գործակալության և Բժշկասոցիալական փորձաքննության գործակալության կենտրոնական գրասենյակների կառուցում, վերակառուցում կամ վերանորոգում
A32: Միջոցառման տեսակը` | B32: Այլ պետական կազմակերպությունների կողմից օգտագործվող ոչ ֆինանսական ակտիվների հետ գործառնություններ
A33: Ակտիվն օգտագործող կազմակերպության (ների) անվանում(ները)՛ | B33: Մասնագիտացված միավոր
A34: Արդյունքի չափորոշիչներ
A35: Կառուցվող, վերակառուցվող կամ վերանորոգվող օբյեկտների միավոր քանակ, հատ | C35: 2 | D35: 2
A36: Կառուցվող, վերակառուցվող կամ վերանորոգվող օբյեկտների մակերես, ք.մ. | C36: 2169.23 | D36: 2169.23
A37: Միջոցառման վրա կատարվող ծախսը (հազար դրամ) | C37: ='3'!D26 -> 213983.2 | D37: ='3'!E26 -> 213983.2
A40: Ծրագրի դասիչը` | B40: 1206 | C40: Ցուցանիշների փոփոխությունը (ավելացումները նշված են դրական նշանով, իսկ նվազեցումները` փակագծերում)
A41: Միջոցառման դասիչը` | B41: 32002 | C41: Ինն ամիս | D41: Տարի
A42: Միջոցառման անվանումը` | B42: Համաշխարհային բանկի աջակցությամբ իրականացվող Սոցիալական պաշտպանության վարչարարության երկրորդ ծրագրի շրջանակներում սարքավորումների, ծրագրային ապահովման և աշխատանքային միջավայրի արդիականացում
A43: Նկարագրությունը` | B43: Ինտեգրված սոցիալական ծառայության համակարգի մաս կազմող կառույցների տեխնիկական կարողությունների և աշխատանքային միջավայրի բարելավում
A44: Միջոցառման տեսակը` | B44: Այլ պետական կազմակերպությունների կողմից օգտագործվող ոչ ֆինանսական ակտիվների հետ գործառնություններ
A45: Ակտիվն օգտագործող կազմակերպության (ների) անվանում(ները)՛ | B45: Մասնագիտացված միավոր
A46: Արդյունքի չափորոշիչներ
A47: Այլ սարքավորումների քանակ, հատ | C47: -1 | D47: -1
A48: Մարդատար ավտոմեքենաների քանակ, հատ | C48: 15 | D48: 15
A49: Ավտոմեքենաների ծառայության կանխատեսվող միջին ժամկետ, տարի | C49: 10 | D49: 10
A50: Էլեկտրոնային սոցիալական ծառայությունների մեկ միասնական տեղեկատվական համակարգի ներդրման արդյունքում համապատասխան արտաքին տվյալների շտեմարանների թիվը, որոնցից ՄՍԾՏԿ-ների սոցիալական աշխատողները կարող են առցանց ստանալ/ստուգել անհրաժեշտ տեղեկությունները | C50: -6 | D50: -6
A51: Միջոցառման վրա կատարվող ծախսը (հազար դրամ) | C51: ='3'!D32 -> 131328.4 | D51: ='3'!E32 -> 131328.4
A55: ՀԱՅԱՍՏԱՆԻ ՀԱՆՐԱՊԵՏՈՒԹՅԱՆ ԿԱՌԱՎԱՐՈՒԹՅԱՆ 2022 ԹՎԱԿԱՆԻ ԴԵԿՏԵՄԲԵՐԻ 29-Ի N 2111-Ն ՈՐՈՇՄԱՆ N 9.1 ՀԱՎԵԼՎԱԾԻ N 9.1.58 ԱՂՅՈՒՍԱԿՈՒՄ ԿԱՏԱՐՎՈՂ ՓՈՓՈԽՈՒԹՅՈՒՆՆԵՐԸ
A58: ՀՀ կառավարություն
A59: ՄԱՍ 1. ՊԵՏԱԿԱՆ ՄԱՐՄՆԻ ԳԾՈՎ ԱՐԴՅՈՒՆՔԱՅԻՆ (ԿԱՏԱՐՈՂԱԿԱՆ) ՑՈՒՑԱՆԻՇՆԵՐԸ
A61: Ծրագրի դասիչը | B61: Ծրագրի անվանումը
A62: 1139 | B62: ՀՀ կառավարության պահուստային ֆոնդ
A64: Ծրագրի միջոցառումները
A65: Ծրագրի դասիչը` | B65: 1139
A66: Միջոցառման դասիչը` | B66: 11001 | C66: Ինն ամիս | D66: Տարի
A67: Միջոցառման անվանումը` | B67: ՀՀ կառավարության պահուստային ֆոնդ
A68: Նկարագրությունը` | B68: ՀՀ պետական բյուջեում նախատեսված ելքերի լրացուցիչ ֆինանսավորման՝ պետական բյուջեում չկանխատեսված ելքերի, ինչպես նաև բյուջետային երաշխիքների ապահովման ելքերի ֆինանսավորման ապահովում
A69: Միջոցառման տեսակը` | B69: Ծառայությունների մատուցում
A70: Միջոցառումն իրականացնողի անվանումը | B70: ՀՀ կառավարություն
A71: Արդյունքի չափորոշիչներ
A72: Միջոցառման վրա կատարված ծախսը (հազար դրամ) | C72: ='3'!D46 -> -42266.633 | D72: ='3'!E46 -> -42266.633
