Workbook

Sheet 1
C1: Հավելված № 1 ՀՀ կառավարության 2023 թվականի № ------------ -Ն որոշման
A2: ՀԱՅԱՍՏԱՆԻ ՀԱՆՐԱՊԵՏՈՒԹՅԱՆ 2023 ԹՎԱԿԱՆԻ ՊԵՏԱԿԱՆ ԲՅՈՒՋԵԻ ՄԱՍԻՆ» ՀԱՅԱՍՏԱՆԻ ՀԱՆՐԱՊԵՏՈՒԹՅԱՆ ՕՐԵՆՔԻ N1 ՀԱՎԵԼՎԱԾԻ N2 ԱՂՅՈՒՍԱԿՈՒՄ ԿԱՏԱՐՎՈՂ ՎԵՐԱԲԱՇԽՈՒՄԸ ԵՎ ՀԱՅԱՍՏԱՆԻ ՀԱՆՐԱՊԵՏՈՒԹՅԱՆ ԿԱՌԱՎԱՐՈՒԹՅԱՆ 2022 ԹՎԱԿԱՆԻ ԴԵԿՏԵՄԲԵՐԻ 29-Ի N2111-Ն ՈՐՈՇՄԱՆ N5 ՀԱՎԵԼՎԱԾԻ N1 ԱՂՅՈՒՍԱԿՈՒՄ ԿԱՏԱՐՎՈՂ ՓՈՓՈԽՈՒԹՅՈՒՆՆԵՐԸ
E3: (հազ. դրամ)
A4: Ծրագրային դասիչը | C4: Բյուջետային հատկացումների գլխավոր կարգադրիչների, ծրագրերի և միջոցառումների անվանումները | D4: Ցուցանիշների փոփոխությունը (ավելացումները նշված են դրական նշանով, իսկ նվազեցումները՝ փակագծերում)
A5: Ծրագիր | B5: Միջոցառում | D5: Ինն ամիս | E5: Տարի
C6: ԸՆԴԱՄԵՆԸ | D6: =+D7+D21 -> 0 | E6: =+E7+E21 -> 0
C7: ՀՀ քաղաքաշինության կոմիտե | D7: =+D9 -> 0 | E7: =+E9 -> 64097
A8: 1103 | C8: Ծրագրի անվանումը`
C9: Քաղաքաշինության և ճարտարապետության բնագավառում պետական քաղաքականության իրականացում և կանոնակարգում | D9: =D16 -> 0 | E9: =E16 -> 64097
C10: Ծրագրի նպատակը`
C11: Քաղաքաշինության և ճարտարապետության բնագավառում պետական քաղաքականության մշակմանն աջակցություն և իրականացման ապահովում
C12: Վերջնական արդյունքի նկարագրությունը`
C13: Քաղաքաշինության գործունեության կանոնակարգում, քաղաքաշինական տեղեկատվական համակարգի ձևավորում և քաղաքաշինության բնագավառում պետական ծրագրերի իրականացման ապահովում
A14: Ծրագրի միջոցառումներ
B15: 11001 | C15: Միջոցառման անվանումը`
C16: Քաղաքաշինության և ճարտարապետության բնագավառում պետական քաղաքականության մշակման, իրականացման, համակարգման, պլանավորման, մոնիտորինգի, կապիտալ ծրագրերի կատարման, պետական գնումների իրականացման ծառայություն | D16: 0 | E16: =-E30 -> 64097
C17: Միջոցառման նկարագրությունը`
C18: Քաղաքաշինության և ճարտարապետության բնագավառում քաղաքականության մշակում, կատարման համակարգում, պլանավորում, իրականացում, մոնիտորինգ, լիցենզավորում, հաշվետվողականություն, աուդիտ, պետական գնումների իրականացում, հասարակությանը ոլորտի ծրագրերի իրազեկում
C19: Միջոցառման տեսակը
C20: Ծառայությունների մատուցում
C21: ՀՀ կառավարություն | D21: =+D23 -> 0 | E21: =+E23 -> -64097
A22: 1139 | C22: Ծրագրի անվանումը`
C23: ՀՀ կառավարության պահուստային ֆոնդ | D23: =+D30 -> 0 | E23: =+E30 -> -64097
C24: Ծրագրի նպատակը`
C25: Պետական բյուջեում չկանխատեսված, ինչպես նաեւ բյուջետային երաշխիքների ապահովման ծախսերի ֆինանսավորման ապահովում
C26: Վերջնական արդյունքի նկարագրությունը`
C27: Պահուստային ֆոնդի կառավարման արդյունավետության և թափանցիկության ապահովում
A28: Ծրագրի միջոցառումներ
B29: 11001 | C29: Միջոցառման անվանումը`
C30: ՀՀ կառավարության պահուստային ֆոնդ | D30: 0 | E30: -64097
C31: Միջոցառման նկարագրությունը`
C32: ՀՀ պետական բյուջեում նախատեսված ելքերի լրացուցիչ ֆինանսավորման, պետական բյուջեում չկանխատեսված ելքերի, ինչպես նաև բյուջետային երաշխիքների ապահովման ելքերի ֆինանսավորման ապահովում
C33: Միջոցառման տեսակը
C34: Ծառայությունների մատուցում

Sheet 2
F1: Հավելված № 2 ՀՀ կառավարության 2023 թվականի № ------------ -Ն որոշման
A2: ՀԱՅԱՍՏԱՆԻ ՀԱՆՐԱՊԵՏՈՒԹՅԱՆ ԿԱՌԱՎԱՐՈՒԹՅԱՆ 2022 ԹՎԱԿԱՆԻ ԴԵԿՏԵՄԲԵՐԻ 29-Ի № 2111-Ն ՈՐՈՇՄԱՆ NN 3 և 4 ՀԱՎԵԼՎԱԾՆԵՐՈՒՄ ԿԱՏԱՐՎՈՂ ՓՈՓՈԽՈՒԹՅՈՒՆՆԵՐԸ
H3: (հազ. դրամ)
A4: Գործառական դասիչը | D4: Ծրագրային դասիչը | F4: Բյուջետային ծախսերի գործառական դասակարգման բաժինների, խմբերի և դասերի, բյուջետային ծրագրերի միջոցառումների, բյուջետային հատկացումների գլխավոր կարգադրիչների անվանումները | G4: Ցուցանիշների փոփոխությունը (ավելացումները նշված են դրական նշանով, իսկ նվազեցումները՝ փակագծերում)
A5: Բաժին | B5: Խումբ | C5: Դաս | D5: Ծրագիր | E5: Միջոցառում | G5: Ինն ամիս | H5: Տարի
F6: ԸՆԴԱՄԵՆԸ ԾԱԽՍԵՐ | G6: =+G7+G26 -> 0 | H6: =+H7+H26 -> 0
A7: 06 | F7: ԲՆԱԿԱՐԱՆԱՅԻՆ ՇԻՆԱՐԱՐՈՒԹՅՈՒՆ ԵՎ ԿՈՄՈՒՆԱԼ ԾԱՌԱՅՈՒԹՅՈՒՆՆԵՐ | G7: =G9 -> 0 | H7: =H9 -> 64097
F8: այդ թվում`
B9: 06 | F9: Բնակարանային շինարարության և կոմունալ ծառայություններ (այլ դասերին չպատկանող) | G9: =G11 -> 0 | H9: =H11 -> 64097
F10: այդ թվում`
C11: 01 | F11: Բնակարանային շինարարության և կոմունալ ծառայություններ (այլ դասերին չպատկանող) | G11: =G15 -> 0 | H11: =H15 -> 64097
F12: այդ թվում`
F13: ՀՀ քաղաքաշինության կոմիտե | H13: =+H15 -> 64097
F14: այդ թվում՝
D15: 1103 | F15: Քաղաքաշինության և ճարտարապետության բնագավառում պետական քաղաքականության իրականացում և կանոնակարգում | G15: =G17 -> 0 | H15: =H17 -> 64097
F16: այդ թվում`
E17: 11001 | F17: Քաղաքաշինության և ճարտարապետության բնագավառում պետական քաղաքականության մշակման, իրականացման, համակարգման, պլանավորման, մոնիտորինգի, կապիտալ ծրագրերի կատարման, պետական գնումների իրականացման ծառայություն | G17: =+G19 -> 0 | H17: =+H19 -> 64097
F18: այդ թվում` ըստ կատարողների
F19: ՀՀ քաղաքաշինության կոմիտե | G19: =+G21 -> 0 | H19: =+H21 -> 64097
F20: այդ թվում` բյուջետային ծախսերի տնտեսագիտական դասակարգման հոդվածներ
F21: ԸՆԴԱՄԵՆԸ ԾԱԽՍԵՐ | G21: =G22 -> 0 | H21: =H22 -> 64097
F22: ԸՆԹԱՑԻԿ ԾԱԽՍԵՐ | G22: =G23 -> 0 | H22: =H23 -> 64097
F23: ԱՇԽԱՏԱՆՔԻ ՎԱՐՁԱՏՐՈՒԹՅՈՒՆ | G23: =G24 -> 0 | H23: =H24 -> 64097
F24: Դրամով վճարվող աշխատավարձեր և հավելավճարներ | G24: =+G25 -> 0 | H24: =+H25 -> 64097
F25: - Աշխատողների աշխատավարձեր և հավելավճարներ | G25: 0 | H25: =-H38 -> 64097
A26: 11 | F26: ՀԻՄՆԱԿԱՆ ԲԱԺԻՆՆԵՐԻՆ ՉԴԱՍՎՈՂ ՊԱՀՈՒՍՏԱՅԻՆ ՖՈՆԴԵՐ | G26: =+G28 -> 0 | H26: =+H28 -> -64097
F27: այդ թվում`
B28: 01 | F28: ՀՀ կառավարության և համայնքների պահուստային ֆոնդ | G28: =+G30 -> 0 | H28: =+H30 -> -64097
F29: այդ թվում`
C30: 01 | F30: ՀՀ կառավարության պահուստային ֆոնդ | G30: =+G32 -> 0 | H30: =+H32 -> -64097
F31: այդ թվում`
D32: 1139 | E32: 11001 | F32: ՀՀ կառավարության պահուստային ֆոնդ | G32: =+G33 -> 0 | H32: =+H33 -> -64097
F33: ՀՀ կառավարություն | G33: =+G35 -> 0 | H33: =+H35 -> -64097
F34: այդ թվում` բյուջետային ծախսերի տնտեսագիտական դասակարգման հոդվածներ
F35: ԸՆԴԱՄԵՆԸ ԾԱԽՍԵՐ | G35: =+G36 -> 0 | H35: =+H36 -> -64097
F36: ԸՆԹԱՑԻԿ ԾԱԽՍԵՐ | G36: =+G37 -> 0 | H36: =+H37 -> -64097
F37: ԱՅԼ ԾԱԽՍԵՐ | G37: =+G38 -> 0 | H37: =+H38 -> -64097
F38: Պահուստային միջոցներ | G38: 0 | H38: =+'1'!E21 -> -64097

Sheet 3
B1: Հավելված № 3 ՀՀ կառավարության 2023 թվականի № ------------ -Ն որոշման
A2: ՀԱՅԱՍՏԱՆԻ ՀԱՆՐԱՊԵՏՈՒԹՅԱՆ ԿԱՌԱՎԱՐՈՒԹՅԱՆ 2022 ԹՎԱԿԱՆԻ ԴԵԿՏԵՄԲԵՐԻ 29-Ի N 2111-Ն ՈՐՈՇՄԱՆ N 9 ՀԱՎԵԼՎԱԾԻ 9.33 ԱՂՅՈՒՍԱԿՈՒՄ ԿԱՏԱՐՎՈՂ ՓՈՓՈԽՈՒԹՅՈՒՆՆԵՐԸ
A3: ՀՀ Քաղաքաշինության կոմիտե
A4: ՄԱՍ 2. ՊԵՏԱԿԱՆ ՄԱՐՄՆԻ ԳԾՈՎ ԱՐԴՅՈՒՆՔԱՅԻՆ (ԿԱՏԱՐՈՂԱԿԱՆ) ՑՈՒՑԱՆԻՇՆԵՐԸ
D5: (հազ. դրամ)
A6: Ծրագրի դասիչը | B6: Ծրագրի անվանումը
A7: 1103 | B7: Քաղաքաշինության և ճարտարապետության բնագավառում պետական քաղաքականության իրականացում և կանոնակարգում
A9: Ծրագրի միջոցառումները
A11: Ծրագրի դասիչը` | B11: 1103 | C11: Ցուցանիշների փոփոխությունը (ավելացումները նշված են դրական նշանով)
A12: Միջոցառման դասիչը` | B12: 11001 | C12: Ինն ամիս | D12: Տարի
A13: Միջոցառման անվանումը` | B13: Քաղաքաշինության և ճարտարապետության բնագավառում պետական քաղաքականության մշակման, իրականացման, համակարգման, պլանավորման, մոնիտորինգի, կապիտալ ծրագրերի կատարման, պետական գնումների իրականացման ծառայություն
A14: Նկարագրությունը` | B14: Քաղաքաշինության և ճարտարապետության բնագավառում քաղաքականության մշակում, կատարման համակարգում, պլանավորում, իրականացում, մոնիտորինգ, լիցենզավորում, հաշվետվողականություն, աուդիտ, պետական գնումների իրականացում, հասարակությանը ոլորտի ծրագրերի իրազեկում
A15: Միջոցառման տեսակը` | B15: Ծառայությունների մատուցում
A16: Միջոցառումն իրականացնողի անվանումը | B16: ՀՀ քաղաքաշինության կոմիտե
A17: Արդյունքի չափորոշիչներ
A18: ԲԳԿ-ի գծով հաստատված բյուջեի նկատմամբ կատարման նվազագույն տոկոս
A19: Միջոցառման վրա կատարվող ծախսը (հազար դրամ) | C19: ='2'!G17 -> 0 | D19: ='2'!H17 -> 64097
A22: ՀԱՅԱՍՏԱՆԻ ՀԱՆՐԱՊԵՏՈՒԹՅԱՆ ԿԱՌԱՎԱՐՈՒԹՅԱՆ 2022 ԹՎԱԿԱՆԻ ԴԵԿՏԵՄԲԵՐԻ 29-Ի N 2111-Ն ՈՐՈՇՄԱՆ N 9 ՀԱՎԵԼՎԱԾԻ 9.47 ԱՂՅՈՒՍԱԿՈՒՄ ԿԱՏԱՐՎՈՂ ՓՈՓՈԽՈՒԹՅՈՒՆՆԵՐԸ
B23: ՀՀ կառավարություն
A25: ՄԱՍ 2. ՊԵՏԱԿԱՆ ՄԱՐՄՆԻ ԳԾՈՎ ԱՐԴՅՈՒՆՔԱՅԻՆ (ԿԱՏԱՐՈՂԱԿԱՆ) ՑՈՒՑԱՆԻՇՆԵՐԸ
A27: Ծրագրի դասիչը | B27: Ծրագրի անվանումը
A28: 1139 | B28: ՀՀ կառավարության պահուստային ֆոնդ
A30: Ծրագրի միջոցառումները
A32: Ծրագրի դասիչը | B32: 1139 | C32: Ցուցանիշների փոփոխությունները (նվազեցումները նշված են փակագծերում)
A33: Միջոցառման դասիչը | B33: 11001 | C33: Ինն ամիս | D33: Տարի
A34: Միջոցառման անվանումը | B34: ՀՀ կառավարության պահուստային ֆոնդ
A35: Նկարագրությունը | B35: ՀՀ պետական բյուջեում նախատեսված ելքերի լրացուցիչ ֆինանսավորման՝ պետական բյուջեում չկանխատեսված ելքերի, ինչպես նաև բյուջետային երաշխիքների ապահովման ելքերի ֆինանսավորման ապահովում
A36: Միջոցառման տեսակը | B36: Ծառայությունների մատուցում
A37: Միջոցառումն իրականացնողի անվանումը | B37: ՀՀ կառավարություն
A38: Արդյունքի չափորոշիչներ
A39: Միջոցառման վրա կատարվող ծախսը (հազ.դրամ) | C39: =+'2'!G26 -> 0 | D39: =+'2'!H26 -> -64097

Sheet 4
B1: Հավելված № 4 ՀՀ կառավարության 2023 թվականի № ------------ -Ն որոշման
A2: ՀԱՅԱՍՏԱՆԻ ՀԱՆՐԱՊԵՏՈՒԹՅԱՆ ԿԱՌԱՎԱՐՈՒԹՅԱՆ 2022 ԹՎԱԿԱՆԻ ԴԵԿՏԵՄԲԵՐԻ 29-Ի N 2111-Ն ՈՐՈՇՄԱՆ N 9.1 ՀԱՎԵԼՎԱԾԻ 9.1.41 ԱՂՅՈՒՍԱԿՈՒՄ ԿԱՏԱՐՎՈՂ ՓՈՓՈԽՈՒԹՅՈՒՆՆԵՐԸ
A3: ՀՀ Քաղաքաշինության կոմիտե
A4: ՄԱՍ 1. ՊԵՏԱԿԱՆ ՄԱՐՄՆԻ ԳԾՈՎ ԱՐԴՅՈՒՆՔԱՅԻՆ (ԿԱՏԱՐՈՂԱԿԱՆ) ՑՈՒՑԱՆԻՇՆԵՐԸ
D5: (հազ. դրամ)
A6: Ծրագրի դասիչը | B6: Ծրագրի անվանումը
A7: 1103 | B7: Քաղաքաշինության և ճարտարապետության բնագավառում պետական քաղաքականության իրականացում և կանոնակարգում
A9: Ծրագրի միջոցառումները
A11: Ծրագրի դասիչը` | B11: 1103 | C11: Ցուցանիշների փոփոխությունը (ավելացումները նշված են դրական նշանով)
A12: Միջոցառման դասիչը` | B12: 11001 | C12: Ինն ամիս | D12: Տարի
A13: Միջոցառման անվանումը` | B13: Քաղաքաշինության և ճարտարապետության բնագավառում պետական քաղաքականության մշակման, իրականացման, համակարգման, պլանավորման, մոնիտորինգի, կապիտալ ծրագրերի կատարման, պետական գնումների իրականացման ծառայություն
A14: Նկարագրությունը` | B14: Քաղաքաշինության և ճարտարապետության բնագավառում քաղաքականության մշակում, կատարման համակարգում, պլանավորում, իրականացում, մոնիտորինգ, լիցենզավորում, հաշվետվողականություն, աուդիտ, պետական գնումների իրականացում, հասարակությանը ոլորտի ծրագրերի իրազեկում
A15: Միջոցառման տեսակը` | B15: Ծառայությունների մատուցում
A16: Միջոցառումն իրականացնողի անվանումը | B16: ՀՀ քաղաքաշինության կոմիտե
A17: Արդյունքի չափորոշիչներ
A18: ԲԳԿ-ի գծով հաստատված բյուջեի նկատմամբ կատարման նվազագույն տոկոս
A19: Միջոցառման վրա կատարվող ծախսը (հազար դրամ) | C19: ='3'!C19 -> 0 | D19: ='3'!D19 -> 64097
A22: ՀԱՅԱՍՏԱՆԻ ՀԱՆՐԱՊԵՏՈՒԹՅԱՆ ԿԱՌԱՎԱՐՈՒԹՅԱՆ 2022 ԹՎԱԿԱՆԻ ԴԵԿՏԵՄԲԵՐԻ 29-Ի N 2111-Ն ՈՐՈՇՄԱՆ N 9.1 ՀԱՎԵԼՎԱԾԻ 9.1.58 ԱՂՅՈՒՍԱԿՈՒՄ ԿԱՏԱՐՎՈՂ ՓՈՓՈԽՈՒԹՅՈՒՆՆԵՐԸ
A23: ՀՀ կառավարություն
A25: ՄԱՍ 1. ՊԵՏԱԿԱՆ ՄԱՐՄՆԻ ԳԾՈՎ ԱՐԴՅՈՒՆՔԱՅԻՆ (ԿԱՏԱՐՈՂԱԿԱՆ) ՑՈՒՑԱՆԻՇՆԵՐԸ
A27: Ծրագրի դասիչը | B27: Ծրագրի անվանումը
A28: 1139 | B28: ՀՀ կառավարության պահուստային ֆոնդ
A30: Ծրագրի միջոցառումները
A32: Ծրագրի դասիչը | B32: 1139 | C32: Ցուցանիշների փոփոխությունները (նվազեցումները նշված են փակագծերում)
A33: Միջոցառման դասիչը | B33: 11001 | C33: Ինն ամիս | D33: տարի
A34: Միջոցառման անվանումը | B34: ՀՀ կառավարության պահուստային ֆոնդ
A35: Նկարագրությունը | B35: ՀՀ պետական բյուջեում նախատեսված ելքերի լրացուցիչ ֆինանսավորման՝ պետական բյուջեում չկանխատեսված ելքերի, ինչպես նաև բյուջետային երաշխիքների ապահովման ելքերի ֆինանսավորման ապահովում
A36: Միջոցառման տեսակը | B36: Ծառայությունների մատուցում
A37: Միջոցառումն իրականացնողի անվանումը | B37: ՀՀ կառավարություն
A38: Արդյունքի չափորոշիչներ
A39: Միջոցառման վրա կատարվող ծախսը (հազ.դրամ) | C39: =+'3'!C39 -> 0 | D39: =+'3'!D39 -> -64097

Sheet 5
B1: Հավելված № 5 ՀՀ կառավարության 2023 թվականի № ------------ -Ն որոշման
A2: «ՀԱՅԱՍՏԱՆԻ ՀԱՆՐԱՊԵՏՈՒԹՅԱՆ 2023 ԹՎԱԿԱՆԻ ՊԵՏԱԿԱՆ ԲՅՈՒՋԵԻ ՄԱՍԻՆ» ՀԱՅԱՍՏԱՆԻ ՀԱՆՐԱՊԵՏՈՒԹՅԱՆ ՕՐԵՆՔԻ N 1 ՀԱՎԵԼՎԱԾԻ N 1 ԱՂՅՈՒՍԱԿՈՒՄ ԿԱՏԱՐՎՈՂ ՎԵՐԱԲԱՇԽՈՒՄԸ
C3: հազար դրամ
A4: Ծրագրային դասիչը | B4: Ծրագրի անվանումը | C4: Ցուցանիշների փոփոխությունները (ավելացումները նշված են դրական նշանով, իսկ նվազեցումները` փակագծերում)
A5: Ընդամենը | C5: =+C6+C7 -> 0
A6: 1103 | B6: Քաղաքաշինության և ճարտարապետության բնագավառում պետական քաղաքականության իրականացում և կանոնակարգում | C6: =+'2'!H7 -> 64097
A7: 1139 | B7: ՀՀ կառավարության պահուստային ֆոնդ | C7: =+'2'!H26 -> -64097
