Workbook
Name a: #REF!
Name a: #REF!
Name a: #REF!
Name AgencyCode: #REF!
Name AgencyCode: #REF!
Name AgencyCode: #REF!
Name AgencyCode: #REF!
Name AgencyName: #REF!
Name AgencyName: #REF!
Name AgencyName: #REF!
Name AgencyName: #REF!
Name davit: #REF!
Name davit: #REF!
Name davit: #REF!
Name Functional1: #REF!
Name Functional1: #REF!
Name Functional1: #REF!
Name Functional1: #REF!
Name ggg: #REF!
Name ggg: #REF!
Name ggg: #REF!
Name PANature: #REF!
Name PANature: #REF!
Name PANature: #REF!
Name PANature: #REF!
Name PAType: #REF!
Name PAType: #REF!
Name PAType: #REF!
Name PAType: #REF!
Name Performance2: #REF!
Name Performance2: #REF!
Name Performance2: #REF!
Name Performance2: #REF!
Name PerformanceType: #REF!
Name PerformanceType: #REF!
Name PerformanceType: #REF!
Name PerformanceType: #REF!
Name Հավելված: #REF!
Name Հավելված: #REF!
Name Հավելված: #REF!
Name Մաս: #REF!
Name Մաս: #REF!
Name Մաս: #REF!
Name շախմատիստ: #REF!
Name շախմատիստ: #REF!
Name շախմատիստ: #REF!

Sheet 1
C1: Հավելված N 1
C2: ՀՀ կառավարության 2023 թվականի
C3: ______________ ի ___Ն որոշման
A6: «ՀԱՅԱUՏԱՆԻ ՀԱՆՐԱՊԵՏՈՒԹՅԱՆ 2023 ԹՎԱԿԱՆԻ ՊԵՏԱԿԱՆ ԲՅՈՒՋԵԻ ՄԱUԻՆ» ՀԱՅԱUՏԱՆԻ ՀԱՆՐԱՊԵՏՈՒԹՅԱՆ OՐԵՆՔԻ N 1 ՀԱՎԵԼՎԱԾԻ N 2 ԱՂՅՈՒՍԱԿՈՒՄ ԿԱՏԱՐՎՈՂ ՎԵՐԱԲԱՇԽՈՒՄԸ ԵՎ ՀԱՅԱՍՏԱՆԻ ՀԱՆՐԱՊԵՏՈՒԹՅԱՆ ԿԱՌԱՎԱՐՈՒԹՅԱՆ 2022 ԹՎԱԿԱՆԻ ԴԵԿՏԵՄԲԵՐԻ 29-Ի N 2111-Ն ՈՐՈՇՄԱՆ N 5 ՀԱՎԵԼՎԱԾԻ N 1 ԱՂՅՈՒՍԱԿՈՒՄ ԿԱՏԱՐՎՈՂ ՓՈՓՈԽՈՒԹՅՈՒՆՆԵՐԸ ԵՎ ԼՐԱՑՈՒՄՆԵՐԸ
E9: հազ. դրամներով
A10: Ծրագրային դասիչը | C10: Բյուջետային հատկացումների գլխավոր կարգադրիչների, ծրագրերի և միջոցառումների անվանումները | D10: Ցուցանիշների փոփոխությունը (ավելացումները նշված են դրական նշանով, իսկ նվազեցումները՝ փակագծերում)
A11: Ծրագիր | B11: Միջոցառում | D11: Ինն ամիս | E11: Տարի
A12: 1192 | C12: ԸՆԴԱՄԵՆԸ | D12: =+D14 -> 0 | E12: =+E14 -> 0
C13: այդ թվում
C14: ՀՀ ԱՌՈՂՋԱՊԱՀՈՒԹՅԱՆ ՆԱԽԱՐԱՐՈՒԹՅՈՒՆ | D14: =+D16 -> 0 | E14: =+E16 -> 0
A15: 1053 | C15: Ծրագրի անվանումը`
C16: Առողջապահության համակարգի արդիականացման և արդյունավետության բարձրացման ծրագիր | D16: =+D29+D23+D35 -> 0 | E16: =+E29+E23+E35 -> 0
C17: Ծրագրի նպատակը`
C18: Առողջապահության համակարգի արդիականացում և զարգացում
C19: Վերջնական արդյունքի նկարագրությունը`
C20: Առողջապահական ենթակառուցվածքների բարելավում, կարողությունների զարգացում
C21: Ծրագրի միջոցառումներ
B22: 11008 | C22: Միջոցառման անվանումը`
C23: Գլոբալ հիմնադրամի աջակցությամբ իրականացվող «Հայաստանի Հանրապետությունում տուբերկուլյոզի դեմ պայքարի ազգային ծրագրին աջակցություն» դրամաշնորհային ծրագիր | D23: 0 | E23: =+'2'!H22 -> -110000
C24: Միջոցառման նկարագրությունը`
C25: Դեղակայուն տուբերկուլյոզով հիվանդների ամբուլատոր բուժումն իրականացնող մասնագետների վերապատրաստում, դեղակայուն տուբերկուլյոզի կառավարման վերաբերյալ վերապատրաստում արտասահմանում, ՏԲ դեղորայքի կառավարման ոլորտում տեխնիկական աջակցություն
C26: Միջոցառման տեսակը
C27: Ծառայությունների մատուցում
B28: 11015 | C28: Միջոցառման անվանումը`
C29: Գլոբալ հիմնադրամի աջակցությամբ իրականացվող «Հայաստանի Հանրապետությունում Covid համավարակի դեմ պայքարի» ծրագիր | D29: 0 | E29: =+'2'!H31 -> 40000
C30: Միջոցառման նկարագրությունը`
C31: COVID համավարակի դեմ պայքարի շրջանակներում բնակչության իրազեկման ծրագիր
C32: Միջոցառման տեսակը
C33: Ծառայությունների մատուցում
B34: 32004 | C34: Միջոցառման անվանումը`
C35: Գլոբալ հիմնադրամի աջակցությամբ իրականացվող «ՀՀ-ում տուբերկուլյոզի և ՄԻԱՎ/ՁԻԱՀ-ի ծրագրերի հզորացում» դրամաշնորհային ծրագրի շրջանակներում ՀՀ պետական առողջապահական համակարգի կարողությունների զարգացում և տեխնիկական հագեցվածության ապահովում | D35: 0 | E35: =+'2'!H40 -> 70000
C36: Միջոցառման նկարագրությունը`
C37: ՀՀ առողջապահության նախարարության հիվանդանոցային ծառայությունների բարելավման համար բժշկական սարքավորումների ձեռք բերում
C38: Միջոցառման տեսակը
C39: Այլ պետական կազմակերպությունների կողմից օգտագործվող ոչ ֆինանսական ակտիվների հետ գործառնություններ

Sheet 2
F1: Հավելված N 2
F2: ՀՀ կառավարության 2023 թվականի
F3: ______________ ի ___Ն որոշման
A5: ՀԱՅԱՍՏԱՆԻ ՀԱՆՐԱՊԵՏՈՒԹՅԱՆ ԿԱՌԱՎԱՐՈՒԹՅԱՆ 2022 ԹՎԱԿԱՆԻ ԴԵԿՏԵՄԲԵՐԻ 29-Ի N2111-Ն ՈՐՈՇՄԱՆ N 3 ԵՎ N 4 ՀԱՎԵԼՎԱԾՆԵՐՈՒՄ ԿԱՏԱՐՎՈՂ ՓՈՓՈԽՈՒԹՅՈՒՆՆԵՐԸ ԵՎ ԼՐԱՑՈՒՄՆԵՐԸ
H7: հազ. դրամներով
A8: Գործառական դասիչը | D8: Ծրագրային դասիչը | F8: Բյուջետային հատկացումների գլխավոր կարգադրիչների, ծրագրերի, միջոցառումների և միջոցառումները կատարող պետական մարմինների անվանումները | G8: Ցուցանիշների փոփոխությունը (ավելացումները նշված են դրական նշանով, իսկ նվազեցումները՝ փակագծերում)
A9: Բաժին | B9: Խումբ | C9: Դաս | D9: Ծրագիր | E9: Միջոցառում | G9: Ինն ամիս | H9: Տարի
F10: ԸՆԴԱՄԵՆԸ | G10: 0 | H10: =+H12 -> 0
F11: այդ թվում
A12: 07 | F12: ԱՌՈՂՋԱՊԱՀՈՒԹՅՈՒՆ | G12: 0 | H12: =+H17 -> 0
F13: այդ թվում`
F14: ՀՀ առողջապահության նախարարություն
B15: 06 | F15: Առողջապահություն (այլ դասերին չպատկանող) | G15: 0 | H15: =+H17 -> 0
F16: այդ թվում`
C17: 01 | F17: Առողջապահական հարակից ծառայություններ և ծրագրեր | G17: 0 | H17: =+H20 -> 0
F18: այդ թվում`
F19: ՀՀ առողջապահության նախարարություն
D20: 1053 | F20: Առողջապահության համակարգի արդիականացման և արդյունավետության բարձրացման ծրագիր | G20: 0 | H20: =+H22+H31+H40 -> 0
F21: այդ թվում`
E22: 11008 | F22: Գլոբալ հիմնադրամի աջակցությամբ իրականացվող «Հայաստանի Հանրապետությունում տուբերկուլյոզի դեմ պայքարի ազգային ծրագրին աջակցություն» դրամաշնորհային ծրագիր | G22: 0 | H22: =+'3'!G18 -> -110000
F23: այդ թվում` ըստ կատարողների
F24: ՀՀ առողջապահության նախարարություն | G24: 0 | H24: =H26 -> -110000
F25: այդ թվում՝ բյուջետային ծախսերի տնտեսագիտական դասակարգման հոդվածներ
F26: ԸՆԴԱՄԵՆԸ ԾԱԽՍԵՐ | G26: 0 | H26: =+H27 -> -110000
F27: ԸՆԹԱՑԻԿ ԾԱԽՍԵՐ | G27: 0 | H27: =+H28 -> -110000
F28: ԴՐԱՄԱՇՆՈՐՀՆԵՐ | G28: 0 | H28: =+H29 -> -110000
F29: Ընթացիկ դրամաշնորհներ պետական հատվածի այլ մակարդակներին | G29: 0 | H29: =+H30 -> -110000
F30: - Ընթացիկ դրամաշնորհներ պետական և համայնքների ոչ առևտրային կազմակերպություններին | G30: 0 | H30: -110000
E31: 11015 | F31: Գլոբալ հիմնադրամի աջակցությամբ իրականացվող «Հայաստանի Հանրապետությունում Covid համավարակի դեմ պայքարի» ծրագիր | G31: 0 | H31: =+H33 -> 40000
F32: այդ թվում` ըստ կատարողների | G32: 0
F33: ՀՀ առողջապահության նախարարություն | G33: 0 | H33: =+H35 -> 40000
F34: այդ թվում՝ բյուջետային ծախսերի տնտեսագիտական դասակարգման հոդվածներ
F35: ԸՆԴԱՄԵՆԸ ԾԱԽՍԵՐ | G35: 0 | H35: =+H36 -> 40000
F36: ԸՆԹԱՑԻԿ ԾԱԽՍԵՐ | G36: 0 | H36: =+H37 -> 40000
F37: ԴՐԱՄԱՇՆՈՐՀՆԵՐ | G37: 0 | H37: =+H38 -> 40000
F38: Ընթացիկ դրամաշնորհներ պետական հատվածի այլ մակարդակներին | G38: 0 | H38: =+H39 -> 40000
F39: - Ընթացիկ դրամաշնորհներ պետական և համայնքների առևտրային կազմակերպություններին | G39: 0 | H39: 40000
E40: 32004 | F40: Գլոբալ հիմնադրամի աջակցությամբ իրականացվող «ՀՀ-ում տուբերկուլյոզի և ՄԻԱՎ/ՁԻԱՀ-ի ծրագրերի հզորացում» դրամաշնորհային ծրագրի շրջանակներում ՀՀ պետական առողջապահական համակարգի կարողությունների զարգացում և տեխնիկական հագեցվածության ապահովում | G40: 0 | H40: =+'3'!G36 -> 70000
F41: այդ թվում` ըստ կատարողների | G41: 0
F42: ՀՀ առողջապահության նախարարություն | G42: 0 | H42: =+H44 -> 70000
F43: այդ թվում՝ բյուջետային ծախսերի տնտեսագիտական դասակարգման հոդվածներ
F44: ԸՆԴԱՄԵՆԸ ԾԱԽՍԵՐ | G44: 0 | H44: =+H45 -> 70000
F45: ՈՉ ՖԻՆԱՆՍԱԿԱՆ ԱԿՏԻՎՆԵՐԻ ԳԾՈՎ ԾԱԽՍԵՐ | G45: 0 | H45: =+H46 -> 70000
F46: ՀԻՄՆԱԿԱՆ ՄԻՋՈՑՆԵՐ | G46: 0 | H46: =+H47 -> 70000
F47: ՄԵՔԵՆԱՆԵՐ ԵՎ ՍԱՐՔԱՎՈՐՈՒՄՆԵՐ | G47: 0 | H47: =+H48 -> 70000
F48: - Այլ մեքենաներ և սարքավորումներ | G48: 0 | H48: 70000

Sheet 3
H1: Հավելված N 3
H2: ՀՀ կառավարության 2023 թվականի
H3: ______________ ի ___Ն որոշման
A6: «ՀԱՅԱUՏԱՆԻ ՀԱՆՐԱՊԵՏՈՒԹՅԱՆ 2023 ԹՎԱԿԱՆԻ ՊԵՏԱԿԱՆ ԲՅՈՒՋԵԻ ՄԱUԻՆ» ՀԱՅԱUՏԱՆԻ ՀԱՆՐԱՊԵՏՈՒԹՅԱՆ OՐԵՆՔԻ N 1 ՀԱՎԵԼՎԱԾԻ N 4 ԱՂՅՈՒՍԱԿՈՒՄ ԵՎ ՀԱՅԱՍՏԱՆԻ ՀԱՆՐԱՊԵՏՈՒԹՅԱՆ ԿԱՌԱՎԱՐՈՒԹՅԱՆ 2022 ԹՎԱԿԱՆԻ ԴԵԿՏԵՄԲԵՐԻ 29-Ի N 2111-Ն ՈՐՈՇՄԱՆ N 5 ՀԱՎԵԼՎԱԾԻ N 3 ԱՂՅՈՒՍԱԿՈՒՄ ԿԱՏԱՐՎՈՂ ՓՈՓՈԽՈՒԹՅՈՒՆՆԵՐԸ ԵՎ ԼՐԱՑՈՒՄՆԵՐԸ
I8: հազ. դրամներով
A9: Ծրագրային դասիչ | C9: Բյուջետային գլխավոր կարգադրիչների, ծրագրերի, միջոցառումների և միջոցառումները կատարող պետական մարմինների անվանումները | D9: Ինն ամիս | G9: Տարի
D10: Ընդամենը | E10: այդ թվում | G10: Ընդամենը | H10: այդ թվում
A11: Ծրագիր | B11: Միջոցառում | E11: Վարկային միջոցներ | F11: Համաֆինան սավորում | H11: Դրամաշնորհային միջոցներ | I11: Համաֆինան սավորում
C12: ԸՆԴԱՄԵՆԸ | D12: 0 | E12: 0 | F12: 0 | G12: =H12+I12 -> 0 | H12: =+H14 -> 0 | I12: =+I14 -> 0
C13: այդ թվում`
C14: ՈՉ ՖԻՆԱՆՍԱԿԱՆ ԱԿՏԻՎՆԵՐԻ ԳԾՈՎ ԾԱԽՍԵՐ | D14: 0 | E14: 0 | F14: 0 | G14: =H14+I14 -> 0 | H14: =+H15 -> 0 | I14: =+I15 -> 0
C15: ՀՀ առողջապահության նախարարություն | D15: 0 | E15: 0 | F15: 0 | G15: =H15+I15 -> 0 | H15: =H16 -> 0 | I15: =I16 -> 0
A16: 1053 | C16: Առողջապահության համակարգի արդիականացման և արդյունավետության բարձրացման ծրագիր | D16: 0 | E16: 0 | F16: 0 | G16: =+G18+G27+G36 -> 0 | H16: =+H18+H27+H36 -> 0 | I16: =+I18 -> 0
C17: այդ թվում`
B18: 11008 | C18: =+'4'!C18 -> Գլոբալ հիմնադրամի աջակցությամբ իրականացվող «Հայաստանի Հանրապետությունում տուբերկուլյոզի դեմ պայքարի ազգային ծրագրին աջակցություն» դրամաշնորհային ծրագիր | D18: 0 | E18: 0 | F18: 0 | G18: =H18+I18 -> -110000 | H18: =+H20 -> -110000 | I18: =+I20 -> 0
C19: այդ թվում` ըստ կատարողների | D19: 0 | E19: 0 | F19: 0
C20: ՀՀ առողջապահության նախարարություն | D20: 0 | E20: 0 | F20: 0 | G20: =+H20+I20 -> -110000 | H20: =+H22 -> -110000 | I20: =+I22 -> 0
C21: այդ թվում` բյուջետային ծախսերի տնտեսագիտական դասակարգման հոդվածներ | D21: 0 | E21: 0 | F21: 0
C22: ԸՆԴԱՄԵՆԸ ԾԱԽՍԵՐ | D22: 0 | E22: 0 | F22: 0 | G22: =+H22+I22 -> -110000 | H22: =+H23 -> -110000 | I22: =+I23 -> 0
C23: =+'2'!F27 -> ԸՆԹԱՑԻԿ ԾԱԽՍԵՐ | D23: 0 | E23: 0 | F23: 0 | G23: =+H23+I23 -> -110000 | H23: =+H24 -> -110000 | I23: =+I24 -> 0
C24: =+'2'!F28 -> ԴՐԱՄԱՇՆՈՐՀՆԵՐ | D24: 0 | E24: 0 | F24: 0 | G24: =+G25 -> -110000 | H24: =+H25 -> -110000 | I24: =+I25 -> 0
C25: =+'2'!F29 -> Ընթացիկ դրամաշնորհներ պետական հատվածի այլ մակարդակներին | D25: 0 | E25: 0 | F25: 0 | G25: =+G26 -> -110000 | H25: =+H26 -> -110000 | I25: =+I26 -> 0
C26: =+'2'!F30 -> - Ընթացիկ դրամաշնորհներ պետական և համայնքների ոչ առևտրային կազմակերպություններին | D26: 0 | E26: 0 | F26: 0 | G26: =+H26+I26 -> -110000 | H26: -110000 | I26: 0
B27: 11015 | C27: Գլոբալ հիմնադրամի աջակցությամբ իրականացվող «Հայաստանի Հանրապետությունում Covid համավարակի դեմ պայքարի» ծրագիր | D27: 0 | E27: 0 | F27: 0 | G27: =H27+I27 -> 40000 | H27: =+H29 -> 40000 | I27: =+I29 -> 0
C28: այդ թվում` ըստ կատարողների | D28: 0 | E28: 0 | F28: 0
C29: Գլոբալ հիմնադրամի ԾԽՀ, «ԱԿԱԴԵՄԻԿՈՍ Ս. ԱՎԴԱԼՅԱՆԻ ԱՆՎԱՆ ԱՌՈՂՋԱՊԱՀՈՒԹՅԱՆ ԱԶԳԱՅԻՆ ԻՆՍՏԻՏՈՒՏ» ՓԲԸ | D29: 0 | E29: 0 | F29: 0 | G29: =+H29+I29 -> 40000 | H29: =+H31 -> 40000 | I29: =+I31 -> 0
C30: այդ թվում` բյուջետային ծախսերի տնտեսագիտական դասակարգման հոդվածներ | D30: 0 | E30: 0 | F30: 0
C31: ԸՆԴԱՄԵՆԸ ԾԱԽՍԵՐ | D31: 0 | E31: 0 | F31: 0 | G31: =+H31+I31 -> 40000 | H31: =+H32 -> 40000 | I31: =+I32 -> 0
C32: ԸՆԹԱՑԻԿ ԾԱԽՍԵՐ | D32: 0 | E32: 0 | F32: 0 | G32: =+H32+I32 -> 40000 | H32: =+H33 -> 40000 | I32: =+I33 -> 0
C33: ԴՐԱՄԱՇՆՈՐՀՆԵՐ | D33: 0 | E33: 0 | F33: 0 | G33: =+G34 -> 40000 | H33: =+H34 -> 40000 | I33: =+I34 -> 0
C34: Ընթացիկ դրամաշնորհներ պետական հատվածի այլ մակարդակներին | D34: 0 | E34: 0 | F34: 0 | G34: =+H34+I34 -> 40000 | H34: 40000 | I34: =+I35 -> 0
C35: - Ընթացիկ դրամաշնորհներ պետական և համայնքների առևտրային կազմակերպություններին | D35: 0 | E35: 0 | F35: 0 | G35: =+H35+I35 -> 40000 | H35: 40000 | I35: 0
B36: 32004 | C36: Գլոբալ հիմնադրամի աջակցությամբ իրականացվող «ՀՀ-ում տուբերկուլյոզի և ՄԻԱՎ/ՁԻԱՀ-ի ծրագրերի հզորացում» դրամաշնորհային ծրագրի շրջանակներում ՀՀ պետական առողջապահական համակարգի կարողությունների զարգացում և տեխնիկական հագեցվածության ապահովում | D36: 0 | E36: 0 | F36: 0 | G36: =H36+I36 -> 70000 | H36: =+H38 -> 70000 | I36: =+I38 -> 0
C37: այդ թվում` ըստ կատարողների | D37: 0 | E37: 0 | F37: 0
C38: ՀՀ առողջապահության նախարարություն | D38: 0 | E38: 0 | F38: 0 | G38: =+H38+I38 -> 70000 | H38: =+H40 -> 70000 | I38: =+I40 -> 0
C39: այդ թվում` բյուջետային ծախսերի տնտեսագիտական դասակարգման հոդվածներ | D39: 0 | E39: 0 | F39: 0
C40: ԸՆԴԱՄԵՆԸ ԾԱԽՍԵՐ | D40: 0 | E40: 0 | F40: 0 | G40: =+H40+I40 -> 70000 | H40: =+H41 -> 70000 | I40: =+I41 -> 0
C41: ՈՉ ՖԻՆԱՆՍԱԿԱՆ ԱԿՏԻՎՆԵՐԻ ԳԾՈՎ ԾԱԽՍԵՐ | D41: 0 | E41: 0 | F41: 0 | G41: =+H41+I41 -> 70000 | H41: =+H42 -> 70000 | I41: =+I42 -> 0
C42: ՀԻՄՆԱԿԱՆ ՄԻՋՈՑՆԵՐ | D42: 0 | E42: 0 | F42: 0 | G42: =+G43 -> 70000 | H42: =+H43 -> 70000 | I42: =+I43 -> 0
C43: ՄԵՔԵՆԱՆԵՐ ԵՎ ՍԱՐՔԱՎՈՐՈՒՄՆԵՐ | D43: 0 | E43: 0 | F43: 0 | G43: =+H43+I43 -> 70000 | H43: 70000 | I43: =+I44 -> 0
C44: - Այլ մեքենաներ և սարքավորումներ | D44: 0 | E44: 0 | F44: 0 | G44: =+H44+I44 -> 70000 | H44: 70000 | I44: 0

Sheet 4
C1: Հավելված N 4
C2: ՀՀ կառավարության 2023 թվականի
C3: ______________ ի ___Ն որոշման
B5: ՀԱՅԱՍՏԱՆԻ ՀԱՆՐԱՊԵՏՈՒԹՅԱՆ ԿԱՌԱՎԱՐՈՒԹՅԱՆ 2022 ԹՎԱԿԱՆԻ ԴԵԿՏԵՄԲԵՐԻ 29-Ի N 2111-Ն ՈՐՈՇՄԱՆ N 9 ՀԱՎԵԼՎԱԾԻ N 9.8 ԱՂՅՈՒՍԱԿՈՒՄ ԿԱՏԱՐՎՈՂ ՓՈՓՈԽՈՒԹՅՈՒՆՆԵՐԸ ԵՎ ԼՐԱՑՈՒՄՆԵՐԸ
A7: Աղյուսակ 9.8
C8: ՀՀ առողջապահության նախարարություն
B9: ՄԱՍ 2. ՊԵՏԱԿԱՆ ՄԱՐՄՆԻ ԳԾՈՎ ԱՐԴՅՈՒՆՔԱՅԻՆ (ԿԱՏԱՐՈՂԱԿԱՆ) ՑՈՒՑԱՆԻՇՆԵՐԸ
B12: Ծրագրի դասիչը | C12: Ծրագրի անվանումը
B13: 1053 | C13: Առողջապահության համակարգի արդիականացման և արդյունավետության բարձրացման ծրագիր
B15: Ծրագրի միջոցառումները
B16: Ծրագրի դասիչը՝ | C16: 1053 | D16: Ցուցանիշների փոփոխությունը (նվազեցումները նշված են փակագծերում)
B17: Միջոցառման դասիչը՝ | C17: 11008 | D17: Ինն ամիս | E17: Տարի
B18: Միջոցառման անվանումը՝ | C18: =+'5'!C18 -> Գլոբալ հիմնադրամի աջակցությամբ իրականացվող «Հայաստանի Հանրապետությունում տուբերկուլյոզի դեմ պայքարի ազգային ծրագրին աջակցություն» դրամաշնորհային ծրագիր
B19: Նկարագրությունը՝ | C19: =+'5'!C19 -> Դեղակայուն տուբերկուլյոզով հիվանդների ամբուլատոր բուժումն իրականացնող մասնագետների վերապատրաստում, դեղակայուն տուբերկուլյոզի կառավարման վերաբերյալ վերապատրաստում արտասահմանում, ՏԲ դեղորայքի կառավարման ոլորտում տեխնիկական աջակցություն
B20: Միջոցառման տեսակը՝ | C20: Ծառայությունների մատուցում
B21: Միջոցառումն իրականացնողի անվանումը | C21: ՀՀ առողջապահության նախարարություն, «Թոքաբանության ազգային կենտրոն» ՊՈԱԿ
B22: Արդյունքի չափորոշիչներ
B23: Միջոցառման վրա կատարվող ծախսը (հազար դրամ) | D23: 0 | E23: =+'5'!E23 -> -110000
B25: Ծրագրի միջոցառումները
B26: Ծրագրի դասիչը՝ | C26: 1053 | D26: =+'5'!D25 -> Ցուցանիշների փոփոխությունը (ավելացումները նշված են դրական նշանով, իսկ նվազեցումները՝ փակագծերում)
B27: Միջոցառման դասիչը՝ | C27: =+'5'!C26 -> 11015 | D27: Ինն ամիս | E27: Տարի
B28: Միջոցառման անվանումը՝ | C28: =+'5'!C27 -> Գլոբալ հիմնադրամի աջակցությամբ իրականացվող «Հայաստանի Հանրապետությունում Covid համավարակի դեմ պայքարի» ծրագիր
B29: Նկարագրությունը՝ | C29: =+'5'!C28 -> COVID համավարակի դեմ պայքարի շրջանակներում բնակչության իրազեկման ծրագիր
B30: Միջոցառման տեսակը՝ | C30: =+'5'!C29 -> Ծառայությունների մատուցում
B31: Միջոցառումն իրականացնողի անվանումը | C31: =+'5'!C30 -> Գլոբալ հիմնադրամի ԾԽՀ, «ԱԿԱԴԵՄԻԿՈՍ Ս. ԱՎԴԱԼՅԱՆԻ ԱՆՎԱՆ ԱՌՈՂՋԱՊԱՀՈՒԹՅԱՆ ԱԶԳԱՅԻՆ ԻՆՍՏԻՏՈՒՏ» ՓԲԸ
B32: Արդյունքի չափորոշիչներ
B33: Առողջության համապարփակ ապահովագրության ներդրման օրենսդրական փաթեթի բարելավման առաջարկությունների փաթեթ, հատ | D33: 0 | E33: 1
B34: ԱԱՊ օղակի բուժանձնակազմի վերապատրաստում` հեռաբժշկության (տելեմեդիցինա) կիրառման վերաբերյալ | D34: 0 | E34: -3000
B35: Միջոցառման վրա կատարվող ծախսը (հազար դրամ) | D35: 0 | E35: =+'5'!E34 -> 40000
B37: Ծրագրի միջոցառումները
B38: Ծրագրի դասիչը՝ | C38: 1053 | D38: =+'5'!D36 -> Ցուցանիշների փոփոխությունը (ավելացումները նշված են դրական նշանով)
B39: Միջոցառման դասիչը՝ | C39: 32004 | D39: Ինն ամիս | E39: Տարի
B40: Միջոցառման անվանումը՝ | C40: =+'5'!C38 -> Գլոբալ հիմնադրամի աջակցությամբ իրականացվող «ՀՀ-ում տուբերկուլյոզի և ՄԻԱՎ/ՁԻԱՀ-ի ծրագրերի հզորացում» դրամաշնորհային ծրագրի շրջանակներում ՀՀ պետական առողջապահական համակարգի կարողությունների զարգացում և տեխնիկական հագեցվածության ապահովում
B41: Նկարագրությունը՝ | C41: =+'5'!C39 -> ՀՀ առողջապահության նախարարության հիվանդանոցային ծառայությունների բարելավման համար բժշկական սարքավորումների ձեռք բերում
B42: Միջոցառման տեսակը՝ | C42: =+'5'!C40 -> Այլ պետական կազմակերպությունների կողմից օգտագործվող ոչ ֆինանսական ակտիվների հետ գործառնություններ
B43: =+'5'!B41 -> Ակտիվն օգտագործող կազմակերպության (ների) անվանում(ներ)ը | C43: =+'5'!C41 -> Ինֆեկցիոն հիվանդությունների ազգային կենտրոն ՓԲԸ, Թոքաբանության ազգային կենտրոն ՊՈԱԿ, Կախվածությունների բուժման ազգային կենտրոն ՓԲԸ
B44: Արդյունքի չափորոշիչներ
B45: Միջոցառման վրա կատարվող ծախսը (հազար դրամ) | D45: 0 | E45: =+'5'!E43 -> 70000

Sheet 5
C1: Հավելված N 5
C2: ՀՀ կառավարության 2023 թվականի
C3: ______________ ի ___Ն որոշման
B5: ՀԱՅԱՍՏԱՆԻ ՀԱՆՐԱՊԵՏՈՒԹՅԱՆ ԿԱՌԱՎԱՐՈՒԹՅԱՆ 2022 ԹՎԱԿԱՆԻ ԴԵԿՏԵՄԲԵՐԻ 29-Ի N 2111-Ն ՈՐՈՇՄԱՆ N 9.1 ՀԱՎԵԼՎԱԾԻ N 9.1.8 ԱՂՅՈՒՍԱԿՈՒՄ ԿԱՏԱՐՎՈՂ ՓՈՓՈԽՈՒԹՅՈՒՆՆԵՐԸ ԵՎ ԼՐԱՑՈՒՄՆԵՐԸ
A7: Աղյուսակ 9․1.8
C8: ՀՀ առողջապահության նախարարություն
B9: ՄԱՍ 1. ՊԵՏԱԿԱՆ ՄԱՐՄՆԻ ԳԾՈՎ ԱՐԴՅՈՒՆՔԱՅԻՆ (ԿԱՏԱՐՈՂԱԿԱՆ) ՑՈՒՑԱՆԻՇՆԵՐԸ
B12: Ծրագրի դասիչը | C12: Ծրագրի անվանումը
B13: 1053 | C13: Առողջապահության համակարգի արդիականացման և արդյունավետության բարձրացման ծրագիր
B15: Ծրագրի միջոցառումները
B16: Ծրագրի դասիչը՝ | C16: 1053 | D16: Ցուցանիշների փոփոխությունը (նվազեցումները նշված են փակագծերում)
B17: Միջոցառման դասիչը՝ | C17: 11008 | D17: Ինն ամիս | E17: Տարի
B18: Միջոցառման անվանումը՝ | C18: Գլոբալ հիմնադրամի աջակցությամբ իրականացվող «Հայաստանի Հանրապետությունում տուբերկուլյոզի դեմ պայքարի ազգային ծրագրին աջակցություն» դրամաշնորհային ծրագիր
B19: Նկարագրությունը՝ | C19: Դեղակայուն տուբերկուլյոզով հիվանդների ամբուլատոր բուժումն իրականացնող մասնագետների վերապատրաստում, դեղակայուն տուբերկուլյոզի կառավարման վերաբերյալ վերապատրաստում արտասահմանում, ՏԲ դեղորայքի կառավարման ոլորտում տեխնիկական աջակցություն
B20: Միջոցառման տեսակը՝ | C20: =+'4'!C20 -> Ծառայությունների մատուցում
B21: =+'4'!B21 -> Միջոցառումն իրականացնողի անվանումը | C21: ՀՀ առողջապահության նախարարություն, «Թոքաբանության ազգային կենտրոն» ՊՈԱԿ
B22: Արդյունքի չափորոշիչներ
B23: Միջոցառման վրա կատարվող ծախսը (հազար դրամ) | D23: 0 | E23: -110000
B25: Ծրագրի դասիչը՝ | C25: 1053 | D25: Ցուցանիշների փոփոխությունը (ավելացումները նշված են դրական նշանով, իսկ նվազեցումները՝ փակագծերում)
B26: Միջոցառման դասիչը՝ | C26: 11015 | D26: Ինն ամիս | E26: Տարի
B27: Միջոցառման անվանումը՝ | C27: Գլոբալ հիմնադրամի աջակցությամբ իրականացվող «Հայաստանի Հանրապետությունում Covid համավարակի դեմ պայքարի» ծրագիր
B28: Նկարագրությունը՝ | C28: COVID համավարակի դեմ պայքարի շրջանակներում բնակչության իրազեկման ծրագիր
B29: Միջոցառման տեսակը՝ | C29: Ծառայությունների մատուցում
B30: Միջոցառումն իրականացնողի անվանումը | C30: Գլոբալ հիմնադրամի ԾԽՀ, «ԱԿԱԴԵՄԻԿՈՍ Ս. ԱՎԴԱԼՅԱՆԻ ԱՆՎԱՆ ԱՌՈՂՋԱՊԱՀՈՒԹՅԱՆ ԱԶԳԱՅԻՆ ԻՆՍՏԻՏՈՒՏ» ՓԲԸ
B31: Արդյունքի չափորոշիչներ
B32: Առողջության համապարփակ ապահովագրության ներդրման օրենսդրական փաթեթի բարելավման առաջարկությունների փաթեթ, հատ | D32: 0 | E32: 1
B33: ԱԱՊ օղակի բուժանձնակազմի վերապատրաստում` հեռաբժշկության (տելեմեդիցինա) կիրառման վերաբերյալ | D33: 0 | E33: -3000
B34: Միջոցառման վրա կատարվող ծախսը (հազար դրամ) | D34: 0 | E34: 40000
B36: Ծրագրի դասիչը՝ | C36: 1053 | D36: Ցուցանիշների փոփոխությունը (ավելացումները նշված են դրական նշանով)
B37: Միջոցառման դասիչը՝ | C37: 32004 | D37: Ինն ամիս | E37: Տարի
B38: Միջոցառման անվանումը՝ | C38: Գլոբալ հիմնադրամի աջակցությամբ իրականացվող «ՀՀ-ում տուբերկուլյոզի և ՄԻԱՎ/ՁԻԱՀ-ի ծրագրերի հզորացում» դրամաշնորհային ծրագրի շրջանակներում ՀՀ պետական առողջապահական համակարգի կարողությունների զարգացում և տեխնիկական հագեցվածության ապահովում
B39: Նկարագրությունը՝ | C39: ՀՀ առողջապահության նախարարության հիվանդանոցային ծառայությունների բարելավման համար բժշկական սարքավորումների ձեռք բերում
B40: Միջոցառման տեսակը՝ | C40: Այլ պետական կազմակերպությունների կողմից օգտագործվող ոչ ֆինանսական ակտիվների հետ գործառնություններ
B41: Ակտիվն օգտագործող կազմակերպության (ների) անվանում(ներ)ը | C41: Ինֆեկցիոն հիվանդությունների ազգային կենտրոն ՓԲԸ, Թոքաբանության ազգային կենտրոն ՊՈԱԿ, Կախվածությունների բուժման ազգային կենտրոն ՓԲԸ
B42: Արդյունքի չափորոշիչներ
B43: Միջոցառման վրա կատարվող ծախսը (հազար դրամ) | D43: 0 | E43: 70000
