Workbook
Name a: #REF!
Name a: #REF!
Name AgencyCode: #REF!
Name AgencyCode: #REF!
Name AgencyCode: #REF!
Name AgencyCode: #REF!
Name AgencyCode: #REF!
Name AgencyCode: #REF!
Name AgencyName: #REF!
Name AgencyName: #REF!
Name AgencyName: #REF!
Name davit: #REF!
Name davit: #REF!
Name Functional1: #REF!
Name Functional1: #REF!
Name Functional1: #REF!
Name ggg: #REF!
Name ggg: #REF!
Name PANature: #REF!
Name PANature: #REF!
Name PANature: #REF!
Name PAType: #REF!
Name PAType: #REF!
Name PAType: #REF!
Name Performance2: #REF!
Name Performance2: #REF!
Name Performance2: #REF!
Name PerformanceType: #REF!
Name PerformanceType: #REF!
Name PerformanceType: #REF!
Name Հավելված: #REF!
Name Հավելված: #REF!
Name Մաս: #REF!
Name Մաս: #REF!
Name շախմատիստ: #REF!
Name շախմատիստ: #REF!

Sheet Հավելված N 1
D1: Հավելված N 1
E2: ՀՀ կառավարության 2023 թվականի
D3: ______________ ի ___Ն որոշման
A6: «ՀԱՅԱUՏԱՆԻ ՀԱՆՐԱՊԵՏՈՒԹՅԱՆ 2023 ԹՎԱԿԱՆԻ ՊԵՏԱԿԱՆ ԲՅՈՒՋԵԻ ՄԱUԻՆ» ՀԱՅԱUՏԱՆԻ ՀԱՆՐԱՊԵՏՈՒԹՅԱՆ OՐԵՆՔԻ N 1 ՀԱՎԵԼՎԱԾԻ N 2 ԱՂՅՈՒՍԱԿՈՒՄ ԿԱՏԱՐՎՈՂ ՎԵՐԱԲԱՇԽՈՒՄԸ ԵՎ ՀԱՅԱՍՏԱՆԻ ՀԱՆՐԱՊԵՏՈՒԹՅԱՆ ԿԱՌԱՎԱՐՈՒԹՅԱՆ 2022 ԹՎԱԿԱՆԻ ԴԵԿՏԵՄԲԵՐԻ 29-Ի N 2111-Ն ՈՐՈՇՄԱՆ N 5 ՀԱՎԵԼՎԱԾԻ N 1 ԱՂՅՈՒՍԱԿՈՒՄ ԿԱՏԱՐՎՈՂ ՓՈՓՈԽՈՒԹՅՈՒՆՆԵՐԸ ԵՎ ԼՐԱՑՈՒՄՆԵՐԸ
E9: հազ. դրամներով
A10: Ծրագրային դասիչը | C10: Բյուջետային հատկացումների գլխավոր կարգադրիչների, ծրագրերի և միջոցառումների անվանումները | D10: Ցուցանիշների փոփոխությունը (ավելացումները նշված են դրական նշանով, իսկ նվազեցումները փակագծերում)
A11: Ծրագիր | B11: Միջոցառում | D11: Ինն ամիս | E11: Տարի
A12: 1192 | C12: ԸՆԴԱՄԵՆԸ | D12: =+D14 -> 0 | E12: =+E14 -> 0
C13: այդ թվում
C14: ՀՀ ԿՐԹՈՒԹՅԱՆ, ԳԻՏՈՒԹՅԱՆ, ՄՇԱԿՈՒՅԹԻ ԵՎ ՍՊՈՐՏԻ ՆԱԽԱՐԱՐՈՒԹՅՈՒՆ | D14: =+D16 -> 0 | E14: =+E16 -> 0
A15: 1183 | C15: Ծրագրի անվանումը`
C16: Ապահով դպրոց | D16: =+D23+D29+D35+D41 -> 0 | E16: =+E23+E29+E35+E41 -> 0
C17: Ծրագրի նպատակը`
C18: Դպրոցներին սպառնացող աղետների ռիսկի կառավարման կարողությունների հզորացում, դպրոցի անձնակազմի և աշակերտների անվտանգության ապահովման մակարդակի բարձրացում՛ կիրառելով ներառական և երեխայակենտրոն մոտեցում
C19: Վերջնական արդյունքի նկարագրությունը`
C20: Դպրոցական միջավայրի բարելավում
C21: Ծրագրի միջոցառումներ
B22: 32002 | C22: Միջոցառման անվանումը`
C23: Կրթական օբյեկտների շենքային ապահովվածության բարելավում | D23: =+'Հավելված N 2'!G24 -> -115900 | E23: =+'Հավելված N 2'!H24 -> -11100
C24: Միջոցառման նկարագրությունը`
C25: Կրթական օբյեկտների շենքերի (մասնաշենքերի) կառուցում (համաշինարարական աշխատանքներ, ջեռուցման համակարգի իրականացում, ներքին հարդարում, տարածքի բարեկարգում) և նախագծում
C26: Միջոցառման տեսակը
C27: Այլ պետական կազմակերպությունների կողմից օգտագործվող ոչ ֆինանսական ակտիվների հետ գործառնություններ
B28: 32003 | C28: Միջոցառման անվանումը`
C29: Փոքրաքանակ երեխաներով համալրված հանրակրթական դպրոցների և կրթահամալիրներ մոդուլային շենքերի կառուցում | D29: =+'Հավելված N 2'!G40 -> 507600 | E29: =+'Հավելված N 2'!H40 -> 407385
C30: Միջոցառման նկարագրությունը`
C31: Կրթական հաստատությունների կառուցում համայնքային կենտրոնների մոդելով
C32: Միջոցառման տեսակը
C33: Այլ պետական կազմակերպությունների կողմից օգտագործվող ոչ ֆինանսական ակտիվների հետ գործառնություններ
B34: 32007 | C34: Միջոցառման անվանումը`
C35: Հանրակրթական կրթություն իրականացնող ուսումնական հաստատությունների նոր մարզադահլիճների կառուցում | D35: =+'Հավելված N 2'!G49 -> 0 | E35: =+'Հավելված N 2'!H49 -> -25425
C36: Միջոցառման նկարագրությունը`
C37: Հանրակրթական ուսուցում իրականացնող ուսումնական հաստատությունների նոր մարզադահլիճների կառուցման նախագծանախահաշվային փաստաթղթերի մշակում
C38: Միջոցառման տեսակը
C39: Այլ պետական կազմակերպությունների կողմից օգտագործվող ոչ ֆինանսական ակտիվների հետ գործառնություններ
B40: 32013 | C40: Միջոցառման անվանումը`
C41: ՀՀ մարզերում կրթական որակյալ ծառայությունների հասանելիության ապահովման ծրագրի շրջանակներում կրթական կենտրոնների ստեղծում | D41: =+'Հավելված N 2'!G58 -> -391700 | E41: =+'Հավելված N 2'!H58 -> -370860
C42: Միջոցառման նկարագրությունը`
C43: ՀՀ մարզերում կրթական որակյալ ծառայությունների հասանելիության ապահովման ծրագրի շրջանակներում հանրակրթական և նախադպրոցական կրթության հասանելիության ապահովման նպատակով կրթական կենտրոնների կառուցում
C44: Միջոցառման տեսակը
C45: Այլ պետական կազմակերպությունների կողմից օգտագործվող ոչ ֆինանսական ակտիվների հետ գործառնություններ

Sheet Հավելված N 2
F1: Հավելված N 2
F2: ՀՀ կառավարության 2023 թվականի
F3: ______________ ի ___Ն որոշման
A6: ՀԱՅԱՍՏԱՆԻ ՀԱՆՐԱՊԵՏՈՒԹՅԱՆ ԿԱՌԱՎԱՐՈՒԹՅԱՆ 2022 ԹՎԱԿԱՆԻ ԴԵԿՏԵՄԲԵՐԻ 29-Ի N2111-Ն ՈՐՈՇՄԱՆ N 3 ԵՎ N 4 ՀԱՎԵԼՎԱԾՆԵՐՈՒՄ ԿԱՏԱՐՎՈՂ ՓՈՓՈԽՈՒԹՅՈՒՆՆԵՐԸ ԵՎ ԼՐԱՑՈՒՄՆԵՐԸ
H8: հազ. դրամներով
A9: Գործառական դասիչը | D9: Ծրագրային դասիչը | F9: Բյուջետային հատկացումների գլխավոր կարգադրիչների, ծրագրերի, միջոցառումների և միջոցառումները կատարող պետական մարմինների անվանումները | G9: Ցուցանիշների փոփոխությունը (ավելացումները նշված են դրական նշանով, իսկ նվազեցումները փակագծերում)
A10: Բաժին | B10: Խումբ | C10: Դաս | D10: Ծրագիր | E10: Միջոցառում | G10: Ինն ամիս | H10: Տարի
F11: ԸՆԴԱՄԵՆԸ | G11: =+G13 -> 0 | H11: =+H13 -> 0
F12: այդ թվում
F13: ՀՀ ԿՐԹՈՒԹՅԱՆ, ԳԻՏՈՒԹՅԱՆ, ՄՇԱԿՈՒՅԹԻ ԵՎ ՍՊՈՐՏԻ ՆԱԽԱՐԱՐՈՒԹՅՈՒՆ | G13: =+G14 -> 0 | H13: =+H14 -> 0
A14: 09 | F14: ԿՐԹՈՒԹՅՈՒՆ | G14: =+G16 -> 0 | H14: =+H16 -> 0
F15: այդ թվում`
B16: 06 | F16: Կրթությանը տրամադրվող օժանդակ ծառայություններ | G16: =+G18 -> 0 | H16: =+H18 -> 0
F17: այդ թվում`
C18: 01 | F18: Կրթությանը տրամադրվող օժանդակ ծառայություններ | G18: =+G20 -> 0 | H18: =+H20 -> 0
F19: այդ թվում`
F20: ՀՀ կրթության, գիտության, մշակույթի և սպորտի նախարարություն | G20: =+G22 -> 0 | H20: =+H22 -> 0
F21: այդ թվում`
D22: 1183 | E22: Ապահով դպրոց | G22: =+G24+G40+G49+G58 -> 0 | H22: =+H24+H40+H49+H58 -> 0
F23: այդ թվում`
E24: 32002 | F24: Կրթական օբյեկտների շենքային ապահովվածության բարելավում | G24: =+G26+G33 -> -115900 | H24: =+H26+H33 -> -11100
F25: այդ թվում` ըստ կատարողների
F26: ՀՀ քաղաքաշինության կոմիտե | G26: =+G28 -> -115900 | H26: =+H28 -> -159600
F27: այդ թվում՝ բյուջետային ծախսերի տնտեսագիտական դասակարգման հոդվածներ
F28: ԸՆԴԱՄԵՆԸ ԾԱԽՍԵՐ | G28: =+G29 -> -115900 | H28: =+H29 -> -159600
F29: ՈՉ ՖԻՆԱՆՍԱԿԱՆ ԱԿՏԻՎՆԵՐԻ ԳԾՈՎ ԾԱԽՍԵՐ | G29: =+G30 -> -115900 | H29: =+H30 -> -159600
F30: ՀԻՄՆԱԿԱՆ ՄԻՋՈՑՆԵՐ | G30: =+G31 -> -115900 | H30: =+H31 -> -159600
F31: ԱՅԼ ՀԻՄՆԱԿԱՆ ՄԻՋՈՑՆԵՐ | G31: =+G32 -> -115900 | H31: =+H32 -> -159600
F32: - Նախագծահետազոտական ծախսեր | G32: =+'Հավելված N 4'!E14 -> -115900 | H32: =+'Հավելված N 4'!F14 -> -159600
F33: ՀՀ տարարծքային կառավարման և ենթակառուցվածքների նախարարություն | G33: =+G35 -> 0 | H33: =+H35 -> 148500
F34: այդ թվում՝ բյուջետային ծախսերի տնտեսագիտական դասակարգման հոդվածներ
F35: ԸՆԴԱՄԵՆԸ ԾԱԽՍԵՐ | G35: =+G36 -> 0 | H35: =+H36 -> 148500
F36: ՈՉ ՖԻՆԱՆՍԱԿԱՆ ԱԿՏԻՎՆԵՐԻ ԳԾՈՎ ԾԱԽՍԵՐ | G36: =+G37 -> 0 | H36: =+H37 -> 148500
F37: ՀԻՄՆԱԿԱՆ ՄԻՋՈՑՆԵՐ | G37: =+G38 -> 0 | H37: =+H38 -> 148500
F38: ԱՅԼ ՀԻՄՆԱԿԱՆ ՄԻՋՈՑՆԵՐ | G38: =+G39 -> 0 | H38: =+H39 -> 148500
F39: - Նախագծահետազոտական ծախսեր | G39: =+'Հավելված N 4'!E44 -> 0 | H39: =+'Հավելված N 4'!F44 -> 148500
E40: 32003 | F40: Փոքրաքանակ երեխաներով համալրված հանրակրթական դպրոցների և կրթահամալիրների մոդուլային շենքերի կառուցում | G40: =+G42 -> 507600 | H40: =+H42 -> 407385
F41: այդ թվում` ըստ կատարողների
F42: ՀՀ կառավարություն | G42: =+G44 -> 507600 | H42: =+H44 -> 407385
F43: այդ թվում՝ բյուջետային ծախսերի տնտեսագիտական դասակարգման հոդվածներ
F44: ԸՆԴԱՄԵՆԸ ԾԱԽՍԵՐ | G44: =+G45 -> 507600 | H44: =+H45 -> 407385
F45: ՈՉ ՖԻՆԱՆՍԱԿԱՆ ԱԿՏԻՎՆԵՐԻ ԳԾՈՎ ԾԱԽՍԵՐ | G45: =+G46 -> 507600 | H45: =+H46 -> 407385
F46: ՀԻՄՆԱԿԱՆ ՄԻՋՈՑՆԵՐ | G46: =+G47 -> 507600 | H46: =+H47 -> 407385
F47: ՇԵՆՔԵՐ ԵՎ ՇԻՆՈՒԹՅՈՒՆՆԵՐ | G47: =+G48 -> 507600 | H47: =+H48 -> 407385
F48: - Շենքերի և շինությունների շինարարություն | G48: =+'Հավելված N 4'!E53 -> 507600 | H48: =+'Հավելված N 4'!F53 -> 407385
E49: 32007 | F49: Հանրակրթական կրթություն իրականացնող ուսումնական հաստատությունների նոր մարզադահլիճների կառուցում | G49: =+G51 -> 0 | H49: =+H51 -> -25425
F50: այդ թվում` ըստ կատարողների
F51: ՀՀ քաղաքաշինության կոմիտե | G51: =+G53 -> 0 | H51: =+H53 -> -25425
F52: այդ թվում՝ բյուջետային ծախսերի տնտեսագիտական դասակարգման հոդվածներ
F53: ԸՆԴԱՄԵՆԸ ԾԱԽՍԵՐ | G53: =+G54 -> 0 | H53: =+H54 -> -25425
F54: ՈՉ ՖԻՆԱՆՍԱԿԱՆ ԱԿՏԻՎՆԵՐԻ ԳԾՈՎ ԾԱԽՍԵՐ | G54: =+G55 -> 0 | H54: =+H55 -> -25425
F55: ՀԻՄՆԱԿԱՆ ՄԻՋՈՑՆԵՐ | G55: =+G56 -> 0 | H55: =+H56 -> -25425
F56: ԱՅԼ ՀԻՄՆԱԿԱՆ ՄԻՋՈՑՆԵՐ | G56: =+G57 -> 0 | H56: =+H57 -> -25425
F57: - Նախագծահետազոտական ծախսեր | G57: =+'Հավելված N 4'!E56 -> 0 | H57: =+'Հավելված N 4'!F56 -> -25425
E58: 32013 | F58: ՀՀ մարզերում կրթական որակյալ ծառայությունների հասանելիության ապահովման ծրագրի շրջանակներում կրթական կենտրոնների ստեղծում | G58: =+G60 -> -391700 | H58: =+H60 -> -370860
F59: այդ թվում` ըստ կատարողների
F60: ՀՀ քաղաքաշինության կոմիտե | G60: =+G62 -> -391700 | H60: =+H62 -> -370860
F61: այդ թվում՝ բյուջետային ծախսերի տնտեսագիտական դասակարգման հոդվածներ
F62: ԸՆԴԱՄԵՆԸ ԾԱԽՍԵՐ | G62: =+G63 -> -391700 | H62: =+H63 -> -370860
F63: ՈՉ ՖԻՆԱՆՍԱԿԱՆ ԱԿՏԻՎՆԵՐԻ ԳԾՈՎ ԾԱԽՍԵՐ | G63: =+G64 -> -391700 | H63: =+H64 -> -370860
F64: ՀԻՄՆԱԿԱՆ ՄԻՋՈՑՆԵՐ | G64: =+G65 -> -391700 | H64: =+H65 -> -370860
F65: ԱՅԼ ՀԻՄՆԱԿԱՆ ՄԻՋՈՑՆԵՐ | G65: =+G66 -> -391700 | H65: =+H66 -> -370860
F66: - Նախագծահետազոտական ծախսեր | G66: =+'Հավելված N 4'!E66 -> -391700 | H66: =+'Հավելված N 4'!F66 -> -370860

Sheet Հավելված N 3
F1: Հավելված N 3
F2: ՀՀ կառավարության 2023 թվականի
F3: ______________ ի ___Ն որոշման
A5: «ՀԱՅԱUՏԱՆԻ ՀԱՆՐԱՊԵՏՈՒԹՅԱՆ 2023 ԹՎԱԿԱՆԻ ՊԵՏԱԿԱՆ ԲՅՈՒՋԵԻ ՄԱUԻՆ» ՀԱՅԱUՏԱՆԻ ՀԱՆՐԱՊԵՏՈՒԹՅԱՆ OՐԵՆՔԻ N 1 ՀԱՎԵԼՎԱԾԻ N 3 ԱՂՅՈՒՍԱԿՈՒՄ ԿԱՏԱՐՎՈՂ ՓՈՓՈԽՈՒԹՅՈՒՆՆԵՐԸ ԵՎ ԼՐԱՑՈՒՄՆԵՐԸ
G8: հազ. դրամներով
A9: Ծրագրային դասիչ | C9: Բյուջետային գլխավոր կարգադրիչների, ծրագրերի, միջոցառումների, միջոցառումները կատարող պետական մարմինների և ուղղությունների անվանումները | D9: Ընդամենը | E9: Ցուցանիշների փոփոխությունը (ավելացումները նշված են դրական նշանով, իսկ նվազեցումները՝ փակագծերում)
A10: Ծրագիր | B10: Միջոցառում | E10: Կառուցման աշխատանքներ | F10: Վերակառուցման, վերանորոգման և վերականգնման աշխատանքներ | G10: Նախագծահե- տազոտական, գեոդեզիա- քարտեզագրա- կան աշխա- տանքներ | H10: Ոչ ֆինանսական այլ ակտիվների ձեռքբերում
C11: ԸՆԴԱՄԵՆԸ | D11: =SUM(E11:H11) -> 0 | E11: =+E13 -> 407385 | F11: =+F13 -> 0 | G11: =+G13 -> -407385 | H11: =+H13 -> 0
C12: այդ թվում՝
C13: ՀՀ ԿՐԹՈՒԹՅԱՆ, ԳԻՏՈՒԹՅԱՆ, ՄՇԱԿՈՒՅԹԻ ԵՎ ՍՊՈՐՏԻ ՆԱԽԱՐԱՐՈՒԹՅՈՒՆ | D13: =SUM(E13:H13) -> 0 | E13: =+E15+E46+E49+E57 -> 407385 | F13: =+F15+F46+F49+F57 -> 0 | G13: =+G15+G46+G49+G57 -> -407385 | H13: =+H15+H46+H49+H57 -> 0
C14: այդ թվում`
A15: 1183 | B15: 32002 | C15: Կրթական օբյեկտների շենքային ապահովվածության բարելավում | D15: =SUM(E15:H15) -> -11100 | E15: =+E17+E26+E36+E43 -> 0 | F15: =+F17+F26+F36+F43 -> 0 | G15: =+G17+G26+G36+G43 -> -11100 | H15: =+H17+H26+H36+H43 -> 0
C16: այդ թվում`
C17: ՀՀ Արարատի մարզ | D17: =SUM(E17:H17) -> -94900 | E17: =SUM(E18:E25) -> 0 | F17: =SUM(F18:F25) -> 0 | G17: =SUM(G18:G25) -> -94900 | H17: =SUM(H18:H25) -> 0
C18: Ջրաշեն բնակավայրի միջնակարգ դպրոց | D18: =+E18+F18+G18+H18 -> -9500 | G18: -9500
C19: Գեղանիստ բնակավայրի միջնակարգ դպրոց | D19: =+E19+F19+G19+H19 -> -13700 | G19: -13700
C20: Ոսկետափ բնակավայրի միջնակարգ դպրոց | D20: =+E20+F20+G20+H20 -> -13700 | G20: -13700
C21: Ջրահովիտ բնակավայրի միջնակարգ դպրոց | D21: =+E21+F21+G21+H21 -> -11600 | G21: -11600
C22: Վերին Դվին բնակավայրի միջնակարգ դպրոց | D22: =+E22+F22+G22+H22 -> -11600 | G22: -11600
C23: Գետազատ բնակավայրի միջնակարգ դպրոց | D23: =+E23+F23+G23+H23 -> -9500 | G23: -9500
C24: Այգեստան բնակավայրի միջնակարգ դպրոց | D24: =+E24+F24+G24+H24 -> -11600 | G24: -11600
C25: Արարատ գյուղի միջնակարգ դպրոց | D25: =+E25+F25+G25+H25 -> -13700 | G25: -13700
C26: ՀՀ Շիրակի մարզ | D26: =SUM(E26:H26) -> -89700 | E26: =SUM(E27:E35) -> 0 | F26: =SUM(F27:F35) -> 0 | G26: =SUM(G27:G35) -> -89700 | H26: =SUM(H27:H35) -> 0
C27: գ․ Սարատակի միջնակարգ դպրոց | D27: =+E27+F27+G27+H27 -> -9500 | G27: -9500
C28: գ․ Ամասիայի միջնակարգ դպրոց | D28: =+E28+F28+G28+H28 -> -9500 | G28: -9500
C29: գ․ Ջրափիի միջնակարգ դպրոց | D29: =+E29+F29+G29+H29 -> -9500 | G29: -9500
C30: գ․ Շիրակավանի միջնակարգ դպրոց | D30: =+E30+F30+G30+H30 -> -9500 | G30: -9500
C31: գ․ Երազգավորսի միջնակարգ դպրոց | D31: =+E31+F31+G31+H31 -> -11600 | G31: -11600
C32: ք. Գյումրու Գ.Սարյանի անվան թիվ 24 հիմնական դպրոց | D32: =+E32+F32+G32+H32 -> -9500 | G32: -9500
C33: գ․ Մայիսյանի միջնակարգ դպրոց | D33: =+E33+F33+G33+H33 -> -9500 | G33: -9500
C34: գ․ Փոքր Մանթաշի միջնակարգ դպրոց | D34: =+E34+F34+G34+H34 -> -9500 | G34: -9500
C35: գ․ Սառնաղբյուրի միջնակարգ դպրոց | D35: =+E35+F35+G35+H35 -> -11600 | G35: -11600
C36: ՀՀ Սյունիքի մարզ | D36: =SUM(E36:H36) -> 194600 | E36: =SUM(E37:E42) -> 0 | F36: =SUM(F37:F42) -> 0 | G36: =SUM(G37:G42) -> 194600 | H36: =SUM(H37:H42) -> 0
C37: «ք. Կապանի թիվ 1 հիմնական դպրոց» ՊՈԱԿ | D37: =+E37+F37+G37+H37 -> -13700 | G37: -13700
C38: «ք. Կապանի թիվ 6 հիմնական դպրոց» ՊՈԱԿ | D38: =+E38+F38+G38+H38 -> -13700 | G38: -13700
C39: «ք. Ագարակի միջնակարգ դպրոց» ՊՈԱԿ | D39: =+E39+F39+G39+H39 -> 61700 | G39: =+'Հավելված N 7'!I31+'Հավելված N 7'!I34 -> 61700
C40: «գ. Շաղաթի միջնակարգ դպրոց» ՊՈԱԿ | D40: =+E40+F40+G40+H40 -> 37000 | G40: =+'Հավելված N 7'!I17+'Հավելված N 7'!I19 -> 37000
C41: «գ. Շինուհայրի միջնակարգ դպրոց» ՊՈԱԿ | D41: =+E41+F41+G41+H41 -> 65800 | G41: =+'Հավելված N 7'!I33+'Հավելված N 7'!I36 -> 65800
C42: «գ. Խնձորեսկի միջնակարգ դպրոց» ՊՈԱԿ | D42: =+E42+F42+G42+H42 -> 57500 | G42: =+'Հավելված N 7'!I18+'Հավելված N 7'!I20 -> 57500
C43: ՀՀ Վայոց Ձորի մարզ | D43: =SUM(E43:H43) -> -21100 | E43: =SUM(E44:E45) -> 0 | F43: =SUM(F44:F45) -> 0 | G43: =SUM(G44:G45) -> -21100 | H43: =SUM(H44:H45) -> 0
C44: ք. Վայքի միջնակարգ դպրոց (գ. Վայքի ավագ դպրոցի տեղակայման վայրում) | D44: =+E44+F44+G44+H44 -> -11600 | G44: -11600
C45: գ. Արենիի մինակարգ դպրոց | D45: =+E45+F45+G45+H45 -> -9500 | G45: -9500
A46: 1183 | B46: 32003 | C46: Փոքրաքանակ երեխաներով համալրված հանրակրթական դպրոցների և կրթահամալիրների մոդուլային շենքերի կառուցում | D46: =SUM(E46:H46) -> 407385 | E46: =+E48 -> 407385 | F46: =+F48 -> 0 | G46: =+G48 -> 0 | H46: =+H48 -> 0
C47: այդ թվում`
C48: Փոքրաքանակ երեխաներով համալրված հանրակրթական դպրոցների և կրթահամալիրների մոդուլային շենքերի կառուցում | D48: =+E48+F48+G48+H48 -> 407385 | E48: =-D15-D49-D57 -> 407385
A49: 1183 | B49: 32007 | C49: Հանրակրթական կրթություն իրականացնող ուսումնական հաստատությունների նոր մարզադահլիճների կառուցում | D49: =SUM(E49:H49) -> -25425 | E49: =+E51 -> 0 | F49: =+F51 -> 0 | G49: =+G51 -> -25425 | H49: =+H51 -> 0
C50: այդ թվում`
C51: ՀՀ Շիրակի մարզ | D51: =SUM(E51:H51) -> -25425 | E51: =SUM(E52:E56) -> 0 | F51: =SUM(F52:F56) -> 0 | G51: =SUM(G52:G56) -> -25425 | H51: =SUM(H52:H56) -> 0
C52: գ. Ջաջուռի միջնակարգ դպրոց | D52: =+E52+F52+G52+H52 -> -5085 | G52: -5085
C53: գ. Մուսայելյանի միջնակարգ դպրոց | D53: =+E53+F53+G53+H53 -> -5085 | G53: -5085
C54: գ. Կառնուտի միջնակարգ դպրոց | D54: =+E54+F54+G54+H54 -> -5085 | G54: -5085
C55: գ. Սարալանջի միջնակարգ դպրոց | D55: =+E55+F55+G55+H55 -> -5085 | G55: -5085
C56: գ. Ցողամարգի միջնակարգ դպրոց | D56: =+E56+F56+G56+H56 -> -5085 | G56: -5085
A57: 1183 | B57: 32013 | C57: ՀՀ մարզերում կրթական որակյալ ծառայությունների հասանելիության ապահովման ծրագրի շրջանակներում կրթական կենտրոնների ստեղծում | D57: =SUM(E57:H57) -> -370860 | E57: =+E59+E60+E64+E69+E94 -> 0 | F57: =+F59+F60+F64+F69+F94 -> 0 | G57: =+G59+G60+G64+G69+G94 -> -370860 | H57: =+H59+H60+H64+H69+H94 -> 0
C58: այդ թվում`
C59: 144 տեղ հզորությամբ մոդուլային կրթահամալիրի կառուցման նախագծի լրամշակում (վերափոխում 200 տեղ հզորության) | D59: =SUM(E59:H59) -> 25440 | E59: =SUM(E60:E61) -> 0 | F59: =SUM(F60:F61) -> 0 | G59: =+'Հավելված N 7'!I23+'Հավելված N 7'!I25 -> 25440 | H59: =SUM(H60:H61) -> 0
C60: ՀՀ Արարատի մարզ | D60: =SUM(E60:H60) -> -19100 | E60: =SUM(E61:E63) -> 0 | F60: =SUM(F61:F63) -> 0 | G60: =SUM(G61:G63) -> -19100 | H60: =SUM(H61:H63) -> 0
C61: Պարույր Սևակ բնակավայրի կրթահամալիր | D61: =+E61+F61+G61+H61 -> -4800 | G61: -4800
C62: Լուսաշող բնակավայրի կրթահամալիր | D62: =+E62+F62+G62+H62 -> -4800 | G62: -4800
C63: Նոր կյուրին բնակավայրի կրթահամալիր | D63: =+E63+F63+G63+H63 -> -9500 | G63: -9500
C64: ՀՀ Շիրակի մարզ | D64: =SUM(E64:H64) -> -20900 | E64: =SUM(E65:E68) -> 0 | F64: =SUM(F65:F68) -> 0 | G64: =SUM(G65:G68) -> -20900 | H64: =SUM(H65:H68) -> 0
C65: գ. Քեթիի կրթահամալիր | D65: =+E65+F65+G65+H65 -> -4800 | G65: -4800
C66: գ. Հայրենյացի կրթահամալիր | D66: =+E66+F66+G66+H66 -> -5400 | G66: -5400
C67: գ. Բյուրակնի կրթահամալիր | D67: =+E67+F67+G67+H67 -> -5400 | G67: -5400
C68: գ. Բավրայի կրթահամալիր | D68: =+E68+F68+G68+H68 -> -5300 | G68: -5300
C69: ՀՀ Սյունիքի մարզ | D69: =SUM(E69:H69) -> -336500 | E69: =SUM(E70:E93) -> 0 | F69: =SUM(F70:F93) -> 0 | G69: =SUM(G70:G93) -> -336500 | H69: =SUM(H70:H93) -> 0
C70: Կապան համայնքի Սյունիքի կրթահամալիր | D70: =+E70+F70+G70+H70 -> -4800 | G70: -4800
C71: Կապան համայնքի Արծվանիկի կրթահամալիր | D71: =+E71+F71+G71+H71 -> -4800 | G71: -4800
C72: Կապան համայնքի Նորաշենիկի կրթահամալիր | D72: =+E72+F72+G72+H72 -> -4800 | G72: -4800
C73: Կապան համայնքի Աճանանի կրթահամալիր | D73: =+E73+F73+G73+H73 -> -4800 | G73: -4800
C74: Կապան համայնքի Գեղանուշի կրթահամալիր | D74: =+E74+F74+G74+H74 -> -4800 | G74: -4800
C75: Կապան համայնքի Ծավի կրթահամալիր | D75: =+E75+F75+G75+H75 -> -4800 | G75: -4800
C76: Կապան համայնքի Եղվարդի կրթահամալիր | D76: =+E76+F76+G76+H76 -> -4800 | G76: -4800
C77: Սիսիան համայնքի Շաղաթի կրթահամալիր | D77: =+E77+F77+G77+H77 -> -37000 | G77: -37000
C78: Սիսիան համայնքի Անգեղակոթի կրթահամալիր | D78: =+E78+F78+G78+H78 -> -4800 | G78: -4800
C79: Սիսիան համայնքի Բռնակոթի կրթահամալիր | D79: =+E79+F79+G79+H79 -> -4800 | G79: -4800
C80: Տաթև համայնքի Տաթևի կրթահամալիր | D80: =+E80+F80+G80+H80 -> -4800 | G80: -4800
C81: Տաթև համայնքի Հալիձորի կրթահամալիր | D81: =+E81+F81+G81+H81 -> -4800 | G81: -4800
... C92: Սիսիան համայնքի Շաքիի կրթահամալիր | D92: =+E92+F92+G92+H92 -> -32900 | G92: -32900
C93: Սիսիան համայնքի Շաքիի կրթահամալիր | D93: =+E93+F93+G93+H93 -> 4800 | G93: =+'Հավելված N 7'!I24+'Հավելված N 7'!I26 -> 4800
C94: ՀՀ Վայոց Ձորի մարզ | D94: =SUM(E94:H94) -> -19800 | E94: =SUM(E95:E98) -> 0 | F94: =SUM(F95:F98) -> 0 | G94: =SUM(G95:G98) -> -19800 | H94: =SUM(H95:H98) -> 0
C95: գ. Արտաբույնքի կրթահամալիր | D95: =+E95+F95+G95+H95 -> -4800 | G95: -4800
C96: գ. Քարագլխի կրթահամալիր | D96: =+E96+F96+G96+H96 -> -5400 | G96: -5400
C97: գ. Արփիի կրթահամալիր | D97: =+E97+F97+G97+H97 -> -4800 | G97: -4800
C98: գ. Մարտիրոսի կրթահամալիր | D98: =+E98+F98+G98+H98 -> -4800 | G98: -4800

Sheet Հավելված N 4
D1: Հավելված N 4
D2: ՀՀ կառավարության 2023 թվականի
D3: ______________ ի ___Ն որոշման
B5: ՀԱՅԱՍՏԱՆԻ ՀԱՆՐԱՊԵՏՈՒԹՅԱՆ ԿԱՌԱՎԱՐՈՒԹՅԱՆ 2022 ԹՎԱԿԱՆԻ ԴԵԿՏԵՄԲԵՐԻ 29-Ի N 2111-Ն ՈՐՈՇՄԱՆ N 5 ՀԱՎԵԼՎԱԾԻ N 2 ԱՂՅՈՒՍԱԿՈՒՄ ԿԱՏԱՐՎՈՂ ՓՈՓՈԽՈՒԹՅՈՒՆՆԵՐԸ ԵՎ ԼՐԱՑՈՒՄՆԵՐԸ
F7: հազ. դրամներով
B8: Ծրագրային դասիչ | D8: Բյուջետային գլխավոր կարգադրիչների, ծրագրերի, միջոցառումների, միջոցառումները կատարող պետական մարմինների և ուղղությունների անվանումները | E8: Ցուցանիշների փոփոխությունը (ավելացումները նշված են դրական նշանով, իսկ նվազեցումները փակագծերում)
B9: Ծրագիր | C9: Միջոցառում | E9: Ինն ամիս | F9: Տարի
D10: ՀՀ ԿՐԹՈՒԹՅԱՆ, ԳԻՏՈՒԹՅԱՆ, ՄՇԱԿՈՒՅԹԻ ԵՎ ՍՊՈՐՏԻ ՆԱԽԱՐԱՐՈՒԹՅՈՒՆ | E10: =+E12+E51+E54+E64 -> 0 | F10: =+F12+F51+F54+F64 -> 0
D11: այդ թվում՝
B12: 1183 | C12: 32002 | D12: Կրթական օբյեկտների շենքային ապահովվածության բարելավում | E12: =+E14+E44 -> -115900 | F12: =+F14+F44 -> -11100
D13: այդ թվում` ըստ կատարողների
D14: ՀՀ քաղաքաշինության կոմիտե | E14: =+E16+E26+E36+E41 -> -115900 | F14: =+F16+F26+F36+F41 -> -159600
D15: այդ թվում՝ ըստ ուղղությունների
D16: ՀՀ Արարատի մարզ | E16: =SUM(E17:E25) -> -115900 | F16: =SUM(F17:F25) -> -115900
D17: =+'Հավելված N 3'!C18 -> Ջրաշեն բնակավայրի միջնակարգ դպրոց | E17: =+F17 -> -9500 | F17: =+'Հավելված N 3'!D18 -> -9500
D18: =+'Հավելված N 3'!C19 -> Գեղանիստ բնակավայրի միջնակարգ դպրոց | E18: =+F18 -> -13700 | F18: =+'Հավելված N 3'!D19 -> -13700
D19: =+'Հավելված N 3'!C20 -> Ոսկետափ բնակավայրի միջնակարգ դպրոց | E19: =+F19 -> -13700 | F19: =+'Հավելված N 3'!D20 -> -13700
D20: =+'Հավելված N 3'!C21 -> Ջրահովիտ բնակավայրի միջնակարգ դպրոց | E20: =+F20 -> -11600 | F20: =+'Հավելված N 3'!D21 -> -11600
D21: =+'Հավելված N 3'!C22 -> Վերին Դվին բնակավայրի միջնակարգ դպրոց | E21: =+F21 -> -11600 | F21: =+'Հավելված N 3'!D22 -> -11600
D22: =+'Հավելված N 3'!C23 -> Գետազատ բնակավայրի միջնակարգ դպրոց | E22: =+F22 -> -9500 | F22: =+'Հավելված N 3'!D23 -> -9500
D23: =+'Հավելված N 3'!C24 -> Այգեստան բնակավայրի միջնակարգ դպրոց | E23: =+F23 -> -11600 | F23: =+'Հավելված N 3'!D24 -> -11600
D24: =+'Հավելված N 3'!C25 -> Արարատ գյուղի միջնակարգ դպրոց | E24: =+F24 -> -13700 | F24: =+'Հավելված N 3'!D25 -> -13700
D25: Արտաշատի թիվ 1 հիմնական դպրոց | E25: =+F25 -> -21000 | F25: -21000
D26: ՀՀ Շիրակի մարզ | E26: =SUM(E27:E35) -> 0 | F26: =SUM(F27:F35) -> -89700
D27: =+'Հավելված N 3'!C27 -> գ․ Սարատակի միջնակարգ դպրոց | E27: 0 | F27: =+'Հավելված N 3'!D27 -> -9500
D28: =+'Հավելված N 3'!C28 -> գ․ Ամասիայի միջնակարգ դպրոց | E28: 0 | F28: =+'Հավելված N 3'!D28 -> -9500
D29: =+'Հավելված N 3'!C29 -> գ․ Ջրափիի միջնակարգ դպրոց | E29: 0 | F29: =+'Հավելված N 3'!D29 -> -9500
D30: =+'Հավելված N 3'!C30 -> գ․ Շիրակավանի միջնակարգ դպրոց | E30: 0 | F30: =+'Հավելված N 3'!D30 -> -9500
D31: =+'Հավելված N 3'!C31 -> գ․ Երազգավորսի միջնակարգ դպրոց | E31: 0 | F31: =+'Հավելված N 3'!D31 -> -11600
D32: =+'Հավելված N 3'!C32 -> ք. Գյումրու Գ.Սարյանի անվան թիվ 24 հիմնական դպրոց | E32: 0 | F32: =+'Հավելված N 3'!D32 -> -9500
D33: =+'Հավելված N 3'!C33 -> գ․ Մայիսյանի միջնակարգ դպրոց | E33: 0 | F33: =+'Հավելված N 3'!D33 -> -9500
D34: =+'Հավելված N 3'!C34 -> գ․ Փոքր Մանթաշի միջնակարգ դպրոց | E34: 0 | F34: =+'Հավելված N 3'!D34 -> -9500
D35: =+'Հավելված N 3'!C35 -> գ․ Սառնաղբյուրի միջնակարգ դպրոց | E35: 0 | F35: =+'Հավելված N 3'!D35 -> -11600
D36: ՀՀ Սյունիքի մարզ | E36: =SUM(E37:E40) -> 0 | F36: =SUM(F37:F40) -> 67100
D37: =+'Հավելված N 3'!C37 -> «ք. Կապանի թիվ 1 հիմնական դպրոց» ՊՈԱԿ | E37: 0 | F37: =+'Հավելված N 3'!D37 -> -13700
D38: =+'Հավելված N 3'!C38 -> «ք. Կապանի թիվ 6 հիմնական դպրոց» ՊՈԱԿ | E38: 0 | F38: =+'Հավելված N 3'!D38 -> -13700
D39: =+'Հավելված N 3'!C40 -> «գ. Շաղաթի միջնակարգ դպրոց» ՊՈԱԿ | E39: 0 | F39: =+'Հավելված N 3'!D40 -> 37000
D40: =+'Հավելված N 3'!C42 -> «գ. Խնձորեսկի միջնակարգ դպրոց» ՊՈԱԿ | E40: 0 | F40: =+'Հավելված N 3'!D42 -> 57500
D41: ՀՀ Վայոց Ձորի մարզ | E41: =SUM(E42:E43) -> 0 | F41: =SUM(F42:F43) -> -21100
D42: =+'Հավելված N 3'!C44 -> ք. Վայքի միջնակարգ դպրոց (գ. Վայքի ավագ դպրոցի տեղակայման վայրում) | E42: 0 | F42: =+'Հավելված N 3'!D44 -> -11600
D43: =+'Հավելված N 3'!C45 -> գ. Արենիի մինակարգ դպրոց | E43: 0 | F43: =+'Հավելված N 3'!D45 -> -9500
D44: ՀՀ տարածքային կառավարման և ենթակառուցվածքների նախարարություն | E44: =+E46+E48 -> 0 | F44: =+F46+F48 -> 148500
D45: այդ թվում՝ ըստ ուղղությունների
D46: ՀՀ Արարատի մարզ | E46: =+E47 -> 0 | F46: =+F47 -> 21000
D47: Արտաշատի թիվ 1 հիմնական դպրոց | E47: 0 | F47: =+'Հավելված N 7'!I32+'Հավելված N 7'!I35 -> 21000
D48: ՀՀ Սյունիքի մարզ | E48: =SUM(D49:E50) -> 0 | F48: =SUM(E49:F50) -> 127500
D49: =+'Հավելված N 3'!C41 -> «գ. Շինուհայրի միջնակարգ դպրոց» ՊՈԱԿ | E49: 0 | F49: =+'Հավելված N 3'!D41 -> 65800
D50: =+'Հավելված N 3'!C39 -> «ք. Ագարակի միջնակարգ դպրոց» ՊՈԱԿ | E50: 0 | F50: =+'Հավելված N 3'!D39 -> 61700
B51: 1183 | C51: 32003 | D51: Փոքրաքանակ երեխաներով համալրված հանրակրթական դպրոցների և կրթահամալիրների մոդուլային շենքերի կառուցում | E51: =+E53 -> 507600 | F51: =+F53 -> 407385
D52: այդ թվում` ըստ կատարողների
D53: ՀՀ կառավարություն | E53: 507600 | F53: =+'Հավելված N 3'!D48 -> 407385
B54: 1183 | C54: 32007 | D54: Հանրակրթական կրթություն իրականացնող ուսումնական հաստատությունների նոր մարզադահլիճների կառուցում | E54: =+E56 -> 0 | F54: =+F56 -> -25425
D55: այդ թվում` ըստ կատարողների
D56: ՀՀ քաղաքաշինության կոմիտե | E56: =+E58 -> 0 | F56: =+F58 -> -25425
D57: այդ թվում՝ ըստ ուղղությունների
D58: ՀՀ Շիրակի մարզ | E58: =SUM(E59:E63) -> 0 | F58: =SUM(F59:F63) -> -25425
D59: =+'Հավելված N 3'!C52 -> գ. Ջաջուռի միջնակարգ դպրոց | E59: 0 | F59: =+'Հավելված N 3'!D52 -> -5085
D60: =+'Հավելված N 3'!C53 -> գ. Մուսայելյանի միջնակարգ դպրոց | E60: 0 | F60: =+'Հավելված N 3'!D53 -> -5085
D61: =+'Հավելված N 3'!C54 -> գ. Կառնուտի միջնակարգ դպրոց | E61: 0 | F61: =+'Հավելված N 3'!D54 -> -5085
D62: =+'Հավելված N 3'!C55 -> գ. Սարալանջի միջնակարգ դպրոց | E62: 0 | F62: =+'Հավելված N 3'!D55 -> -5085
D63: =+'Հավելված N 3'!C56 -> գ. Ցողամարգի միջնակարգ դպրոց | E63: 0 | F63: =+'Հավելված N 3'!D56 -> -5085
B64: 1183 | C64: 32013 | D64: ՀՀ մարզերում կրթական որակյալ ծառայությունների հասանելիության ապահովման ծրագրի շրջանակներում կրթական կենտրոնների ստեղծում | E64: =+E66 -> -391700 | F64: =+F66 -> -370860
D65: այդ թվում` ըստ կատարողների
D66: ՀՀ քաղաքաշինության կոմիտե | E66: =+E68+E69+E73+E78+E103 -> -391700 | F66: =+F68+F69+F73+F78+F103 -> -370860
D67: այդ թվում՝ ըստ ուղղությունների
D68: =+'Հավելված N 3'!C59 -> 144 տեղ հզորությամբ մոդուլային կրթահամալիրի կառուցման նախագծի լրամշակում (վերափոխում 200 տեղ հզորության) | E68: =SUM(E69:E72) -> -38200 | F68: =+'Հավելված N 3'!D59 -> 25440
D69: ՀՀ Արարատի մարզ | E69: =SUM(E70:E72) -> -19100 | F69: =SUM(F70:F72) -> -19100
D70: =+'Հավելված N 3'!C61 -> Պարույր Սևակ բնակավայրի կրթահամալիր | E70: =+F70 -> -4800 | F70: =+'Հավելված N 3'!D61 -> -4800
D71: =+'Հավելված N 3'!C62 -> Լուսաշող բնակավայրի կրթահամալիր | E71: =+F71 -> -4800 | F71: =+'Հավելված N 3'!D62 -> -4800
D72: =+'Հավելված N 3'!C63 -> Նոր կյուրին բնակավայրի կրթահամալիր | E72: =+F72 -> -9500 | F72: =+'Հավելված N 3'!D63 -> -9500
D73: ՀՀ Շիրակի մարզ | E73: =SUM(E74:E77) -> 0 | F73: =SUM(F74:F77) -> -20900
D74: =+'Հավելված N 3'!C65 -> գ. Քեթիի կրթահամալիր | E74: 0 | F74: =+'Հավելված N 3'!D65 -> -4800
D75: =+'Հավելված N 3'!C66 -> գ. Հայրենյացի կրթահամալիր | E75: 0 | F75: =+'Հավելված N 3'!D66 -> -5400
D76: =+'Հավելված N 3'!C67 -> գ. Բյուրակնի կրթահամալիր | E76: 0 | F76: =+'Հավելված N 3'!D67 -> -5400
D77: =+'Հավելված N 3'!C68 -> գ. Բավրայի կրթահամալիր | E77: 0 | F77: =+'Հավելված N 3'!D68 -> -5300
D78: ՀՀ Սյունիքի մարզ | E78: =SUM(E79:E102) -> -334400 | F78: =SUM(F79:F102) -> -336500
D79: =+'Հավելված N 3'!C70 -> Կապան համայնքի Սյունիքի կրթահամալիր | E79: -4800 | F79: =+'Հավելված N 3'!D70 -> -4800
D80: =+'Հավելված N 3'!C71 -> Կապան համայնքի Արծվանիկի կրթահամալիր | E80: -4800 | F80: =+'Հավելված N 3'!D71 -> -4800
D81: =+'Հավելված N 3'!C72 -> Կապան համայնքի Նորաշենիկի կրթահամալիր | E81: -4800 | F81: =+'Հավելված N 3'!D72 -> -4800
D82: =+'Հավելված N 3'!C73 -> Կապան համայնքի Աճանանի կրթահամալիր | E82: -4800 | F82: =+'Հավելված N 3'!D73 -> -4800
D83: =+'Հավելված N 3'!C74 -> Կապան համայնքի Գեղանուշի կրթահամալիր | E83: -4800 | F83: =+'Հավելված N 3'!D74 -> -4800
D84: =+'Հավելված N 3'!C75 -> Կապան համայնքի Ծավի կրթահամալիր | E84: -4800 | F84: =+'Հավելված N 3'!D75 -> -4800
D85: =+'Հավելված N 3'!C76 -> Կապան համայնքի Եղվարդի կրթահամալիր | E85: -4800 | F85: =+'Հավելված N 3'!D76 -> -4800
D86: =+'Հավելված N 3'!C77 -> Սիսիան համայնքի Շաղաթի կրթահամալիր | E86: -36000 | F86: =+'Հավելված N 3'!D77 -> -37000
D87: =+'Հավելված N 3'!C78 -> Սիսիան համայնքի Անգեղակոթի կրթահամալիր | E87: -4800 | F87: =+'Հավելված N 3'!D78 -> -4800
D88: =+'Հավելված N 3'!C79 -> Սիսիան համայնքի Բռնակոթի կրթահամալիր | E88: -4800 | F88: =+'Հավելված N 3'!D79 -> -4800
D89: =+'Հավելված N 3'!C80 -> Տաթև համայնքի Տաթևի կրթահամալիր | E89: -4800 | F89: =+'Հավելված N 3'!D80 -> -4800
D90: =+'Հավելված N 3'!C81 -> Տաթև համայնքի Հալիձորի կրթահամալիր | E90: -4800 | F90: =+'Հավելված N 3'!D81 -> -4800
... D102: =+'Հավելված N 3'!C93 -> Սիսիան համայնքի Շաքիի կրթահամալիր | E102: 0 | F102: =+'Հավելված N 3'!D93 -> 4800
D103: ՀՀ Վայոց Ձորի մարզ | E103: =SUM(E104:E107) -> 0 | F103: =SUM(F104:F107) -> -19800
D104: =+'Հավելված N 3'!C95 -> գ. Արտաբույնքի կրթահամալիր | E104: 0 | F104: =+'Հավելված N 3'!D95 -> -4800
D105: =+'Հավելված N 3'!C96 -> գ. Քարագլխի կրթահամալիր | E105: 0 | F105: =+'Հավելված N 3'!D96 -> -5400
D106: =+'Հավելված N 3'!C97 -> գ. Արփիի կրթահամալիր | E106: 0 | F106: =+'Հավելված N 3'!D97 -> -4800
D107: =+'Հավելված N 3'!C98 -> գ. Մարտիրոսի կրթահամալիր | E107: 0 | F107: =+'Հավելված N 3'!D98 -> -4800

Sheet Հավելված N 5
C1: Հավելված N 5
C2: ՀՀ կառավարության 2023 թվականի
C3: ______________ ի ___Ն որոշման
B6: ՀԱՅԱՍՏԱՆԻ ՀԱՆՐԱՊԵՏՈՒԹՅԱՆ ԿԱՌԱՎԱՐՈՒԹՅԱՆ 2022 ԹՎԱԿԱՆԻ ԴԵԿՏԵՄԲԵՐԻ 29-Ի N 2111-Ն ՈՐՈՇՄԱՆ N 9 ՀԱՎԵԼՎԱԾԻ N 9.13 ԱՂՅՈՒՍԱԿՈՒՄ ԿԱՏԱՐՎՈՂ ՓՈՓՈԽՈՒԹՅՈՒՆՆԵՐԸ ԵՎ ԼՐԱՑՈՒՄՆԵՐԸ
A8: Աղյուսակ 9․13
C9: ՀՀ կրթության, գիտության, մշակույթի և սպորտի նախարարություն
B10: ՄԱՍ 2. ՊԵՏԱԿԱՆ ՄԱՐՄՆԻ ԳԾՈՎ ԱՐԴՅՈՒՆՔԱՅԻՆ (ԿԱՏԱՐՈՂԱԿԱՆ) ՑՈՒՑԱՆԻՇՆԵՐԸ
B13: Ծրագրի դասիչը | C13: Ծրագրի անվանումը
B14: 1183 | C14: Ապահով դպրոց
B16: Ծրագրի միջոցառումները
B17: Ծրագրի դասիչը՝ | C17: 1183 | D17: Ցուցանիշների փոփոխությունը (ավելացումները նշված են դրական նշանով, իսկ նվազեցումները՝ փակագծերում)
B18: Միջոցառման դասիչը՝ | C18: 32002 | D18: Ինն ամիս | E18: Տարի
B19: Միջոցառման անվանումը` | C19: Կրթական օբյեկտների շենքային ապահովվածության բարելավում
B20: Նկարագրությունը` | C20: Կրթական օբյեկտների շենքերի (մասնաշենքերի) կառուցում (համաշինարարական աշխատանքներ, ջեռուցման համակարգի իրականացում, ներքին հարդարում, տարածքի բարեկարգում) և նախագծում
B21: Միջոցառման տեսակը` | C21: Այլ պետական կազմակերպությունների կողմից օգտագործվող ոչ ֆինանսական ակտիվների հետ գործառնություններ
B22: Ակտիվն օգտագործող կազմակերպությունների անվանումները | C22: Հանրակրթական դպրոցներ
B23: Արդյունքի չափորոշիչներ
B24: Նախագծանախահաշվային փաստաթղթերի քանակ, հատ | D24: -9 | E24: -17
B25: Միջոցառման վրա կատարվող ծախսը (հազար դրամ) | D25: =+'Հավելված N 1'!D23 -> -115900 | E25: =+'Հավելված N 1'!E23 -> -11100
B27: Ծրագրի միջոցառումները
B28: Ծրագրի դասիչը՝ | C28: 1183 | D28: Ցուցանիշների փոփոխությունը (ավելացումները նշված են դրական նշանով)
B29: Միջոցառման դասիչը՝ | C29: 32003 | D29: Ինն ամիս | E29: Տարի
B30: Միջոցառման անվանումը՝ | C30: Փոքրաքանակ երեխաներով համալրված հանրակրթական դպրոցների մոդուլային շենքերի կառուցում
B31: Նկարագրությունը՝ | C31: Կրթական հաստատությունների կառուցում համայնքային կենտրոնների մոդելով
B32: Միջոցառման տեսակը՝ | C32: Այլ պետական կազմակերպությունների կողմից օգտագործվող ոչ ֆինանսական ակտիվների հետ գործառնություններ
B33: Ակտիվն օգտագործող կազմակերպությունների անվանում | C33: Փոքրաքանակ երեխաներով համալրված հանրակրթական դպրոցներ
B34: Արդյունքի չափորոշիչներ
B35: Միջոցառման վրա կատարվող ծախսը (հազար դրամ) | D35: =+'Հավելված N 1'!D29 -> 507600 | E35: =+'Հավելված N 1'!E29 -> 407385
B37: Ծրագրի միջոցառումները
B38: Ծրագրի դասիչը՝ | C38: 1183 | D38: Ցուցանիշների փոփոխությունը (նվազեցումները նշված են փակագծերում)
B39: Միջոցառման դասիչը՝ | C39: 32007 | D39: Ինն ամիս | E39: Տարի
B40: Միջոցառման անվանումը՝ | C40: Հանրակրթական կրթություն իրականացնող ուսումնական հաստատությունների նոր մարզադահլիճների կառուցում
B41: Նկարագրությունը՝ | C41: Հանրակրթական ուսուցում իրականացնող ուսումնական հաստատությունների նոր մարզադահլիճների կառուցման նախագծանախահաշվային փաստաթղթերի մշակում
B42: Միջոցառման տեսակը՝ | C42: Այլ պետական կազմակերպությունների կողմից օգտագործվող ոչ ֆինանսական ակտիվների հետ գործառնություններ
B43: Ակտիվն օգտագործող կազմակերպությունների անվանում | C43: Հանրակրթական դպրոցներ
B44: Արդյունքի չափորոշիչներ
B45: Նախագծանախահաշվային փաստաթղթերի քանակ, հատ | D45: 0 | E45: -5
B46: Միջոցառման վրա կատարվող ծախսը (հազար դրամ) | D46: =+'Հավելված N 1'!D35 -> 0 | E46: =+'Հավելված N 1'!E35 -> -25425
B48: Ծրագրի միջոցառումները
B49: Ծրագրի դասիչը՝ | C49: 1183 | D49: Ցուցանիշների փոփոխությունը (նվազեցումները նշված են փակագծերում)
B50: Միջոցառման դասիչը՝ | C50: 32013 | D50: Ինն ամիս | E50: Տարի
B51: Միջոցառման անվանումը՝ | C51: ՀՀ մարզերում կրթական որակյալ ծառայությունների հասանելիության ապահովման ծրագրի շրջանակներում կրթական կենտրոնների ստեղծում
B52: Նկարագրությունը՝ | C52: ՀՀ մարզերում կրթական որակյալ ծառայությունների հասանելիության ապահովման ծրագրի շրջանակներում հանրակրթական և նախադպրոցական կրթության հասանելիության ապահովման նպատակով կրթական կենտրոնների կառուցում
B53: Միջոցառման տեսակը՝ | C53: Այլ պետական կազմակերպությունների կողմից օգտագործվող ոչ ֆինանսական ակտիվների հետ գործառնություններ
B54: Ակտիվն օգտագործող կազմակերպությունների անվանում | C54: ՀՀ մարզերում տեղակայված կրթահամալիրներ
B55: Արդյունքի չափորոշիչներ
B56: Նախագծանախահաշվային փաստաթղթերի քանակ, հատ | D56: -25 | E56: -33
B57: Միջոցառման վրա կատարվող ծախսը (հազար դրամ) | D57: =+'Հավելված N 1'!D41 -> -391700 | E57: =+'Հավելված N 1'!E41 -> -370860

Sheet Հավելված N 6
C1: Հավելված N 6
C2: ՀՀ կառավարության 2023 թվականի
C3: ______________ ի ___Ն որոշման
B6: ՀԱՅԱՍՏԱՆԻ ՀԱՆՐԱՊԵՏՈՒԹՅԱՆ ԿԱՌԱՎԱՐՈՒԹՅԱՆ 2022 ԹՎԱԿԱՆԻ ԴԵԿՏԵՄԲԵՐԻ 29-Ի N 2111-Ն ՈՐՈՇՄԱՆ N 9.1 ՀԱՎԵԼՎԱԾԻ N 9.1.7, 9.1.41 ԵՎ 9.1.58 ԱՂՅՈՒՍԱԿՆԵՐՈՒՄ ԿԱՏԱՐՎՈՂ ՓՈՓՈԽՈՒԹՅՈՒՆՆԵՐԸ ԵՎ ԼՐԱՑՈՒՄՆԵՐԸ
A8: Աղյուսակ 9․1.7
C9: ՀՀ տարածքային կառավարման և ենթակառուցվածքների նախարարություն
B10: ՄԱՍ 1. ՊԵՏԱԿԱՆ ՄԱՐՄՆԻ ԳԾՈՎ ԱՐԴՅՈՒՆՔԱՅԻՆ (ԿԱՏԱՐՈՂԱԿԱՆ) ՑՈՒՑԱՆԻՇՆԵՐԸ
B13: Ծրագրի դասիչը | C13: Ծրագրի անվանումը
B14: 1183 | C14: Ապահով դպրոց
B16: Ծրագրի միջոցառումները
B17: Ծրագրի դասիչը՝ | C17: 1183 | D17: Ցուցանիշների փոփոխությունը (ավելացումները նշված են դրական նշանով)
B18: Միջոցառման դասիչը՝ | C18: 32002 | D18: Ինն ամիս | E18: Տարի
B19: Միջոցառման անվանումը` | C19: Կրթական օբյեկտների շենքային ապահովվածության բարելավում
B20: Նկարագրությունը` | C20: Կրթական օբյեկտների շենքերի (մասնաշենքերի) կառուցում (համաշինարարական աշխատանքներ, ջեռուցման համակարգի իրականացում, ներքին հարդարում, տարածքի բարեկարգում) և նախագծում
B21: Միջոցառման տեսակը` | C21: Այլ պետական կազմակերպությունների կողմից օգտագործվող ոչ ֆինանսական ակտիվների հետ գործառնություններ
B22: Ակտիվն օգտագործող կազմակերպությունների անվանումները | C22: Հանրակրթական դպրոցներ
B23: Արդյունքի չափորոշիչներ
B24: Նախագծանախահաշվային փաստաթղթերի քանակ, հատ | D24: 0 | E24: 3
B25: Միջոցառման վրա կատարվող ծախսը (հազար դրամ) | D25: =+'Հավելված N 2'!G33 -> 0 | E25: =+'Հավելված N 2'!H33 -> 148500
A31: Աղյուսակ 9․1.41
C32: ՀՀ քաղաքաշինության կոմիտե
B33: ՄԱՍ 1. ՊԵՏԱԿԱՆ ՄԱՐՄՆԻ ԳԾՈՎ ԱՐԴՅՈՒՆՔԱՅԻՆ (ԿԱՏԱՐՈՂԱԿԱՆ) ՑՈՒՑԱՆԻՇՆԵՐԸ
B36: Ծրագրի դասիչը | C36: Ծրագրի անվանումը
B37: 1183 | C37: Ապահով դպրոց
B39: Ծրագրի միջոցառումները
B40: Ծրագրի դասիչը՝ | C40: 1183 | D40: Ցուցանիշների փոփոխությունը (նվազեցումները նշված են փակագծերում)
B41: Միջոցառման դասիչը՝ | C41: 32002 | D41: Ինն ամիս | E41: Տարի
B42: Միջոցառման անվանումը` | C42: Կրթական օբյեկտների շենքային ապահովվածության բարելավում
B43: Նկարագրությունը` | C43: Կրթական օբյեկտների շենքերի (մասնաշենքերի) կառուցում (համաշինարարական աշխատանքներ, ջեռուցման համակարգի իրականացում, ներքին հարդարում, տարածքի բարեկարգում) և նախագծում
B44: Միջոցառման տեսակը` | C44: Այլ պետական կազմակերպությունների կողմից օգտագործվող ոչ ֆինանսական ակտիվների հետ գործառնություններ
B45: Ակտիվն օգտագործող կազմակերպությունների անվանումները | C45: Հանրակրթական դպրոցներ
B46: Արդյունքի չափորոշիչներ
B47: Նախագծանախահաշվային փաստաթղթերի քանակ, հատ | D47: -9 | E47: -20
B48: Միջոցառման վրա կատարվող ծախսը (հազար դրամ) | D48: =+'Հավելված N 2'!G26 -> -115900 | E48: =+'Հավելված N 2'!H26 -> -159600
B50: Ծրագրի միջոցառումները
B51: Ծրագրի դասիչը՝ | C51: 1183 | D51: Ցուցանիշների փոփոխությունը (նվազեցումները նշված են փակագծերում)
B52: Միջոցառման դասիչը՝ | C52: 32007 | D52: Ինն ամիս | E52: Տարի
B53: Միջոցառման անվանումը՝ | C53: Հանրակրթական կրթություն իրականացնող ուսումնական հաստատությունների նոր մարզադահլիճների կառուցում
B54: Նկարագրությունը՝ | C54: Հանրակրթական ուսուցում իրականացնող ուսումնական հաստատությունների նոր մարզադահլիճների կառուցման նախագծանախահաշվային փաստաթղթերի մշակում
B55: Միջոցառման տեսակը՝ | C55: Այլ պետական կազմակերպությունների կողմից օգտագործվող ոչ ֆինանսական ակտիվների հետ գործառնություններ
B56: Ակտիվն օգտագործող կազմակերպությունների անվանում | C56: Հանրակրթական դպրոցներ
B57: Արդյունքի չափորոշիչներ
B58: Նախագծանախահաշվային փաստաթղթերի քանակ, հատ | D58: 0 | E58: -5
B59: Միջոցառման վրա կատարվող ծախսը (հազար դրամ) | D59: =+'Հավելված N 2'!G51 -> 0 | E59: =+'Հավելված N 2'!H51 -> -25425
B61: Ծրագրի միջոցառումները
B62: Ծրագրի դասիչը՝ | C62: 1183 | D62: Ցուցանիշների փոփոխությունը (նվազեցումները նշված են փակագծերում)
B63: Միջոցառման դասիչը՝ | C63: 32013 | D63: Ինն ամիս | E63: Տարի
B64: Միջոցառման անվանումը՝ | C64: ՀՀ մարզերում կրթական որակյալ ծառայությունների հասանելիության ապահովման ծրագրի շրջանակներում կրթական կենտրոնների ստեղծում
B65: Նկարագրությունը՝ | C65: ՀՀ մարզերում կրթական որակյալ ծառայությունների հասանելիության ապահովման ծրագրի շրջանակներում հանրակրթական և նախադպրոցական կրթության հասանելիության ապահովման նպատակով կրթական կենտրոնների կառուցում
B66: Միջոցառման տեսակը՝ | C66: Այլ պետական կազմակերպությունների կողմից օգտագործվող ոչ ֆինանսական ակտիվների հետ գործառնություններ
B67: Ակտիվն օգտագործող կազմակերպությունների անվանում | C67: ՀՀ մարզերում տեղակայված կրթահամալիրներ
B68: Արդյունքի չափորոշիչներ
B69: Նախագծանախահաշվային փաստաթղթերի քանակ, հատ | D69: -25 | E69: -33
B70: Միջոցառման վրա կատարվող ծախսը (հազար դրամ) | D70: =+'Հավելված N 2'!G60 -> -391700 | E70: =+'Հավելված N 2'!H60 -> -370860
A76: Աղյուսակ 9․1.58
C77: ՀՀ կառավարություն
B78: ՄԱՍ 2. ՊԵՏԱԿԱՆ ՄԱՐՄՆԻ ԳԾՈՎ ԱՐԴՅՈՒՆՔԱՅԻՆ (ԿԱՏԱՐՈՂԱԿԱՆ) ՑՈՒՑԱՆԻՇՆԵՐԸ
B81: Ծրագրի դասիչը | C81: Ծրագրի անվանումը
B82: 1183 | C82: Ապահով դպրոց
B84: Ծրագրի միջոցառումները
B85: Ծրագրի դասիչը՝ | C85: 1183 | D85: Ցուցանիշների փոփոխությունը (ավելացումները նշված են դրական նշանով, իսկ նվազեցումները՝ փակագծերում)
B86: Միջոցառման դասիչը՝ | C86: 32003 | D86: Ինն ամիս | E86: Տարի
B87: Միջոցառման անվանումը՝ | C87: Փոքրաքանակ երեխաներով համալրված հանրակրթական դպրոցների մոդուլային շենքերի կառուցում
B88: Նկարագրությունը՝ | C88: Կրթական հաստատությունների կառուցում համայնքային կենտրոնների մոդելով
B89: Միջոցառման տեսակը՝ | C89: Այլ պետական կազմակերպությունների կողմից օգտագործվող ոչ ֆինանսական ակտիվների հետ գործառնություններ
B90: Ակտիվն օգտագործող կազմակերպությունների անվանում | C90: Փոքրաքանակ երեխաներով համալրված հանրակրթական դպրոցներ
B91: Արդյունքի չափորոշիչներ
B92: Միջոցառման վրա կատարվող ծախսը (հազար դրամ) | D92: =+'Հավելված N 2'!G42 -> 507600 | E92: =+'Հավելված N 2'!H42 -> 407385

Sheet Հավելված N 7
H1: Հավելված N 7
H2: ՀՀ կառավարության 2023 թվականի
H3: ______________ ի ___Ն որոշման
A6: ՀԱՅԱՍՏԱՆԻ ՀԱՆՐԱՊԵՏՈՒԹՅԱՆ ԿԱՌԱՎԱՐՈՒԹՅԱՆ 2022 ԹՎԱԿԱՆԻ ԴԵԿՏԵՄԲԵՐԻ 29-Ի N 2111-Ն N 10 ՀԱՎԵԼՎԱԾՈՒՄ ԿԱՏԱՐՎՈՂ ԼՐԱՑՈՒՄՆԵՐԸ
A10: Կոդը | B10: Անվանումը | E10: Գնման ձևը | F10: Չափման միավորը | G10: Միավորի գինը | H10: Ցուցանիշների փոփոխությունը (ավելացումները նշված են դրական նշանով)
H11: Քանակը | I11: Գումարը (հազար դրամ)
A12: 1 | B12: 2 | E12: 3 | F12: 4 | G12: 5 | H12: 6 | I12: 7
A13: ՀՀ քաղաքաշինության կոմիտե | I13: =+I14 -> 124740
A14: Բաժին N 09 | B14: Խումբ N 06 | C14: Դաս N 01 | D14: Կրթությանը տրամադրվող օժանդակ ծառայություններ | I14: =+I15+I21 -> 124740
A15: 1183-32002 | B15: Կրթական օբյեկտների շենքային ապահովվածության բարելավում | I15: =+I16 -> 94500
B16: ՄԱՍ III. ԾԱՌԱՅՈՒԹՅՈՒՆՆԵՐ | I16: =SUM(I17:I20) -> 94500
A17: 71241200 | B17: նախագծերի պատրաստում, ծախսերի գնահատում | E17: ԳՀ | F17: դրամ | G17: 36000000 | H17: 1 | I17: =+H17*G17/1000 -> 36000
A18: 71241200 | B18: նախագծերի պատրաստում, ծախսերի գնահատում | E18: ԳՀ | F18: դրամ | G18: 56000000 | H18: 1 | I18: =+H18*G18/1000 -> 56000
A19: 50531140 | B19: փորձաքննության ծառայություններ | E19: ԳՀ | F19: դրամ | G19: 1000000 | H19: 1 | I19: =+H19*G19/1000 -> 1000
A20: 50531140 | B20: փորձաքննության ծառայություններ | E20: ԳՀ | F20: դրամ | G20: 1500000 | H20: 1 | I20: =+H20*G20/1000 -> 1500
A21: 1183-32013 | B21: ՀՀ մարզերում կրթական որակյալ ծառայությունների հասանելիության ապահովման ծրագրի շրջանակներում կրթական կենտրոնների ստեղծում | I21: =+I22 -> 30240
B22: ՄԱՍ III. ԾԱՌԱՅՈՒԹՅՈՒՆՆԵՐ | I22: =SUM(I23:I26) -> 30240
A23: 71241200 | B23: նախագծերի պատրաստում, ծախսերի գնահատում | E23: ՀՄԱ | F23: դրամ | G23: 24000000 | H23: 1 | I23: =+H23*G23/1000 -> 24000
A24: 71241200 | B24: նախագծերի պատրաստում, ծախսերի գնահատում | E24: ԳՀ | F24: դրամ | G24: 4500000 | H24: 1 | I24: =+H24*G24/1000 -> 4500
A25: 50531140 | B25: փորձաքննության ծառայություններ | E25: ԳՀ | F25: դրամ | G25: 1440000 | H25: 1 | I25: =+H25*G25/1000 -> 1440
A26: 50531140 | B26: փորձաքննության ծառայություններ | E26: ԳՀ | F26: դրամ | G26: 300000 | H26: 1 | I26: =+H26*G26/1000 -> 300
A27: ՀՀ տարածքային կառավարման և ենթակառուցվածքների նախարարություն | I27: =+I28 -> 148500
A28: Բաժին N 09 | B28: Խումբ N 06 | C28: Դաս N 01 | D28: Կրթությանը տրամադրվող օժանդակ ծառայություններ | I28: =+I29 -> 148500
A29: 1183-32002 | B29: Կրթական օբյեկտների շենքային ապահովվածության բարելավում | I29: =+I30 -> 148500
B30: ՄԱՍ III. ԾԱՌԱՅՈՒԹՅՈՒՆՆԵՐ | I30: =SUM(I31:I36) -> 148500
A31: 71241200 | B31: նախագծերի պատրաստում, ծախսերի գնահատում | E31: ԳՀ | F31: դրամ | G31: 60000000 | H31: 1 | I31: =+H31*G31/1000 -> 60000
A32: 71241200 | B32: նախագծերի պատրաստում, ծախսերի գնահատում | E32: ԳՀ | F32: դրամ | G32: 20000000 | H32: 1 | I32: =+H32*G32/1000 -> 20000
A33: 71241200 | B33: նախագծերի պատրաստում, ծախսերի գնահատում | E33: ԳՀ | F33: դրամ | G33: 64000000 | H33: 1 | I33: =+H33*G33/1000 -> 64000
A34: 50531140 | B34: փորձաքննության ծառայություններ | E34: ԳՀ | F34: դրամ | G34: 1700000 | H34: 1 | I34: =+H34*G34/1000 -> 1700
A35: 50531140 | B35: փորձաքննության ծառայություններ | E35: ԳՀ | F35: դրամ | G35: 1000000 | H35: 1 | I35: =+H35*G35/1000 -> 1000
A36: 50531140 | B36: փորձաքննության ծառայություններ | E36: ԳՀ | F36: դրամ | G36: 1800000 | H36: 1 | I36: =+H36*G36/1000 -> 1800

Sheet Հավելված 8
A1: ՑԱՆԿ՝ ԱՅՆ ՀԱՍՏԱՏՈՒԹՅՈՒՆՆԵՐԻ, ՈՐՈՆՑ ԿԱՌՈՒՑՄԱՆ ԱՇԽԱՏԱՆՔՆԵՐԻ, ՆԱԽԱԳԾԱՆԱԽԱՀԱՇՎԱՅԻՆ ՓԱՍՏԱԹՂԹԵՐԻ ՄՇԱԿՄԱՆ, ՏԵՂԱԿԱՊՄԱՆ ԵՎ ՓՈՐՁԱՔՆՆՈՒԹՅԱՆ ԾԱՌԱՅՈՒԹՅՈՒՆՆԵՐԻ ՊԱՏՎԻՐԱՏՈՒ ՀԱՆԴԻՍԱՆՈՒՄ Է ՀԱՅԱՍՏԱՆԻ ՏԱՐԱԾՔԱՅԻՆ ԶԱՐԳԱՑՄԱՆ ՀԻՄՆԱԴՐԱՄԸ
A2: № | B2: ՄԱՐԶԸ | C2: ՀԱՍՏԱՏՈՒԹՅԱՆ ԱՆՎԱՆՈՒՄԸ
A3: 1 | B3: Արարատ | C3: Ջրաշեն բնակավայրի միջնակարգ դպրոց
A4: 2 | B4: Արարատ | C4: Գեղանիստ բնակավայրի միջնակարգ դպրոց
A5: 3 | B5: Արարատ | C5: Ոսկետափ բնակավայրի միջնակարգ դպրոց
A6: 4 | B6: Արարատ | C6: Ջրահովիտ բնակավայրի միջնակարգ դպրոց
A7: 5 | B7: Արարատ | C7: Արտաշատի թիվ 1 հիմնական դպրոց
A8: 6 | B8: Արարատ | C8: Վերին Դվին բնակավայրի միջնակարգ դպրոց
A9: 7 | B9: Արարատ | C9: Գետազատ բնակավայրի միջնակարգ դպրոց
A10: 8 | B10: Արարատ | C10: Այգեստան բնակավայրի միջնակարգ դպրոց
A11: 9 | B11: Արարատ | C11: Արարատ գյուղի միջնակարգ դպրոց
A12: 10 | B12: Արարատ | C12: Պարույր Սևակ բնակավայրի կրթահամալիր
A13: 11 | B13: Արարատ | C13: Լուսաշող բնակավայրի կրթահամալիր
A14: 12 | B14: Արարատ | C14: Նոր կյուրին բնակավայրի կրթահամալիր
... A55: 53 | B55: Վայոց Ձոր | C55: գ. Մարտիրոսի կրթահամալիր
