Workbook

Sheet 1
E1: Հավելված N 1
E2: ՀՀ կառավարության 2023 թվականի
E3: -ի N -Ն որոշման
A4: «ՀԱՅԱՍՏԱՆԻ ՀԱՆՐԱՊԵՏՈՒԹՅԱՆ 2023 ԹՎԱԿԱՆԻ ՊԵՏԱԿԱՆ ԲՅՈՒՋԵԻ ՄԱՍԻՆ» ՀԱՅԱՍՏԱՆԻ ՀԱՆՐԱՊԵՏՈՒԹՅԱՆ ՕՐԵՆՔԻ N 1 ՀԱՎԵԼՎԱԾԻ N 2 ԱՂՅՈՒՍԱԿՈՒՄ ԿԱՏԱՐՎՈՂ ՎԵՐԱԲԱՇԽՈՒՄԸ ԵՎ ՓՈՓՈԽՈՒԹՅՈՒՆՆԵՐԸ, ՀԱՅԱՍՏԱՆԻ ՀԱՆՐԱՊԵՏՈՒԹՅԱՆ ԿԱՌԱՎԱՐՈՒԹՅԱՆ 2022 ԹՎԱԿԱՆԻ ԴԵԿՏԵՄԲԵՐԻ 29-Ի N 2111-Ն ՈՐՈՇՄԱՆ N 5 ՀԱՎԵԼՎԱԾԻ N 1 ԱՂՅՈՒՍԱԿՈՒՄ ԿԱՏԱՐՎՈՂ ՓՈՓՈԽՈՒԹՅՈՒՆՆԵՐԸ
E6: (հազ. դրամ)
A7: Ծրագրային դասիչը | C7: Բյուջետային գլխավոր կարգադրիչների, ծրագրերի և միջոցառումների անվանումները | D7: Ցուցանիշների փոփոխությունը (ավելացումները նշված են դրական նշանով, իսկ նվազեցումները՝ փակագծերում)
A8: Ծրագիր | B8: Միջոցառում | D8: Ինն ամիս | E8: Տարի
C9: ԸՆԴԱՄԵՆԸ | D9: =D10 -> 0 | E9: =E10 -> 0
C10: ՀՀ տարածքային կառավարման և ենթակառուցվածքների նախարարություն | D10: =D11+D90+D103 -> 0 | E10: =E11+E90+E103 -> 0
A11: 1004 | C11: Ծրագրի անվանումը` | D11: =D18+D30+D36+D54+D66+D84+D60+D78+D24+D42+D48+D72 -> 273737.6 | E11: =E18+E30+E36+E54+E66+E84+E60+E78+E24+E42+E48+E72 -> 231008.8
C12: Ոռոգման համակարգի առողջացում
C13: Ծրագրի նպատակը`
C14: Ոռոգման ծառայությունների հասանելիության և մատչելիության ապահովում
C15: Վերջնական արդյունքի նկարագրությունը`
C16: Ոռոգման ջրի մատակարարման արդյունավետության և հասանելիության բարելավում՝ կորուստների կրճատում
A17: Ծրագրի միջոցառումներ
B18: 11002 | C18: Միջոցառման անվանումը` | D18: ='4'!G22 -> 1664192.3 | E18: ='4'!H22 -> 1664192.3
C19: Ոռոգման ծառայություններ մատուցող ընկերություններին ֆինանսական աջակցության տրամադրում
C20: Միջոցառման նկարագրությունը`
C21: Ոռոգման ոլորտի սուբսիդավորում ՋՕԸ-ների համար սահմանված ոռոգման ջրի սակագնի և նվազագույն շահավետ գնի տարբերության չափով
C22: Միջոցառման տեսակը
C23: Ծառայությունների մատուցում
B24: 11010 | C24: Միջոցառման անվանումը` | D24: ='4'!G31 -> -185000 | E24: ='4'!H31 -> -500000
C25: Գերմանիայի զարգացման վարկերի բանկի աջակցությամբ իրականացվող Ախուրյան գետի ջրային ռեսուրսների ինտեգրացված կառավարում փուլ 1 ծրագրով Ջրաձոր գյուղի վերաբնակեցման գործողությունների խորհրդատվություն և կառավարում
C26: Միջոցառման նկարագրությունը`
C27: Գերմանիայի զարգացման վարկերի բանկի աջակցությամբ իրականացվող Ախուրյան գետի ջրային ռեսուրսների ինտեգրացված կառավարում փուլ 1 ծրագրով Ջրաձոր գյուղի վերաբնակեցման գործողությունների համակարգում և ղեկավարում
C28: Միջոցառման տեսակը
C29: Ծառայությունների մատուցում
B30: 11014 | C30: Միջոցառման անվանումը` | D30: ='4'!G40 -> -70000 | E30: ='4'!H40 -> 0
C31: Արարատյան ջրավազանի ձկնաբուծական տնտեսությունների ելքային ջրերի վերաօգտագործման ծրագիր
C32: Միջոցառման նկարագրությունը`
C33: Արարատյան ջրավազանի ձկնաբուծական տնտեսությունների ելքային ջրերի վերաօգտագործման նպատակով հիդրոլոգիական և ինժեներական ուսունասիրություններ, մասնագիտական խորհրդատվական և նախագծային ծառայություններ
C34: Միջոցառման տեսակը
C35: Ծառայությունների մատուցում
B36: 31002 | C36: Միջոցառման անվանումը` | D36: ='4'!G49 -> -1968 | E36: ='4'!H49 -> -212941.5
C37: Ոռոգման համակարգերի հիմնանորոգում
C38: Միջոցառման նկարագրությունը`
C39: Ոռոգման համակարգերի հիմնանորոգում
C40: Միջոցառման տեսակը
C41: Պետական մարմինների կողմից օգտագործվող ոչ ֆինանսական ակտիվների հետ գործառնություններ
...

Sheet 2
A1: Հավելված N 2
A2: ՀՀ կառավարության 2023 թվականի
A3: -ի N -Ն որոշման
A4: «ՀԱՅԱՍՏԱՆԻ ՀԱՆՐԱՊԵՏՈՒԹՅԱՆ 2023 ԹՎԱԿԱՆԻ ՊԵՏԱԿԱՆ ԲՅՈՒՋԵԻ ՄԱՍԻՆ» ՀԱՅԱՍՏԱՆԻ ՀԱՆՐԱՊԵՏՈՒԹՅԱՆ ՕՐԵՆՔԻ N 1 ՀԱՎԵԼՎԱԾԻ N 3 ԱՂՅՈՒՍԱԿՈՒՄ ԿԱՏԱՐՎՈՂ ՓՈՓՈԽՈՒԹՅՈՒՆՆԵՐԸ ԵՎ ԼՐԱՑՈՒՄՆԵՐԸ
G5: (հազ. դրամ)
A6: Ծրագրային դասիչ | C6: Բյուջետային գլխավոր կարգադրիչների, ծրագրերի, միջոցառումների և ուղղությունների անվանումները | D6: Ցուցանիշների փոփոխությունը (ավելացումները նշված են դրական նշանով, իսկ նվազեցումները՝ փակագծերում)
D7: Ընդամենը, | E7: այդ թվում՝
A8: Ծրագիր | B8: Միջոցառում | E8: Կառուցման աշխատանքներ | F8: Վերակառուցման, վերանորոգման և վերականգնման աշխատանքներ | G8: Նախագծահե- տազոտական, գեոդեզիա- քարտեզագրա- կան աշխա- տանքներ | H8: Ոչ ֆինանսական այլ ակտիվների ձեռքբերում
C9: ԸՆԴԱՄԵՆԸ | D9: =SUM(E9:H9) -> -608263.8 | E9: =E11 -> -687255.9 | F9: =F11 -> -343148.1 | G9: =G11 -> -27826.8 | H9: =H11 -> 449967
C10: այդ թվում՝
C11: ՀՀ ՏԱՐԱԾՔԱՅԻՆ ԿԱՌԱՎԱՐՄԱՆ ԵՎ ԵՆԹԱԿԱՌՈՒՑՎԱԾՔՆԵՐԻ ՆԱԽԱՐԱՐՈՒԹՅՈՒՆ | D11: =SUM(E11:H11) -> -608263.8 | E11: =E13+E16+E17+E21+E25+E26 -> -687255.9 | F11: =F13+F16+F17+F21+F25+F26 -> -343148.1 | G11: =G13+G16+G17+G21+G25+G26 -> -27826.8 | H11: =H13+H16+H17+H21+H25+H26 -> 449967
C12: այդ թվում`
A13: 1004 | B13: 31002 | C13: Ոռոգման համակարգերի հիմնանորոգում | D13: =SUM(E13:H13) -> -212941.5 | E13: =SUM(E15:E15) -> 0 | F13: =SUM(F15:F15) -> -212941.5 | G13: =SUM(G15:G15) -> 0 | H13: =SUM(H15:H15) -> 0
C14: այդ թվում`
C15: Արազափ-1 պոմպակայանի 3-րդ գոտու հեռացնող ջրատարի վերականգնում | D15: =SUM(E15:H15) -> -212941.5 | F15: -212941.5
A16: 1004 | B16: 31009 | C16: Օրվա կարգավորման ջրավազանների կառուցում և վերակառուցում | D16: =SUM(E16:H16) -> -504855.9 | E16: ='5'!E24 -> -504855.9
A17: 1004 | B17: 31011 | C17: Խորքային հորերի վերականգնում | D17: =SUM(E17:H17) -> 357591.9 | E17: =E19+E20 -> 0 | F17: =F19+F20 -> -92375.1 | G17: =G19+G20 -> 0 | H17: =H19+H20 -> 449967
C18: այդ թվում`
C19: Արմավիր ՋՕԸ-ի Ոռոգման համակարգի 2018թ. հիմնանորոգում ծրագրով նախատեսված խորքային հորերի վերականգնում | D19: =SUM(E19:H19) -> -92375.1 | F19: ='5'!E31 -> -92375.1
C20: Տվյալների առցանց փոխանցմամբ ջրահաշվիչ (ջրաչափիչ) սարքերի ձեռքբերում | D20: =SUM(E20:H20) -> 449967 | H20: ='5'!E35 -> 449967
A21: 1004 | B21: 31014 | C21: Ջրամբարների վերականգնման և վերազինման աշխատանքներ | D21: =SUM(E21:H21) -> -17049.5 | E21: =E23+E24 -> 0 | F21: =F23+F24 -> -16451.5 | G21: =G23+G24 -> -598 | H21: =H23+H24 -> 0
C22: այդ թվում`
C23: Ապարանի ջրամբարի վերանորոգում | D23: =SUM(E23:H23) -> -16451.5 | F23: ='7'!G13 -> -16451.5
C24: ՀՀ Տավուշի մարզի Տավուշ ջրամբարի պատվարի վերականգնման նախագծանախահաշվային փաստաթղթերի ձեռքբերում և փորձաքննություն | D24: =SUM(E24:H24) -> -598 | G24: ='7'!G16 -> -598
A25: 1017 | B25: 21001 | C25: Արփա-Սևան ջրային համակարգի տեխնիկական վիճակի բարելավում | D25: =SUM(E25:H25) -> -22660 | E25: 0 | F25: ='7'!G20 -> -21380 | G25: ='7'!G22+'7'!G23 -> -1280 | H25: 0
A26: 1072 | B26: 31009 | C26: ՀՀ-ի տարածքում Վարձակալի կողմից չսպասարկվող բնակավայրերում ջրամատակարարման և ջրահեռացման համակարգերի կառուցում | D26: =SUM(E26:H26) -> -208348.8 | E26: =SUM(E28:E29) -> -182400 | F26: =SUM(F28:F29) -> 0 | G26: =SUM(G28:G29) -> -25948.8 | H26: =SUM(H28:H29) -> 0
C27: այդ թվում`
C28: ՀՀ Արագածոտնի մարզի որոշ բնակավայրերի ջրամատակարարման և ջրահեռացման համակարգերի բարելավման աշխատանքներ | D28: =SUM(E28:H28) -> -25948.8 | G28: -25948.8
C29: ՀՀ Տավուշի մարզի որոշ բնակավայրերի ջրամատակարարման և ջրահեռացման համակարգերի բարելավման աշխատանքներ | D29: =SUM(E29:H29) -> -182400 | E29: -182400

Sheet 3
I1: Հավելված N3
I2: ՀՀ կառավարության 2023 թվականի
I3: ______________ ի ___Ն որոշման
A5: «ՀԱՅԱUՏԱՆԻ ՀԱՆՐԱՊԵՏՈՒԹՅԱՆ 2023 ԹՎԱԿԱՆԻ ՊԵՏԱԿԱՆ ԲՅՈՒՋԵԻ ՄԱUԻՆ» OՐԵՆՔԻ N 1 ՀԱՎԵԼՎԱԾԻ N 4 ԱՂՅՈՒՍԱԿՈՒՄ ԵՎ ՀԱՅԱՍՏԱՆԻ ՀԱՆՐԱՊԵՏՈՒԹՅԱՆ ԿԱՌԱՎԱՐՈՒԹՅԱՆ 2022 ԹՎԱԿԱՆԻ ԴԵԿՏԵՄԲԵՐԻ 29-Ի N 2111-Ն ՈՐՈՇՄԱՆ N 5 ՀԱՎԵԼՎԱԾԻ N 3 ԱՂՅՈՒՍԱԿՈՒՄ ԿԱՏԱՐՎՈՂ ՓՈՓՈԽՈՒԹՅՈՒՆՆԵՐԸ
I6: հազ. դրամ
A7: Ծրագրային դասիչը | C7: Բյուջետային գլխավոր կարգադրիչների, ծրագրերի և միջոցառումների անվանումները | D7: Ցուցանիշների փոփոխությունը (նվազեցումները նշված են փակագծերում)
D8: Ինն ամիս | G8: Տարի
D9: Ընդամենը | E9: այդ թվում` | G9: Ընդամենը | H9: այդ թվում`
A10: Ծրագիր | B10: Միջոց առում | E10: Վարկային միջոցներ | F10: Համաֆինան սավորում | H10: Վարկային միջոցներ | I10: Համաֆինան սավորում
C11: ԸՆԴԱՄԵՆԸ | D11: =+E11+F11 -> -620000 | F11: =+F15 -> -620000 | G11: =+H11+I11 -> -935000 | I11: =+I15 -> -935000
C12: այդ թվում`
C13: ԸՆԹԱՑԻԿ ԾԱԽՍԵՐ | D13: =+E13+F13 -> -185000 | F13: =F23 -> -185000 | G13: =+H13+I13 -> -500000 | I13: =I23 -> -500000
C14: ՈՉ ՖԻՆԱՆՍԱԿԱՆ ԱԿՏԻՎՆԵՐԻ ԳԾՈՎ ԾԱԽՍԵՐ | D14: =+E14+F14 -> -435000 | F14: =+F32 -> -435000 | G14: =+H14+I14 -> -435000 | I14: =+I32 -> -435000
C15: ՀՀ ՏԱՐԱԾՔԱՅԻՆ ԿԱՌԱՎԱՐՄԱՆ ԵՎ ԵՆԹԱԿԱՌՈՒՑՎԱԾՔՆԵՐԻ ՆԱԽԱՐԱՐՈՒԹՅՈՒՆ | D15: =+E15+F15 -> -620000 | F15: =+F16 -> -620000 | G15: =+H15+I15 -> -935000 | I15: =+I16 -> -935000
A16: 1004 | C16: Ոռոգման համակարգի առողջացում | D16: =+E16+F16 -> -620000 | F16: =F18+F27 -> -620000 | G16: =+H16+I16 -> -935000 | I16: =I18+I27 -> -935000
C17: այդ թվում`
B18: 11010 | C18: Գերմանիայի զարգացման վարկերի բանկի աջակցությամբ իրականացվող Ախուրյան գետի ջրային ռեսուրսների ինտեգրացված կառավարում փուլ 1 ծրագրով Ջրաձոր գյուղի վերաբնակեցման գործողությունների խորհրդատվություն և կառավարում | D18: =+E18+F18 -> -185000 | F18: =+F20 -> -185000 | G18: =+H18+I18 -> -500000 | I18: =+I20 -> -500000
C19: այդ թվում` ըստ կատարողների
C20: ՀՀ տարածքային կառավարման և ենթակառուցվածքների նախարարության ջրային կոմիտե | D20: =E20+F20 -> -185000 | F20: =+F22 -> -185000 | G20: =H20+I20 -> -500000 | I20: =+I22 -> -500000
C21: այդ թվում` բյուջետային ծախսերի տնտեսագիտական դասակարգման հոդվածներ
C22: ԸՆԴԱՄԵՆԸ ԾԱԽՍԵՐ | D22: =+D23 -> -185000 | F22: =+F23 -> -185000 | G22: =+G23 -> -500000 | I22: =+I23 -> -500000
C23: ԸՆԹԱՑԻԿ ԾԱԽՍԵՐ | D23: =E23+F23 -> -185000 | F23: =+F24 -> -185000 | G23: =H23+I23 -> -500000 | I23: =+I24 -> -500000
C24: ԴՐԱՄԱՇՆՈՐՀՆԵՐ | D24: =+E24+F24 -> -185000 | F24: =+F25 -> -185000 | G24: =+H24+I24 -> -500000 | I24: =+I25 -> -500000
C25: Ընթացիկ դրամաշնորհներ պետական հատվածի այլ մակարդակներին | D25: =+E25+F25 -> -185000 | F25: =+F26 -> -185000 | G25: =+H25+I25 -> -500000 | I25: =+I26 -> -500000
C26: Այլ ընթացիկ դրամաշնորհներ | D26: =+E26+F26 -> -185000 | F26: -185000 | G26: =+H26+I26 -> -500000 | I26: -500000
B27: 31004 | C27: Գերմանիայի զարգացման վարկերի բանկի աջակցությամբ իրականացվող Ախուրյան գետի ջրային ռեսուրսների ինտեգրված կառավարման ծրագրի շրջանակներում ջրային տնտեսության ենթակառուցվածքների հիմնանորոգում | D27: =+E27+F27 -> -435000 | F27: =+F29 -> -435000 | G27: =+H27+I27 -> -435000 | I27: =+I29 -> -435000
C28: այդ թվում` ըստ կատարողների
C29: ՀՀ տարածքային կառավարման և ենթակառուցվածքների նախարարության ջրային կոմիտե | D29: =E29+F29 -> -435000 | F29: =+F31 -> -435000 | G29: =H29+I29 -> -435000 | I29: =+I31 -> -435000
C30: այդ թվում` բյուջետային ծախսերի տնտեսագիտական դասակարգման հոդվածներ
C31: ԸՆԴԱՄԵՆԸ ԾԱԽՍԵՐ | D31: =+D32 -> -435000 | F31: =+F32 -> -435000 | G31: =+G32 -> -435000 | I31: =+I32 -> -435000
C32: ՈՉ ՖԻՆԱՆՍԱԿԱՆ ԱԿՏԻՎՆԵՐԻ ԳԾՈՎ ԾԱԽՍԵՐ | D32: =E32+F32 -> -435000 | F32: =+F33 -> -435000 | G32: =H32+I32 -> -435000 | I32: =+I33 -> -435000
C33: ՀԻՄՆԱԿԱՆ ՄԻՋՈՑՆԵՐ | D33: =+E33+F33 -> -435000 | F33: =+F34 -> -435000 | G33: =+H33+I33 -> -435000 | I33: =+I34 -> -435000
C34: ՇԵՆՔԵՐ ԵՎ ՇԻՆՈՒԹՅՈՒՆՆԵՐ | D34: =+E34+F34 -> -435000 | F34: =+F35 -> -435000 | G34: =+H34+I34 -> -435000 | I34: =+I35 -> -435000
C35: - Շենքերի և շինությունների շինարարություն | D35: =+E35+F35 -> -435000 | F35: -435000 | G35: =+H35+I35 -> -435000 | I35: -435000

Sheet 4
G1: Հավելված N 4
A2: ՀՀ կառավարության 2023 թվականի
A3: -ի N -Ն որոշման
A4: ՀԱՅԱՍՏԱՆԻ ՀԱՆՐԱՊԵՏՈՒԹՅԱՆ ԿԱՌԱՎԱՐՈՒԹՅԱՆ 2022 ԹՎԱԿԱՆԻ ԴԵԿՏԵՄԲԵՐԻ 29-Ի N 2111-Ն ՈՐՈՇՄԱՆ N 3 ԵՎ N 4 ՀԱՎԵԼՎԱԾՆԵՐՈՒՄ ԿԱՏԱՐՎՈՂ ՓՈՓՈԽՈՒԹՅՈՒՆՆԵՐԸ ԵՎ ԼՐԱՑՈՒՄՆԵՐԸ
G6: (հազ. դրամ)
A7: Գործառական դասիչը | D7: Ծրագրային դասիչը | F7: Բյուջետային ծախսերի գործառական դասակարգման բաժինների, խմբերի և դասերի, բյուջետային ծրագրերի միջոցառումների, բյուջետային հատկացումների գլխավոր կարգադրիչների անվանումները | G7: Ցուցանիշների փոփոխությունը (ավելացումները նշված են դրական նշանով, իսկ նվազեցումները՝ փակագծերում)
G8: Ինն ամիս | H8: Տարի
A9: Բաժին | B9: Խումբ | C9: Դաս | D9: Ծրագիր | E9: Միջոցառում
F10: ԸՆԴԱՄԵՆԸ ԾԱԽՍԵՐ | G10: =G12+G139+G160 -> 0 | H10: =H12+H139+H160 -> 0
F11: այդ թվում`
A12: 04 | F12: ՏՆՏԵՍԱԿԱՆ ՀԱՐԱԲԵՐՈՒԹՅՈՒՆՆԵՐ | G12: =G14 -> 273737.6 | H12: =H14 -> 231008.8
F13: այդ թվում`
B14: 02 | F14: Գյուղատնտեսություն, անտառային տնտեսություն, ձկնորսություն և որսորդություն | G14: =G16 -> 273737.6 | H14: =H16 -> 231008.8
F15: այդ թվում`
C16: 04 | F16: Ոռոգում | G16: =G18 -> 273737.6 | H16: =H18 -> 231008.8
F17: այդ թվում`
F18: ՀՀ տարածքային կառավարման և ենթակառուցվածքների նախարարություն | G18: =G20 -> 273737.6 | H18: =H20 -> 231008.8
F19: այդ թվում`
D20: 1004 | F20: Ոռոգման համակարգի առողջացում | G20: =G22+G40+G49+G76+G85+G94+G128+G119+G31+G58+G67+G110 -> 273737.6 | H20: =H22+H40+H49+H76+H85+H94+H128+H119+H31+H58+H67+H110 -> 231008.8
F21: այդ թվում`
E22: 11002 | F22: Ոռոգման ծառայություններ մատուցող ընկերություններին ֆինանսական աջակցության տրամադրում | G22: =G24 -> 1664192.3 | H22: =H24 -> 1664192.3
F23: այդ թվում` ըստ կատարողների
F24: ՀՀ տարածքային կառավարման և ենթակառուցվածքների նախարարության ջրային կոմիտե | G24: =G26 -> 1664192.3 | H24: =H26 -> 1664192.3
F25: այդ թվում` բյուջետային ծախսերի տնտեսագիտական դասակարգման հոդվածներ
F26: ԸՆԴԱՄԵՆԸ ԾԱԽՍԵՐ | G26: =G27 -> 1664192.3 | H26: =H27 -> 1664192.3
F27: ԸՆԹԱՑԻԿ ԾԱԽՍԵՐ | G27: =G28 -> 1664192.3 | H27: =H28 -> 1664192.3
F28: ՍՈՒԲՍԻԴԻԱՆԵՐ | G28: =G29 -> 1664192.3 | H28: =H29 -> 1664192.3
F29: Սուբսիդիաներ ոչ պետական կազմակերպություններին | G29: =G30 -> 1664192.3 | H29: =H30 -> 1664192.3
F30: - Սուբսիդիաներ ոչ պետական ոչ ֆինանսական կազմակերպություններին | G30: =-(G31+G40+G49+G76+G85+G94+G119+G128+G147+G168+G58+G67+G110) -> 1664192.3 | H30: =-(H31+H40+H49+H76+H85+H94+H119+H128+H147+H168+H58+H67+H110) -> 1664192.3
E31: 11010 | F31: Գերմանիայի զարգացման վարկերի բանկի աջակցությամբ իրականացվող Ախուրյան գետի ջրային ռեսուրսների ինտեգրացված կառավարում փուլ 1 ծրագրով Ջրաձոր գյուղի վերաբնակեցման գործողությունների խորհրդատվություն և կառավարում | G31: =G33 -> -185000 | H31: =H33 -> -500000
F32: այդ թվում` ըստ կատարողների
F33: ՀՀ տարածքային կառավարման և ենթակառուցվածքների նախարարության ջրային կոմիտե | G33: =G35 -> -185000 | H33: =H35 -> -500000
F34: այդ թվում` բյուջետային ծախսերի տնտեսագիտական դասակարգման հոդվածներ
F35: ԸՆԴԱՄԵՆԸ ԾԱԽՍԵՐ | G35: =G36 -> -185000 | H35: =H36 -> -500000
F36: ԸՆԹԱՑԻԿ ԾԱԽՍԵՐ | G36: =G37 -> -185000 | H36: =H37 -> -500000
F37: ԴՐԱՄԱՇՆՈՐՀՆԵՐ | G37: =G38 -> -185000 | H37: =H38 -> -500000
F38: Ընթացիկ դրամաշնորհներ պետական հատվածի այլ մակարդակներին | G38: =G39 -> -185000 | H38: =H39 -> -500000
F39: Այլ ընթացիկ դրամաշնորհներ | G39: ='3'!F26 -> -185000 | H39: ='3'!I26 -> -500000
E40: 11014 | F40: Արարատյան ջրավազանի ձկնաբուծական տնտեսությունների ելքային ջրերի վերաօգտագործման ծրագիր | G40: =G42 -> -70000 | H40: =H42 -> 0
F41: այդ թվում` ըստ կատարողների
...

Sheet 5
A1: Հավելված N 5
A2: ՀՀ կառավարության 2023 թվականի
A3: -ի N -Ն որոշման
A4: ՀԱՅԱՍՏԱՆԻ ՀԱՆՐԱՊԵՏՈՒԹՅԱՆ ԿԱՌԱՎԱՐՈՒԹՅԱՆ 2022 ԹՎԱԿԱՆԻ ԴԵԿՏԵՄԲԵՐԻ 29-Ի N 2111-Ն ՈՐՈՇՄԱՆ N 5 ՀԱՎԵԼՎԱԾԻ N 2 ԱՂՅՈՒՍԱԿՈՒՄ ԿԱՏԱՐՎՈՂ ՓՈՓՈԽՈՒԹՅՈՒՆՆԵՐԸ ԵՎ ԼՐԱՑՈՒՄՆԵՐԸ
E5: (հազ. դրամ)
A6: Ծրագրային դասիչ | C6: Բյուջետային գլխավոր կարգադրիչների, ծրագրերի, միջոցառումների, միջոցառումները կատարող պետական մարմինների և ուղղությունների անվանումները | D6: Ցուցանիշների փոփոխությունը (ավելացումները նշված են դրական նշանով, իսկ նվազեցումները` փակագծերում)
D7: Ինն ամիս | E7: Տարի
A8: Ծրագիր | B8: Միջոցառում
C9: ԸՆԴԱՄԵՆԸ | D9: =D11 -> -994192.3 | E9: =E11 -> -609192.3
C10: այդ թվում՝
C11: ՀՀ ՏԱՐԱԾՔԱՅԻՆ ԿԱՌԱՎԱՐՄԱՆ ԵՎ ԵՆԹԱԿԱՌՈՒՑՎԱԾՔՆԵՐԻ ՆԱԽԱՐԱՐՈՒԹՅՈՒՆ | D11: =D13+D16+D24+D27+D41+D44+D50+D53+D58+D21+D36+D66 -> -994192.3 | E11: =E13+E16+E24+E27+E41+E44+E50+E53+E58+E21+E36+E66 -> -609192.3
C12: այդ թվում`
A13: 1004 | B13: 11014 | C13: Արարատյան ջրավազանի ձկնաբուծական տնտեսությունների ելքային ջրերի վերաօգտագործման ծրագիր | D13: =D15 -> -70000 | E13: =E15 -> 0
C14: այդ թվում` ըստ կատարողների
C15: ՀՀ կառավարություն | D15: ='4'!G40 -> -70000 | E15: ='4'!H40 -> 0
A16: 1004 | B16: 31002 | C16: Ոռոգման համակարգերի հիմնանորոգում | D16: =D18 -> -1968 | E16: =E18 -> -212941.5
C17: այդ թվում` ըստ կատարողների
C18: ՀՀ կառավարություն | D18: =D20 -> -1968 | E18: =E20 -> -212941.5
C19: այդ թվում` ըստ ուղղությունների
C20: Արազափ-1 պոմպակայանի 3-րդ գոտու հեռացնող ջրատարի վերականգնում | D20: ='4'!G49 -> -1968 | E20: ='4'!H49 -> -212941.5
A21: 1004 | B21: 31007 | C21: Ջրային տնտեսության հիդրոտեխնիկական սարքավորումների տեղադրման աշխատանքներ | D21: =D23 -> -201047.2 | E21: =E23 -> 0
C22: այդ թվում` ըստ կատարողների
C23: ՀՀ տարածքային կառավարման և ենթակառուցվածքների նախարարության ջրային կոմիտե | D23: ='4'!G67 -> -201047.2 | E23: ='4'!H67 -> 0
A24: 1004 | B24: 31009 | C24: Օրվա կարգավորման ջրավազանների կառուցում և վերակառուցում | D24: =D26 -> -180327 | E24: =E26 -> -504855.9
C25: այդ թվում` ըստ կատարողների
C26: ՀՀ կառավարություն | D26: ='4'!G76 -> -180327 | E26: ='4'!H76 -> -504855.9
A27: 1004 | B27: 31011 | C27: Խորքային հորերի վերականգնում | D27: =D29+D33 -> -32331.3 | E27: =E29+E33 -> 357591.9
C28: այդ թվում` ըստ կատարողների
C29: ՀՀ կառավարություն | D29: =D31 -> -32331.3 | E29: =E31 -> -92375.1
C30: այդ թվում` ըստ ուղղությունների
C31: Արմավիր ՋՕԸ-ի Ոռոգման համակարգի 2018թ. հիմնանորոգում ծրագրով նախատեսված խորքային հորերի վերականգնում | D31: ='4'!G96 -> -32331.3 | E31: ='4'!H96 -> -92375.1
C32: այդ թվում` ըստ կատարողների
C33: ՀՀ տարածքային կառավարման և ենթակառուցվածքների նախարարության ջրային կոմիտե | D33: =D35 -> 0 | E33: =E35 -> 449967
C34: այդ թվում` ըստ ուղղությունների
C35: Տվյալների առցանց փոխանցմամբ ջրահաշվիչ (ջրաչափիչ) սարքերի ձեռքբերում | D35: ='4'!G103 -> 0 | E35: ='7'!G30 -> 449967
A36: 1004 | B36: 31012 | C36: Գետերի և հեղեղատարների տեղամասերի ամրացման և մաքրման աշխատանքներ | D36: =D38 -> -64335.8 | E36: =E38 -> 0
C37: այդ թվում` ըստ կատարողների
C38: ՀՀ տարածքային կառավարման և ենթակառուցվածքների նախարարության ջրային կոմիտե | D38: =D40 -> -64335.8 | E38: =E40 -> 0
C39: այդ թվում` ըստ ուղղությունների
C40: ՀՀ Տավուշի մարզի Այրում համայնքի տարածքում Դեբեդ գետի ափի ամրացում և սահմանային ճանապարհի ստեղծում | D40: ='4'!G118 -> -64335.8 | E40: ='4'!H118 -> 0
...

Sheet 6-1
A1: Հավելված N 6
A2: ՀՀ կառավարության 2023 թվականի
A3: -ի N -Ն որոշման
C4: Աղյուսակ 1
A5: ՀԱՅԱՍՏԱՆԻ ՀԱՆՐԱՊԵՏՈՒԹՅԱՆ ԿԱՌԱՎԱՐՈՒԹՅԱՆ 2022 ԹՎԱԿԱՆԻ ԴԵԿՏԵՄԲԵՐԻ 29-Ի N 2111-Ն ՈՐՈՇՄԱՆ N 9 ՀԱՎԵԼՎԱԾԻ N 9.7 ԱՂՅՈՒՍԱԿՈՒՄ ԿԱՏԱՐՎՈՂ ՓՈՓՈԽՈՒԹՅՈՒՆՆԵՐԸ ԵՎ ԼՐԱՑՈՒՄՆԵՐԸ
A6: ՀՀ տարածքային կառավարման և ենթակառուցվածքների նախարարություն
A8: ՄԱՍ 2. ՊԵՏԱԿԱՆ ՄԱՐՄՆԻ ԳԾՈՎ ԱՐԴՅՈՒՆՔԱՅԻՆ (ԿԱՏԱՐՈՂԱԿԱՆ) ՑՈՒՑԱՆԻՇՆԵՐԸ | D8: Աղյուսակ 9.7
A10: Ծրագրի դասիչը | B10: Ծրագրի անվանումը
A11: 1004 | B11: Ոռոգման համակարգի առողջացում
A12: Ծրագրի միջոցառումները
A14: Ծրագրի դասիչը` | B14: 1004 | C14: Ցուցանիշների փոփոխությունը (ավելացումները նշված են դրական նշանով)
A16: Միջոցառման դասիչը` | B16: 11002 | C16: Ինն ամիս | D16: Տարի
A17: Միջոցառման անվանումը` | B17: Ոռոգման ծառայություններ մատուցող ընկերություններին ֆինանսական աջակցության տրամադրում
A18: Նկարագրությունը` | B18: Ոռոգման ոլորտի սուբսիդավորում ՋՕԸ-ների համար սահմանված ոռոգման ջրի սակագնի և նվազագույն շահավետ գնի տարբերության չափով
A19: Միջոցառման տեսակը` | B19: Ծառայությունների մատուցում
A20: Միջոցառումն իրականացնողի անվանումը | B20: Ջրօգտագործողների ընկերություններ
A21: Արդյունքի չափորոշիչներ
A22: Միջոցառման վրա կատարվող ծախսը (հազար դրամ) | C22: ='1'!D18 -> 1664192.3 | D22: ='1'!E18 -> 1664192.3
A24: Ծրագրի դասիչը` | B24: 1004 | C24: Ցուցանիշների փոփոխությունը (նվազեցումները նշված են փակագծերում)
A26: Միջոցառման դասիչը` | B26: 11010 | C26: Ինն ամիս | D26: Տարի
A27: Միջոցառման անվանումը` | B27: Գերմանիայի զարգացման վարկերի բանկի աջակցությամբ իրականացվող Ախուրյան գետի ջրային ռեսուրսների ինտեգրացված կառավարում փուլ 1 ծրագրով Ջրաձոր գյուղի վերաբնակեցման գործողությունների խորհրդատվություն և կառավարում
A28: Նկարագրությունը` | B28: Գերմանիայի զարգացման վարկերի բանկի աջակցությամբ իրականացվող Ախուրյան գետի ջրային ռեսուրսների ինտեգրացված կառավարում փուլ 1 ծրագրով Ջրաձոր գյուղի վերաբնակեցման գործողությունների համակարգում և ղեկավարում
A29: Միջոցառման տեսակը` | B29: Ծառայությունների մատուցում
A30: Ակտիվն օգտագործող կազմակերպության(ների) անվանում(ները)՛ | B30: Մասնագիտացված միավոր
A31: Արդյունքի չափորոշիչներ
A32: Միջոցառման վրա կատարվող ծախսը (հազար դրամ) | C32: ='1'!D24 -> -185000 | D32: ='1'!E24 -> -500000
A34: Ծրագրի դասիչը` | B34: 1004 | C34: Ցուցանիշների փոփոխությունը (նվազեցումները նշված են փակագծերում)
A36: Միջոցառման դասիչը` | B36: 11014 | C36: Ինն ամիս | D36: Տարի
A37: Միջոցառման անվանումը` | B37: Արարատյան ջրավազանի ձկնաբուծական տնտեսությունների ելքային ջրերի վերաօգտագործման ծրագիր
A38: Նկարագրությունը` | B38: Արարատյան ջրավազանի ձկնաբուծական տնտեսությունների ելքային ջրերի վերաօգտագործման նպատակով հիդրոլոգիական և ինժեներական ուսունասիրություններ, մասնագիտական խորհրդատվական և նախագծային ծառայություններ
A39: Միջոցառման տեսակը` | B39: Ծառայությունների մատուցում
A40: Ակտիվն օգտագործող կազմակերպության(ների) անվանում(ները)՛ | B40: Մասնագիտացված միավոր
A41: Արդյունքի չափորոշիչներ
A42: Միջոցառման վրա կատարվող ծախսը (հազար դրամ) | C42: ='1'!D30 -> -70000 | D42: ='1'!E30 -> 0
A44: Ծրագրի դասիչը` | B44: 1004 | C44: Ցուցանիշների փոփոխությունը (նվազեցումները նշված են փակագծերում)
A46: Միջոցառման դասիչը` | B46: 31002 | C46: Ինն ամիս | D46: Տարի
A47: Միջոցառման անվանումը` | B47: Ոռոգման համակարգերի հիմնանորոգում
A48: Նկարագրությունը` | B48: Ոռոգման համակարգերի հիմնանորոգում
A49: Միջոցառման տեսակը` | B49: Պետական մարմինների կողմից օգտագործվող ոչ ֆինանսական ակտիվների հետ գործառնություններ
A50: Ակտիվն օգտագործող կազմակերպության(ների) անվանում(ները)՛ | B50: Ոռոգման համակարգի ընկերություններ
...

Sheet 6-2
A1: Աղյուսակ 2
A3: ՀԱՅԱՍՏԱՆԻ ՀԱՆՐԱՊԵՏՈՒԹՅԱՆ ԿԱՌԱՎԱՐՈՒԹՅԱՆ 2022 ԹՎԱԿԱՆԻ ԴԵԿՏԵՄԲԵՐԻ 29-Ի N 2111-Ն ՈՐՈՇՄԱՆ N 9.1 ՀԱՎԵԼՎԱԾԻ N 9.1.25 ԵՎ N 9.1.58 ԱՂՅՈՒՍԱԿՆԵՐՈՒՄ ԿԱՏԱՐՎՈՂ ՓՈՓՈԽՈՒԹՅՈՒՆՆԵՐԸ ԵՎ ԼՐԱՑՈՒՄՆԵՐԸ
D4: Աղյուսակ 9.1.25
A5: ՀՀ տարածքային կառավարման և ենթակառուցվածքների նախարարության ջրային կոմիտե
A6: ՄԱՍ 1. ՊԵՏԱԿԱՆ ՄԱՐՄՆԻ ԳԾՈՎ ԱՐԴՅՈՒՆՔԱՅԻՆ (ԿԱՏԱՐՈՂԱԿԱՆ) ՑՈՒՑԱՆԻՇՆԵՐԸ
A8: Ծրագրի դասիչը | B8: Ծրագրի անվանումը
A9: 1004 | B9: Ոռոգման համակարգի առողջացում
A10: Ծրագրի միջոցառումները
A12: Ծրագրի դասիչը` | B12: 1004 | C12: Ցուցանիշների փոփոխությունը (ավելացումները նշված են դրական նշանով)
A14: Միջոցառման դասիչը` | B14: 11002 | C14: Ինն ամիս | D14: Տարի
A15: Միջոցառման անվանումը` | B15: Ոռոգման ծառայություններ մատուցող ընկերություններին ֆինանսական աջակցության տրամադրում
A16: Նկարագրությունը` | B16: Ոռոգման ոլորտի սուբսիդավորում ՋՕԸ-ների համար սահմանված ոռոգման ջրի սակագնի և նվազագույն շահավետ գնի տարբերության չափով
A17: Միջոցառման տեսակը` | B17: Ծառայությունների մատուցում
A18: Միջոցառումն իրականացնողի անվանումը | B18: Ջրօգտագործողների ընկերություններ
A19: Արդյունքի չափորոշիչներ
A20: Միջոցառման վրա կատարվող ծախսը (հազար դրամ) | C20: ='6-1'!C22 -> 1664192.3 | D20: ='6-1'!D22 -> 1664192.3
A22: Ծրագրի դասիչը` | B22: 1004 | C22: Ցուցանիշների փոփոխությունը (նվազեցումները նշված են փակագծերում)
A24: Միջոցառման դասիչը` | B24: 11010 | C24: Ինն ամիս | D24: Տարի
A25: Միջոցառման անվանումը` | B25: Գերմանիայի զարգացման վարկերի բանկի աջակցությամբ իրականացվող Ախուրյան գետի ջրային ռեսուրսների ինտեգրացված կառավարում փուլ 1 ծրագրով Ջրաձոր գյուղի վերաբնակեցման գործողությունների խորհրդատվություն և կառավարում
A26: Նկարագրությունը` | B26: Գերմանիայի զարգացման վարկերի բանկի աջակցությամբ իրականացվող Ախուրյան գետի ջրային ռեսուրսների ինտեգրացված կառավարում փուլ 1 ծրագրով Ջրաձոր գյուղի վերաբնակեցման գործողությունների համակարգում և ղեկավարում
A27: Միջոցառման տեսակը` | B27: Ծառայությունների մատուցում
A28: Ակտիվն օգտագործող կազմակերպության(ների) անվանում(ները)՛ | B28: Մասնագիտացված միավոր
A29: Արդյունքի չափորոշիչներ
A30: Միջոցառման վրա կատարվող ծախսը (հազար դրամ) | C30: ='6-1'!C32 -> -185000 | D30: ='6-1'!D32 -> -500000
A33: Ծրագրի դասիչը` | B33: 1004 | C33: Ցուցանիշների փոփոխությունը (նվազեցումները նշված են փակագծերում)
A35: Միջոցառման դասիչը` | B35: 31004 | C35: Ինն ամիս | D35: Տարի
A36: Միջոցառման անվանումը` | B36: Գերմանիայի զարգացման վարկերի բանկի աջակցությամբ իրականացվող Ախուրյան գետի ջրային ռեսուրսների ինտեգրված կառավարման ծրագրի շրջանակներում ջրային տնտեսության ենթակառուցվածքների հիմնանորոգում
A37: Նկարագրությունը` | B37: Գերմանիայի զարգացման վարկերի բանկի աջակցությամբ իրականացվող Ախուրյան գետի ջրային ռեսուրսների ինտեգրված կառավարման ծրագիր
A38: Միջոցառման տեսակը` | B38: Պետական մարմինների կողմից օգտագործվող ոչ ֆինանսական ակտիվների հետ գործառնություններ
A39: Ակտիվն օգտագործող կազմակերպության(ների) անվանում(ները)՛ | B39: Մասնագիտացված միավոր
A40: Արդյունքի չափորոշիչներ
A41: Նոր կառուցվող պատվարի երկարություն, մ | C41: -5 | D41: -5
A42: Միջոցառման վրա կատարվող ծախսը (հազար դրամ) | C42: ='6-1'!C63 -> -435000 | D42: ='6-1'!D63 -> -435000
A44: Ծրագրի դասիչը` | B44: 1004 | C44: Ցուցանիշների փոփոխությունը (նվազեցումները նշված են փակագծերում)
A46: Միջոցառման դասիչը` | B46: 31007 | C46: Ինն ամիս | D46: Տարի
A47: Միջոցառման անվանումը` | B47: Ջրային տնտեսության հիդրոտեխնիկական սարքավորումների տեղադրման աշխատանքներ
A48: Նկարագրությունը` | B48: Ոռոգման համակարգերի ջրանցքների բաժանարար կետերը SCADA համակարգով հագեցած ջրաչափական սարքավորումներով կահավորում
A49: Միջոցառման տեսակը` | B49: Պետական մարմինների կողմից օգտագործվող ոչ ֆինանսական ակտիվների հետ գործառնություններ
A50: Ակտիվն օգտագործող կազմակերպության(ների) անվանում(ները)՛ | B50: Ոռոգման համակարգի ընկերություններ
A51: Արդյունքի չափորոշիչներ
...

Sheet 7
A1: Հավելված N 7
A2: ՀՀ կառավարության 2023 թվականի
A3: -ի N -Ն որոշման
A5: ՀՀ ԿԱՌԱՎԱՐՈՒԹՅԱՆ 2022 ԹՎԱԿԱՆԻ ԴԵԿՏԵՄԲԵՐԻ 29-Ի N 2111-Ն ՈՐՈՇՄԱՆ N 10 ՀԱՎԵԼՎԱԾՈՒՄ ԿԱՏԱՐՎՈՂ ՓՈՓՈԽՈՒԹՅՈՒՆՆԵՐԸ ԵՎ ԼՐԱՑՈՒՄՆԵՐԸ
A7: Կոդը | B7: Անվանումը | C7: Գնման ձևը | D7: Չափի միավորը | E7: Ցուցանիշների փոփոխությունը (ավելացումները նշված են դրական նշանով, իսկ նվազեցումները՝ փակագծերում)
E8: Միավորի գինը | F8: քանակը | G8: գումարը (հազ. դրամ)
A9: ՀՀ տարածքային կառավարման և ենթակառուցվածքների նախարարության ջրային կոմիտե | G9: =G11+G18+G24+G30 -> 383380.2
A10: Բաժին N 04 | B10: Խումբ N 02 | C10: Դաս N 04 | D10: Ոռոգում | G10: =G11 -> -17978
A11: 1004 31014 | B11: Ջրամբարների վերականգնման և վերազինման աշխատանքներ | G11: =G12+G14 -> -17978
B12: ՄԱՍ II ԱՇԽԱՏԱՆՔՆԵՐ | G12: =G13 -> -16451.5
A13: 45611300/2 | B13: այլ շենքերի, շինությունների հիմնանորոգում | C13: ԲՄ | D13: դրամ | G13: =-16451.5 -> -16451.5
B14: ՄԱՍ III ԾԱՌԱՅՈՒԹՅՈՒՆՆԵՐ | G14: =G16+G15 -> -1526.5
A15: 71351540/2 | B15: տեխնիկական հսկողության ծառայություններ | C15: ԳՀ | D15: դրամ | G15: -928.5
A16: 50531140/506 | B16: փորձաքննության ծառայություններ | C16: ԳՀ | D16: դրամ | G16: -598
A17: Բաժին N 05 | B17: Խումբ 04 | C17: Դաս 01 | D17: Կենսաբազմազանության և բնության պաշտպանություն
A18: 1017 21001 | B18: Արփա-Սևան ջրային համակարգի տեխնիկական վիճակի բարելավում | G18: =G19+G21 -> -22660
B19: ՄԱՍ II ԱՇԽԱՏԱՆՔՆԵՐ | G19: =G20 -> -21380
A20: 45611300/1 | B20: այլ շենքերի, շինությունների հիմնանորոգում | C20: ԲՄ | D20: դրամ | G20: -21380
B21: ՄԱՍ III ԾԱՌԱՅՈՒԹՅՈՒՆՆԵՐ | G21: =G22+G23 -> -1280
A22: 50531140/1 | B22: փորձաքննության ծառայություններ | C22: ԳՀ | D22: դրամ | G22: -520
A23: 71241200/515 | B23: նախագծերի պատրաստում, ծախսերի գնահատում | C23: ԳՀ | D23: դրամ | G23: -760
A24: Բաժին N 06 | B24: Խումբ 03 | C24: Դաս 01 | D24: Ջրամատակարարում | G24: =G25 -> -25948.8
A25: 1072 31009 | B25: ՀՀ տարածքում վարձակալի կողմից չսպասարկվող բնակավայրերում ջրամատակարարման և ջրահեռացման համակարգերի կառուցում | G25: =G26 -> -25948.8
B26: ՄԱՍ III ԾԱՌԱՅՈՒԹՅՈՒՆՆԵՐ | G26: =G27+G28 -> -25948.8
A27: 50531140/1 | B27: փորձաքննության ծառայություններ | C27: ԳՀ | D27: դրամ | G27: -1468.8
A28: 71241200/1 | B28: նախագծերի պատրաստում, ծախսերի գնահատում | C28: ԳՀ | D28: դրամ | G28: -24480
A29: Բաժին N 04 | B29: Խումբ N 02 | C29: Դաս N 04 | D29: Ոռոգում
A30: 1004 31011 | B30: Խորքային հորերի վերականգնում | G30: =G31 -> 449967
B31: ՄԱՍ I ԱՊՐԱՆՔՆԵՐ | G31: =G32+G33+G34+G35+G36+G37+G38 -> 449967
A32: 38421120/501 | B32: Հոսքաչափեր | C32: ՀԲՄ | D32: հատ | E32: 736000 | F32: 539 | G32: =E32*F32/1000 -> 396704
A33: 38421120/502 | B33: Հոսքաչափեր | C33: ՀԲՄ | D33: հատ | E33: 663000 | F33: 30 | G33: =E33*F33/1000 -> 19890
A34: 38421120/503 | B34: Հոսքաչափեր | C34: ՀԲՄ | D34: հատ | E34: 703000 | F34: 38 | G34: =E34*F34/1000 -> 26714
A35: 38421120/504 | B35: Հոսքաչափեր | C35: ՀԲՄ | D35: հատ | E35: 829000 | F35: 2 | G35: =E35*F35/1000 -> 1658
A36: 38421120/505 | B36: Հոսքաչափեր | C36: ՀԲՄ | D36: հատ | E36: 929000 | F36: 1 | G36: =E36*F36/1000 -> 929
A37: 38421120/506 | B37: Հոսքաչափեր | C37: ՀԲՄ | D37: հատ | E37: 969000 | F37: 3 | G37: =E37*F37/1000 -> 2907
A38: 38421120/507 | B38: Հոսքաչափեր | C38: ՀԲՄ | D38: հատ | E38: 1165000 | F38: 1 | G38: =E38*F38/1000 -> 1165

Sheet 8
F1: Հավելված N 8
A2: ՀՀ կառավարության 2023 թվականի
A3: -ի N -Ն որոշման
A4: ՀԱՅԱՍՏԱՆԻ ՀԱՆՐԱՊԵՏՈՒԹՅԱՆ ԿԱՌԱՎԱՐՈՒԹՅԱՆ ՊԱՀՈՒՍՏԱՅԻՆ ՖՈՆԴԻՑ ԿԱՏԱՐՎՈՂ ՀԱՏԿԱՑՈՒՄԸ
H6: (հազ. դրամ)
A7: Գործառական դասիչը | D7: Ծրագրային դասիչը | F7: Բյուջետային ծախսերի գործառական դասակարգման բաժինների, խմբերի և դասերի, բյուջետային ծրագրերի միջոցառումների, բյուջետային հատկացումների գլխավոր կարգադրիչների անվանումները | G7: Ցուցանիշների փոփոխությունը (ավելացումները նշված են դրական նշանով, իսկ նվազեցումները՝ փակագծերում)
G8: Ինն ամիս | H8: Տարի
A9: Բաժին | B9: Խումբ | C9: Դաս | D9: Ծրագիր | E9: Միջոցառում
A10: 11 | F10: ՀԻՄՆԱԿԱՆ ԲԱԺԻՆՆԵՐԻՆ ՉԴԱՍՎՈՂ ՊԱՀՈՒՍՏԱՅԻՆ ՖՈՆԴԵՐ | G10: =G12 -> 0 | H10: =H12 -> -1878
F11: այդ թվում`
B12: 01 | F12: ՀՀ կառավարության և համայնքների պահուստային ֆոնդ | G12: =G14 -> 0 | H12: =H14 -> -1878
F13: այդ թվում`
C14: 01 | F14: ՀՀ կառավարության պահուստային ֆոնդ | G14: =G16 -> 0 | H14: =H16 -> -1878
F15: այդ թվում`
F16: ՀՀ կառավարություն | G16: =G18 -> 0 | H16: =H18 -> -1878
F17: այդ թվում`
D18: 1139 | F18: ՀՀ կառավարության պահուստային ֆոնդ | G18: =G20 -> 0 | H18: =H20 -> -1878
F19: այդ թվում`
E20: 11001 | F20: ՀՀ կառավարության պահուստային ֆոնդ | G20: =G22 -> 0 | H20: =H22 -> -1878
F21: այդ թվում` ըստ կատարողների
F22: ՀՀ կառավարություն | G22: =G24 -> 0 | H22: =H24 -> -1878
F23: այդ թվում` բյուջետային ծախսերի տնտեսագիտական դասակարգման հոդվածներ
F24: ԸՆԴԱՄԵՆԸ ԾԱԽՍԵՐ | G24: =G25 -> 0 | H24: =H25 -> -1878
F25: ԸՆԹԱՑԻԿ ԾԱԽՍԵՐ | G25: =G26 -> 0 | H25: =H26 -> -1878
F26: ԱՅԼ ԾԱԽՍԵՐ | G26: =G27 -> 0 | H26: =H27 -> -1878
F27: Պահուստային միջոցներ | G27: =G28 -> 0 | H27: =H28 -> -1878
F28: -Պահուստային միջոցներ | G28: 0 | H28: ='1'!E136 -> -1878
A29: 04 | F29: ՏՆՏԵՍԱԿԱՆ ՀԱՐԱԲԵՐՈՒԹՅՈՒՆՆԵՐ | G29: =G31 -> 0 | H29: =H31 -> 1878
F30: այդ թվում`
B31: 02 | F31: Գյուղատնտեսություն, անտառային տնտեսություն, ձկնորսություն և որսորդություն | G31: =G33 -> 0 | H31: =H33 -> 1878
F32: այդ թվում`
C33: 04 | F33: Ոռոգում | G33: =G35 -> 0 | H33: =H35 -> 1878
F34: այդ թվում`
F35: ՀՀ տարածքային կառավարման և ենթակառուցվածքների նախարարություն | G35: =G37 -> 0 | H35: =H37 -> 1878
F36: այդ թվում`
D37: 1004 | F37: Ոռոգման համակարգի առողջացում | G37: =G39 -> 0 | H37: =H39 -> 1878
F38: այդ թվում`
E39: 31011 | F39: Խորքային հորերի վերականգնում | G39: =G41 -> 0 | H39: =H41 -> 1878
F40: այդ թվում` ըստ կատարողների
F41: ՀՀ տարածքային կառավարման և ենթակառուցվածքների նախարարության ջրային կոմիտե | G41: =G43 -> 0 | H41: =H43 -> 1878
...
