Workbook
Name AgencyCode: #REF!
Name AgencyCode: #REF!
Name AgencyCode: #REF!
Name AgencyCode: #REF!
Name AgencyCode: #REF!
Name AgencyCode: #REF!
Name AgencyCode: #REF!
Name AgencyName: #REF!
Name AgencyName: #REF!
Name AgencyName: #REF!
Name åû: #REF!
Name åû: #REF!
Name davit: #REF!
Name davit: #REF!
Name Functional1: #REF!
Name Functional1: #REF!
Name Functional1: #REF!
Name ggg: #REF!
Name ggg: #REF!
Name mas: #REF!
Name mas: #REF!
Name mass: #REF!
Name mass: #REF!
Name PANature: #REF!
Name PANature: #REF!
Name PANature: #REF!
Name PAType: #REF!
Name PAType: #REF!
Name PAType: #REF!
Name Performance2: #REF!
Name Performance2: #REF!
Name Performance2: #REF!
Name PerformanceType: #REF!
Name PerformanceType: #REF!
Name PerformanceType: #REF!
Name x: #REF!
Name x: #REF!
Name x: #REF!
Name x: #REF!
Name x: #REF!
Name x: #REF!
Name Հավելված: #REF!
Name Հավելված: #REF!
Name Հավելված: #REF!
Name Մաս: #REF!
Name Մաս: #REF!
Name Մաս: #REF!
Name շախմատիստ: #REF!
Name շախմատիստ: #REF!
Name շախմատիստ: #REF!

Sheet Հ1
C1: Հավելված N 1
C2: ՀՀ կառավարության 2023 թվականի
C3: ______________ ի ___Ն որոշման
B5: «ՀԱՅԱՍՏԱՆԻ ՀԱՆՐԱՊԵՏՈՒԹՅԱՆ 2023 ԹՎԱԿԱՆԻ ՊԵՏԱԿԱՆ ԲՅՈՒՋԵԻ ՄԱՍԻՆ» ՕՐԵՆՔԻ N 2 ՀՈԴՎԱԾԻ ԱՂՅՈՒՍԱԿՈՒՄ ԿԱՏԱՐՎՈՂ ՓՈՓՈԽՈՒԹՅՈՒՆՆԵՐԸ
C7: հազար դրամներով
C8: Ցուցանիշների փոփոխությունը (նվազեցումները նշված են փակագծերում)
B9: 1. Եկամուտների գծով | C9: 0
B10: 2. Ծախսերի գծով | C10: =Հ2!D10 -> -2126228.8
B11: 3. Դեֆիցիտը (պակասուրդը) | C11: =-C9+C10 -> -2126228.8
B14: ՀԱՅԱՍՏԱՆԻ ՀԱՆՐԱՊԵՏՈՒԹՅԱՆ ՎԱՐՉԱՊԵՏԻ ԱՇԽԱՏԱԿԱԶՄԻ ՂԵԿԱՎԱՐ՝ | C14: Ա.ՀԱՐՈՒԹՅՈՒՆՅԱՆ

Sheet Հ2
D1: Հավելված N 2
D2: ՀՀ կառավարության 2023 թվականի
D3: ______________ ի ___Ն որոշման
B5: ՀԱՅԱՍՏԱՆԻ ՀԱՆՐԱՊԵՏՈՒԹՅԱՆ ԿԱՌԱՎԱՐՈՒԹՅԱՆ 2022 ԹՎԱԿԱՆԻ ԴԵԿՏԵՄԲԵՐԻ 29-Ի N 2111-Ն ՈՐՈՇՄԱՆ N 1 ՀԱՎԵԼՎԱԾԻ N 1 ԱՂՅՈՒՍԱԿՈՒՄ ԿԱՏԱՐՎՈՂ ՓՈՓՈԽՈՒԹՅՈՒՆՆԵՐԸ
D7: հազ. դրամ
B8: Պետական բյուջեի դեֆիցիտի ֆինանսավորման աղբյուրներն ու դրանց տարրերի անվանումները | C8: Ցուցանիշների փոփոխությունը (նվազեցումները նշված են փակագծերում)
C9: Ինն ամիս | D9: Տարի
B10: ԸՆԴԱՄԵՆԸ | C10: =+C20+C12 -> 13397655 | D10: =+D20+D12 -> -2126228.8
B11: այդ թվում՝
B12: Ա.Ներքին աղբյուրներ-ընդամենը | C12: =C14+C21 -> 14974000 | D12: =D14+D21 -> 15702276
B13: այդ թվում՝
B14: 1. Փոխառու զուտ միջոցներ | C14: =C16 -> 14974000 | D14: =D16 -> 15702276
B15: այդ թվում՝
B16: 1.1. Արժեթղթերի (բացառությամբ բաժնետոմսերի և կապիտալում այլ մասնակցության) թողարկումից և տեղաբաշխումից զուտ մուտքեր | C16: =C17 -> 14974000 | D16: =D17 -> 15702276
B17: ՀՀ ֆինանսների նախարարություն | C17: =C19 -> 14974000 | D17: =D19 -> 15702276
B18: որից`
B19: գանձապետական պարտատոմսեր | C19: =6473999.708+8500000 -> 14974000 | D19: =8600000+7102276 -> 15702276
B20: Բ. Արտաքին աղբյուրներ - ընդամենը | C20: =+C22 -> -1576345.2 | D20: =+D22 -> -17828505 | E20: .
B21: այդ թվում
B22: 1. Փոխառու զուտ միջոցներ | C22: =+C24 -> -1576345.2 | D22: =+D24 -> -17828505
B23: այդ թվում՝
B24: 1.1. Վարկերի և փոխատվությունների ստացում | C24: =+C26 -> -1576345.2 | D24: =+D26 -> -17828505
B25: որից`
B26: նպատակային վարկերի գծով | C26: =Հ7!F11 -> -1576345.2 | D26: =Հ7!I11 -> -17828505
B30: ՀԱՅԱՍՏԱՆԻ ՀԱՆՐԱՊԵՏՈՒԹՅԱՆ ՎԱՐՉԱՊԵՏԻ ԱՇԽԱՏԱԿԱԶՄԻ ՂԵԿԱՎԱՐ՝ | C30: Ա.ՀԱՐՈՒԹՅՈՒՆՅԱՆ

Sheet Հ3
I1: Հավելված N 3
I2: ՀՀ կառավարության 2023 թվականի
I3: ______________ ի ___Ն որոշման
B4: «ՀԱՅԱՍՏԱՆԻ ՀԱՆՐԱՊԵՏՈՒԹՅԱՆ 2023 ԹՎԱԿԱՆԻ ՊԵՏԱԿԱՆ ԲՅՈՒՋԵԻ ՄԱՍԻՆ» ՕՐԵՆՔԻ N 1 ՀԱՎԵԼՎԱԾԻ N 3 ԱՂՅՈՒՍԱԿՈՒՄ ԿԱՏԱՐՎՈՂ ՓՈՓՈԽՈՒԹՅՈՒՆՆԵՐԸ ԵՎ ԼՐԱՑՈՒՄՆԵՐԸ
H5: հազար դրամներով
B6: Ծրագրային դասիչ | D6: Բյուջետային գլխավոր կարգադրիչների, ծրագրերի, միջոցառումների և ուղղությունների անվանումները | E6: Ցուցանիշների փոփոխությունը (Ավելացումները նշված են դրական նշանով, իսկ նվազեցումները` փակագծերում)
E7: Ընդամենը, | F7: այդ թվում՝
B8: Ծրագիր | C8: Միջոցառում | F8: Կառուցման աշխատանքներ | G8: Վերակառուցման, վերանորոգման և վերականգնման աշխատանքներ | H8: Նախագծահե- տազոտական, գեոդեզիա- քարտեզագրա- կան աշխա- տանքներ | I8: Ոչ ֆինանսական այլ ակտիվների ձեռքբերում
D9: ԸՆԴԱՄԵՆԸ | E9: =+F9+G9+H9+I9 -> 8972683.5 | F9: =+F11 -> 0 | G9: =+G11 -> 8901632.6 | H9: =+H11 -> 71050.908 | I9: =+I11 -> 0
D10: այդ թվում՝
D11: ՀՀ ՏԱՐԱԾՔԱՅԻՆ ԿԱՌԱՎԱՐՄԱՆ ԵՎ ԵՆԹԱԿԱՌՈՒՑՎԱԾՔՆԵՐԻ ՆԱԽԱՐԱՐՈՒԹՅՈՒՆ | E11: =+F11+G11+H11+I11 -> 8972683.5 | F11: =+F74+F13 -> 0 | G11: =+G74+G13 -> 8901632.6 | H11: =+H74+H13 -> 71050.908 | I11: =+I74+I13 -> 0
D12: այդ թվում`
B13: 1049 | C13: 21001 | D13: Պետական նշանակության ավտոճանապարհների հիմնանորոգում | E13: =+F13+G13+H13+I13 -> 8970323.5 | F13: =F15+F32+F52 -> 0 | G13: =G15+G32+G52 -> 8901632.6 | H13: =H15+H32+H52 -> 68690.908 | I13: 0
D14: այդ թվում`
C15: =+'[1]3'!B17 -> 1 | D15: =+'[1]3'!C17 -> Միջպետական նշանակության ավտոճանապարհներ, այդ թվում | E15: =+F15+G15+H15+I15 -> 4603312.2 | F15: =SUM(F16:F31) -> 0 | G15: =SUM(G16:G31) -> 4588827.5 | H15: =SUM(H16:H31) -> 14484.7 | I15: =SUM(I16:I31) -> 0
D16: Մ-1, Երևան-Գյումրի-Հայաստանի Հանրապետության սահման միջպետական նշանակության ավտոճանապարհի կմ160+200-կմ171+700 հատվածի հիմնանորոգում | E16: =+F16+G16+H16+I16 -> 843293.3 | F16: 0 | G16: 843293.3 | H16: 0 | I16: 0
D17: Մ-2, Երևան-Երասխ-Գորիս-Մեղրի-Հայաստանի Հանրապետության սահման կմ53+150 - կմ65+350 հատվածի հիմնանորոգում | E17: =+F17+G17+H17+I17 -> 283.4 | F17: 0 | G17: 283.4 | H17: 0 | I17: 0
D18: Մ-2, Երևան-Երասխ-Գորիս-Մեղրի-Հայաստանի Հանրապետության սահման միջպետական նշանակության ավտոճանապարհի կմ142+000 - կմ150+700 հատվածի հիմնանորոգում | E18: =+F18+G18+H18+I18 -> 1019000.4 | F18: 0 | G18: 1019000.4 | H18: 0 | I18: 0
D19: Մ-2, Երևան-Երասխ-Գորիս-Մեղրի-Հայաստանի Հանրապետության սահման միջպետական նշանակության ավտոճանապարհի կմ297+800-կմ311+250 հատվածի հիմնանորոգման աշխատանքների (1-ին տեղամաս՝ կմ297+800-կմ301+820 հատված) | E19: =+F19+G19+H19+I19 -> 121287.8 | F19: 0 | G19: 121287.8 | H19: 0 | I19: 0
D20: Մ-3, Հայաստանի Հանրապետության սահման-Մարգարա-Վանաձոր-Տաշիր-Հայաստանի Հանրապետության սահման միջպետական նշանակության ավտոճանապարհի կմ39+500-կմ45+300 հատվածի հիմնանորոգում | E20: =+F20+G20+H20+I20 -> 1294778.9 | F20: 0 | G20: 1294778.9 | H20: 0 | I20: 0
D21: Մ-3, Հայաստանի Հանրապետության սահման-Մարգարա-Վանաձոր-Տաշիր-Հայաստանի Հանրապետության սահման միջպետական նշանակության ավտոճանապարհի կմ130+400-կմ135+354 հատվածի հիմնանորոգում | E21: =+F21+G21+H21+I21 -> 28412.6 | F21: 0 | G21: 28412.6 | H21: 0 | I21: 0
D22: Մ-4, Երևան-Սևան-Իջևան-Հայաստանի Հանրապետության սահման միջպետական նշանակության ավտոճանապարհի Դիլիջան-Իջևան հատվածում անվտանգության տարրերի բարելավում և սև կետերի շտկում | E22: =+F22+G22+H22+I22 -> 2865 | F22: 0 | G22: 0 | H22: 2865 | I22: 0
D23: Մ4, Երևան - Սևան - Իջևան – Հայաստանի Հանրապետության սահման միջպետական նշանակության ավտոճանապարհի կմ144+240-կմ148+200 հատվածի հիմնանորոգում | E23: =+F23+G23+H23+I23 -> 317717.4 | F23: 0 | G23: 317717.4 | H23: 0 | I23: 0
D24: Մ-5, Երևան - Արմավիր - Հայաստանի Հանրապետության սահման միջպետական նշանակության ավտոճանապարհի կմ17+530-կմ18+200, կմ25+593 - կմ29+385 և կմ32+675 - կմ33+833 աջակողմյան և ձախակողմյան հատվածների հիմնանորոգում և Մ-5 Երևան-Արմավիր-Հայաստանի Հանրապետության սահման ա/ճ-ի կմ 35+457 - կմ 37+054 հատվածի ջրահեռացման համակարգի վերականգնում | E24: =+F24+G24+H24+I24 -> 473709 | F24: 0 | G24: 473709 | H24: 0 | I24: 0
D25: Մ-7, /Մ-3/ - Սպիտակ – Գյումրի - Հայաստանի ՀանրապետությանՀանրապետության սահման միջպետական նշանակության ավտոճանապարհի կմ47+100-կմ48+000 հատվածի հիմնանորոգում | E25: =+F25+G25+H25+I25 -> 83.7 | F25: 0 | G25: 0 | H25: 83.7 | I25: 0
D26: Մ-8, Վանաձոր (Մ-6 հատման կետ) - Դիլիջան միջպետական նշանակության ավտոճանապարհի կմ0+236 - կմ6+236 հատվածի (Վանաձոր քաղաքի հատված) հիմնանորոգում | E26: =+F26+G26+H26+I26 -> 5980 | F26: 0 | G26: 0 | H26: 5980 | I26: 0
D27: Մ-10, Սևան-Մարտունի-Գետափ միջպետական նշանակության ավտոճանապարհի կմ79+060-կմ80+590 հատվածի վերակառուցում | E27: =+F27+G27+H27+I27 -> 1156 | F27: 0 | G27: 0 | H27: 1156 | I27: 0
... D31: Մ-15, /Մ-4/ (Վերին Պտղնի) - Մասիսի տրանսպորտային հանգույց (Երևանի շրջանց) միջպետական նշանակության ավտոճանապարհի կմ19+900-կմ29+400 հատվածի հիմնանորոգում | E31: =+F31+G31+H31+I31 -> 58322.3 | F31: 0 | G31: 58322.3 | H31: 0 | I31: 0
C32: =+'[1]3'!B29 -> 2 | D32: =+[2]Հ3!D36 -> Հանրապետական նշանակության ավտոճանապարհներ, այդ թվում | E32: =+F32+G32+H32+I32 -> 2737005.2 | F32: =SUM(F33:F51) -> 0 | G32: =SUM(G33:G51) -> 2704786.6 | H32: =SUM(H33:H51) -> 32218.6 | I32: =SUM(I33:I51) -> 0
D33: Հ-1, Վ. Պտղնու տրանսպորտային հանգույց - Ջրաբեր-Հրազդան -Հրազդանի քրեակատարողական հիմնարկ հանրապետական նշանակության ավտոճանապարհի կմ33+500 - կմ37+700 հատվածի հիմնանորոգում | E33: =+F33+G33+H33+I33 -> 834264.7 | F33: 0 | G33: 834264.7 | H33: 0 | I33: 0
D34: Հ-1, Վ. Պտղնու տրանսպորտային հանգույց - Ջրաբեր-Հրազդան -Հրազդանի քրեակատարողական հիմնարկ հանրապետական նշանակության ավտոճանապարհի կմ21+700 - կմ24+000 հատվածի հիմնանորոգում | E34: =+F34+G34+H34+I34 -> 197679.4 | F34: 0 | G34: 197679.4 | H34: 0 | I34: 0
D35: Հ-3, Երևան (Ջրաշխարհ, Մ-4-ի հետ հատման տեղ)-Գառնի –Գեղարդի վանք հանրապետական նշանակության ավտոճանապարհի կմ10+770-կմ27+500 հատվածի (բացառությամբ սողանքային տեղամասերի) հիմնանորոգում | E35: =+F35+G35+H35+I35 -> 3530 | F35: 0 | G35: 0 | H35: 3530 | I35: 0
D36: Հ-4, Երևան - եղվարդ - Արագյուղ - Հարթավան - /Մ-3/ հանրապետական նշանակության ավտոճանապարհի կմ33+500 - կմ34+800 հատվածի (Երնջատափ գյուղը շրջանցող հատված) հիմնանորոգում | E36: =+F36+G36+H36+I36 -> 165347.8 | F36: 0 | G36: 165347.8 | H36: 0 | I36: 0
D37: Հ-10. /Հ-8/ (Ոսկետափ) - Վեդի - Լանջառ - /Մ-2/ հանրապետական նշանակության ավտոճանապարհի կմ5+450 - կմ9+250 հատվածի հիմնանորոգում | E37: =+F37+G37+H37+I37 -> 2700 | F37: 0 | G37: 0 | H37: 2700 | I37: 0
D38: Հ-15, /Մ-5/(Նորապատ) -Արգավանդ –/Մ-3/ (Վարդանաշեն) հանրապետական նշանակության ավտոճանապարհի կմ3+000 - կմ13+000 հատվածի հիմնանորոգում | E38: =+F38+G38+H38+I38 -> 2416.9 | F38: 0 | G38: 0 | H38: 2416.9 | I38: 0
D39: Հ-15, /Մ-5/(Նորապատ) -Արգավանդ –/Մ-3/ (Վարդանաշեն) հանրապետական նշանակության ավտոճանապարհի կմ13+000 - կմ20+000 հատվածի հիմնանորոգում | E39: =+F39+G39+H39+I39 -> 1743.1 | F39: 0 | G39: 0 | H39: 1743.1 | I39: 0
D40: Հ-16, /Մ-5/ - Մեծամոր – ՀԱԷԿ - /Մ-5/ հանրապետական նշանակության ավտոճանապարհի կմ0+000 - կմ10+700 հատվածի հիմնանորոգում | E40: =+F40+G40+H40+I40 -> 8350 | F40: 0 | G40: 0 | H40: 8350 | I40: 0
D41: Հ-21, /Հ-75/ - Հոռոմ-Արթիկ-Ալագյազ հանրապետական նշանակության ավտոճանապարհի կմ29+600 - կմ32+700 հատվածի հիմնանորոգում | E41: =+F41+G41+H41+I41 -> 224.8 | F41: 0 | G41: 0 | H41: 224.8 | I41: 0
D42: Հ-21, /Հ-75/ - Հոռոմ-Արթիկ-Ալագյազ հանրապետական նշանակության ավտոճանապարհի կմ32+700 - կմ41+000 հատվածի հիմնանորոգում | E42: =+F42+G42+H42+I42 -> 468 | F42: 0 | G42: 0 | H42: 468 | I42: 0
D43: Հ-23, /Մ-3/ - Պուշկինյան լեռնանցք - /Մ-3/ հանրապետական նշանակության ավտոճանապարհի կմ0+000 - կմ13+400 հատվածի հիմնանորոգում | E43: =+F43+G43+H43+I43 -> 647.8 | F43: 0 | G43: 0 | H43: 647.8 | I43: 0
D44: Հ-29,Սևան - Ծաղկունք – Զովաբեր հանրապետական նշանակության ավտոճանապարհի կմ 0+000-կմ 18+200 հատվածի հիմնորոգում (բացառությամբ կմ 11+000-կմ 12+000 հատվածի) | E44: =+F44+G44+H44+I44 -> 12138 | F44: 0 | G44: 0 | H44: 12138 | I44: 0
... D51: Հ-93, /Հ-75/ - Երերույքի տաճար հանրապետական նշանակության ավտոճանապարհի կմ 0+000-կմ 2+700 հատվածի հիմնանորոգում | E51: =+F51+G51+H51+I51 -> 14700 | F51: 0 | G51: 14700 | H51: 0 | I51: 0
C52: =+'[1]3'!B38 -> 3 | D52: =+'[1]3'!C38 -> Մարզային նշանակության ավտոճանապարհներ, այդ թվում | E52: =+F52+G52+H52+I52 -> 1630006.1 | F52: =SUM(F53:F73) -> 0 | G52: =SUM(G53:G73) -> 1608018.5 | H52: =SUM(H53:H73) -> 21987.608 | I52: =SUM(I53:I73) -> 0
D53: Տ-1-14, /Մ-3/ - Հարթավան - /Հ-4/ ավտոճանապարհի կմ0+000-կմ1+200 հատվածի հիմնանորոգում | E53: =+F53+G53+H53+I53 -> 1050 | F53: 0 | G53: 0 | H53: 1050 | I53: 0
D54: Տ-1-44,/Մ-3/ (Ապարան) - Լուսագյուղ ավտոճանապարհի կմ0+000-կմ3+000 հատվածի հիմնանորոգում | E54: =+F54+G54+H54+I54 -> 185.9 | F54: 0 | G54: 0 | H54: 185.9 | I54: 0
D55: Տ-1-50, /Մ-3/ - Լեռնապար ավտոճանապարհի կմ0+000 - կմ3+800 հատվածի հիմնանորոգում | E55: =+F55+G55+H55+I55 -> 544915.2 | F55: 0 | G55: 544915.2 | H55: 0 | I55: 0
D56: Տ-1-62,/Հ-4/ - Երնջաթափ - Շողակն ավտոճանապարհի կմ0+000-կմ3+400 հատվածի հիմնանորոգում | E56: =+F56+G56+H56+I56 -> 189.7 | F56: 0 | G56: 0 | H56: 189.7 | I56: 0
D57: Տ-1-68, Ներքին Բազմաբերդ (Տ-1-65) – Կաքավաձոր (Տ-1-60) ավտոճանապարհի կմ0+000 – կմ4+100 հատվածի հիմնանորոգում | E57: =+F57+G57+H57+I57 -> 156158.8 | F57: 0 | G57: 156158.8 | H57: 0 | I57: 0
D58: Տ-3-14, /Մ-5/-Մրգաշատ-Ալաշկերտ-գ․Արմավիր (Տ-3-16) կմ 0+000-կմ1+300, կմ3+800-կմ4+500 և կմ4+800-կմ6+800 հատվածների հիմնանորոգման աշխատանքներ | E58: =+F58+G58+H58+I58 -> 2949 | F58: 0 | G58: 0 | H58: 2949 | I58: 0
D59: Տ-3-18,Ակնալիճ (Տ-3-6) – Զարթոնք – Արևիկ (Տ-3-50) կմ0+000-կմ3+628 հատվածի հիմնանորոգում | E59: =+F59+G59+H59+I59 -> 288990.4 | F59: 0 | G59: 288990.4 | H59: 0 | I59: 0
D60: Տ-3-19, Արևիկ(Տ-3-50)-/Հ-15/(Տանձուտ) ավտոճանապարհի կմ0+000 - կմ3+400 հատվածի հիմնանորոգում | E60: =+F60+G60+H60+I60 -> 2639 | F60: 0 | G60: 0 | H60: 2639 | I60: 0
D61: Տ-3-76, Զարթոնք - Արտաշար /Տ-3-54/ ավտոճանապարհի կմ 0+000-կմ 2+100 հատվածի հիմնանորոգում | E61: =+F61+G61+H61+I61 -> 43690.2 | F61: 0 | G61: 43690.2 | H61: 0 | I61: 0
D62: Տ-6-3, /Հ-4/ (Արագյուղ) - /Հ-5/ ավտոճանապարհի 3.7 կմ երկարությամբ հատվածի հիմնանորոգում | E62: =+F62+G62+H62+I62 -> 436345.5 | F62: 0 | G62: 436345.5 | H62: 0 | I62: 0
D63: Տ-6-29, Երևան (Բագրևանդի փող.) – Ձորաղբյուր (Տ-6-42) ավտոճանապարհի կմ0+000-կմ5+200 հատվածի հիմնանորոգում | E63: =+F63+G63+H63+I63 -> 4038 | F63: 0 | G63: 0 | H63: 4038 | I63: 0
D64: Տ-7-48, Գյումրի (Տ-7-58) - Արևիկ – Այգեբաց - Վարդաքար - /Հ-21/ մարզային նշանակության ավտոճանապարհի կմ10+440 - կմ16+200 հատվածի հիմնանորոգում | E64: =+F64+G64+H64+I64 -> 28937.7 | F64: 0 | G64: 28937.7 | H64: 0 | I64: 0
... D73: /Մ-12/-Կոռնիձոր-ՀՀ սահման ավտոճանապարհի կմ4+000-կմ 9+000 հատվածի վերակառուցում | E73: =+F73+G73+H73+I73 -> -113537.5 | F73: 0 | G73: -113537.5 | H73: 0 | I73: 0
B74: 1049 | C74: 21002 | D74: Տրանսպորտային օբյեկտների հիմնանորոգում, այդ թվում | E74: =+F74+G74+H74+I74 -> 2360 | F74: =SUM(F75:F77) -> 0 | G74: =SUM(G75:G77) -> 0 | H74: =SUM(H75:H77) -> 2360 | I74: =SUM(I75:I77) -> 0
D75: Տ-7-8, /Տ-7-37/ - Գտաշեն–Կամխուտ – /Տ-7-37/ տեղական նշանակության ավտոճանապարհի կմ2+300-ում գտնվող 5*3մ բացվածքով հավաքովի միասնականացված ե/բ խողովակի հիմնանորոգում | E75: =+F75+G75+H75+I75 -> 780 | F75: 0 | G75: 0 | H75: 780 | I75: 0
D76: Մ-10, Սևան-Մարտունի-Գետափ միջպետական նշանակության ավտոճանապարհի կմ21+500-ում գտնվող փլուզված հողային պաստառի շեպի վերականգնում | E76: =+F76+G76+H76+I76 -> 980 | F76: 0 | G76: 0 | H76: 980 | I76: 0
D77: Մ-16, /Մ-4/ - Ոսկեպար - Նոյեմբերյան - /Մ-6/ միջպետական նշանակության ավտոճանապարհի 57կմ-ում փլուզված ներքին հենապատի հիմնանորոգում | E77: =+F77+G77+H77+I77 -> 600 | F77: 0 | G77: 0 | H77: 600 | I77: 0
D80: ՀԱՅԱՍՏԱՆԻ ՀԱՆՐԱՊԵՏՈՒԹՅԱՆ ՎԱՐՉԱՊԵՏԻ ԱՇԽԱՏԱԿԱԶՄԻ ՂԵԿԱՎԱՐ՝ | F80: Ա.ՀԱՐՈՒԹՅՈՒՆՅԱՆ

Sheet Հ4
F1: Հավելված N 4
F2: ՀՀ կառավարության 2023 թվականի
F3: ______________ ի ___Ն որոշման
B5: «ՀԱՅԱUՏԱՆԻ ՀԱՆՐԱՊԵՏՈՒԹՅԱՆ 2023 ԹՎԱԿԱՆԻ ՊԵՏԱԿԱՆ ԲՅՈՒՋԵԻ ՄԱUԻՆ» OՐԵՆՔԻ N 1 ՀԱՎԵԼՎԱԾԻ N 2 ԱՂՅՈՒՍԱԿՈՒՄ ԿԱՏԱՐՎՈՂ ՎԵՐԱԲԱՇԽՈՒՄԸ ԵՎ ՀԱՅԱՍՏԱՆԻ ՀԱՆՐԱՊԵՏՈՒԹՅԱՆ ԿԱՌԱՎԱՐՈՒԹՅԱՆ 2022 ԹՎԱԿԱՆԻ ԴԵԿՏԵՄԲԵՐԻ 29-Ի N 2111-Ն ՈՐՈՇՄԱՆ N 5 ՀԱՎԵԼՎԱԾԻ N 1 ԱՂՅՈՒՍԱԿՈՒՄ ԿԱՏԱՐՎՈՂ ՓՈՓՈԽՈՒԹՅՈՒՆՆԵՐԸ ԵՎ ԼՐԱՑՈՒՄՆԵՐԸ
F6: հազ. դրամ
B7: Ծրագրային դասիչը | D7: Բյուջետային հատկացումների գլխավոր կարգադրիչների, ծրագրերի և միջոցառումների անվանումները | E7: Ցուցանիշների փոփոխությունը (Ավելացումները նշված են դրական նշանով, իսկ նվազեցումները` փակագծերում)
B8: Ծրագիր | C8: Միջոցառում | E8: Ինն ամիս | F8: Տարի
B9: 1192 | D9: ԸՆԴԱՄԵՆԸ | E9: =E105+E11 -> 13397655 | F9: =F105+F11 -> -2126228.8
D10: այդ թվում`
D11: ՀՀ տարածքային կառավարման և ենթակառուցվածքների նախարարություն | E11: =E25+E44+E12 -> 4897654.5 | F11: =F25+F44+F12 -> -10726229
B12: 1004 | D12: Ծրագրի անվանումը` | E12: =+E20 -> 0 | F12: =+F20 -> -700000
D13: Ոռոգման համակարգի առողջացում
D14: Ծրագրի նպատակը`
D15: Ոռոգման ծառայությունների հասանելիության և մատչելիության ապահովում
D16: Վերջնական արդյունքի նկարագրությունը`
D17: Ոռոգման ջրի մատակարարման արդյունավետության և հասանելիության բարելավում, կորուստների կրճատում
B18: Ծրագրի միջոցառումներ
C19: 31005 | D19: Միջոցառման անվանումը`
D20: Եվրասիական զարգացման բանկի աջակցությամբ իրականացվող ոռոգման համակարգերի զարգացման ծրագրի շրջանակներում ջրային տնտեսության ենթակառուցվածքների հիմնանորոգում | E20: =+Հ7!E17 -> 0 | F20: =+Հ7!H17 -> -700000
D21: Միջոցառման նկարագրությունը`
D22: Եվրասիական զարգացման բանկի աջակցությամբ իրականացվող ոռոգման համակարգերի զարգացման ծրագիր
D23: Միջոցառման տեսակը
D24: Պետական մարմինների կողմից օգտագործվող ոչ ֆինանսական ակտիվների հետ գործառնություններ
B25: 1019 | D25: Ծրագրի անվանումը` | E25: =+E33+E39 -> -1575345.2 | F25: =+F33+F39 -> -1985345.2
D26: Սոցիալական ներդրումների և տեղական զարգացման ծրագիր
D27: Ծրագրի նպատակը`
D28: Նպաստել տարածքներում բնակչության նյութական և ոչ նյութական բարեկեցության աճին
D29: Վերջնական արդյունքի նկարագրությունը`
D30: Համայնքային և միջհամայնքային ենթակառուցվածքների և որակի հասանելիության բարելավում, ինստիտուցիոնալ և ֆինանասական կարողությունների հզորացում
B31: Ծրագրի միջոցառումներ
C32: 12001 | D32: Միջոցառման անվանումը`
D33: Համաշխարհային բանկի աջակցությամբ իրականացվող Տարածքային զարգացման հիմնադրամի ծրագրի շրջանակներում ՀՀ տարածքներում ջրագծերի, առողջապահության, կրթության, մշակույթի, հատուկ խնամքի և ենթակառուցվածքների ոլորտի վերականգնման և շինարարության աշխատանքներ | E33: =+Հ7!E28 -> -135345.2 | F33: =+Հ7!H28 -> -135345.2
D34: Միջոցառման նկարագրությունը`
D35: Տարածքային զարգացման հիմնադրամի ծրագրով նախատեսված ՀՀ տարածքներում ջրագծերի, առողջապահության, կրթության օբյեկտների, մշակույթային տների, ծերանոցների, մանկատների, հատուկ դպրոցների, մանկապարտեզների և կոյուղու օբյեկտների հիմնանորոգում և շինարարություն
D36: Միջոցառման տեսակը
D37: Տրանսֆերտների տրամադրում
C38: 12004 | D38: Միջոցառման անվանումը`
D39: Համաշխարհային բանկի աջակցությամբ իրականացվող Սոցիալական ներդրումների և տեղական զարգացման ծրագրի լրացուցիչ ֆինանսավորման վարկի շրջանակներում ՀՀ համայնքային և միջհամայնքային ենթակառուցվածքների որակի, օգտագործման և հասանելիության բարելավում: | E39: =+Հ7!E41 -> -1440000 | F39: =+Հ7!H41 -> -1850000
D40: Միջոցառման նկարագրությունը`
D41: Ջրագծերի, առողջապահության, կրթության օբյեկտների, մշակույթային տների, ծերանոցների, մանկատների, հատուկ դպրոցների, մանկապարտզների և կոյուղու օբյեկտնրի հիմն. և շինարարություն., գույքի և սարքավորումների տրամադրում շահառու ենթածրագրերի համար:
D42: Միջոցառման տեսակը
D43: Տրանսֆերտների տրամադրում
B44: 1049 | D44: Ծրագրի անվանումը` | E44: =E63+E69+E75+E81+E87+E93+E57+E51+E99 -> 6472999.7 | F44: =F63+F69+F75+F81+F87+F93+F57+F51 -> -8040883.6
D45: Ճանապարհային ցանցի բարելավում
D46: Ծրագրի նպատակը`
D47: Ճանապարհային ցանցի բարելավում և անվտանգ երթևեկության ապահովում
D48: Վերջնական արդյունքի նկարագրությունը`
D49: Ճանապարհների ծածկի որակի և փոխադրումների արդյունավետության բարելավում, ճանապարհների վիճակով պայմանավորված պատահարների նվազում
B50: Ծրագրի միջոցառումներ
C51: 21001 | D51: Միջոցառման անվանումը` | E51: =+Հ5!H41 -> 6505983.7 | F51: =+Հ5!I41 -> 8970323.5
D52: Պետական նշանակության ավտոճանապարհների հիմնանորոգում
D53: Միջոցառման նկարագրությունը`
D54: Միջպետական, հանրապետական և մարզային նշանակության ավտոճոնապարհների քայքայված ծածկի վերանորոգում, մաշված ծածկի փոխարինում
D55: Միջոցառման տեսակը
D56: Հանրության կողմից անմիջականորեն օգտագործվող ակտիվների հետ կապված միջոցառումներ
C57: 21002 | D57: Միջոցառման անվանումը` | E57: =+Հ5!H52 -> 2360 | F57: =+Հ5!I52 -> 2360
D58: Տրանսպորտային օբյեկտների հիմնանորոգում
D59: Միջոցառման նկարագրությունը`
D60: Ավտոմոբիլային ճանապարհների վրա գտնվող կամուրջների հիմնանորոգում
D61: Միջոցառման տեսակը
D62: Հանրության կողմից անմիջականորեն օգտագործվող ակտիվների հետ կապված միջոցառումներ
C63: 21006 | D63: Միջոցառման անվանումը` | E63: =Հ7!E52 -> 0 | F63: =Հ7!H52 -> -3214605
D64: Ասիական զարգացման բանկի աջակցությամբ իրականացվող Հյուսիս-հարավ միջանցքի զարգացման վարկային ծրագիր, Տրանշ 2
D65: Միջոցառման նկարագրությունը`
D66: Աշտարակ-Թալին 29+600կմ-71+500կմ հատվածի կառուցում
D67: Միջոցառման տեսակը
D68: Հանրության կողմից անմիջականորեն օգտագործվող ակտիվների հետ կապված միջոցառումներ
C69: 21008 | D69: Միջոցառման անվանումը` | E69: =Հ7!E61 -> -5344 | F69: =Հ7!H61 -> -134993
D70: Վերակառուցման և զարգացման եվրոպական բանկի աջակցությամբ իրականացվող ՀՀ պետական սահմանի Բագրատաշեն անցման կետի կամրջի վերակառուցման վարկային ծրագիր
D71: Միջոցառման նկարագրությունը`
D72: Նոր կամրջի կառուցման շինարարական աշխատանքներ
D73: Միջոցառման տեսակը
D74: Հանրության կողմից անմիջականորեն օգտագործվող ակտիվների հետ կապված միջոցառումներ
C75: 21009 | D75: Միջոցառման անվանումը` | E75: =Հ7!G72 -> 100000 | F75: =Հ7!H72 -> -2000000
D76: Եվրոպական ներդրումային բանկի աջակցությամբ իրականացվող Հյուսիս-հարավ միջանցքի զարգացման վարկային ծրագիր, Տրանշ 3
D77: Միջոցառման նկարագրությունը`
D78: Լանջիկ-Գյումրի 27.47 կմ երկարությամբ ճանապարհային հատվածի կառուցում
D79: Միջոցառման տեսակը
D80: Հանրության կողմից անմիջականորեն օգտագործվող ակտիվների հետ կապված միջոցառումներ
C81: 21011 | D81: Միջոցառման անվանումը` | E81: =+Հ5!H90 -> 0 | F81: =Հ7!H81 -> -600000
D82: Ասիական զարգացման բանկի աջակցությամբ իրականացվող Հյուսիս-հարավ միջանցքի զարգացման վարկային ծրագիր, Տրանշ 3
D83: Միջոցառման նկարագրությունը`
D84: Հատված Թալին-Լանջիկ 71+500 կմ-90+200 կմ կառուցման շինարարական աշխատանքներ
D85: Միջոցառման տեսակը
D86: Հանրության կողմից անմիջականորեն օգտագործվող ակտիվների հետ կապված միջոցառումներ
C87: 21012 | D87: Միջոցառման անվանումը` | E87: =Հ7!E90 -> -30000 | F87: =Հ7!H90 -> -6130000
D88: Եվրասիական զարգացման բանկի աջակցությամբ իրականացվող Հյուսիս-հարավ միջանցքի զարգացման ծրագիր
D89: Միջոցառման նկարագրությունը`
D90: Ավտոճանապարհների բարեկարգման աշխատանքներ
D91: Միջոցառման տեսակը
D92: Հանրության կողմից անմիջականորեն օգտագործվող ակտիվների հետ կապված միջոցառումներ
C93: 21017 | D93: Միջոցառման անվանումը` | E93: =E98 -> 0 | F93: =Հ7!H101 -> -4933969.1
D94: Եմ աջակցությամբ իրականացվող վարկային ծրագրի շրջանակներում Սիսիան-Քաջարան 60կմ ճանապարհահատվածի կառուցում
D95: Միջոցառման նկարագրությունը`
D96: Ճանապարհաշինական աշխատանքներ
D97: Միջոցառման տեսակը
D98: Հանրության կողմից անմիջականորեն օգտագործվող ակտիվների հետ կապված միջոցառումներ
C99: 11017 | D99: Միջոցառման անվանումը` | E99: =Հ7!G110 -> -100000
D100: Հյուսիս-հարավ ճանապարհային միջանցքի զարգացման ծրագրի Քաջարանի թունելի և մոտեցումների համակարգում և կառավարում
D101: Միջոցառման նկարագրությունը`
...

Sheet 3-1
B1: Հավելված N3
B2: ՀՀ կառավարության 2022 թվականի
B3: ______________ ի ___Ն որոշման
B5: ՀԱՅԱՍՏԱՆԻ ՀԱՆՐԱՊԵՏՈՒԹՅԱՆ ԿԱՌԱՎԱՐՈՒԹՅԱՆ 2021 ԹՎԱԿԱՆԻ ԴԵԿՏԵՄԲԵՐԻ 23-Ի N 2121-Ն ՈՐՈՇՄԱՆ N 3 ԵՎ N 4 ՀԱՎԵԼՎԱԾՆԵՐՈՒՄ ԿԱՏԱՐՎՈՂ ՓՈՓՈԽՈՒԹՅՈՒՆՆԵՐԸ ԵՎ ԼՐԱՑՈՒՄՆԵՐԸ
H7: հազ. դրամ
B8: Գործառական դասիչը | E8: Ծրագրային դասիչը | G8: Բյուջետային ծախսերի գործառական դասակարգման բաժինների, խմբերի և դասերի, բյուջետային հատկացումների գլխավոր կարգադրիչների, ծրագրերի, միջոցառումների և միջոցառումները կատարող պետական մարմինների անվանումները | H8: Ցուցանիշների փոփոխությունը (ավելացումները նշված են դրական նշանով, իսկ նվազեցումները` փակագծերում)
B9: Բաժին | C9: Խումբ | D9: Դաս | E9: Ծրագիր | F9: Միջոցառում | H9: Ինն ամիս | I9: Տարի
G10: ԸՆԴԱՄԵՆԸ ԾԱԽՍԵՐ | H10: =+H12+H13 -> 14976.427 | I10: =+I12+I13 -> -363431.87
G11: այդ թվում`
B12: 04 | C12: 03 | D12: 05 | E12: 1167 | F12: 11006 | G12: Գերմանիայի զարգացման վարկերի բանկի (KFW)) աջակցությամբ իրականացվող «Կովկասյան էլեկտրահաղորդման ցանց I» Հայաստան-Վրաստան հաղորդիչ գիծ/ենթակայանների դրամաշնորհային ծրագիր | H12: 14976.427 | I12: -25089.77
B13: 04 | C13: 03 | D13: 05 | E13: 1167 | F13: 32006 | G13: Գերմանիայի զարգացման վարկերի բանկի (KFW) աջակցությամբ իրականացվող Կովկասյան էլեկտրահաղորդման ցանց I Հայաստան-Վրաստան հաղորդիչ գիծ/ենթակայանների դրամաշնորհային ծրագրի շրջանակներում իրականացվող ներդրումներ | H13: 0 | I13: -338342.1

Sheet Հ5
B1: Հավելված N5
B2: ՀՀ կառավարության 2022 թվականի
B3: ______________ ի ___Ն որոշման
B5: ՀԱՅԱՍՏԱՆԻ ՀԱՆՐԱՊԵՏՈՒԹՅԱՆ ԿԱՌԱՎԱՐՈՒԹՅԱՆ 2022 ԹՎԱԿԱՆԻ ԴԵԿՏԵՄԲԵՐԻ 29-Ի N 2111-Ն ՈՐՈՇՄԱՆ N 3 ԵՎ N 4 ՀԱՎԵԼՎԱԾՆԵՐՈՒՄ ԿԱՏԱՐՎՈՂ ՓՈՓՈԽՈՒԹՅՈՒՆՆԵՐԸ ԵՎ ԼՐԱՑՈՒՄՆԵՐԸ
I7: =+Հ4!F6 -> հազ. դրամ
B8: Գործառական դասիչը | E8: Ծրագրային դասիչը | G8: Բյուջետային ծախսերի գործառական դասակարգման բաժինների, խմբերի և դասերի, բյուջետային հատկացումների գլխավոր կարգադրիչների, ծրագրերի, միջոցառումների և միջոցառումները կատարող պետական մարմինների անվանումները | H8: Ցուցանիշների փոփոխությունը (Ավելացումները նշված են դրական նշանով, իսկ նվազեցումները` փակագծերում)
B9: Բաժին | C9: Խումբ | D9: Դաս | E9: Ծրագիր | F9: Միջոցառում | H9: Ինն ամիս | I9: Տարի
G10: ԸՆԴԱՄԵՆԸ ԾԱԽՍԵՐ | H10: =H158+H12 -> 13397655 | I10: =I158+I12 -> -2126228.8
G11: այդ թվում`
G12: ՀՀ ՏԱՐԱԾՔԱՅԻՆ ԿԱՌԱՎԱՐՄԱՆ ԵՎ ԵՆԹԱԿԱՌՈՒՑՎԱԾՔՆԵՐԻ ՆԱԽԱՐԱՐՈՒԹՅՈՒՆ | H12: =+H14 -> 4897654.5 | I12: =+I14 -> -10726229
G13: այդ թվում`
B14: 04 | G14: ՏՆՏԵՍԱԿԱՆ ՀԱՐԱԲԵՐՈՒԹՅՈՒՆՆԵՐ | H14: =H16+H33+H128 -> 4897654.5 | I14: =I16+I33+I128 -> -10726229
G15: այդ թվում`
C16: 02 | G16: Գյուղատնտեսություն, անտառային տնտեսություն, ձկնորսություն և որսորդություն | H16: =+H18 -> 0 | I16: =+I18 -> -700000
G17: այդ թվում`
D18: 04 | G18: Ոռոգում | H18: =+H22 -> 0 | I18: =+I22 -> -700000
G19: այդ թվում`
G20: ՀՀ ՏԱՐԱԾՔԱՅԻՆ ԿԱՌԱՎԱՐՄԱՆ ԵՎ ԵՆԹԱԿԱՌՈՒՑՎԱԾՔՆԵՐԻ ՆԱԽԱՐԱՐՈՒԹՅՈՒՆ | H20: =H22 -> 0 | I20: =I22 -> -700000
G21: այդ թվում`
E22: 1004 | G22: Ոռոգման համակարգի առողջացում | H22: =+H24 -> 0 | I22: =+I24 -> -700000
G23: այդ թվում`
F24: 31005 | G24: Եվրասիական զարգացման բանկի աջակցությամբ իրականացվող ոռոգման համակարգերի զարգացման ծրագրի շրջանակներում ջրային տնտեսության ենթակառուցվածքների հիմնանորոգում | H24: =+H26 -> 0 | I24: =+I26 -> -700000
G25: այդ թվում` ըստ կատարողների
G26: ՀՀ տարածքային կառավարման և ենթակառուցվածքների նախարարության ջրային կոմիտե | H26: =+H28 -> 0 | I26: =+I28 -> -700000
G27: այդ թվում` բյուջետային ծախսերի տնտեսագիտական դասակարգման հոդվածներ
G28: ԸՆԴԱՄԵՆԸ ԾԱԽՍԵՐ | H28: =+H29 -> 0 | I28: =+I29 -> -700000
G29: ՈՉ ՖԻՆԱՆՍԱԿԱՆ ԱԿՏԻՎՆԵՐԻ ԳԾՈՎ ԾԱԽՍԵՐ | H29: =+H30 -> 0 | I29: =+I30 -> -700000
G30: ՀԻՄՆԱԿԱՆ ՄԻՋՈՑՆԵՐ | H30: =+H31 -> 0 | I30: =+I31 -> -700000
G31: ՄԵՔԵՆԱՆԵՐ ԵՎ ՍԱՐՔԱՎՈՐՈՒՄՆԵՐ | H31: =+H32 -> 0 | I31: =+I32 -> -700000
G32: - Այլ մեքենաներ և սարքավորումներ | H32: =+Հ7!E17 -> 0 | I32: =+Հ7!H25 -> -700000
C33: 05 | G33: Տրանսպորտ | H33: =+H35 -> 6472999.7 | I33: =+I35 -> -8040883.6
G34: այդ թվում`
D35: 01 | G35: Ճանապարհային տրանսպորտ | H35: =+H37 -> 6472999.7 | I35: =+I37 -> -8040883.6
G36: այդ թվում`
G37: ՀՀ ՏԱՐԱԾՔԱՅԻՆ ԿԱՌԱՎԱՐՄԱՆ ԵՎ ԵՆԹԱԿԱՌՈՒՑՎԱԾՔՆԵՐԻ ՆԱԽԱՐԱՐՈՒԹՅՈՒՆ | H37: =H39 -> 6472999.7 | I37: =I39 -> -8040883.6
G38: այդ թվում`
E39: 1049 | G39: Ճանապարհային ցանցի բարելավում | H39: =H61+H70+H81+H90+H99+H110+H41+H52+H119 -> 6472999.7 | I39: =I61+I70+I81+I90+I99+I110+I41+I52 -> -8040883.6
G40: այդ թվում`
F41: 21001 | G41: Պետական նշանակության ավտոճանապարհների հիմնանորոգում | H41: =H43 -> 6505983.7 | I41: =I43 -> 8970323.5
G42: այդ թվում` ըստ կատարողների
G43: ՀՀ տարածքային կառավարման և ենթակառուցվածքների նախարարություն | H43: =H45 -> 6505983.7 | I43: =I45 -> 8970323.5
G44: այդ թվում`բյուջետային ծախսերի տնտեսագիտական դասակարգման հոդվածներ
G45: ԸՆԴԱՄԵՆԸ ԾԱԽՍԵՐ | H45: =+H46 -> 6505983.7 | I45: =+I46 -> 8970323.5
G46: ՈՉ ՖԻՆԱՆՍԱԿԱՆ ԱԿՏԻՎՆԵՐԻ ԳԾՈՎ ԾԱԽՍԵՐ | H46: =H47 -> 6505983.7 | I46: =I47 -> 8970323.5
G47: ՀԻՄՆԱԿԱՆ ՄԻՋՈՑՆԵՐ | H47: =+H48+H50 -> 6505983.7 | I47: =+I48+I50 -> 8970323.5
G48: ՇԵՆՔԵՐ ԵՎ ՇԻՆՈՒԹՅՈՒՆՆԵՐ | H48: =+H49 -> 6437488.8 | I48: =+I49 -> 8901632.6
G49: - Շենքերի և շինությունների կապիտալ վերանորոգում | H49: =5965830.4+Հ6!E19+Հ6!E21-16000+Հ6!E72+340 -> 6437488.8 | I49: =8900669.2+Հ6!F19+Հ6!F21+680 -> 8901632.6
G50: ԱՅԼ ՀԻՄՆԱԿԱՆ ՄԻՋՈՑՆԵՐ | H50: =+H51 -> 68494.908 | I50: =+I51 -> 68690.908
G51: - Նախագծահետազոտական ծախսեր | H51: 68494.908 | I51: 68690.908
F52: 21002 | G52: Տրանսպորտային օբյեկտների հիմնանորոգում | H52: =+H54 -> 2360 | I52: =+I54 -> 2360
G53: այդ թվում` ըստ կատարողների
G54: ՀՀ տարածքային կառավարման և ենթակառուցվածքների նախարարություն | H54: =H56 -> 2360 | I54: =I56 -> 2360
G55: այդ թվում`բյուջետային ծախսերի տնտեսագիտական դասակարգման հոդվածներ
G56: ԸՆԴԱՄԵՆԸ ԾԱԽՍԵՐ | H56: =+H57 -> 2360 | I56: =+I57 -> 2360
G57: ՈՉ ՖԻՆԱՆՍԱԿԱՆ ԱԿՏԻՎՆԵՐԻ ԳԾՈՎ ԾԱԽՍԵՐ | H57: =H58 -> 2360 | I57: =I58 -> 2360
G58: ՀԻՄՆԱԿԱՆ ՄԻՋՈՑՆԵՐ | H58: =+H59 -> 2360 | I58: =+I59 -> 2360
G59: ԱՅԼ ՀԻՄՆԱԿԱՆ ՄԻՋՈՑՆԵՐ | H59: =+H60 -> 2360 | I59: =+I60 -> 2360
G60: - Նախագծահետազոտական ծախսեր | H60: 2360 | I60: 2360
F61: 21006 | G61: Ասիական զարգացման բանկի աջակցությամբ իրականացվող Հյուսիս-հարավ միջանցքի զարգացման վարկային ծրագիր, Տրանշ 2 | H61: =SUM(H63) -> 0 | I61: =SUM(I63) -> -3214605
G62: այդ թվում` ըստ կատարողների
G63: ՀՀ տարածքային կառավարման և ենթակառուցվածքների նախարարություն | H63: =SUM(H65) -> 0 | I63: =SUM(I65) -> -3214605
G64: այդ թվում` բյուջետային ծախսերի տնտեսագիտական դասակարգման հոդվածներ
G65: ԸՆԴԱՄԵՆԸ ԾԱԽՍԵՐ | H65: =SUM(H66) -> 0 | I65: =SUM(I66) -> -3214605
G66: ՈՉ ՖԻՆԱՆՍԱԿԱՆ ԱԿՏԻՎՆԵՐԻ ԳԾՈՎ ԾԱԽՍԵՐ | H66: =SUM(H67) -> 0 | I66: =SUM(I67) -> -3214605
G67: ՀԻՄՆԱԿԱՆ ՄԻՋՈՑՆԵՐ | H67: =H68 -> 0 | I67: =I68 -> -3214605
G68: ՇԵՆՔԵՐ ԵՎ ՇԻՆՈՒԹՅՈՒՆՆԵՐ | H68: =H69 -> 0 | I68: =I69 -> -3214605
G69: - Շենքերի և շինությունների շինարարություն | H69: 0 | I69: =Հ7!H60 -> -3214605
F70: 21008 | G70: Վերակառուցման և զարգացման եվրոպական բանկի աջակցությամբ իրականացվող ՀՀ պետական սահմանի Բագրատաշեն անցման կետի կամրջի վերակառուցման վարկային ծրագիր | H70: =SUM(H72) -> -5344 | I70: =SUM(I72) -> -134993
G71: այդ թվում` ըստ կատարողների
G72: ՀՀ տարածքային կառավարման և ենթակառուցվածքների նախարարություն | H72: =SUM(H74) -> -5344 | I72: =SUM(I74) -> -134993
G73: այդ թվում` բյուջետային ծախսերի տնտեսագիտական դասակարգման հոդվածներ
G74: ԸՆԴԱՄԵՆԸ ԾԱԽՍԵՐ | H74: =SUM(H75) -> -5344 | I74: =SUM(I75) -> -134993
G75: ՈՉ ՖԻՆԱՆՍԱԿԱՆ ԱԿՏԻՎՆԵՐԻ ԳԾՈՎ ԾԱԽՍԵՐ | H75: =+H76 -> -5344 | I75: =SUM(I76) -> -134993
G76: ՀԻՄՆԱԿԱՆ ՄԻՋՈՑՆԵՐ | H76: =+H77+H79 -> -5344 | I76: =+I77+I79 -> -134993
G77: ՇԵՆՔԵՐ ԵՎ ՇԻՆՈՒԹՅՈՒՆՆԵՐ | H77: 0 | I77: =I78 -> -129649
G78: - Շենքերի և շինությունների շինարարություն | H78: 0 | I78: =Հ7!H69 -> -129649
G79: ԱՅԼ ՀԻՄՆԱԿԱՆ ՄԻՋՈՑՆԵՐ | H79: =+H80 -> -5344 | I79: =+I80 -> -5344
G80: - Նախագծահետազոտական ծախսեր | H80: =Հ7!E71 -> -5344 | I80: =+Հ7!H71 -> -5344
F81: 21009 | G81: Եվրոպական ներդրումային բանկի աջակցությամբ իրականացվող Հյուսիս-հարավ միջանցքի զարգացման վարկային ծրագիր, Տրանշ 3 | H81: =SUM(H83) -> 100000 | I81: =SUM(I83) -> -2000000
G82: այդ թվում` ըստ կատարողների
G83: ՀՀ տարածքային կառավարման և ենթակառուցվածքների նախարարություն | H83: =SUM(H85) -> 100000 | I83: =SUM(I85) -> -2000000
G84: այդ թվում` բյուջետային ծախսերի տնտեսագիտական դասակարգման հոդվածներ
G85: ԸՆԴԱՄԵՆԸ ԾԱԽՍԵՐ | H85: =SUM(H86) -> 100000 | I85: =SUM(I86) -> -2000000
G86: ՈՉ ՖԻՆԱՆՍԱԿԱՆ ԱԿՏԻՎՆԵՐԻ ԳԾՈՎ ԾԱԽՍԵՐ | H86: =SUM(H87) -> 100000 | I86: =SUM(I87) -> -2000000
G87: ՀԻՄՆԱԿԱՆ ՄԻՋՈՑՆԵՐ | H87: =H88 -> 100000 | I87: =I88 -> -2000000
G88: ՇԵՆՔԵՐ ԵՎ ՇԻՆՈՒԹՅՈՒՆՆԵՐ | H88: =H89 -> 100000 | I88: =I89 -> -2000000
G89: - Շենքերի և շինությունների շինարարություն | H89: =Հ7!G80 -> 100000 | I89: =Հ7!H80 -> -2000000
F90: 21011 | G90: Ասիական զարգացման բանկի աջակցությամբ իրականացվող Հյուսիս-հարավ միջանցքի զարգացման վարկային ծրագիր, Տրանշ 3 | H90: =SUM(H92) -> 0 | I90: =SUM(I92) -> -600000
G91: այդ թվում` ըստ կատարողների
G92: ՀՀ տարածքային կառավարման և ենթակառուցվածքների նախարարություն | H92: =SUM(H94) -> 0 | I92: =SUM(I94) -> -600000
G93: այդ թվում` բյուջետային ծախսերի տնտեսագիտական դասակարգման հոդվածներ
G94: ԸՆԴԱՄԵՆԸ ԾԱԽՍԵՐ | H94: =SUM(H95) -> 0 | I94: =SUM(I95) -> -600000
G95: ՈՉ ՖԻՆԱՆՍԱԿԱՆ ԱԿՏԻՎՆԵՐԻ ԳԾՈՎ ԾԱԽՍԵՐ | H95: =SUM(H96) -> 0 | I95: =SUM(I96) -> -600000
G96: ՀԻՄՆԱԿԱՆ ՄԻՋՈՑՆԵՐ | H96: =H97 -> 0 | I96: =I97 -> -600000
G97: ՇԵՆՔԵՐ ԵՎ ՇԻՆՈՒԹՅՈՒՆՆԵՐ | H97: =+H98 -> 0 | I97: =+I98 -> -600000
G98: - Շենքերի և շինությունների շինարարություն | H98: 0 | I98: =+Հ7!H89 -> -600000
F99: 21012 | G99: Եվրասիական զարգացման բանկի աջակցությամբ իրականացվող Հյուսիս-հարավ միջանցքի զարգացման ծրագիր | H99: =SUM(H101) -> -30000 | I99: =SUM(I101) -> -6130000
G100: այդ թվում` ըստ կատարողների
G101: ՀՀ տարածքային կառավարման և ենթակառուցվածքների նախարարություն | H101: =SUM(H103) -> -30000 | I101: =SUM(I103) -> -6130000
G102: այդ թվում` բյուջետային ծախսերի տնտեսագիտական դասակարգման հոդվածներ
...

Sheet Հ6
F1: Հավելված N 6
F2: ՀՀ կառավարության 2023 թվականի
F3: ______________ ի ___Ն որոշման
A5: ՀԱՅԱՍՏԱՆԻ ՀԱՆՐԱՊԵՏՈՒԹՅԱՆ ԿԱՌԱՎԱՐՈՒԹՅԱՆ 2022 ԹՎԱԿԱՆԻ ԴԵԿՏԵՄԲԵՐԻ 29-Ի N 2111-Ն ՈՐՈՇՄԱՆ N 5 ՀԱՎԵԼՎԱԾԻ N 2 ԱՂՅՈՒՍԱԿՈՒՄ ԿԱՏԱՐՎՈՂ ՓՈՓՈԽՈՒԹՅՈՒՆՆԵՐԸ ԵՎ ԼՐԱՑՈՒՄՆԵՐԸ
F7: հազար դրամներով
B8: Ծրագրային դասիչը | D8: Հատկացումների տրամադրման նպատակները և բյուջետային գլխավոր կարգադրիչների, ծրագրերի, միջոցառումների և կատարող պետական մարմնի անվանումները | E8: Ցուցանիշների փոփոխությունը (Ավելացումները նշված են դրական նշանով, իսկ նվազեցումները` փակագծերում)
B9: Ծրագիր | C9: Միջոցառում | E9: Ինն ամիս | F9: Տարի
D10: ԸՆԴԱՄԵՆԸ | E10: =+E12 -> 6508343.7 | F10: =+F12 -> 8972683.5
D11: այդ թվում՝
D12: ՀՀ ՏԱՐԱԾՔԱՅԻՆ ԿԱՌԱՎԱՐՄԱՆ ԵՎ ԵՆԹԱԿԱՌՈՒՑՎԱԾՔՆԵՐԻ ՆԱԽԱՐԱՐՈՒԹՅՈՒՆ | E12: =+E14+E80 -> 6508343.7 | F12: =+F14+F80 -> 8972683.5
D13: այդ թվում`
B14: 1049 | C14: 21001 | D14: Պետական նշանակության ավտոճանապարհների հիմնանորոգում | E14: =+E16 -> 6505983.7 | F14: =+F16 -> 8970323.5
D15: այդ թվում` ըստ կատարողների
D16: ՀՀ տարածքային կառավարման և ենթակառուցվածքների նախարարություն | E16: =+E18+E37+E58 -> 6505983.7 | F16: =+F18+F37+F58 -> 8970323.5
D17: այդ թվում՝ ըստ ուղղությունների
C18: 1 | D18: Միջպետական նշանակության ավտոճանապարհներ, այդ թվում | E18: =SUM(E19:E36) -> 3132657.1 | F18: =SUM(F19:F36) -> 4603312.2
D19: Մ-1, Երևան-Գյումրի-Հայաստանի Հանրապետության սահման միջպետական նշանակության ավտոճանապարհի կմ 141+500-կմ143+300 հատվածի հիմնանորոգում | E19: 288275 | F19: 0
D20: Մ-1, Երևան-Գյումրի-Հայաստանի Հանրապետության սահման միջպետական նշանակության ավտոճանապարհի կմ160+200-կմ171+700 հատվածի հիմնանորոգում | E20: 421646.7 | F20: 843293.3
D21: Մ-2, Երևան-Երասխ-Գորիս-Մեղրի-Հայաստանի Հանրապետության սահման կմ53+150 - կմ65+350 հատվածի հիմնանորոգում | E21: 283.4 | F21: 283.4
D22: Մ-2, Երևան-Երասխ-Գորիս-Մեղրի-Հայաստանի Հանրապետության սահման միջպետական նշանակության ավտոճանապարհի կմ131+500 - կմ139+000 հատվածի հիմնանորոգում | E22: 261215 | F22: 0
D23: Մ-2, Երևան-Երասխ-Գորիս-Մեղրի-Հայաստանի Հանրապետության սահման միջպետական նշանակության ավտոճանապարհի կմ142+000 - կմ150+700 հատվածի հիմնանորոգում | E23: 611400.3 | F23: 1019000.4
D24: Մ-2, Երևան-Երասխ-Գորիս-Մեղրի-Հայաստանի Հանրապետության սահման միջպետական նշանակության ավտոճանապարհի կմ297+800-կմ311+250 հատվածի հիմնանորոգման աշխատանքների (1-ին տեղամաս՝ կմ297+800-կմ301+820 հատված) | E24: 60643.9 | F24: 121287.8
D25: Մ-3, Հայաստանի Հանրապետության սահման-Մարգարա-Վանաձոր-Տաշիր-Հայաստանի Հանրապետության սահման միջպետական նշանակության ավտոճանապարհի կմ39+500-կմ45+300 հատվածի հիմնանորոգում | E25: 647389.5 | F25: 1294778.9
D26: Մ-3, Հայաստանի Հանրապետության սահման-Մարգարա-Վանաձոր-Տաշիր-Հայաստանի Հանրապետության սահման միջպետական նշանակության ավտոճանապարհի կմ130+400-կմ135+354 հատվածի հիմնանորոգում | E26: 28412.6 | F26: 28412.6
D27: Մ-4, Երևան-Սևան-Իջևան-Հայաստանի Հանրապետության սահման միջպետական նշանակության ավտոճանապարհի Դիլիջան-Իջևան հատվածում անվտանգության տարրերի բարելավում և սև կետերի շտկում | E27: 2865 | F27: 2865
D28: Մ4, Երևան - Սևան - Իջևան – Հայաստանի Հանրապետության սահման միջպետական նշանակության ավտոճանապարհի կմ144+240-կմ148+200 հատվածի հիմնանորոգում | E28: 158858.7 | F28: 317717.4
D29: Մ-5, Երևան - Արմավիր - Հայաստանի Հանրապետության սահման միջպետական նշանակության ավտոճանապարհի կմ17+530-կմ18+200, կմ25+593 - կմ29+385 և կմ32+675 - կմ33+833 աջակողմյան և ձախակողմյան հատվածների հիմնանորոգում և Մ-5 Երևան-Արմավիր-Հայաստանի Հանրապետության սահման ա/ճ-ի կմ 35+457 - կմ 37+054 հատվածի ջրահեռացման համակարգի վերականգնում | E29: 236854.5 | F29: 473709
D30: Մ-7, /Մ-3/ - Սպիտակ – Գյումրի - Հայաստանի Հանրապետության սահման միջպետական նշանակության ավտոճանապարհի կմ47+100-կմ48+000 հատվածի հիմնանորոգում | E30: 83.7 | F30: 83.7
... D36: Մ-15, /Մ-4/ (Վերին Պտղնի) - Մասիսի տրանսպորտային հանգույց (Երևանի շրջանց) միջպետական նշանակության ավտոճանապարհի կմ19+900-կմ29+400 հատվածի հիմնանորոգում | E36: 58322.3 | F36: 58322.3
C37: 2 | D37: Հանրապետական նշանակության ավտոճանապարհներ, այդ թվում | E37: =SUM(E38:E57) -> 2324560.4 | F37: =SUM(F38:F57) -> 2737005.2
D38: Հ-1, Վ. Պտղնու տրանսպորտային հանգույց - Ջրաբեր-Հրազդան -Հրազդանի քրեակատարողական հիմնարկ հանրապետական նշանակության ավտոճանապարհի կմ33+500 - կմ37+700 հատվածի հիմնանորոգում | E38: 208566.2 | F38: 834264.7
D39: Հ-1, Վ. Պտղնու տրանսպորտային հանգույց - Ջրաբեր-Հրազդան -Հրազդանի քրեակատարողական հիմնարկ հանրապետական նշանակության ավտոճանապարհի կմ21+700 - կմ24+000 հատվածի հիմնանորոգում | E39: 98839.7 | F39: 197679.4
D40: Հ-3, Երևան (Ջրաշխարհ, Մ-4-ի հետ հատման տեղ)-Գառնի –Գեղարդի վանք հանրապետական նշանակության ավտոճանապարհի կմ10+770-կմ27+500 հատվածի (բացառությամբ սողանքային տեղամասերի) հիմնանորոգում | E40: 3530 | F40: 3530
D41: Հ-4, Երևան - եղվարդ - Արագյուղ - Հարթավան - /Մ-3/ հանրապետական նշանակության ավտոճանապարհի կմ33+500 - կմ34+800 հատվածի (Երնջատափ գյուղը շրջանցող հատված) հիմնանորոգում | E41: 0 | F41: 165347.8
D42: Հ-10. /Հ-8/ (Ոսկետափ) - Վեդի - Լանջառ - /Մ-2/ հանրապետական նշանակության ավտոճանապարհի կմ5+450 - կմ9+250 հատվածի հիմնանորոգում | E42: 2700 | F42: 2700
D43: Հ-15, /Մ-5/(Նորապատ) -Արգավանդ –/Մ-3/ (Վարդանաշեն) հանրապետական նշանակության ավտոճանապարհի կմ3+000 - կմ13+000 հատվածի հիմնանորոգում | E43: 2416.9 | F43: 2416.9
D44: Հ-15, /Մ-5/(Նորապատ) -Արգավանդ –/Մ-3/ (Վարդանաշեն) հանրապետական նշանակության ավտոճանապարհի կմ13+000 - կմ20+000 հատվածի հիմնանորոգում | E44: 1743.1 | F44: 1743.1
D45: Հ-16, /Մ-5/ - Մեծամոր – ՀԱԷԿ - /Մ-5/ հանրապետական նշանակության ավտոճանապարհի կմ0+000 - կմ10+700 հատվածի հիմնանորոգում | E45: 8350 | F45: 8350
D46: Հ-21, /Հ-75/ - Հոռոմ-Արթիկ-Ալագյազ հանրապետական նշանակության ավտոճանապարհի կմ29+600 - կմ32+700 հատվածի հիմնանորոգում | E46: 224.8 | F46: 224.8
D47: Հ-21, /Հ-75/ - Հոռոմ-Արթիկ-Ալագյազ հանրապետական նշանակության ավտոճանապարհի կմ32+700 - կմ41+000 հատվածի հիմնանորոգում | E47: 468 | F47: 468
D48: Հ-23, /Մ-3/ - Պուշկինյան լեռնանցք - /Մ-3/ հանրապետական նշանակության ավտոճանապարհի կմ0+000 - կմ13+400 հատվածի հիմնանորոգում | E48: 647.8 | F48: 647.8
D49: Հ-29,Սևան - Ծաղկունք – Զովաբեր հանրապետական նշանակության ավտոճանապարհի կմ 0+000-կմ 18+200 հատվածի հիմնորոգում (բացառությամբ կմ 11+000-կմ 12+000 հատվածի) | E49: 12138 | F49: 12138
... D57: Հ-93, /Հ-75/ - Երերույքի տաճար հանրապետական նշանակության ավտոճանապարհի կմ 0+000-կմ 2+700 հատվածի հիմնանորոգում | E57: 14700 | F57: 14700
C58: 3 | D58: Մարզային նշանակության ավտոճանապարհներ, այդ թվում | E58: =SUM(E59:E79) -> 1048766.2 | F58: =SUM(F59:F79) -> 1630006.1
D59: Տ-1-14, /Մ-3/ - Հարթավան - /Հ-4/ ավտոճանապարհի կմ0+000-կմ1+200 հատվածի հիմնանորոգում | E59: 1050 | F59: 1050
D60: Տ-1-44,/Մ-3/ (Ապարան) - Լուսագյուղ ավտոճանապարհի կմ0+000-կմ3+000 հատվածի հիմնանորոգում | E60: 185.9 | F60: 185.9
D61: Տ-1-50, /Մ-3/ - Լեռնապար ավտոճանապարհի կմ0+000 - կմ3+800 հատվածի հիմնանորոգում | E61: 326949.1 | F61: 544915.2
D62: Տ-1-62,/Հ-4/ - Երնջաթափ - Շողակն ավտոճանապարհի կմ0+000-կմ3+400 հատվածի հիմնանորոգում | E62: 189.7 | F62: 189.7
D63: Տ-1-68, Ներքին Բազմաբերդ (Տ-1-65) – Կաքավաձոր (Տ-1-60) ավտոճանապարհի կմ0+000 – կմ4+100 հատվածի հիմնանորոգում | E63: 78079.4 | F63: 156158.8
D64: Տ-3-14, /Մ-5/-Մրգաշատ-Ալաշկերտ-գ․Արմավիր (Տ-3-16) կմ 0+000-կմ1+300, կմ3+800-կմ4+500 և կմ4+800-կմ6+800 հատվածների հիմնանորոգման աշխատանքներ | E64: 2949 | F64: 2949
D65: Տ-3-18,Ակնալիճ (Տ-3-6) – Զարթոնք – Արևիկ (Տ-3-50) կմ0+000-կմ3+628 հատվածի հիմնանորոգում | E65: 144495.2 | F65: 288990.4
D66: Տ-3-19, Արևիկ(Տ-3-50)-/Հ-15/(Տանձուտ) ավտոճանապարհի կմ0+000 - կմ3+400 հատվածի հիմնանորոգում | E66: 2639 | F66: 2639
D67: Տ-3-76, Զարթոնք - Արտաշար /Տ-3-54/ ավտոճանապարհի կմ 0+000-կմ 2+100 հատվածի հիմնանորոգում | E67: 37401.6 | F67: 43690.2
D68: Տ-6-3, /Հ-4/ (Արագյուղ) - /Հ-5/ ավտոճանապարհի 3.7 կմ երկարությամբ հատվածի հիմնանորոգում | E68: 218172.7 | F68: 436345.5
D69: Տ-6-29, Երևան (Բագրևանդի փող.) – Ձորաղբյուր (Տ-6-42) ավտոճանապարհի կմ0+000-կմ5+200 հատվածի հիմնանորոգում | E69: 4038 | F69: 4038
D70: Տ-7-48, Գյումրի (Տ-7-58) - Արևիկ – Այգեբաց - Վարդաքար - /Հ-21/ մարզային նշանակության ավտոճանապարհի կմ10+440 - կմ16+200 հատվածի հիմնանորոգում | E70: 28937.7 | F70: 28937.7
... D79: /Մ-12/-Կոռնիձոր-ՀՀ սահման ավտոճանապարհի կմ4+000-կմ 9+000 հատվածի վերակառուցում | E79: -113537.5 | F79: -113537.5
B80: 1049 | C80: 21002 | D80: Տրանսպորտային օբյեկտների հիմնանորոգում | E80: =+E82 -> 2360 | F80: =+F82 -> 2360
D81: այդ թվում` ըստ կատարողների
D82: ՀՀ տարածքային կառավարման և ենթակառուցվածքների նախարարություն | E82: =SUM(E84:E86) -> 2360 | F82: =SUM(F84:F86) -> 2360
D83: այդ թվում՝ ըստ ուղղությունների
D84: Տ-7-8, /Տ-7-37/ - Գտաշեն–Կամխուտ – /Տ-7-37/ տեղական նշանակության ավտոճանապարհի կմ2+300-ում գտնվող 5*3մ բացվածքով հավաքովի միասնականացված ե/բ խողովակի հիմնանորոգում | E84: 780 | F84: 780
D85: Մ-10, Սևան-Մարտունի-Գետափ միջպետական նշանակության ավտոճանապարհի կմ21+500-ում գտնվող փլուզված հողային պաստառի շեպի վերականգնում | E85: 980 | F85: 980
D86: Մ-16, /Մ-4/ - Ոսկեպար - Նոյեմբերյան - /Մ-6/ միջպետական նշանակության ավտոճանապարհի 57կմ-ում փլուզված ներքին հենապատի հիմնանորոգում | E86: 600 | F86: 600
D89: ՀԱՅԱՍՏԱՆԻ ՀԱՆՐԱՊԵՏՈՒԹՅԱՆ ՎԱՐՉԱՊԵՏԻ ԱՇԽԱՏԱԿԱԶՄԻ ՂԵԿԱՎԱՐ՝ | E89: Ա.ՀԱՐՈՒԹՅՈՒՆՅԱՆ

Sheet Հ7
J1: Հավելված N7
J2: ՀՀ կառավարության 2022 թվականի
J3: ______________ ի ___Ն որոշման
B5: «ՀԱՅԱUՏԱՆԻ ՀԱՆՐԱՊԵՏՈՒԹՅԱՆ 2023 ԹՎԱԿԱՆԻ ՊԵՏԱԿԱՆ ԲՅՈՒՋԵԻ ՄԱUԻՆ» OՐԵՆՔԻ N 1 ՀԱՎԵԼՎԱԾԻ N 4 ԱՂՅՈՒՍԱԿՈՒՄ ԵՎ ՀԱՅԱՍՏԱՆԻ ՀԱՆՐԱՊԵՏՈՒԹՅԱՆ ԿԱՌԱՎԱՐՈՒԹՅԱՆ 2022 ԹՎԱԿԱՆԻ ԴԵԿՏԵՄԲԵՐԻ 29-Ի N 2111-Ն ՈՐՈՇՄԱՆ N 5 ՀԱՎԵԼՎԱԾԻ N 3 ԱՂՅՈՒՍԱԿՈՒՄ ԿԱՏԱՐՎՈՂ ՓՈՓՈԽՈՒԹՅՈՒՆՆԵՐԸ
J6: հազ. դրամ
B7: Ծրագրային դասիչը | D7: Բյուջետային գլխավոր կարգադրիչների, ծրագրերի և միջոցառումների անվանումները | E7: Ցուցանիշների փոփոխությունը (Ավելացումները նշված են դրական նշանով, իսկ նվազեցումները` փակագծերում)
E8: Ինն ամիս | H8: Տարի
E9: Ընդամենը | F9: այդ թվում` | H9: Ընդամենը | I9: այդ թվում`
B10: Ծրագիր | C10: Միջոց առում | F10: Վարկային միջոցներ | G10: Համաֆինան սավորում | I10: Վարկային միջոցներ | J10: Համաֆինան սավորում
D11: ԸՆԴԱՄԵՆԸ_x000D_ այդ թվում` | E11: =F11+G11 -> -1610689.2 | F11: =F12+F13 -> -1576345.2 | G11: =G12+G13 -> -34344 | H11: =I11+J11 -> -19698912 | I11: =I12+I13 -> -17828505 | J11: =J12+J13 -> -1870407.5
D12: - ԸՆԹԱՑԻԿ ԾԱԽՍԵՐ | E12: =F12+G12 -> -100000 | F12: =F115 -> 0 | G12: =G115 -> -100000 | H12: 0 | I12: 0 | J12: 0
D13: - ՈՉ ՖԻՆԱՆՍԱԿԱՆ ԱԿՏԻՎՆԵՐԻ ԳԾՈՎ ԾԱԽՍԵՐ | E13: =F13+G13 -> -1510689.2 | F13: =F52+F61+F72+F81+F90+F101+F15+F28+F41 -> -1576345.2 | G13: =G52+G61+G72+G81+G90+G101+G15+G28+G41 -> 65656 | H13: =H52+H61+H72+H81+H90+H101 -> -17013567 | I13: =I52+I61+I72+I81+I90+I101+I15+I28+I41 -> -17828505 | J13: =J52+J61+J72+J81+J90+J101+J15+J28+J41 -> -1870407.5
D14: ՀՀ ՏԱՐԱԾՔԱՅԻՆ ԿԱՌԱՎԱՐՄԱՆ ԵՎ ԵՆԹԱԿԱՌՈՒՑՎԱԾՔՆԵՐԻ ՆԱԽԱՐԱՐՈՒԹՅՈՒՆ_x000D_ այդ թվում` | E14: =F14+G14 -> -1610689.2 | F14: =F15+F26+F50 -> -1576345.2 | G14: =G15+G26+G50 -> -34344 | H14: =I14+J14 -> -19698912 | I14: =I15+I26+I50 -> -17828505 | J14: =J15+J26+J50 -> -1870407.5
B15: 1004 | D15: Ոռոգման համակարգի առողջացում | E15: =+E17 -> 0 | F15: =+F17 -> 0 | G15: =+G17 -> 0 | H15: =+I15+J15 -> -700000 | I15: =+I17 -> -700000 | J15: =+J17 -> 0
D16: այդ թվում`
C17: 31005 | D17: Եվրասիական զարգացման բանկի աջակցությամբ իրականացվող ոռոգման համակարգերի զարգացման ծրագրի շրջանակներում ջրային տնտեսության ենթակառուցվածքների հիմնանորոգում | E17: =+F17+G17 -> 0 | F17: =+F19 -> 0 | G17: =+G19 -> 0 | H17: =+I17+J17 -> -700000 | I17: =+I19 -> -700000 | J17: =+J19 -> 0
D18: այդ թվում` ըստ կատարողների
D19: ՀՀ տարածքային կառավարման և ենթակառուցվածքների նախարարության ջրային կոմիտե | E19: =+E21 -> 0 | F19: =+F21 -> 0 | G19: =+G21 -> 0 | H19: =+I19+J19 -> -700000 | I19: =+I21 -> -700000 | J19: =+J21 -> 0
D20: այդ թվում` բյուջետային ծախսերի տնտեսագիտական դասակարգման հոդվածներ
D21: ԸՆԴԱՄԵՆԸ ԾԱԽՍԵՐ | E21: =+F21+G21 -> 0 | F21: =+F22 -> 0 | G21: =+G22 -> 0 | H21: =+I21+J21 -> -700000 | I21: =+I22 -> -700000 | J21: =+J22 -> 0
D22: ՈՉ ՖԻՆԱՆՍԱԿԱՆ ԱԿՏԻՎՆԵՐԻ ԳԾՈՎ ԾԱԽՍԵՐ | E22: =+F22+G22 -> 0 | F22: =+F23 -> 0 | G22: =+G23 -> 0 | H22: =+I22+J22 -> -700000 | I22: =+I23 -> -700000 | J22: =+J23 -> 0
D23: ՀԻՄՆԱԿԱՆ ՄԻՋՈՑՆԵՐ | E23: =+F23+G23 -> 0 | F23: =+F24 -> 0 | G23: =+G24 -> 0 | H23: =+I23+J23 -> -700000 | I23: =+I24 -> -700000 | J23: =+J24 -> 0
D24: ՄԵՔԵՆԱՆԵՐ ԵՎ ՍԱՐՔԱՎՈՐՈՒՄՆԵՐ | E24: =+F24+G24 -> 0 | F24: =+F25 -> 0 | G24: 0 | H24: =+I24+J24 -> -700000 | I24: =+I25 -> -700000 | J24: 0
D25: - Այլ մեքենաներ և սարքավորումներ | E25: =+F25+G25 -> 0 | F25: 0 | G25: 0 | H25: =+I25+J25 -> -700000 | I25: -700000 | J25: 0
B26: 1019 | D26: Սոցիալական ներդրումների և տեղական զարգացման ծրագիր | E26: =+E28+E41 -> -1575345.2 | F26: =+F28+F41 -> -1575345.2 | G26: =+G28+G41 -> 0 | H26: =+H28+H41 -> -1985345.2 | I26: =+I28+I41 -> -1985345.2 | J26: =+J28+J41 -> 0
D27: այդ թվում`
C28: 12001 | D28: Համաշխարհային բանկի աջակցությամբ իրականացվող Տարածքային զարգացման հիմնադրամի ծրագրի շրջանակներում ՀՀ տարածքներում ջրագծերի, առողջապահության, կրթության, մշակույթի, հատուկ խնամքի և ենթակառուցվածքների ոլորտի վերականգնման և շինարարության աշխատանքներ | E28: =+F28+G28 -> -135345.2 | F28: =+F30 -> -135345.2 | G28: =+G30 -> 0 | H28: =+I28+J28 -> -135345.2 | I28: =+I30 -> -135345.2 | J28: =+J30 -> 0
D29: այդ թվում` ըստ կատարողների
D30: ՀՀ տարածքային կառավարման և ենթակառուցվածքների նախարարություն | E30: =+F30+G30 -> -135345.2 | F30: =+F32 -> -135345.2 | G30: =+G32 -> 0 | H30: =+I30+J30 -> -135345.2 | I30: =+I32 -> -135345.2 | J30: =+J32 -> 0
D31: այդ թվում` բյուջետային ծախսերի տնտեսագիտական դասակարգման հոդվածներ
D32: ԸՆԴԱՄԵՆԸ ԾԱԽՍԵՐ | E32: =+F32+G32 -> -135345.2 | F32: =+F33 -> -135345.2 | G32: =+G33 -> 0 | H32: =+I32+J32 -> -135345.2 | I32: =+I33 -> -135345.2 | J32: =+J33 -> 0
D33: ՈՉ ՖԻՆԱՆՍԱԿԱՆ ԱԿՏԻՎՆԵՐԻ ԳԾՈՎ ԾԱԽՍԵՐ | E33: =+F33+G33 -> -135345.2 | F33: =+F34 -> -135345.2 | G33: =+G34 -> 0 | H33: =+I33+J33 -> -135345.2 | I33: =+I34 -> -135345.2 | J33: =+J34 -> 0
D34: ՀԻՄՆԱԿԱՆ ՄԻՋՈՑՆԵՐ | E34: =+F34+G34 -> -135345.2 | F34: =+F35+F37+F39 -> -135345.2 | G34: =+G35+G37+G39 -> 0 | H34: =+I34+J34 -> -135345.2 | I34: =+I35+I37+I39 -> -135345.2 | J34: =+J35+J37+J39 -> 0
D35: ՇԵՆՔԵՐ ԵՎ ՇԻՆՈՒԹՅՈՒՆՆԵՐ | E35: =+F35+G35 -> -4264 | F35: =+F36 -> -4264 | G35: =+G36 -> 0 | H35: =+I35+J35 -> -4264 | I35: =+I36 -> -4264 | J35: =+J36 -> 0
D36: - Շենքերի և շինությունների շինարարություն | E36: =+F36+G36 -> -4264 | F36: -4264 | G36: 0 | H36: =+I36+J36 -> -4264 | I36: -4264 | J36: 0
D37: ՄԵՔԵՆԱՆԵՐ ԵՎ ՍԱՐՔԱՎՈՐՈՒՄՆԵՐ | E37: =+F37+G37 -> -129940 | F37: =+F38 -> -129940 | G37: =+G38 -> 0 | H37: =+I37+J37 -> -129940 | I37: =+I38 -> -129940 | J37: =+J38 -> 0
D38: - Վարչական սարքավորումներ | E38: =+F38+G38 -> -129940 | F38: -129940 | G38: 0 | H38: =+I38+J38 -> -129940 | I38: -129940 | J38: 0
D39: ԱՅԼ ՀԻՄՆԱԿԱՆ ՄԻՋՈՑՆԵՐ | E39: =+F39+G39 -> -1141.2 | F39: =+F40 -> -1141.2 | G39: =+G40 -> 0 | H39: =+I39+J39 -> -1141.2 | I39: =+I40 -> -1141.2 | J39: =+J40 -> 0
D40: - Նախագծահետազոտական ծախսեր | E40: =+F40+G40 -> -1141.2 | F40: -1141.2 | G40: 0 | H40: =+I40+J40 -> -1141.2 | I40: -1141.2 | J40: 0
C41: 12004 | D41: Համաշխարհային բանկի աջակցությամբ իրականացվող Սոցիալական ներդրումների և տեղական զարգացման ծրագրի լրացուցիչ ֆինանսավորման վարկի շրջանակներում ՀՀ համայնքային և միջհամայնքային ենթակառուցվածքների որակի, օգտագործման և հասանելիության բարելավում: | E41: =+F41+G41 -> -1440000 | F41: =+F43 -> -1440000 | G41: =+G43 -> 0 | H41: =+I41+J41 -> -1850000 | I41: =+I43 -> -1850000 | J41: =+J43 -> 0
D42: այդ թվում` ըստ կատարողների
D43: ՀՀ տարածքային կառավարման և ենթակառուցվածքների նախարարություն | E43: =+E45 -> -1440000 | F43: =+F45 -> -1440000 | G43: =+G45 -> 0 | H43: =+I43+J43 -> -1850000 | I43: =+I45 -> -1850000 | J43: =+J45 -> 0
D44: այդ թվում` բյուջետային ծախսերի տնտեսագիտական դասակարգման հոդվածներ
D45: ԸՆԴԱՄԵՆԸ ԾԱԽՍԵՐ | E45: =+F45+G45 -> -1440000 | F45: =+F46 -> -1440000 | G45: =+G46 -> 0 | H45: =+I45+J45 -> -1850000 | I45: =+I46 -> -1850000 | J45: =+J46 -> 0
D46: ՈՉ ՖԻՆԱՆՍԱԿԱՆ ԱԿՏԻՎՆԵՐԻ ԳԾՈՎ ԾԱԽՍԵՐ | E46: =+F46+G46 -> -1440000 | F46: =+F47 -> -1440000 | G46: =+G47 -> 0 | H46: =+I46+J46 -> -1850000 | I46: =+I47 -> -1850000 | J46: =+J47 -> 0
D47: ՀԻՄՆԱԿԱՆ ՄԻՋՈՑՆԵՐ | E47: =+F47+G47 -> -1440000 | F47: =+F48 -> -1440000 | G47: =+G48 -> 0 | H47: =+I47+J47 -> -1850000 | I47: =+I48 -> -1850000 | J47: =+J48 -> 0
D48: ՄԵՔԵՆԱՆԵՐ ԵՎ ՍԱՐՔԱՎՈՐՈՒՄՆԵՐ | E48: =+F48+G48 -> -1440000 | F48: =+F49 -> -1440000 | G48: 0 | H48: =+I48+J48 -> -1850000 | I48: =+I49 -> -1850000 | J48: 0
D49: - Վարչական սարքավորումներ | E49: =+F49+G49 -> -1440000 | F49: -1440000 | G49: 0 | H49: =+I49+J49 -> -1850000 | I49: -1850000 | J49: 0
B50: 1049 | D50: Ճանապարհային ցանցի բարելավում | E50: =+F50+G50 -> -35344 | F50: =F52+F61+F72+F81+F90+F101 -> -1000 | G50: =G52+G61+G72+G81+G90+G101+G110 -> -34344 | H50: =H52+H61+H72+H81+H90+H101 -> -17013567 | I50: =I52+I61+I72+I81+I90+I101 -> -15143160 | J50: =J52+J61+J72+J81+J90+J101 -> -1870407.5
D51: այդ թվում`
C52: 21006 | D52: Ասիական զարգացման բանկի աջակցությամբ իրականացվող Հյուսիս-հարավ միջանցքի զարգացման վարկային ծրագիր, Տրանշ 2 | E52: =E54 -> 0 | F52: =F54 -> 0 | G52: =G54 -> 0 | H52: =H54 -> -3214605 | I52: =I54 -> -2508600 | J52: =J54 -> -706005
D53: այդ թվում` ըստ կատարողների
D54: ՀՀ տարածքային կառավարման և ենթակառուցվածքների նախարարություն | E54: =E56 -> 0 | F54: =F56 -> 0 | G54: =G56 -> 0 | H54: =H56 -> -3214605 | I54: =I56 -> -2508600 | J54: =J56 -> -706005
D55: այդ թվում` բյուջետային ծախսերի տնտեսագիտական դասակարգման հոդվածներ
D56: ԸՆԴԱՄԵՆԸ ԾԱԽՍԵՐ | E56: =E57 -> 0 | F56: =F57 -> 0 | G56: =G57 -> 0 | H56: =H57 -> -3214605 | I56: =I57 -> -2508600 | J56: =J57 -> -706005
D57: ՈՉ ՖԻՆԱՆՍԱԿԱՆ ԱԿՏԻՎՆԵՐԻ ԳԾՈՎ ԾԱԽՍԵՐ | E57: =E58 -> 0 | F57: =F58 -> 0 | G57: =G58 -> 0 | H57: =H58 -> -3214605 | I57: =I58 -> -2508600 | J57: =J58 -> -706005
D58: ՀԻՄՆԱԿԱՆ ՄԻՋՈՑՆԵՐ | E58: =F58+G58 -> 0 | F58: =F59 -> 0 | G58: =G59 -> 0 | H58: =I58+J58 -> -3214605 | I58: =I59 -> -2508600 | J58: =J59 -> -706005
D59: ՇԵՆՔԵՐ ԵՎ ՇԻՆՈՒԹՅՈՒՆՆԵՐ | E59: =E60 -> 0 | F59: =F60 -> 0 | G59: =G60 -> 0 | H59: =H60 -> -3214605 | I59: =I60 -> -2508600 | J59: =J60 -> -706005
D60: - Շենքերի և շինությունների շինարարություն | E60: =F60+G60 -> 0 | H60: =I60+J60 -> -3214605 | I60: =-2500000-8600 -> -2508600 | J60: =-700000-6005 -> -706005
C61: 21008 | D61: Վերակառուցման և զարգացման եվրոպական բանկի աջակցությամբ իրականացվող ՀՀ պետական սահմանի Բագրատաշեն անցման կետի կամրջի վերակառուցման վարկային ծրագիր | E61: =E63 -> -5344 | F61: =F63 -> -1000 | G61: =G63 -> -4344 | H61: =H63 -> -134993 | I61: =I63 -> -100590.5 | J61: =J63 -> -34402.5
D62: այդ թվում` ըստ կատարողների
D63: ՀՀ տարածքային կառավարման և ենթակառուցվածքների նախարարություն | E63: =E65 -> -5344 | F63: =F65 -> -1000 | G63: =G65 -> -4344 | H63: =H65 -> -134993 | I63: =I65 -> -100590.5 | J63: =J65 -> -34402.5
D64: այդ թվում` բյուջետային ծախսերի տնտեսագիտական դասակարգման հոդվածներ
D65: ԸՆԴԱՄԵՆԸ ԾԱԽՍԵՐ | E65: =E66 -> -5344 | F65: =F66 -> -1000 | G65: =G66 -> -4344 | H65: =H66 -> -134993 | I65: =I66 -> -100590.5 | J65: =J66 -> -34402.5
D66: ՈՉ ՖԻՆԱՆՍԱԿԱՆ ԱԿՏԻՎՆԵՐԻ ԳԾՈՎ ԾԱԽՍԵՐ | E66: =E67 -> -5344 | F66: =F67 -> -1000 | G66: =G67 -> -4344 | H66: =H67 -> -134993 | I66: =I67 -> -100590.5 | J66: =J67 -> -34402.5
D67: ՀԻՄՆԱԿԱՆ ՄԻՋՈՑՆԵՐ | E67: =F67+G67 -> -5344 | F67: =F68+F70 -> -1000 | G67: =G68+G70 -> -4344 | H67: =I67+J67 -> -134993 | I67: =I68+I70 -> -100590.5 | J67: =J68+J70 -> -34402.5
D68: ՇԵՆՔԵՐ ԵՎ ՇԻՆՈՒԹՅՈՒՆՆԵՐ | E68: =E69 -> 0 | F68: =F69 -> 0 | G68: =G69 -> 0 | H68: =H69 -> -129649 | I68: =I69 -> -99590.5 | J68: =J69 -> -30058.5
D69: - Շենքերի և շինությունների շինարարություն | E69: =F69+G69 -> 0 | F69: 0 | G69: 0 | H69: =I69+J69 -> -129649 | I69: =-108190.5+8600 -> -99590.5 | J69: =-36063.5+6005 -> -30058.5
D70: ԱՅԼ ՀԻՄՆԱԿԱՆ ՄԻՋՈՑՆԵՐ | E70: =F70+G70 -> -5344 | F70: =F71 -> -1000 | G70: =G71 -> -4344 | H70: =I70+J70 -> -5344 | I70: =+I71 -> -1000 | J70: =+J71 -> -4344
D71: - Նախագծահետազոտական ծախսեր | E71: =F71+G71 -> -5344 | F71: -1000 | G71: -4344 | H71: =I71+J71 -> -5344 | I71: =+F71 -> -1000 | J71: =+G71 -> -4344
C72: 21009 | D72: Եվրոպական ներդրումային բանկի աջակցությամբ իրականացվող Հյուսիս-հարավ միջանցքի զարգացման վարկային ծրագիր, Տրանշ 3 | E72: =E74 -> 100000 | F72: =F74 -> 0 | G72: =G74 -> 100000 | H72: =H74 -> -2000000 | I72: =I74 -> -2000000 | J72: =J74 -> 0
D73: այդ թվում` ըստ կատարողների
D74: ՀՀ տարածքային կառավարման և ենթակառուցվածքների նախարարություն | E74: =E76 -> 100000 | F74: =F76 -> 0 | G74: =G76 -> 100000 | H74: =H76 -> -2000000 | I74: =I76 -> -2000000 | J74: =J76 -> 0
D75: այդ թվում` բյուջետային ծախսերի տնտեսագիտական դասակարգման հոդվածներ
D76: ԸՆԴԱՄԵՆԸ ԾԱԽՍԵՐ | E76: =E77 -> 100000 | F76: =F77 -> 0 | G76: =G77 -> 100000 | H76: =H77 -> -2000000 | I76: =I77 -> -2000000 | J76: =J77 -> 0
D77: ՈՉ ՖԻՆԱՆՍԱԿԱՆ ԱԿՏԻՎՆԵՐԻ ԳԾՈՎ ԾԱԽՍԵՐ | E77: =E78 -> 100000 | F77: =F78 -> 0 | G77: =G78 -> 100000 | H77: =H78 -> -2000000 | I77: =I78 -> -2000000 | J77: =J78 -> 0
D78: ՀԻՄՆԱԿԱՆ ՄԻՋՈՑՆԵՐ | E78: =F78+G78 -> 100000 | F78: =F79 -> 0 | G78: =G79 -> 100000 | H78: =I78+J78 -> -2000000 | I78: =I79 -> -2000000 | J78: =J79 -> 0
D79: ՇԵՆՔԵՐ ԵՎ ՇԻՆՈՒԹՅՈՒՆՆԵՐ | E79: =E80 -> 100000 | F79: =F80 -> 0 | G79: =G80 -> 100000 | H79: =H80 -> -2000000 | I79: =I80 -> -2000000 | J79: =J80 -> 0
D80: - Շենքերի և շինությունների շինարարություն | E80: =F80+G80 -> 100000 | F80: 0 | G80: =-G118 -> 100000 | H80: =I80+J80 -> -2000000 | I80: -2000000 | J80: 0
C81: 21011 | D81: Ասիական զարգացման բանկի աջակցությամբ իրականացվող Հյուսիս-հարավ միջանցքի զարգացման վարկային ծրագիր, Տրանշ 3 | E81: =E83 -> 0 | F81: =+F83 -> 0 | G81: =G83 -> 0 | H81: =H83 -> -600000 | I81: =+I83 -> -600000 | J81: =J83 -> 0
D82: այդ թվում` ըստ կատարողների
D83: ՀՀ տարածքային կառավարման և ենթակառուցվածքների նախարարություն | E83: =E85 -> 0 | F83: =F85 -> 0 | G83: =G85 -> 0 | H83: =H85 -> -600000 | I83: =I85 -> -600000 | J83: =J85 -> 0
D84: այդ թվում` բյուջետային ծախսերի տնտեսագիտական դասակարգման հոդվածներ
D85: ԸՆԴԱՄԵՆԸ ԾԱԽՍԵՐ | E85: =E86 -> 0 | F85: =F86 -> 0 | G85: =G86 -> 0 | H85: =I85+J85 -> -600000 | I85: =I86 -> -600000 | J85: =J86 -> 0
D86: ՈՉ ՖԻՆԱՆՍԱԿԱՆ ԱԿՏԻՎՆԵՐԻ ԳԾՈՎ ԾԱԽՍԵՐ | E86: =E87 -> 0 | F86: =F87 -> 0 | G86: =G87 -> 0 | H86: =I86+J86 -> -600000 | I86: =I87 -> -600000 | J86: =J87 -> 0
D87: ՀԻՄՆԱԿԱՆ ՄԻՋՈՑՆԵՐ | E87: =F87+G87 -> 0 | F87: =F88 -> 0 | G87: =G88 -> 0 | H87: =I87+J87 -> -600000 | I87: =I88 -> -600000 | J87: =J88 -> 0
D88: ՇԵՆՔԵՐ ԵՎ ՇԻՆՈՒԹՅՈՒՆՆԵՐ | E88: =F88+G88 -> 0 | F88: =+F89 -> 0 | G88: =+G89 -> 0 | H88: =I88+J88 -> -600000 | I88: =+I89 -> -600000 | J88: =+J89 -> 0
D89: - Շենքերի և շինությունների շինարարություն | E89: =F89+G89 -> 0 | F89: 0 | G89: 0 | H89: =I89+J89 -> -600000 | I89: -600000 | J89: 0
C90: 21012 | D90: Եվրասիական զարգացման բանկի աջակցությամբ իրականացվող Հյուսիս-հարավ միջանցքի զարգացման ծրագիր | E90: =E92 -> -30000 | F90: =F92 -> 0 | G90: =G92 -> -30000 | H90: =H92 -> -6130000 | I90: =I92 -> -5000000 | J90: =J92 -> -1130000
D91: այդ թվում` ըստ կատարողների
D92: ՀՀ տարածքային կառավարման և ենթակառուցվածքների նախարարություն | E92: =E94 -> -30000 | F92: =F94 -> 0 | G92: =G94 -> -30000 | H92: =H94 -> -6130000 | I92: =I94 -> -5000000 | J92: =J94 -> -1130000
D93: այդ թվում` բյուջետային ծախսերի տնտեսագիտական դասակարգման հոդվածներ
D94: ԸՆԴԱՄԵՆԸ ԾԱԽՍԵՐ | E94: =E95 -> -30000 | F94: =F95 -> 0 | G94: =G95 -> -30000 | H94: =H95 -> -6130000 | I94: =I95 -> -5000000 | J94: =J95 -> -1130000
D95: ՈՉ ՖԻՆԱՆՍԱԿԱՆ ԱԿՏԻՎՆԵՐԻ ԳԾՈՎ ԾԱԽՍԵՐ | E95: =E96 -> -30000 | F95: =F96 -> 0 | G95: =G96 -> -30000 | H95: =H96 -> -6130000 | I95: =I96 -> -5000000 | J95: =J96 -> -1130000
D96: ՀԻՄՆԱԿԱՆ ՄԻՋՈՑՆԵՐ | E96: =F96+G96 -> -30000 | F96: =F97+F99 -> 0 | G96: =G97+G99 -> -30000 | H96: =I96+J96 -> -6130000 | I96: =I97+I99 -> -5000000 | J96: =J97+J99 -> -1130000
D97: ՇԵՆՔԵՐ ԵՎ ՇԻՆՈՒԹՅՈՒՆՆԵՐ | E97: =E98 -> 0 | F97: =F98 -> 0 | G97: =G98 -> 0 | H97: =H98 -> -5800000 | I97: =I98 -> -5000000 | J97: =J98 -> -800000
D98: - Շենքերի և շինությունների շինարարություն | E98: =F98+G98 -> 0 | F98: 0 | G98: 0 | H98: =I98+J98 -> -5800000 | I98: -5000000 | J98: =-800000 -> -800000
D99: ԱՅԼ ՀԻՄՆԱԿԱՆ ՄԻՋՈՑՆԵՐ | E99: =E100 -> -30000 | F99: =F100 -> 0 | G99: =G100 -> -30000 | H99: =H100 -> -330000 | I99: =I100 -> 0 | J99: =J100 -> -330000
D100: - Նախագծահետազոտական ծախսեր | E100: =F100+G100 -> -30000 | F100: 0 | G100: -30000 | H100: =I100+J100 -> -330000 | I100: 0 | J100: -330000
C101: 21017 | D101: Եմ աջակցությամբ իրականացվող վարկային ծրագրի շրջանակներում Սիսիան-Քաջարան 60կմ ճանապարհահատվածի կառուցում | E101: =E103 -> 0 | F101: =+F103 -> 0 | G101: =G103 -> 0 | H101: =H103 -> -4933969.1 | I101: =+I103 -> -4933969.1 | J101: =J103 -> 0
...

Sheet Հ8
D1: Հավելված N 8
C2: ՀՀ կառավարության 2023 թվականի
C3: ______________ ի ___Ն որոշման
B7: ՀԱՅԱՍՏԱՆԻ ՀԱՆՐԱՊԵՏՈՒԹՅԱՆ ԿԱՌԱՎԱՐՈՒԹՅԱՆ 2022 ԹՎԱԿԱՆԻ ԴԵԿՏԵՄԲԵՐԻ 29-Ի N 2111-Ն ՈՐՈՇՄԱՆ N 9 ՀԱՎԵԼՎԱԾԻ N 9.7, 9․47 ԵՎ N 9.1 ՀԱՎԵԼՎԱԾԻ N 9.1.8, 9.1.25, 9․1․58 ԱՂՅՈՒՍԱԿՆԵՐՈՒՄ ԿԱՏԱՐՎՈՂ ԼՐԱՑՈՒՄՆԵՐԸ ԵՎ ՓՈՓՈԽՈՒԹՅՈՒՆՆԵՐԸ
D8: Աղյուսակներ 9.7 և 9.1.8
B9: ՀՀ տարածքային կառավարման և ենթակառուցվածքների նախարարություն
B10: ՄԱՍ 1 ԵՎ 2. ՊԵՏԱԿԱՆ ՄԱՐՄՆԻ ԳԾՈՎ ԱՐԴՅՈՒՆՔԱՅԻՆ (ԿԱՏԱՐՈՂԱԿԱՆ) ՑՈՒՑԱՆԻՇՆԵՐԸ
B12: Ծրագրի դասիչը | C12: Ծրագրի անվանումը
B13: 1019 | C13: Սոցիալական ներդրումների և տեղական զարգացման ծրագիր
B15: Ծրագրի միջոցառումները
B17: Ծրագրի դասիչը` | C17: 1019 | D17: Ցուցանիշների փոփոխությունը (նվազեցումները նշված են փակագծերում)
B18: Միջոցառման դասիչը` | C18: 12001 | D18: Ինն ամիս | E18: Տարի
B19: Միջոցառման անվանումը` | C19: Համաշխարհային բանկի աջակցությամբ իրականացվող Տարածքային զարգացման հիմնադրամի ծրագրի շրջանակներում ՀՀ տարածքներում ջրագծերի, առողջապահության, կրթության, մշակույթի, հատուկ խնամքի և ենթակառուցվածքների ոլորտի վերականգնման և շինարարության աշխատանքներ
B20: Նկարագրությունը` | C20: Տարածքային զարգացման հիմնադրամի ծրագրով նախատեսված ՀՀ տարածքներում ջրագծերի, առողջապահության, կրթության օբյեկտների, մշակույթային տների, ծերանոցների, մանկատների, հատուկ դպրոցների, մանկապարտեզների և կոյուղու օբյեկտների հիմնանորոգում և շինարարություն
B21: Միջոցառման տեսակը` | C21: Տրանսֆերտների տրամադրում
B22: Շահառուների ընտրության չափանիշները | C22: Համաձայն ՏԶՀ Ղեկավար ձեռնարկի, որը ֆինանսավորման համաձայնագրի մաս է կազմում
B23: Արդյունքի չափորոշիչներ
B24: Միջոցառման վրա կատարվող ծախսը (հազար դրամ) | D24: =Հ5!H136 -> -135345.2 | E24: =Հ5!I136 -> -135345.2
B26: Ծրագրի դասիչը` | C26: 1019 | D26: Ցուցանիշների փոփոխությունը (նվազեցումները նշված են փակագծերում)
B27: Միջոցառման դասիչը` | C27: 12004 | D27: Ինն ամիս | E27: Տարի
B28: Միջոցառման անվանումը` | C28: Համաշխարհային բանկի աջակցությամբ իրականացվող Սոցիալական ներդրումների և տեղական զարգացման ծրագրի լրացուցիչ ֆինանսավորման վարկի շրջանակներում ՀՀ համայնքային և միջհամայնքային ենթակառուցվածքների որակի, օգտագործման և հասանելիության բարելավում:
B29: Նկարագրությունը` | C29: Ջրագծերի, առողջապահության, կրթության օբյեկտների, մշակույթային տների, ծերանոցների, մանկատների, հատուկ դպրոցների, մանկապարտզների և կոյուղու օբյեկտնրի հիմն. և շինարարություն., գույքի և սարքավորումների տրամադրում շահառու ենթածրագրերի համար:
B30: Միջոցառման տեսակը` | C30: Տրանսֆերտների տրամադրում
B31: Շահառուների ընտրության չափանիշները | C31: Համաձայն ՏԶՀ Ղեկավար ձեռնարկի, որը ֆինանսավորման համաձայնագրի մաս է կազմում
B32: Արդյունքի չափորոշիչներ
B33: Միջոցառման վրա կատարվող ծախսը (հազար դրամ) | D33: =Հ5!H149 -> -1440000 | E33: =Հ5!I149 -> -1850000
B35: Ծրագրի դասիչը | C35: Ծրագրի անվանումը
B36: 1004 | C36: Ոռոգման համակարգի առողջացում
B38: Ծրագրի միջոցառումները
B40: Ծրագրի դասիչը` | C40: 1004 | D40: Ցուցանիշների փոփոխությունը (նվազեցումները նշված են փակագծերում)
B41: Միջոցառման դասիչը` | C41: 31005 | D41: Ինն ամիս | E41: Տարի
B42: Միջոցառման անվանումը` | C42: Եվրասիական զարգացման բանկի աջակցությամբ իրականացվող ոռոգման համակարգերի զարգացման ծրագրի շրջանակներում ջրային տնտեսության ենթակառուցվածքների հիմնանորոգում
B43: Նկարագրությունը` | C43: Եվրասիական զարգացման բանկի աջակցությամբ իրականացվող ոռոգման համակարգերի զարգացման ծրագիր
B44: Միջոցառման տեսակը` | C44: Պետական մարմինների կողմից օգտագործվող ոչ ֆինանսական ակտիվների հետ գործառնություններ
B45: Ակտիվն օգտագործող կազմակերպության(ների) անվանում(ները)՛ | C45: Մասնագիտացված միավոր
B46: Արդյունքի չափորոշիչներ
B47: Միջոցառման վրա կատարվող ծախսը (հազար դրամ) | D47: =Հ5!H24 -> 0 | E47: =Հ5!I24 -> -700000
B49: Ծրագրի դասիչը | C49: Ծրագրի անվանումը
B50: 1049 | C50: Ճանապարհային ցանցի բարելավում
B52: Ծրագրի միջոցառումները
B54: Ծրագրի դասիչը` | C54: 1049 | D54: Ցուցանիշների փոփոխությունը (ավելացումները նշված են դրական նշանով)
B55: Միջոցառման դասիչը` | C55: 21001 | D55: Ինն ամիս | E55: Տարի
B56: Միջոցառման անվանումը` | C56: Պետական նշանակության ավտոճանապարհների հիմնանորոգում
B57: Նկարագրությունը` | C57: Միջպետական, հանրապետական և մարզային նշանակության ավտոճոնապարհների քայքայված ծածկի վերանորոգում, մաշված ծածկի փոխարինում
B58: Միջոցառման տեսակը` | C58: Հանրության կողմից անմիջականորեն օգտագործվող ակտիվների հետ կապված միջոցառումներ
B59: Միջոցառումն իրականացնողի անվանումը | C59: Մասնագիտացված միավոր
B60: Արդյունքի չափորոշիչներ
B61: Միջպետական նշանակության ավտոճանապարհներ | D61: 0 | E61: 25.6
B62: Հանրապետական նշանակության ավտոճանապարհներ | D62: 0 | E62: 42.5
B63: Մարզային նշանակության ավտոճանապարհներ | D63: 0 | E63: 12.9
B64: Միջոցառման վրա կատարվող ծախսը (հազար դրամ) | D64: =+Հ5!H47 -> 6505983.7 | E64: =+Հ5!I47 -> 8970323.5
B66: Ծրագրի դասիչը` | C66: 1049 | D66: Ցուցանիշների փոփոխությունը (ավելացումները նշված են դրական նշանով)
B67: Միջոցառման դասիչը` | C67: 21002 | D67: Ինն ամիս | E67: Տարի
B68: Միջոցառման անվանումը` | C68: Տրանսպորտային օբյեկտների հիմնանորոգում
B69: Նկարագրությունը` | C69: Ավտոմոբիլային ճանապարհների վրա գտնվող կամուրջների հիմնանորոգում
B70: Միջոցառման տեսակը` | C70: Հանրության կողմից անմիջականորեն օգտագործվող ակտիվների հետ կապված միջոցառումներ
B71: Միջոցառումն իրականացնողի անվանումը | C71: Մասնագիտացված միավոր
B72: Արդյունքի չափորոշիչներ
B73: Միջոցառման վրա կատարվող ծախսը (հազար դրամ) | D73: =+Հ5!H54 -> 2360 | E73: =+Հ5!I54 -> 2360
B75: Ծրագրի դասիչը` | C75: 1049 | D75: Ցուցանիշների փոփոխությունը (նվազեցումները նշված են փակագծերում)
B77: Միջոցառման դասիչը` | C77: 21006 | D77: Ինն ամիս | E77: Տարի
B78: Միջոցառման անվանումը` | C78: Ասիական զարգացման բանկի աջակցությամբ իրականացվող Հյուսիս-հարավ միջանցքի զարգացման վարկային ծրագիր, Տրանշ 2
B79: Նկարագրությունը` | C79: Աշտարակ-Թալին 29+600կմ-71+500կմ հատվածի կառուցում
B80: Միջոցառման տեսակը` | C80: Հանրության կողմից անմիջականորեն օգտագործվող ակտիվների հետ կապված միջոցառումներ
B81: Միջոցառումն իրականացնողի անվանումը | C81: Մասնագիտացված միավոր
B82: Արդյունքի չափորոշիչներ
B83: 1-ին հատված (կմ 29+600-կմ 37+545), ընդհանուր ծավալի մեջ, տոկոս | E83: -17
B84: 2-րդ հատված (37+545-կմ 71+500), ընդհանուր ծավալի մեջ, տոկոս | E84: -19
B85: Միջոցառման վրա կատարվող ծախսը (հազար դրամ) | D85: =Հ7!E52 -> 0 | E85: =Հ7!H52 -> -3214605
B87: Ծրագրի դասիչը` | C87: 1049 | D87: Ցուցանիշների փոփոխությունը (նվազեցումները նշված են փակագծերում)
B89: Միջոցառման դասիչը` | C89: 21008 | D89: Ինն ամիս | E89: Տարի
B90: Միջոցառման անվանումը` | C90: Վերակառուցման և զարգացման եվրոպական բանկի աջակցությամբ իրականացվող ՀՀ պետական սահմանի Բագրատաշեն անցման կետի կամրջի վերակառուցման վարկային ծրագիր
B91: Նկարագրությունը` | C91: Նոր կամրջի կառուցման շինարարական աշխատանքներ
B92: Միջոցառման տեսակը` | C92: Հանրության կողմից անմիջականորեն օգտագործվող ակտիվների հետ կապված միջոցառումներ
B93: Միջոցառումն իրականացնողի անվանումը | C93: Մասնագիտացված միավոր
B94: Արդյունքի չափորոշիչներ
B95: Ըստ կապալի պայմանագրի հետավարտական աշխատանքների իրականացում (Հետ երաշխիքային գումարիների վճարում), հատ | D95: 0 | E95: -1
B96: Միջոցառման վրա կատարվող ծախսը (հազար դրամ) | D96: =Հ7!E61 -> -5344 | E96: =Հ7!H61 -> -134993
B98: Ծրագրի դասիչը` | C98: 1049 | D98: =Հ3!E6 -> Ցուցանիշների փոփոխությունը (Ավելացումները նշված են դրական նշանով, իսկ նվազեցումները` փակագծերում)
B100: Միջոցառման դասիչը` | C100: 21009 | D100: Ինն ամիս | E100: Տարի
B101: Միջոցառման անվանումը` | C101: Եվրոպական ներդրումային բանկի աջակցությամբ իրականացվող Հյուսիս-հարավ միջանցքի զարգացման վարկային ծրագիր, Տրանշ 3
B102: Նկարագրությունը` | C102: Լանջիկ-Գյումրի 27.47 կմ երկարությամբ ճանապարհային հատվածի կառուցում
B103: Միջոցառման տեսակը` | C103: Հանրության կողմից անմիջականորեն օգտագործվող ակտիվների հետ կապված միջոցառումներ
B104: Միջոցառումն իրականացնողի անվանումը | C104: Մասնագիտացված միավոր
B105: Արդյունքի չափորոշիչներ
B106: Վերականգնվող ճանապարհահատցված, կմ | D106: 0 | E106: -2.27
B107: Միջոցառման վրա կատարվող ծախսը (հազար դրամ) | D107: =Հ7!G72 -> 100000 | E107: =Հ7!H72 -> -2000000
B109: Ծրագրի դասիչը` | C109: 1049 | D109: Ցուցանիշների փոփոխությունը (նվազեցումները նշված են փակագծերում)
B111: Միջոցառման դասիչը` | C111: 21011 | D111: Ինն ամիս | E111: Տարի
B112: Միջոցառման անվանումը` | C112: Ասիական զարգացման բանկի աջակցությամբ իրականացվող Հյուսիս-հարավ միջանցքի զարգացման վարկային ծրագիր, Տրանշ 3
B113: Նկարագրությունը` | C113: Հատված Թալին-Լանջիկ 71+500 կմ-90+200 կմ կառուցման շինարարական աշխատանքներ
B114: Միջոցառման տեսակը` | C114: Հանրության կողմից անմիջականորեն օգտագործվող ակտիվների հետ կապված միջոցառումներ
B115: Միջոցառումն իրականացնողի անվանումը | C115: Մասնագիտացված միավոր
B116: Արդյունքի չափորոշիչներ
B117: Միջոցառման վրա կատարվող ծախսը (հազար դրամ) | D117: =Հ7!E81 -> 0 | E117: =Հ7!H81 -> -600000
B119: Ծրագրի դասիչը` | C119: 1049 | D119: Ցուցանիշների փոփոխությունը (նվազեցումները նշված են փակագծերում)
B120: Միջոցառման դասիչը` | C120: 21012 | D120: Ինն ամիս | E120: Տարի
B121: Միջոցառման անվանումը` | C121: Եվրասիական զարգացման բանկի աջակցությամբ իրականացվող Հյուսիս-հարավ միջանցքի զարգացման ծրագիր
B122: Նկարագրությունը` | C122: Ճանապարհաշինական աշխատանքներ
B123: Միջոցառման տեսակը` | C123: Հանրության կողմից անմիջականորեն օգտագործվող ակտիվների հետ կապված միջոցառումներ
...

Sheet Հ9
H1: Հավելված N 9
H2: ՀՀ կառավարության 2023 թվականի
H3: ______________ ի ___Ն որոշման
B5: ՀԱՅԱՍՏԱՆԻ ՀԱՆՐԱՊԵՏՈՒԹՅԱՆ ԿԱՌԱՎԱՐՈՒԹՅԱՆ 2022 ԹՎԱԿԱՆԻ ԴԵԿՏԵՄԲԵՐԻ 29-Ի N 2111-Ն ՈՐՈՇՄԱՆ N 10 ՀԱՎԵԼՎԱԾՈՒՄ ԿԱՏԱՐՎՈՂ ԼՐԱՑՈՒՄՆԵՐԸ
B6: Կոդը | C6: Անվանումը | D6: Գնման ձևը | E6: Չափման միավորը | F6: Միավորի գինը | G6: Ցուցանիշների փոփոխությունը (ավելացումները նշված են դրական նշանով)
G7: Քանակը | H7: Գումարը (հազար դրամով)
B8: ՀՀ տարածքային կառավարման և ենթակառուցվածքների նախարարություն | H8: =+H9 -> 8859261.6
B9: Բաժին N 04 | C9: Խումբ N 05 | D9: Դաս N 01 | E9: Ճանապարհային տրանսպորտ | H9: =+H10+H112 -> 8859261.6
B10: 1049 21001 | C10: Պետական նշանակության ավտոճանապարհների հիմնանորոգում | H10: =+H11+H38 -> 8856901.6
B11: ՄԱՍ II. ԱՇԽԱՏԱՆՔՆԵՐ | H11: =H12+H13+H14+H15+H16+H17+H18+H19+H20+H21+H22+H23+H24+H25+H26+H27+H28+H29+H30+H31+H32+H33+H34+H35+H36+H37 -> 8673321.7
B12: 45231177/626 | C12: ճանապարհների վերանորոգման աշխատանքներ | D12: ԲՄ | E12: դրամ | F12: 836440988 | G12: 1 | H12: =+G12*F12/1000 -> 836440.99
B13: 45231177/629 | C13: ճանապարհների վերանորոգման աշխատանքներ | D13: ԲՄ | E13: դրամ | F13: 1008659961 | G13: 1 | H13: =+G13*F13/1000 -> 1008660
B14: 45231177/515 | C14: ճանապարհների վերանորոգման աշխատանքներ | D14: ՀԲՄ | E14: դրամ | F14: 119998633 | G14: 1 | H14: =+G14*F14/1000 -> 119998.63
B15: 45231177/558 | C15: ճանապարհների վերանորոգման աշխատանքներ | D15: ՀԲՄ | E15: դրամ | F15: 1280220000 | G15: 1 | H15: =+G15*F15/1000 -> 1280220
B16: 45231177/526 | C16: ճանապարհների վերանորոգման աշխատանքներ | D16: ԲՄ | E16: դրամ | F16: 312600000 | G16: 1 | H16: =+G16*F16/1000 -> 312600
B17: 45231177/574 | C17: ճանապարհների վերանորոգման աշխատանքներ | D17: ՀԲՄ | E17: դրամ | F17: 467221936 | G17: 1 | H17: =+G17*F17/1000 -> 467221.94
B18: 45231177/101 | C18: ճանապարհների վերանորոգման աշխատանքներ | D18: ՀԲՄ | E18: դրամ | H18: =-3046197/1000 -> -3046.197
B19: 45231177/501 | C19: ճանապարհների վերանորոգման աշխատանքներ | D19: ՀԲՄ | E19: դրամ | F19: 429507509 | G19: 1 | H19: =+G19*F19/1000 -> 429507.51
B20: 45231177/502 | C20: ճանապարհների վերանորոգման աշխատանքներ | D20: ՀԲՄ | E20: դրամ | F20: 57456000 | G20: 1 | H20: =+G20*F20/1000 -> 57456
B21: 45231177/504 | C21: ճանապարհների վերանորոգման աշխատանքներ | D21: ՀԲՄ | E21: դրամ | F21: 825030159 | G21: 1 | H21: =+G21*F21/1000 -> 825030.16
B22: 45231177/519 | C22: ճանապարհների վերանորոգման աշխատանքներ | D22: ԲՄ | E22: դրամ | F22: 193971872 | G22: 1 | H22: =+G22*F22/1000 -> 193971.87
B23: 45231177/505 | C23: ճանապարհների վերանորոգման աշխատանքներ | D23: ՀԲՄ | E23: դրամ | F23: 163445070 | G23: 1 | H23: =+G23*F23/1000 -> 163445.07
B24: 45231177/63 | C24: ճանապարհների վերանորոգման աշխատանքներ | D24: ՀԲՄ | E24: դրամ | H24: =-968887/1000 -> -968.887
B25: 45231177/545 | C25: ճանապարհների վերանորոգման աշխատանքներ | D25: ՀԲՄ | E25: դրամ | F25: 788132660 | G25: 1 | H25: =+G25*F25/1000 -> 788132.66
B26: 45231177/523 | C26: ճանապարհների վերանորոգման աշխատանքներ | D26: ԲՄ | E26: դրամ | F26: 590611431 | G26: 1 | H26: =+G26*F26/1000 -> 590611.43
B27: 45231177/506 | C27: ճանապարհների վերանորոգման աշխատանքներ | D27: ՀԲՄ | E27: դրամ | F27: 51168000 | G27: 1 | H27: =+G27*F27/1000 -> 51168
B28: 45231177/555 | C28: ճանապարհների վերանորոգման աշխատանքներ | D28: ՀԲՄ | E28: դրամ | F28: 537864000 | G28: 1 | H28: =+G28*F28/1000 -> 537864
B29: 45231177/509 | C29: ճանապարհների վերանորոգման աշխատանքներ | D29: ՀԲՄ | E29: դրամ | F29: 154343939 | G29: 1 | H29: =+G29*F29/1000 -> 154343.94
B30: 45231177/556 | C30: ճանապարհների վերանորոգման աշխատանքներ | D30: ՀԲՄ | E30: դրամ | F30: 284337600 | G30: 1 | H30: =+G30*F30/1000 -> 284337.6
B31: 45231177 | C31: ճանապարհների վերանորոգման աշխատանքներ | D31: ՀԲՄ | E31: դրամ | F31: 42711270 | G31: 1 | H31: =+G31*F31/1000 -> 42711.27
B32: 45231177/524 | C32: ճանապարհների վերանորոգման աշխատանքներ | D32: ԲՄ | E32: դրամ | F32: 428483640 | G32: 1 | H32: =+G32*F32/1000 -> 428483.64
B33: 45231177 | C33: ճանապարհների վերանորոգման աշխատանքներ | D33: ՀԲՄ | E33: դրամ | F33: 24524370 | G33: 1 | H33: =+G33*F33/1000 -> 24524.37
B34: 45231177 | C34: ճանապարհների վերանորոգման աշխատանքներ | D34: ԲՄ | E34: դրամ | F34: 16000000 | G34: 1 | H34: =+G34*F34/1000 -> 16000
B35: 45231177/525 | C35: ճանապարհների վերանորոգման աշխատանքներ | D35: ԲՄ | E35: դրամ | F35: 243156000 | G35: 1 | H35: =+G35*F35/1000 -> 243156
B36: 45231177/18 | C36: ճանապարհների վերանորոգման աշխատանքներ | D36: ՀԲՄ | E36: դրամ | H36: =-65010740/1000 -> -65010.74
B37: 45231177/30 | C37: ճանապարհների վերանորոգման աշխատանքներ | D37: ՀԲՄ | E37: դրամ | H37: =-113537514/1000 -> -113537.51
B38: ՄԱՍ III. ԾԱՌԱՅՈՒԹՅՈՒՆՆԵՐ | H38: =SUM(H39:H111) -> 183579.88
B39: 71351540/501 | C39: տեխնիկական հսկողության ծառայություններ | D39: ՀԲՄ | E39: դրամ | F39: 1976087 | G39: 1 | H39: =+G39*F39/1000 -> 1976.087
B40: 71351540/504 | C40: տեխնիկական հսկողության ծառայություններ | D40: ՀԲՄ | E40: դրամ | F40: 3776737 | G40: 1 | H40: =+G40*F40/1000 -> 3776.737
B41: 71351540/518 | C41: տեխնիկական հսկողության ծառայություններ | D41: ՀԲՄ | E41: դրամ | F41: 589435 | G41: 1 | H41: =+G41*F41/1000 -> 589.435
B42: 71351540/549 | C42: տեխնիկական հսկողության ծառայություններ | D42: ՀԲՄ | E42: դրամ | F42: 5400000 | G42: 1 | H42: =+G42*F42/1000 -> 5400
B43: 71351540/525 | C43: տեխնիկական հսկողության ծառայություններ | D43: ԲՄ | E43: դրամ | F43: 3059028 | G43: 1 | H43: =+G43*F43/1000 -> 3059.028
B44: 71351540/557 | C44: տեխնիկական հսկողության ծառայություններ | D44: ՀԲՄ | E44: դրամ | F44: 3165392 | G44: 1 | H44: =+G44*F44/1000 -> 3165.392
B45: 71351540/510 | C45: տեխնիկական հսկողության ծառայություններ | D45: ՀԲՄ | E45: դրամ | F45: 3004477 | G45: 1 | H45: =+G45*F45/1000 -> 3004.477
B46: 71351540/512 | C46: տեխնիկական հսկողության ծառայություններ | D46: ՀԲՄ | E46: դրամ | F46: 4048335 | G46: 1 | H46: =+G46*F46/1000 -> 4048.335
B47: 71351540/527 | C47: տեխնիկական հսկողության ծառայություններ | D47: ԲՄ | E47: դրամ | F47: 2328370 | G47: 1 | H47: =+G47*F47/1000 -> 2328.37
B48: 71351540/541 | C48: տեխնիկական հսկողության ծառայություններ | D48: ՀԲՄ | E48: դրամ | F48: 4558807 | G48: 1 | H48: =+G48*F48/1000 -> 4558.807
B49: 71351540/530 | C49: տեխնիկական հսկողության ծառայություններ | D49: ԲՄ | E49: դրամ | F49: 3030677 | G49: 1 | H49: =+G49*F49/1000 -> 3030.677
B50: 71351540 | C50: տեխնիկական հսկողության ծառայություններ | D50: ՀԲՄ | E50: դրամ | F50: 2767872 | G50: 1 | H50: =+G50*F50/1000 -> 2767.872
B51: 71351540/511 | C51: տեխնիկական հսկողության ծառայություններ | D51: ՀԲՄ | E51: դրամ | F51: 407500 | G51: 1 | H51: =+G51*F51/1000 -> 407.5
B52: 71351540/545 | C52: տեխնիկական հսկողության ծառայություններ | D52: ՀԲՄ | E52: դրամ | F52: 3500000 | G52: 1 | H52: =+G52*F52/1000 -> 3500
B53: 71351540/513 | C53: տեխնիկական հսկողության ծառայություններ | D53: ՀԲՄ | E53: դրամ | F53: 672258 | G53: 1 | H53: =+G53*F53/1000 -> 672.258
B54: 71351540/546 | C54: տեխնիկական հսկողության ծառայություններ | D54: ՀԲՄ | E54: դրամ | F54: 2500000 | G54: 1 | H54: =+G54*F54/1000 -> 2500
B55: 71351540 | C55: տեխնիկական հսկողության ծառայություններ | D55: ՀԲՄ | E55: դրամ | F55: 670100 | G55: 1 | H55: =+G55*F55/1000 -> 670.1
B56: 71351540/527 | C56: տեխնիկական հսկողության ծառայություններ | D56: ԲՄ | E56: դրամ | F56: 4798290 | G56: 1 | H56: =+G56*F56/1000 -> 4798.29
B57: 71351540/525 | C57: տեխնիկական հսկողության ծառայություններ | D57: ԲՄ | E57: դրամ | F57: 2430972 | G57: 1 | H57: =+G57*F57/1000 -> 2430.972
B58: 71241200/532 | C58: նախագծերի պատրաստման,ծախսերի գնահատման ծառայություններ | D58: ՀԲՄ | E58: դրամ | F58: 2790000 | G58: 1 | H58: =+G58*F58/1000 -> 2790
B59: 71241200/519 | C59: նախագծերի պատրաստման,ծախսերի գնահատման ծառայություններ | D59: ՀԲՄ | E59: դրամ | F59: 5760000 | G59: 1 | H59: =+G59*F59/1000 -> 5760
B60: 71241200/515 | C60: նախագծերի պատրաստման,ծախսերի գնահատման ծառայություններ | D60: ՀԲՄ | E60: դրամ | F60: 996000 | G60: 1 | H60: =+G60*F60/1000 -> 996
B61: 71241200/520 | C61: նախագծերի պատրաստման,ծախսերի գնահատման ծառայություններ | D61: ՀԲՄ | E61: դրամ | F61: 4200000 | G61: 1 | H61: =+G61*F61/1000 -> 4200
B62: 71241200/503 | C62: նախագծերի պատրաստման,ծախսերի գնահատման ծառայություններ | D62: ՀԲՄ | E62: դրամ | F62: 2880000 | G62: 1 | H62: =+G62*F62/1000 -> 2880
B63: 71241200/504 | C63: նախագծերի պատրաստման,ծախսերի գնահատման ծառայություններ | D63: ՀԲՄ | E63: դրամ | F63: 2400000 | G63: 1 | H63: =+G63*F63/1000 -> 2400
B64: 71241200/505 | C64: նախագծերի պատրաստման,ծախսերի գնահատման ծառայություններ | D64: ՀԲՄ | E64: դրամ | F64: 3240000 | G64: 1 | H64: =+G64*F64/1000 -> 3240
B65: 71241200/521 | C65: նախագծերի պատրաստման,ծախսերի գնահատման ծառայություններ | D65: ՀԲՄ | E65: դրամ | F65: 8100000 | G65: 1 | H65: =+G65*F65/1000 -> 8100
B66: 71241200/531 | C66: նախագծերի պատրաստման,ծախսերի գնահատման ծառայություններ | D66: ՀԲՄ | E66: դրամ | F66: 12000000 | G66: 1 | H66: =+G66*F66/1000 -> 12000
B67: 71241200/509 | C67: նախագծերի պատրաստման,ծախսերի գնահատման ծառայություններ | D67: ՀԲՄ | E67: դրամ | F67: 980000 | G67: 1 | H67: =+G67*F67/1000 -> 980
... B88: 50531140/539 | C88: փորձաքննության ծառայություններ | D88: ԳՀ | E88: դրամ | F88: 196000 | G88: 1 | H88: =+G88*F88/1000 -> 196
B89: 98111140 | C89: հեղինակային հսկողության ծառայություններ | D89: ՄԱ | E89: դրամ | F89: 4876224 | G89: 1 | H89: =+G89*F89/1000 -> 4876.224
B90: 98111140 | C90: հեղինակային հսկողության ծառայություններ | D90: ՄԱ | E90: դրամ | F90: 283329 | G90: 1 | H90: =+G90*F90/1000 -> 283.329
B91: 98111140 | C91: հեղինակային հսկողության ծառայություններ | D91: ՄԱ | E91: դրամ | F91: 6563665 | G91: 1 | H91: =+G91*F91/1000 -> 6563.665
B92: 98111140 | C92: հեղինակային հսկողության ծառայություններ | D92: ՄԱ | E92: դրամ | F92: 699727 | G92: 1 | H92: =+G92*F92/1000 -> 699.727
B93: 98111140 | C93: հեղինակային հսկողության ծառայություններ | D93: ՄԱ | E93: դրամ | F93: 9158910 | G93: 1 | H93: =+G93*F93/1000 -> 9158.91
B94: 98111140 | C94: հեղինակային հսկողության ծառայություններ | D94: ՄԱ | E94: դրամ | F94: 2058398 | G94: 1 | H94: =+G94*F94/1000 -> 2058.398
B95: 98111140 | C95: հեղինակային հսկողության ծառայություններ | D95: ՄԱ | E95: դրամ | F95: 3321701 | G95: 1 | H95: =+G95*F95/1000 -> 3321.701
B96: 98111140/60 | C96: հեղինակային հսկողության ծառայություններ | D96: ՄԱ | E96: դրամ | H96: =-691111/1000 -> -691.111
B97: 98111140 | C97: հեղինակային հսկողության ծառայություններ | D97: ՄԱ | E97: դրամ | F97: 3613341 | G97: 1 | H97: =+G97*F97/1000 -> 3613.341
B98: 98111140 | C98: հեղինակային հսկողության ծառայություններ | D98: ՄԱ | E98: դրամ | F98: 500694 | G98: 1 | H98: =+G98*F98/1000 -> 500.694
B99: 98111140 | C99: հեղինակային հսկողության ծառայություններ | D99: ՄԱ | E99: դրամ | F99: 5993731 | G99: 1 | H99: =+G99*F99/1000 -> 5993.731
B100: 98111140 | C100: հեղինակային հսկողության ծառայություններ | D100: ՄԱ | E100: դրամ | F100: 1379105 | G100: 1 | H100: =+G100*F100/1000 -> 1379.105
B101: 98111140 | C101: հեղինակային հսկողության ծառայություններ | D101: ՄԱ | E101: դրամ | F101: 1095226 | G101: 1 | H101: =+G101*F101/1000 -> 1095.226
B102: 98111140 | C102: հեղինակային հսկողության ծառայություններ | D102: ՄԱ | E102: դրամ | F102: 6139826 | G102: 1 | H102: =+G102*F102/1000 -> 6139.826
B103: 98111140 | C103: հեղինակային հսկողության ծառայություններ | D103: ՄԱ | E103: դրամ | F103: 4414270 | G103: 1 | H103: =+G103*F103/1000 -> 4414.27
B104: 98111140 | C104: հեղինակային հսկողության ծառայություններ | D104: ՄԱ | E104: դրամ | F104: 863030 | G104: 1 | H104: =+G104*F104/1000 -> 863.03
B105: 98111140 | C105: հեղինակային հսկողության ծառայություններ | D105: ՄԱ | E105: դրամ | F105: 298129 | G105: 1 | H105: =+G105*F105/1000 -> 298.129
B106: 98111140 | C106: հեղինակային հսկողության ծառայություններ | D106: ՄԱ | E106: դրամ | F106: 3551222 | G106: 1 | H106: =+G106*F106/1000 -> 3551.222
B107: 98111140 | C107: հեղինակային հսկողության ծառայություններ | D107: ՄԱ | E107: դրամ | F107: 1142565 | G107: 1 | H107: =+G107*F107/1000 -> 1142.565
B108: 98111140 | C108: հեղինակային հսկողության ծառայություններ | D108: ՄԱ | E108: դրամ | F108: 2152756 | G108: 1 | H108: =+G108*F108/1000 -> 2152.756
... B111: 98111140 | C111: հեղինակային հսկողության ծառայություններ | D111: ՄԱ | E111: դրամ | F111: 1417547 | G111: 1 | H111: =+G111*F111/1000 -> 1417.547
B112: 1049 21002 | C112: Տրանսպորտային օբյեկտների հիմնանորոգում | H112: =H113 -> 2360
B113: ՄԱՍ III. ԾԱՌԱՅՈՒԹՅՈՒՆՆԵՐ | H113: =H114+H115+H116 -> 2360
B114: 71241200/526 | C114: նախագծերի պատրաստման,ծախսերի գնահատման ծառայություններ | D114: ՀԲՄ | E114: դրամ | F114: 780000 | G114: 1 | H114: =+G114*F114/1000 -> 780
B115: 71241200/528 | C115: նախագծերի պատրաստման,ծախսերի գնահատման ծառայություններ | D115: ՀԲՄ | E115: դրամ | F115: 980000 | G115: 1 | H115: =+G115*F115/1000 -> 980
B116: 71241200/527 | C116: նախագծերի պատրաստման,ծախսերի գնահատման ծառայություններ | D116: ՀԲՄ | E116: դրամ | F116: 600000 | G116: 1 | H116: =+G116*F116/1000 -> 600
C120: ՀԱՅԱՍՏԱՆԻ ՀԱՆՐԱՊԵՏՈՒԹՅԱՆ ՎԱՐՉԱՊԵՏԻ ԱՇԽԱՏԱԿԱԶՄԻ ՂԵԿԱՎԱՐ՝ | D120: Ա.ՀԱՐՈՒԹՅՈՒՆՅԱՆ

Sheet Պահուստ
I1: Հավելված N 10
I2: ՀՀ կառավարության 2023 թվականի
I3: ______________ ի ___Ն որոշման
D5: ՀԱՅԱՍՏԱՆԻ ՀԱՆՐԱՊԵՏՈՒԹՅԱՆ ԿԱՌԱՎԱՐՈՒԹՅԱՆ ՊԱՀՈՒՍՏԱՅԻՆ ՖՈՆԴԻՑ ՀԱՏԿԱՑՎՈՂ ԳՈՒՄԱՐԻ ՄԱՍԻՆ
H6: հազար դրամ
A7: Գործառական դասիչը | D7: Ծրագրային դասիչը | F7: Բյուջետային հատկացումների գլխավոր կարգադրիչների, ծրագրերի, միջոցառումների և միջոցառումները կատարող պետական մարմինների անվանումները | G7: Ցուցանիշների փոփոխությունը (ավելացումները նշված են դրական նշանով, իսկ նվազեցումները` փակագծերում)
A8: բաժինը | B8: խումբը | C8: դասը | D8: ծրագիրը | E8: միջոցառումը | G8: Առաջին կիսամյակ | H8: Ինն ամիս | I8: Տարի
F10: ԸՆԴԱՄԵՆԸ՝ ԾԱԽՍԵՐ | H10: =H12+H32 -> 0 | I10: =I12+I32 -> 0
F11: =F13 -> այդ թվում`
F12: =F25 -> ՀՀ տարածքային կառավարման և ենթակառուցվածքների նախարարություն | H12: =H14 -> 6473999.7 | I12: =I14 -> 7102276
F13: այդ թվում`
A14: 04 | F14: =Հ5!G14 -> ՏՆՏԵՍԱԿԱՆ ՀԱՐԱԲԵՐՈՒԹՅՈՒՆՆԵՐ | H14: =H16 -> 6473999.7 | I14: =I16 -> 7102276
F15: այդ թվում`
B16: 05 | F16: =Հ5!G33 -> Տրանսպորտ | H16: =H18 -> 6473999.7 | I16: =I18 -> 7102276
F17: այդ թվում`
C18: 01 | F18: =Հ5!G35 -> Ճանապարհային տրանսպորտ | H18: =H21 -> 6473999.7 | I18: =I21 -> 7102276
F19: այդ թվում`
F20: ՀՀ տարածքային կառավարման և ենթակառուցվածքների նախարարություն | H20: =H21 -> 6473999.7 | I20: =I21 -> 7102276
D21: 1049 | F21: =Հ5!G39 -> Ճանապարհային ցանցի բարելավում | H21: =H23 -> 6473999.7 | I21: =I23 -> 7102276
F22: այդ թվում`
E23: 21001 | F23: Պետական նշանակության ավտոճանապարհների հիմնանորոգում | H23: =H25 -> 6473999.7 | I23: =I25 -> 7102276
F24: այդ թվում` ըստ կատարողների
F25: ՀՀ տարածքային կառավարման և ենթակառուցվածքների նախարարություն | H25: =H27 -> 6473999.7 | I25: =I27 -> 7102276
F26: այդ թվում`բյուջետային ծախսերի տնտեսագիտական դասակարգման հոդվածներ
F27: ԸՆԴԱՄԵՆԸ ԾԱԽՍԵՐ | H27: =H28 -> 6473999.7 | I27: =I28 -> 7102276
F28: ՈՉ ՖԻՆԱՆՍԱԿԱՆ ԱԿՏԻՎՆԵՐԻ ԳԾՈՎ ԾԱԽՍԵՐ | H28: =H29 -> 6473999.7 | I28: =I29 -> 7102276
F29: ՀԻՄՆԱԿԱՆ ՄԻՋՈՑՆԵՐ | H29: =H30 -> 6473999.7 | I29: =I30 -> 7102276
F30: ՇԵՆՔԵՐ ԵՎ ՇԻՆՈՒԹՅՈՒՆՆԵՐ | H30: =H31 -> 6473999.7 | I30: =I31 -> 7102276
F31: - Շենքերի և շինությունների կապիտալ վերանորոգում | H31: =-H32 -> 6473999.7 | I31: =-I32 -> 7102276
F32: ՀՀ կառավարություն | H32: =H33 -> -6473999.7 | I32: =I33 -> -7102276
A33: 11 | F33: ՀԻՄՆԱԿԱՆ ԲԱԺԻՆՆԵՐԻՆ ՉԴԱՍՎՈՂ ՊԱՀՈՒՍՏԱՅԻՆ ՖՈՆԴԵՐ | H33: =H35 -> -6473999.7 | I33: =I35 -> -7102276
F34: այդ թվում`
B35: 01 | F35: ՀՀ կառավարության և համայնքների պահուստային ֆոնդ | H35: =H37 -> -6473999.7 | I35: =I37 -> -7102276
F36: այդ թվում`
C37: 01 | F37: ՀՀ կառավարության պահուստային ֆոնդ | H37: =H41 -> -6473999.7 | I37: =I39 -> -7102276
F38: այդ թվում`
D39: 1139 | F39: ՀՀ կառավարության պահուստային ֆոնդ | H39: =H41 -> -6473999.7 | I39: =I41 -> -7102276
F40: =F38 -> այդ թվում`
E41: 11001 | F41: ՀՀ կառավարության պահուստային ֆոնդ | H41: =+H43 -> -6473999.7 | I41: =+I43 -> -7102276
F42: այդ թվում` ըստ կատարողների
F43: ՀՀ կառավարություն | H43: =H45 -> -6473999.7 | I43: =I45 -> -7102276
F44: այդ թվում` բյուջետային ծախսերի տնտեսագիտական դասակարգման հոդվածներ
F45: ԸՆԴԱՄԵՆԸ` ԾԱԽՍԵՐ | H45: =H47 -> -6473999.7 | I45: =I47 -> -7102276
F46: ԸՆԹԱՑԻԿ ԾԱԽՍԵՐ | H46: =H47 -> -6473999.7 | I46: =I47 -> -7102276
F47: ԱՅԼ ԾԱԽՍԵՐ | H47: =H48 -> -6473999.7 | I47: =I48 -> -7102276
F48: - Պահուստային միջոցներ | H48: =Հ5!H176 -> -6473999.7 | I48: =Հ5!I176 -> -7102276
