Workbook
Name AgencyCode: #REF!
Name AgencyCode: #REF!
Name AgencyCode: #REF!
Name AgencyCode: #REF!
Name AgencyCode: #REF!
Name AgencyCode: #REF!
Name AgencyCode: #REF!
Name AgencyName: #REF!
Name AgencyName: #REF!
Name AgencyName: #REF!
Name åû: #REF!
Name åû: #REF!
Name davit: #REF!
Name davit: #REF!
Name Functional1: #REF!
Name Functional1: #REF!
Name Functional1: #REF!
Name ggg: #REF!
Name ggg: #REF!
Name mas: #REF!
Name mas: #REF!
Name mass: #REF!
Name mass: #REF!
Name PANature: #REF!
Name PANature: #REF!
Name PANature: #REF!
Name PAType: #REF!
Name PAType: #REF!
Name PAType: #REF!
Name Performance2: #REF!
Name Performance2: #REF!
Name Performance2: #REF!
Name PerformanceType: #REF!
Name PerformanceType: #REF!
Name PerformanceType: #REF!
Name x: #REF!
Name x: #REF!
Name x: #REF!
Name x: #REF!
Name x: #REF!
Name x: #REF!
Name Հավելված: #REF!
Name Հավելված: #REF!
Name Հավելված: #REF!
Name Մաս: #REF!
Name Մաս: #REF!
Name Մաս: #REF!
Name շախմատիստ: #REF!
Name շախմատիստ: #REF!
Name շախմատիստ: #REF!

Sheet Հ1
C1: Հավելված N 1
C2: ՀՀ կառավարության 2023 թվականի
C3: ______________ ի ___Ն որոշման
B5: «ՀԱՅԱՍՏԱՆԻ ՀԱՆՐԱՊԵՏՈՒԹՅԱՆ 2023 ԹՎԱԿԱՆԻ ՊԵՏԱԿԱՆ ԲՅՈՒՋԵԻ ՄԱՍԻՆ» ՕՐԵՆՔԻ N 2 ՀՈԴՎԱԾԻ ԱՂՅՈՒՍԱԿՈՒՄ ԿԱՏԱՐՎՈՂ ՓՈՓՈԽՈՒԹՅՈՒՆՆԵՐԸ
C7: հազար դրամներով
C8: Ցուցանիշների փոփոխությունը (նվազեցումները նշված են փակագծերում)
B9: 1. Եկամուտների գծով | C9: 0
B10: 2. Ծախսերի գծով | C10: =Հ2!D10 -> -2126228.8
B11: 3. Դեֆիցիտը (պակասուրդը) | C11: =-C9+C10 -> -2126228.8
B14: ՀԱՅԱՍՏԱՆԻ ՀԱՆՐԱՊԵՏՈՒԹՅԱՆ ՎԱՐՉԱՊԵՏԻ ԱՇԽԱՏԱԿԱԶՄԻ ՂԵԿԱՎԱՐ՝ | C14: Ա.ՀԱՐՈՒԹՅՈՒՆՅԱՆ

Sheet Հ2
D1: Հավելված N 2
D2: ՀՀ կառավարության 2023 թվականի
D3: ______________ ի ___Ն որոշման
B5: ՀԱՅԱՍՏԱՆԻ ՀԱՆՐԱՊԵՏՈՒԹՅԱՆ ԿԱՌԱՎԱՐՈՒԹՅԱՆ 2022 ԹՎԱԿԱՆԻ ԴԵԿՏԵՄԲԵՐԻ 29-Ի N 2111-Ն ՈՐՈՇՄԱՆ N 1 ՀԱՎԵԼՎԱԾԻ N 1 ԱՂՅՈՒՍԱԿՈՒՄ ԿԱՏԱՐՎՈՂ ՓՈՓՈԽՈՒԹՅՈՒՆՆԵՐԸ
D7: հազ. դրամ
B8: Պետական բյուջեի դեֆիցիտի ֆինանսավորման աղբյուրներն ու դրանց տարրերի անվանումները | C8: Ցուցանիշների փոփոխությունը (նվազեցումները նշված են փակագծերում)
C9: Ինն ամիս | D9: Տարի
B10: ԸՆԴԱՄԵՆԸ | C10: =+C20+C12 -> 13397655 | D10: =+D20+D12 -> -2126228.8
B11: այդ թվում՝
B12: Ա.Ներքին աղբյուրներ-ընդամենը | C12: =C14+C21 -> 14974000 | D12: =D14+D21 -> 15702276
B13: այդ թվում՝
B14: 1. Փոխառու զուտ միջոցներ | C14: =C16 -> 14974000 | D14: =D16 -> 15702276
B15: այդ թվում՝
B16: 1.1. Արժեթղթերի (բացառությամբ բաժնետոմսերի և կապիտալում այլ մասնակցության) թողարկումից և տեղաբաշխումից զուտ մուտքեր | C16: =C17 -> 14974000 | D16: =D17 -> 15702276
B17: ՀՀ ֆինանսների նախարարություն | C17: =C19 -> 14974000 | D17: =D19 -> 15702276
B18: որից`
B19: գանձապետական պարտատոմսեր | C19: =6473999.708+8500000 -> 14974000 | D19: =8600000+7102276 -> 15702276
B20: Բ. Արտաքին աղբյուրներ - ընդամենը | C20: =+C22 -> -1576345.2 | D20: =+D22 -> -17828505 | E20: .
B21: այդ թվում
B22: 1. Փոխառու զուտ միջոցներ | C22: =+C24 -> -1576345.2 | D22: =+D24 -> -17828505
B23: այդ թվում՝
B24: 1.1. Վարկերի և փոխատվությունների ստացում | C24: =+C26 -> -1576345.2 | D24: =+D26 -> -17828505
B25: որից`
B26: նպատակային վարկերի գծով | C26: =Հ7!F11 -> -1576345.2 | D26: =Հ7!I11 -> -17828505
B30: ՀԱՅԱՍՏԱՆԻ ՀԱՆՐԱՊԵՏՈՒԹՅԱՆ ՎԱՐՉԱՊԵՏԻ ԱՇԽԱՏԱԿԱԶՄԻ ՂԵԿԱՎԱՐ՝ | C30: Ա.ՀԱՐՈՒԹՅՈՒՆՅԱՆ

Sheet Հ3
I1: Հավելված N 3
I2: ՀՀ կառավարության 2023 թվականի
I3: ______________ ի ___Ն որոշման
B4: «ՀԱՅԱՍՏԱՆԻ ՀԱՆՐԱՊԵՏՈՒԹՅԱՆ 2023 ԹՎԱԿԱՆԻ ՊԵՏԱԿԱՆ ԲՅՈՒՋԵԻ ՄԱՍԻՆ» ՕՐԵՆՔԻ N 1 ՀԱՎԵԼՎԱԾԻ N 3 ԱՂՅՈՒՍԱԿՈՒՄ ԿԱՏԱՐՎՈՂ ՓՈՓՈԽՈՒԹՅՈՒՆՆԵՐԸ ԵՎ ԼՐԱՑՈՒՄՆԵՐԸ
H5: հազար դրամներով
B6: Ծրագրային դասիչ | D6: Բյուջետային գլխավոր կարգադրիչների, ծրագրերի, միջոցառումների և ուղղությունների անվանումները | E6: Ցուցանիշների փոփոխությունը (Ավելացումները նշված են դրական նշանով, իսկ նվազեցումները` փակագծերում)
E7: Ընդամենը, | F7: այդ թվում՝
B8: Ծրագիր | C8: Միջոցառում | F8: Կառուցման աշխատանքներ | G8: Վերակառուցման, վերանորոգման և վերականգնման աշխատանքներ | H8: Նախագծահե- տազոտական, գեոդեզիա- քարտեզագրա- կան աշխա- տանքներ | I8: Ոչ ֆինանսական այլ ակտիվների ձեռքբերում
D9: ԸՆԴԱՄԵՆԸ | E9: =+F9+G9+H9+I9 -> 8972683.5 | F9: =+F11 -> 0 | G9: =+G11 -> 8901632.6 | H9: =+H11 -> 71050.908 | I9: =+I11 -> 0
D10: այդ թվում՝
D11: ՀՀ ՏԱՐԱԾՔԱՅԻՆ ԿԱՌԱՎԱՐՄԱՆ ԵՎ ԵՆԹԱԿԱՌՈՒՑՎԱԾՔՆԵՐԻ ՆԱԽԱՐԱՐՈՒԹՅՈՒՆ | E11: =+F11+G11+H11+I11 -> 8972683.5 | F11: =+F74+F13 -> 0 | G11: =+G74+G13 -> 8901632.6 | H11: =+H74+H13 -> 71050.908 | I11: =+I74+I13 -> 0
D12: այդ թվում`
B13: 1049 | C13: 21001 | D13: Պետական նշանակության ավտոճանապարհների հիմնանորոգում | E13: =+F13+G13+H13+I13 -> 8970323.5 | F13: =F15+F32+F52 -> 0 | G13: =G15+G32+G52 -> 8901632.6 | H13: =H15+H32+H52 -> 68690.908 | I13: 0
D14: այդ թվում`
C15: =+'[1]3'!B17 -> 1 | D15: =+'[1]3'!C17 -> Միջպետական նշանակության ավտոճանապարհներ, այդ թվում | E15: =+F15+G15+H15+I15 -> 4603312.2 | F15: =SUM(F16:F31) -> 0 | G15: =SUM(G16:G31) -> 4588827.5 | H15: =SUM(H16:H31) -> 14484.7 | I15: =SUM(I16:I31) -> 0
D16: Մ-1, Երևան-Գյումրի-Հայաստանի Հանրապետության սահման միջպետական նշանակության ավտոճանապարհի կմ160+200-կմ171+700 հատվածի հիմնանորոգում | E16: =+F16+G16+H16+I16 -> 843293.3 | F16: 0 | G16: 843293.3 | H16: 0 | I16: 0
D17: Մ-2, Երևան-Երասխ-Գորիս-Մեղրի-Հայաստանի Հանրապետության սահման կմ53+150 - կմ65+350 հատվածի հիմնանորոգում | E17: =+F17+G17+H17+I17 -> 283.4 | F17: 0 | G17: 283.4 | H17: 0 | I17: 0
D18: Մ-2, Երևան-Երասխ-Գորիս-Մեղրի-Հայաստանի Հանրապետության սահման միջպետական նշանակության ավտոճանապարհի կմ142+000 - կմ150+700 հատվածի հիմնանորոգում | E18: =+F18+G18+H18+I18 -> 1019000.4 | F18: 0 | G18: 1019000.4 | H18: 0 | I18: 0
D19: Մ-2, Երևան-Երասխ-Գորիս-Մեղրի-Հայաստանի Հանրապետության սահման միջպետական նշանակության ավտոճանապարհի կմ297+800-կմ311+250 հատվածի հիմնանորոգման աշխատանքների (1-ին տեղամաս՝ կմ297+800-կմ301+820 հատված) | E19: =+F19+G19+H19+I19 -> 121287.8 | F19: 0 | G19: 121287.8 | H19: 0 | I19: 0
D20: Մ-3, Հայաստանի Հանրապետության սահման-Մարգարա-Վանաձոր-Տաշիր-Հայաստանի Հանրապետության սահման միջպետական նշանակության ավտոճանապարհի կմ39+500-կմ45+300 հատվածի հիմնանորոգում | E20: =+F20+G20+H20+I20 -> 1294778.9 | F20: 0 | G20: 1294778.9 | H20: 0 | I20: 0
D21: Մ-3, Հայաստանի Հանրապետության սահման-Մարգարա-Վանաձոր-Տաշիր-Հայաստանի Հանրապետության սահման միջպետական նշանակության ավտոճանապարհի կմ130+400-կմ135+354 հատվածի հիմնանորոգում | E21: =+F21+G21+H21+I21 -> 28412.6 | F21: 0 | G21: 28412.6 | H21: 0 | I21: 0
D22: Մ-4, Երևան-Սևան-Իջևան-Հայաստանի Հանրապետության սահման միջպետական նշանակության ավտոճանապարհի Դիլիջան-Իջևան հատվածում անվտանգության տարրերի բարելավում և սև կետերի շտկում | E22: =+F22+G22+H22+I22 -> 2865 | F22: 0 | G22: 0 | H22: 2865 | I22: 0
D23: Մ4, Երևան - Սևան - Իջևան – Հայաստանի Հանրապետության սահման միջպետական նշանակության ավտոճանապարհի կմ144+240-կմ148+200 հատվածի հիմնանորոգում | E23: =+F23+G23+H23+I23 -> 317717.4 | F23: 0 | G23: 317717.4 | H23: 0 | I23: 0
D24: Մ-5, Երևան - Արմավիր - Հայաստանի Հանրապետության սահման միջպետական նշանակության ավտոճանապարհի կմ17+530-կմ18+200, կմ25+593 - կմ29+385 և կմ32+675 - կմ33+833 աջակողմյան և ձախակողմյան հատվածների հիմնանորոգում և Մ-5 Երևան-Արմավիր-Հայաստանի Հանրապետության սահման ա/ճ-ի կմ 35+457 - կմ 37+054 հատվածի ջրահեռացման համակարգի վերականգնում | E24: =+F24+G24+H24+I24 -> 473709 | F24: 0 | G24: 473709 | H24: 0 | I24: 0
D25: Մ-7, /Մ-3/ - Սպիտակ – Գյումրի - Հայաստանի ՀանրապետությանՀանրապետության սահման միջպետական նշանակության ավտոճանապարհի կմ47+100-կմ48+000 հատվածի հիմնանորոգում | E25: =+F25+G25+H25+I25 -> 83.7 | F25: 0 | G25: 0 | H25: 83.7 | I25: 0
D26: Մ-8, Վանաձոր (Մ-6 հատման կետ) - Դիլիջան միջպետական նշանակության ավտոճանապարհի կմ0+236 - կմ6+236 հատվածի (Վանաձոր քաղաքի հատված) հիմնանորոգում | E26: =+F26+G26+H26+I26 -> 5980 | F26: 0 | G26: 0 | H26: 5980 | I26: 0
D27: Մ-10, Սևան-Մարտունի-Գետափ միջպետական նշանակության ավտոճանապարհի կմ79+060-կմ80+590 հատվածի վերակառուցում | E27: =+F27+G27+H27+I27 -> 1156 | F27: 0 | G27: 0 | H27: 1156 | I27: 0
... D31: Մ-15, /Մ-4/ (Վերին Պտղնի) - Մասիսի տրանսպորտային հանգույց (Երևանի շրջանց) միջպետական նշանակության ավտոճանապարհի կմ19+900-կմ29+400 հատվածի հիմնանորոգում | E31: =+F31+G31+H31+I31 -> 58322.3 | F31: 0 | G31: 58322.3 | H31: 0 | I31: 0
C32: =+'[1]3'!B29 -> 2 | D32: =+[2]Հ3!D36 -> Հանրապետական նշանակության ավտոճանապարհներ, այդ թվում | E32: =+F32+G32+H32+I32 -> 2737005.2 | F32: =SUM(F33:F51) -> 0 | G32: =SUM(G33:G51) -> 2704786.6 | H32: =SUM(H33:H51) -> 32218.6 | I32: =SUM(I33:I51) -> 0
D33: Հ-1, Վ. Պտղնու տրանսպորտային հանգույց - Ջրաբեր-Հրազդան -Հրազդանի քրեակատարողական հիմնարկ հանրապետական նշանակության ավտոճանապարհի կմ33+500 - կմ37+700 հատվածի հիմնանորոգում | E33: =+F33+G33+H33+I33 -> 834264.7 | F33: 0 | G33: 834264.7 | H33: 0 | I33: 0
D34: Հ-1, Վ. Պտղնու տրանսպորտային հանգույց - Ջրաբեր-Հրազդան -Հրազդանի քրեակատարողական հիմնարկ հանրապետական նշանակության ավտոճանապարհի կմ21+700 - կմ24+000 հատվածի հիմնանորոգում | E34: =+F34+G34+H34+I34 -> 197679.4 | F34: 0 | G34: 197679.4 | H34: 0 | I34: 0
D35: Հ-3, Երևան (Ջրաշխարհ, Մ-4-ի հետ հատման տեղ)-Գառնի –Գեղարդի վանք հանրապետական նշանակության ավտոճանապարհի կմ10+770-կմ27+500 հատվածի (բացառությամբ սողանքային տեղամասերի) հիմնանորոգում | E35: =+F35+G35+H35+I35 -> 3530 | F35: 0 | G35: 0 | H35: 3530 | I35: 0
D36: Հ-4, Երևան - եղվարդ - Արագյուղ - Հարթավան - /Մ-3/ հանրապետական նշանակության ավտոճանապարհի կմ33+500 - կմ34+800 հատվածի (Երնջատափ գյուղը շրջանցող հատված) հիմնանորոգում | E36: =+F36+G36+H36+I36 -> 165347.8 | F36: 0 | G36: 165347.8 | H36: 0 | I36: 0
D37: Հ-10. /Հ-8/ (Ոսկետափ) - Վեդի - Լանջառ - /Մ-2/ հանրապետական նշանակության ավտոճանապարհի կմ5+450 - կմ9+250 հատվածի հիմնանորոգում | E37: =+F37+G37+H37+I37 -> 2700 | F37: 0 | G37: 0 | H37: 2700 | I37: 0
D38: Հ-15, /Մ-5/(Նորապատ) -Արգավանդ –/Մ-3/ (Վարդանաշեն) հանրապետական նշանակության ավտոճանապարհի կմ3+000 - կմ13+000 հատվածի հիմնանորոգում | E38: =+F38+G38+H38+I38 -> 2416.9 | F38: 0 | G38: 0 | H38: 2416.9 | I38: 0
D39: Հ-15, /Մ-5/(Նորապատ) -Արգավանդ –/Մ-3/ (Վարդանաշեն) հանրապետական նշանակության ավտոճանապարհի կմ13+000 - կմ20+000 հատվածի հիմնանորոգում | E39: =+F39+G39+H39+I39 -> 1743.1 | F39: 0 | G39: 0 | H39: 1743.1 | I39: 0
D40: Հ-16, /Մ-5/ - Մեծամոր – ՀԱԷԿ - /Մ-5/ հանրապետական նշանակության ավտոճանապարհի կմ0+000 - կմ10+700 հատվածի հիմնանորոգում | E40: =+F40+G40+H40+I40 -> 8350 | F40: 0 | G40: 0 | H40: 8350 | I40: 0
D41: Հ-21, /Հ-75/ - Հոռոմ-Արթիկ-Ալագյազ հանրապետական նշանակության ավտոճանապարհի կմ29+600 - կմ32+700 հատվածի հիմնանորոգում | E41: =+F41+G41+H41+I41 -> 224.8 | F41: 0 | G41: 0 | H41: 224.8 | I41: 0
D42: Հ-21, /Հ-75/ - Հոռոմ-Արթիկ-Ալագյազ հանրապետական նշանակության ավտոճանապարհի կմ32+700 - կմ41+000 հատվածի հիմնանորոգում | E42: =+F42+G42+H42+I42 -> 468 | F42: 0 | G42: 0 | H42: 468 | I42: 0
D43: Հ-23, /Մ-3/ - Պուշկինյան լեռնանցք - /Մ-3/ հանրապետական նշանակության ավտոճանապարհի կմ0+000 - կմ13+400 հատվածի հիմնանորոգում | E43: =+F43+G43+H43+I43 -> 647.8 | F43: 0 | G43: 0 | H43: 647.8 | I43: 0
...

Sheet Հ4
F1: Հավելված N 4
F2: ՀՀ կառավարության 2023 թվականի
F3: ______________ ի ___Ն որոշման
B5: «ՀԱՅԱUՏԱՆԻ ՀԱՆՐԱՊԵՏՈՒԹՅԱՆ 2023 ԹՎԱԿԱՆԻ ՊԵՏԱԿԱՆ ԲՅՈՒՋԵԻ ՄԱUԻՆ» OՐԵՆՔԻ N 1 ՀԱՎԵԼՎԱԾԻ N 2 ԱՂՅՈՒՍԱԿՈՒՄ ԿԱՏԱՐՎՈՂ ՎԵՐԱԲԱՇԽՈՒՄԸ ԵՎ ՀԱՅԱՍՏԱՆԻ ՀԱՆՐԱՊԵՏՈՒԹՅԱՆ ԿԱՌԱՎԱՐՈՒԹՅԱՆ 2022 ԹՎԱԿԱՆԻ ԴԵԿՏԵՄԲԵՐԻ 29-Ի N 2111-Ն ՈՐՈՇՄԱՆ N 5 ՀԱՎԵԼՎԱԾԻ N 1 ԱՂՅՈՒՍԱԿՈՒՄ ԿԱՏԱՐՎՈՂ ՓՈՓՈԽՈՒԹՅՈՒՆՆԵՐԸ ԵՎ ԼՐԱՑՈՒՄՆԵՐԸ
F6: հազ. դրամ
B7: Ծրագրային դասիչը | D7: Բյուջետային հատկացումների գլխավոր կարգադրիչների, ծրագրերի և միջոցառումների անվանումները | E7: Ցուցանիշների փոփոխությունը (Ավելացումները նշված են դրական նշանով, իսկ նվազեցումները` փակագծերում)
B8: Ծրագիր | C8: Միջոցառում | E8: Ինն ամիս | F8: Տարի
B9: 1192 | D9: ԸՆԴԱՄԵՆԸ | E9: =E105+E11 -> 13397655 | F9: =F105+F11 -> -2126228.8
D10: այդ թվում`
D11: ՀՀ տարածքային կառավարման և ենթակառուցվածքների նախարարություն | E11: =E25+E44+E12 -> 4897654.5 | F11: =F25+F44+F12 -> -10726229
B12: 1004 | D12: Ծրագրի անվանումը` | E12: =+E20 -> 0 | F12: =+F20 -> -700000
D13: Ոռոգման համակարգի առողջացում
D14: Ծրագրի նպատակը`
D15: Ոռոգման ծառայությունների հասանելիության և մատչելիության ապահովում
D16: Վերջնական արդյունքի նկարագրությունը`
D17: Ոռոգման ջրի մատակարարման արդյունավետության և հասանելիության բարելավում, կորուստների կրճատում
B18: Ծրագրի միջոցառումներ
C19: 31005 | D19: Միջոցառման անվանումը`
D20: Եվրասիական զարգացման բանկի աջակցությամբ իրականացվող ոռոգման համակարգերի զարգացման ծրագրի շրջանակներում ջրային տնտեսության ենթակառուցվածքների հիմնանորոգում | E20: =+Հ7!E17 -> 0 | F20: =+Հ7!H17 -> -700000
D21: Միջոցառման նկարագրությունը`
D22: Եվրասիական զարգացման բանկի աջակցությամբ իրականացվող ոռոգման համակարգերի զարգացման ծրագիր
D23: Միջոցառման տեսակը
D24: Պետական մարմինների կողմից օգտագործվող ոչ ֆինանսական ակտիվների հետ գործառնություններ
B25: 1019 | D25: Ծրագրի անվանումը` | E25: =+E33+E39 -> -1575345.2 | F25: =+F33+F39 -> -1985345.2
D26: Սոցիալական ներդրումների և տեղական զարգացման ծրագիր
D27: Ծրագրի նպատակը`
D28: Նպաստել տարածքներում բնակչության նյութական և ոչ նյութական բարեկեցության աճին
D29: Վերջնական արդյունքի նկարագրությունը`
D30: Համայնքային և միջհամայնքային ենթակառուցվածքների և որակի հասանելիության բարելավում, ինստիտուցիոնալ և ֆինանասական կարողությունների հզորացում
B31: Ծրագրի միջոցառումներ
C32: 12001 | D32: Միջոցառման անվանումը`
D33: Համաշխարհային բանկի աջակցությամբ իրականացվող Տարածքային զարգացման հիմնադրամի ծրագրի շրջանակներում ՀՀ տարածքներում ջրագծերի, առողջապահության, կրթության, մշակույթի, հատուկ խնամքի և ենթակառուցվածքների ոլորտի վերականգնման և շինարարության աշխատանքներ | E33: =+Հ7!E28 -> -135345.2 | F33: =+Հ7!H28 -> -135345.2
D34: Միջոցառման նկարագրությունը`
D35: Տարածքային զարգացման հիմնադրամի ծրագրով նախատեսված ՀՀ տարածքներում ջրագծերի, առողջապահության, կրթության օբյեկտների, մշակույթային տների, ծերանոցների, մանկատների, հատուկ դպրոցների, մանկապարտեզների և կոյուղու օբյեկտների հիմնանորոգում և շինարարություն
D36: Միջոցառման տեսակը
D37: Տրանսֆերտների տրամադրում
C38: 12004 | D38: Միջոցառման անվանումը`
D39: Համաշխարհային բանկի աջակցությամբ իրականացվող Սոցիալական ներդրումների և տեղական զարգացման ծրագրի լրացուցիչ ֆինանսավորման վարկի շրջանակներում ՀՀ համայնքային և միջհամայնքային ենթակառուցվածքների որակի, օգտագործման և հասանելիության բարելավում: | E39: =+Հ7!E41 -> -1440000 | F39: =+Հ7!H41 -> -1850000
D40: Միջոցառման նկարագրությունը`
D41: Ջրագծերի, առողջապահության, կրթության օբյեկտների, մշակույթային տների, ծերանոցների, մանկատների, հատուկ դպրոցների, մանկապարտզների և կոյուղու օբյեկտնրի հիմն. և շինարարություն., գույքի և սարքավորումների տրամադրում շահառու ենթածրագրերի համար:
...

Sheet 3-1
B1: Հավելված N3
B2: ՀՀ կառավարության 2022 թվականի
B3: ______________ ի ___Ն որոշման
B5: ՀԱՅԱՍՏԱՆԻ ՀԱՆՐԱՊԵՏՈՒԹՅԱՆ ԿԱՌԱՎԱՐՈՒԹՅԱՆ 2021 ԹՎԱԿԱՆԻ ԴԵԿՏԵՄԲԵՐԻ 23-Ի N 2121-Ն ՈՐՈՇՄԱՆ N 3 ԵՎ N 4 ՀԱՎԵԼՎԱԾՆԵՐՈՒՄ ԿԱՏԱՐՎՈՂ ՓՈՓՈԽՈՒԹՅՈՒՆՆԵՐԸ ԵՎ ԼՐԱՑՈՒՄՆԵՐԸ
H7: հազ. դրամ
B8: Գործառական դասիչը | E8: Ծրագրային դասիչը | G8: Բյուջետային ծախսերի գործառական դասակարգման բաժինների, խմբերի և դասերի, բյուջետային հատկացումների գլխավոր կարգադրիչների, ծրագրերի, միջոցառումների և միջոցառումները կատարող պետական մարմինների անվանումները | H8: Ցուցանիշների փոփոխությունը (ավելացումները նշված են դրական նշանով, իսկ նվազեցումները` փակագծերում)
B9: Բաժին | C9: Խումբ | D9: Դաս | E9: Ծրագիր | F9: Միջոցառում | H9: Ինն ամիս | I9: Տարի
G10: ԸՆԴԱՄԵՆԸ ԾԱԽՍԵՐ | H10: =+H12+H13 -> 14976.427 | I10: =+I12+I13 -> -363431.87
G11: այդ թվում`
B12: 04 | C12: 03 | D12: 05 | E12: 1167 | F12: 11006 | G12: Գերմանիայի զարգացման վարկերի բանկի (KFW)) աջակցությամբ իրականացվող «Կովկասյան էլեկտրահաղորդման ցանց I» Հայաստան-Վրաստան հաղորդիչ գիծ/ենթակայանների դրամաշնորհային ծրագիր | H12: 14976.427 | I12: -25089.77
B13: 04 | C13: 03 | D13: 05 | E13: 1167 | F13: 32006 | G13: Գերմանիայի զարգացման վարկերի բանկի (KFW) աջակցությամբ իրականացվող Կովկասյան էլեկտրահաղորդման ցանց I Հայաստան-Վրաստան հաղորդիչ գիծ/ենթակայանների դրամաշնորհային ծրագրի շրջանակներում իրականացվող ներդրումներ | H13: 0 | I13: -338342.1

Sheet Հ5
B1: Հավելված N5
B2: ՀՀ կառավարության 2022 թվականի
B3: ______________ ի ___Ն որոշման
B5: ՀԱՅԱՍՏԱՆԻ ՀԱՆՐԱՊԵՏՈՒԹՅԱՆ ԿԱՌԱՎԱՐՈՒԹՅԱՆ 2022 ԹՎԱԿԱՆԻ ԴԵԿՏԵՄԲԵՐԻ 29-Ի N 2111-Ն ՈՐՈՇՄԱՆ N 3 ԵՎ N 4 ՀԱՎԵԼՎԱԾՆԵՐՈՒՄ ԿԱՏԱՐՎՈՂ ՓՈՓՈԽՈՒԹՅՈՒՆՆԵՐԸ ԵՎ ԼՐԱՑՈՒՄՆԵՐԸ
I7: =+Հ4!F6 -> հազ. դրամ
B8: Գործառական դասիչը | E8: Ծրագրային դասիչը | G8: Բյուջետային ծախսերի գործառական դասակարգման բաժինների, խմբերի և դասերի, բյուջետային հատկացումների գլխավոր կարգադրիչների, ծրագրերի, միջոցառումների և միջոցառումները կատարող պետական մարմինների անվանումները | H8: Ցուցանիշների փոփոխությունը (Ավելացումները նշված են դրական նշանով, իսկ նվազեցումները` փակագծերում)
B9: Բաժին | C9: Խումբ | D9: Դաս | E9: Ծրագիր | F9: Միջոցառում | H9: Ինն ամիս | I9: Տարի
G10: ԸՆԴԱՄԵՆԸ ԾԱԽՍԵՐ | H10: =H158+H12 -> 13397655 | I10: =I158+I12 -> -2126228.8
G11: այդ թվում`
G12: ՀՀ ՏԱՐԱԾՔԱՅԻՆ ԿԱՌԱՎԱՐՄԱՆ ԵՎ ԵՆԹԱԿԱՌՈՒՑՎԱԾՔՆԵՐԻ ՆԱԽԱՐԱՐՈՒԹՅՈՒՆ | H12: =+H14 -> 4897654.5 | I12: =+I14 -> -10726229
G13: այդ թվում`
B14: 04 | G14: ՏՆՏԵՍԱԿԱՆ ՀԱՐԱԲԵՐՈՒԹՅՈՒՆՆԵՐ | H14: =H16+H33+H128 -> 4897654.5 | I14: =I16+I33+I128 -> -10726229
G15: այդ թվում`
C16: 02 | G16: Գյուղատնտեսություն, անտառային տնտեսություն, ձկնորսություն և որսորդություն | H16: =+H18 -> 0 | I16: =+I18 -> -700000
G17: այդ թվում`
D18: 04 | G18: Ոռոգում | H18: =+H22 -> 0 | I18: =+I22 -> -700000
G19: այդ թվում`
G20: ՀՀ ՏԱՐԱԾՔԱՅԻՆ ԿԱՌԱՎԱՐՄԱՆ ԵՎ ԵՆԹԱԿԱՌՈՒՑՎԱԾՔՆԵՐԻ ՆԱԽԱՐԱՐՈՒԹՅՈՒՆ | H20: =H22 -> 0 | I20: =I22 -> -700000
G21: այդ թվում`
E22: 1004 | G22: Ոռոգման համակարգի առողջացում | H22: =+H24 -> 0 | I22: =+I24 -> -700000
G23: այդ թվում`
F24: 31005 | G24: Եվրասիական զարգացման բանկի աջակցությամբ իրականացվող ոռոգման համակարգերի զարգացման ծրագրի շրջանակներում ջրային տնտեսության ենթակառուցվածքների հիմնանորոգում | H24: =+H26 -> 0 | I24: =+I26 -> -700000
G25: այդ թվում` ըստ կատարողների
G26: ՀՀ տարածքային կառավարման և ենթակառուցվածքների նախարարության ջրային կոմիտե | H26: =+H28 -> 0 | I26: =+I28 -> -700000
G27: այդ թվում` բյուջետային ծախսերի տնտեսագիտական դասակարգման հոդվածներ
G28: ԸՆԴԱՄԵՆԸ ԾԱԽՍԵՐ | H28: =+H29 -> 0 | I28: =+I29 -> -700000
G29: ՈՉ ՖԻՆԱՆՍԱԿԱՆ ԱԿՏԻՎՆԵՐԻ ԳԾՈՎ ԾԱԽՍԵՐ | H29: =+H30 -> 0 | I29: =+I30 -> -700000
G30: ՀԻՄՆԱԿԱՆ ՄԻՋՈՑՆԵՐ | H30: =+H31 -> 0 | I30: =+I31 -> -700000
G31: ՄԵՔԵՆԱՆԵՐ ԵՎ ՍԱՐՔԱՎՈՐՈՒՄՆԵՐ | H31: =+H32 -> 0 | I31: =+I32 -> -700000
G32: - Այլ մեքենաներ և սարքավորումներ | H32: =+Հ7!E17 -> 0 | I32: =+Հ7!H25 -> -700000
C33: 05 | G33: Տրանսպորտ | H33: =+H35 -> 6472999.7 | I33: =+I35 -> -8040883.6
G34: այդ թվում`
D35: 01 | G35: Ճանապարհային տրանսպորտ | H35: =+H37 -> 6472999.7 | I35: =+I37 -> -8040883.6
G36: այդ թվում`
G37: ՀՀ ՏԱՐԱԾՔԱՅԻՆ ԿԱՌԱՎԱՐՄԱՆ ԵՎ ԵՆԹԱԿԱՌՈՒՑՎԱԾՔՆԵՐԻ ՆԱԽԱՐԱՐՈՒԹՅՈՒՆ | H37: =H39 -> 6472999.7 | I37: =I39 -> -8040883.6
G38: այդ թվում`
E39: 1049 | G39: Ճանապարհային ցանցի բարելավում | H39: =H61+H70+H81+H90+H99+H110+H41+H52+H119 -> 6472999.7 | I39: =I61+I70+I81+I90+I99+I110+I41+I52 -> -8040883.6
G40: այդ թվում`
F41: 21001 | G41: Պետական նշանակության ավտոճանապարհների հիմնանորոգում | H41: =H43 -> 6505983.7 | I41: =I43 -> 8970323.5
G42: այդ թվում` ըստ կատարողների
...

Sheet Հ6
F1: Հավելված N 6
F2: ՀՀ կառավարության 2023 թվականի
F3: ______________ ի ___Ն որոշման
A5: ՀԱՅԱՍՏԱՆԻ ՀԱՆՐԱՊԵՏՈՒԹՅԱՆ ԿԱՌԱՎԱՐՈՒԹՅԱՆ 2022 ԹՎԱԿԱՆԻ ԴԵԿՏԵՄԲԵՐԻ 29-Ի N 2111-Ն ՈՐՈՇՄԱՆ N 5 ՀԱՎԵԼՎԱԾԻ N 2 ԱՂՅՈՒՍԱԿՈՒՄ ԿԱՏԱՐՎՈՂ ՓՈՓՈԽՈՒԹՅՈՒՆՆԵՐԸ ԵՎ ԼՐԱՑՈՒՄՆԵՐԸ
F7: հազար դրամներով
B8: Ծրագրային դասիչը | D8: Հատկացումների տրամադրման նպատակները և բյուջետային գլխավոր կարգադրիչների, ծրագրերի, միջոցառումների և կատարող պետական մարմնի անվանումները | E8: Ցուցանիշների փոփոխությունը (Ավելացումները նշված են դրական նշանով, իսկ նվազեցումները` փակագծերում)
B9: Ծրագիր | C9: Միջոցառում | E9: Ինն ամիս | F9: Տարի
D10: ԸՆԴԱՄԵՆԸ | E10: =+E12 -> 6508343.7 | F10: =+F12 -> 8972683.5
D11: այդ թվում՝
D12: ՀՀ ՏԱՐԱԾՔԱՅԻՆ ԿԱՌԱՎԱՐՄԱՆ ԵՎ ԵՆԹԱԿԱՌՈՒՑՎԱԾՔՆԵՐԻ ՆԱԽԱՐԱՐՈՒԹՅՈՒՆ | E12: =+E14+E80 -> 6508343.7 | F12: =+F14+F80 -> 8972683.5
D13: այդ թվում`
B14: 1049 | C14: 21001 | D14: Պետական նշանակության ավտոճանապարհների հիմնանորոգում | E14: =+E16 -> 6505983.7 | F14: =+F16 -> 8970323.5
D15: այդ թվում` ըստ կատարողների
D16: ՀՀ տարածքային կառավարման և ենթակառուցվածքների նախարարություն | E16: =+E18+E37+E58 -> 6505983.7 | F16: =+F18+F37+F58 -> 8970323.5
D17: այդ թվում՝ ըստ ուղղությունների
C18: 1 | D18: Միջպետական նշանակության ավտոճանապարհներ, այդ թվում | E18: =SUM(E19:E36) -> 3132657.1 | F18: =SUM(F19:F36) -> 4603312.2
D19: Մ-1, Երևան-Գյումրի-Հայաստանի Հանրապետության սահման միջպետական նշանակության ավտոճանապարհի կմ 141+500-կմ143+300 հատվածի հիմնանորոգում | E19: 288275 | F19: 0
D20: Մ-1, Երևան-Գյումրի-Հայաստանի Հանրապետության սահման միջպետական նշանակության ավտոճանապարհի կմ160+200-կմ171+700 հատվածի հիմնանորոգում | E20: 421646.7 | F20: 843293.3
D21: Մ-2, Երևան-Երասխ-Գորիս-Մեղրի-Հայաստանի Հանրապետության սահման կմ53+150 - կմ65+350 հատվածի հիմնանորոգում | E21: 283.4 | F21: 283.4
D22: Մ-2, Երևան-Երասխ-Գորիս-Մեղրի-Հայաստանի Հանրապետության սահման միջպետական նշանակության ավտոճանապարհի կմ131+500 - կմ139+000 հատվածի հիմնանորոգում | E22: 261215 | F22: 0
D23: Մ-2, Երևան-Երասխ-Գորիս-Մեղրի-Հայաստանի Հանրապետության սահման միջպետական նշանակության ավտոճանապարհի կմ142+000 - կմ150+700 հատվածի հիմնանորոգում | E23: 611400.3 | F23: 1019000.4
D24: Մ-2, Երևան-Երասխ-Գորիս-Մեղրի-Հայաստանի Հանրապետության սահման միջպետական նշանակության ավտոճանապարհի կմ297+800-կմ311+250 հատվածի հիմնանորոգման աշխատանքների (1-ին տեղամաս՝ կմ297+800-կմ301+820 հատված) | E24: 60643.9 | F24: 121287.8
D25: Մ-3, Հայաստանի Հանրապետության սահման-Մարգարա-Վանաձոր-Տաշիր-Հայաստանի Հանրապետության սահման միջպետական նշանակության ավտոճանապարհի կմ39+500-կմ45+300 հատվածի հիմնանորոգում | E25: 647389.5 | F25: 1294778.9
D26: Մ-3, Հայաստանի Հանրապետության սահման-Մարգարա-Վանաձոր-Տաշիր-Հայաստանի Հանրապետության սահման միջպետական նշանակության ավտոճանապարհի կմ130+400-կմ135+354 հատվածի հիմնանորոգում | E26: 28412.6 | F26: 28412.6
D27: Մ-4, Երևան-Սևան-Իջևան-Հայաստանի Հանրապետության սահման միջպետական նշանակության ավտոճանապարհի Դիլիջան-Իջևան հատվածում անվտանգության տարրերի բարելավում և սև կետերի շտկում | E27: 2865 | F27: 2865
D28: Մ4, Երևան - Սևան - Իջևան – Հայաստանի Հանրապետության սահման միջպետական նշանակության ավտոճանապարհի կմ144+240-կմ148+200 հատվածի հիմնանորոգում | E28: 158858.7 | F28: 317717.4
D29: Մ-5, Երևան - Արմավիր - Հայաստանի Հանրապետության սահման միջպետական նշանակության ավտոճանապարհի կմ17+530-կմ18+200, կմ25+593 - կմ29+385 և կմ32+675 - կմ33+833 աջակողմյան և ձախակողմյան հատվածների հիմնանորոգում և Մ-5 Երևան-Արմավիր-Հայաստանի Հանրապետության սահման ա/ճ-ի կմ 35+457 - կմ 37+054 հատվածի ջրահեռացման համակարգի վերականգնում | E29: 236854.5 | F29: 473709
D30: Մ-7, /Մ-3/ - Սպիտակ – Գյումրի - Հայաստանի Հանրապետության սահման միջպետական նշանակության ավտոճանապարհի կմ47+100-կմ48+000 հատվածի հիմնանորոգում | E30: 83.7 | F30: 83.7
... D36: Մ-15, /Մ-4/ (Վերին Պտղնի) - Մասիսի տրանսպորտային հանգույց (Երևանի շրջանց) միջպետական նշանակության ավտոճանապարհի կմ19+900-կմ29+400 հատվածի հիմնանորոգում | E36: 58322.3 | F36: 58322.3
C37: 2 | D37: Հանրապետական նշանակության ավտոճանապարհներ, այդ թվում | E37: =SUM(E38:E57) -> 2324560.4 | F37: =SUM(F38:F57) -> 2737005.2
D38: Հ-1, Վ. Պտղնու տրանսպորտային հանգույց - Ջրաբեր-Հրազդան -Հրազդանի քրեակատարողական հիմնարկ հանրապետական նշանակության ավտոճանապարհի կմ33+500 - կմ37+700 հատվածի հիմնանորոգում | E38: 208566.2 | F38: 834264.7
D39: Հ-1, Վ. Պտղնու տրանսպորտային հանգույց - Ջրաբեր-Հրազդան -Հրազդանի քրեակատարողական հիմնարկ հանրապետական նշանակության ավտոճանապարհի կմ21+700 - կմ24+000 հատվածի հիմնանորոգում | E39: 98839.7 | F39: 197679.4
D40: Հ-3, Երևան (Ջրաշխարհ, Մ-4-ի հետ հատման տեղ)-Գառնի –Գեղարդի վանք հանրապետական նշանակության ավտոճանապարհի կմ10+770-կմ27+500 հատվածի (բացառությամբ սողանքային տեղամասերի) հիմնանորոգում | E40: 3530 | F40: 3530
D41: Հ-4, Երևան - եղվարդ - Արագյուղ - Հարթավան - /Մ-3/ հանրապետական նշանակության ավտոճանապարհի կմ33+500 - կմ34+800 հատվածի (Երնջատափ գյուղը շրջանցող հատված) հիմնանորոգում | E41: 0 | F41: 165347.8
D42: Հ-10. /Հ-8/ (Ոսկետափ) - Վեդի - Լանջառ - /Մ-2/ հանրապետական նշանակության ավտոճանապարհի կմ5+450 - կմ9+250 հատվածի հիմնանորոգում | E42: 2700 | F42: 2700
D43: Հ-15, /Մ-5/(Նորապատ) -Արգավանդ –/Մ-3/ (Վարդանաշեն) հանրապետական նշանակության ավտոճանապարհի կմ3+000 - կմ13+000 հատվածի հիմնանորոգում | E43: 2416.9 | F43: 2416.9
D44: Հ-15, /Մ-5/(Նորապատ) -Արգավանդ –/Մ-3/ (Վարդանաշեն) հանրապետական նշանակության ավտոճանապարհի կմ13+000 - կմ20+000 հատվածի հիմնանորոգում | E44: 1743.1 | F44: 1743.1
D45: Հ-16, /Մ-5/ - Մեծամոր – ՀԱԷԿ - /Մ-5/ հանրապետական նշանակության ավտոճանապարհի կմ0+000 - կմ10+700 հատվածի հիմնանորոգում | E45: 8350 | F45: 8350
D46: Հ-21, /Հ-75/ - Հոռոմ-Արթիկ-Ալագյազ հանրապետական նշանակության ավտոճանապարհի կմ29+600 - կմ32+700 հատվածի հիմնանորոգում | E46: 224.8 | F46: 224.8
D47: Հ-21, /Հ-75/ - Հոռոմ-Արթիկ-Ալագյազ հանրապետական նշանակության ավտոճանապարհի կմ32+700 - կմ41+000 հատվածի հիմնանորոգում | E47: 468 | F47: 468
...

Sheet Հ7
J1: Հավելված N7
J2: ՀՀ կառավարության 2022 թվականի
J3: ______________ ի ___Ն որոշման
B5: «ՀԱՅԱUՏԱՆԻ ՀԱՆՐԱՊԵՏՈՒԹՅԱՆ 2023 ԹՎԱԿԱՆԻ ՊԵՏԱԿԱՆ ԲՅՈՒՋԵԻ ՄԱUԻՆ» OՐԵՆՔԻ N 1 ՀԱՎԵԼՎԱԾԻ N 4 ԱՂՅՈՒՍԱԿՈՒՄ ԵՎ ՀԱՅԱՍՏԱՆԻ ՀԱՆՐԱՊԵՏՈՒԹՅԱՆ ԿԱՌԱՎԱՐՈՒԹՅԱՆ 2022 ԹՎԱԿԱՆԻ ԴԵԿՏԵՄԲԵՐԻ 29-Ի N 2111-Ն ՈՐՈՇՄԱՆ N 5 ՀԱՎԵԼՎԱԾԻ N 3 ԱՂՅՈՒՍԱԿՈՒՄ ԿԱՏԱՐՎՈՂ ՓՈՓՈԽՈՒԹՅՈՒՆՆԵՐԸ
J6: հազ. դրամ
B7: Ծրագրային դասիչը | D7: Բյուջետային գլխավոր կարգադրիչների, ծրագրերի և միջոցառումների անվանումները | E7: Ցուցանիշների փոփոխությունը (Ավելացումները նշված են դրական նշանով, իսկ նվազեցումները` փակագծերում)
E8: Ինն ամիս | H8: Տարի
E9: Ընդամենը | F9: այդ թվում` | H9: Ընդամենը | I9: այդ թվում`
B10: Ծրագիր | C10: Միջոց առում | F10: Վարկային միջոցներ | G10: Համաֆինան սավորում | I10: Վարկային միջոցներ | J10: Համաֆինան սավորում
D11: ԸՆԴԱՄԵՆԸ_x000D_ այդ թվում` | E11: =F11+G11 -> -1610689.2 | F11: =F12+F13 -> -1576345.2 | G11: =G12+G13 -> -34344 | H11: =I11+J11 -> -19698912 | I11: =I12+I13 -> -17828505 | J11: =J12+J13 -> -1870407.5
D12: - ԸՆԹԱՑԻԿ ԾԱԽՍԵՐ | E12: =F12+G12 -> -100000 | F12: =F115 -> 0 | G12: =G115 -> -100000 | H12: 0 | I12: 0 | J12: 0
D13: - ՈՉ ՖԻՆԱՆՍԱԿԱՆ ԱԿՏԻՎՆԵՐԻ ԳԾՈՎ ԾԱԽՍԵՐ | E13: =F13+G13 -> -1510689.2 | F13: =F52+F61+F72+F81+F90+F101+F15+F28+F41 -> -1576345.2 | G13: =G52+G61+G72+G81+G90+G101+G15+G28+G41 -> 65656 | H13: =H52+H61+H72+H81+H90+H101 -> -17013567 | I13: =I52+I61+I72+I81+I90+I101+I15+I28+I41 -> -17828505 | J13: =J52+J61+J72+J81+J90+J101+J15+J28+J41 -> -1870407.5
D14: ՀՀ ՏԱՐԱԾՔԱՅԻՆ ԿԱՌԱՎԱՐՄԱՆ ԵՎ ԵՆԹԱԿԱՌՈՒՑՎԱԾՔՆԵՐԻ ՆԱԽԱՐԱՐՈՒԹՅՈՒՆ_x000D_ այդ թվում` | E14: =F14+G14 -> -1610689.2 | F14: =F15+F26+F50 -> -1576345.2 | G14: =G15+G26+G50 -> -34344 | H14: =I14+J14 -> -19698912 | I14: =I15+I26+I50 -> -17828505 | J14: =J15+J26+J50 -> -1870407.5
B15: 1004 | D15: Ոռոգման համակարգի առողջացում | E15: =+E17 -> 0 | F15: =+F17 -> 0 | G15: =+G17 -> 0 | H15: =+I15+J15 -> -700000 | I15: =+I17 -> -700000 | J15: =+J17 -> 0
D16: այդ թվում`
C17: 31005 | D17: Եվրասիական զարգացման բանկի աջակցությամբ իրականացվող ոռոգման համակարգերի զարգացման ծրագրի շրջանակներում ջրային տնտեսության ենթակառուցվածքների հիմնանորոգում | E17: =+F17+G17 -> 0 | F17: =+F19 -> 0 | G17: =+G19 -> 0 | H17: =+I17+J17 -> -700000 | I17: =+I19 -> -700000 | J17: =+J19 -> 0
D18: այդ թվում` ըստ կատարողների
D19: ՀՀ տարածքային կառավարման և ենթակառուցվածքների նախարարության ջրային կոմիտե | E19: =+E21 -> 0 | F19: =+F21 -> 0 | G19: =+G21 -> 0 | H19: =+I19+J19 -> -700000 | I19: =+I21 -> -700000 | J19: =+J21 -> 0
D20: այդ թվում` բյուջետային ծախսերի տնտեսագիտական դասակարգման հոդվածներ
D21: ԸՆԴԱՄԵՆԸ ԾԱԽՍԵՐ | E21: =+F21+G21 -> 0 | F21: =+F22 -> 0 | G21: =+G22 -> 0 | H21: =+I21+J21 -> -700000 | I21: =+I22 -> -700000 | J21: =+J22 -> 0
D22: ՈՉ ՖԻՆԱՆՍԱԿԱՆ ԱԿՏԻՎՆԵՐԻ ԳԾՈՎ ԾԱԽՍԵՐ | E22: =+F22+G22 -> 0 | F22: =+F23 -> 0 | G22: =+G23 -> 0 | H22: =+I22+J22 -> -700000 | I22: =+I23 -> -700000 | J22: =+J23 -> 0
D23: ՀԻՄՆԱԿԱՆ ՄԻՋՈՑՆԵՐ | E23: =+F23+G23 -> 0 | F23: =+F24 -> 0 | G23: =+G24 -> 0 | H23: =+I23+J23 -> -700000 | I23: =+I24 -> -700000 | J23: =+J24 -> 0
D24: ՄԵՔԵՆԱՆԵՐ ԵՎ ՍԱՐՔԱՎՈՐՈՒՄՆԵՐ | E24: =+F24+G24 -> 0 | F24: =+F25 -> 0 | G24: 0 | H24: =+I24+J24 -> -700000 | I24: =+I25 -> -700000 | J24: 0
D25: - Այլ մեքենաներ և սարքավորումներ | E25: =+F25+G25 -> 0 | F25: 0 | G25: 0 | H25: =+I25+J25 -> -700000 | I25: -700000 | J25: 0
B26: 1019 | D26: Սոցիալական ներդրումների և տեղական զարգացման ծրագիր | E26: =+E28+E41 -> -1575345.2 | F26: =+F28+F41 -> -1575345.2 | G26: =+G28+G41 -> 0 | H26: =+H28+H41 -> -1985345.2 | I26: =+I28+I41 -> -1985345.2 | J26: =+J28+J41 -> 0
D27: այդ թվում`
C28: 12001 | D28: Համաշխարհային բանկի աջակցությամբ իրականացվող Տարածքային զարգացման հիմնադրամի ծրագրի շրջանակներում ՀՀ տարածքներում ջրագծերի, առողջապահության, կրթության, մշակույթի, հատուկ խնամքի և ենթակառուցվածքների ոլորտի վերականգնման և շինարարության աշխատանքներ | E28: =+F28+G28 -> -135345.2 | F28: =+F30 -> -135345.2 | G28: =+G30 -> 0 | H28: =+I28+J28 -> -135345.2 | I28: =+I30 -> -135345.2 | J28: =+J30 -> 0
D29: այդ թվում` ըստ կատարողների
D30: ՀՀ տարածքային կառավարման և ենթակառուցվածքների նախարարություն | E30: =+F30+G30 -> -135345.2 | F30: =+F32 -> -135345.2 | G30: =+G32 -> 0 | H30: =+I30+J30 -> -135345.2 | I30: =+I32 -> -135345.2 | J30: =+J32 -> 0
D31: այդ թվում` բյուջետային ծախսերի տնտեսագիտական դասակարգման հոդվածներ
D32: ԸՆԴԱՄԵՆԸ ԾԱԽՍԵՐ | E32: =+F32+G32 -> -135345.2 | F32: =+F33 -> -135345.2 | G32: =+G33 -> 0 | H32: =+I32+J32 -> -135345.2 | I32: =+I33 -> -135345.2 | J32: =+J33 -> 0
D33: ՈՉ ՖԻՆԱՆՍԱԿԱՆ ԱԿՏԻՎՆԵՐԻ ԳԾՈՎ ԾԱԽՍԵՐ | E33: =+F33+G33 -> -135345.2 | F33: =+F34 -> -135345.2 | G33: =+G34 -> 0 | H33: =+I33+J33 -> -135345.2 | I33: =+I34 -> -135345.2 | J33: =+J34 -> 0
D34: ՀԻՄՆԱԿԱՆ ՄԻՋՈՑՆԵՐ | E34: =+F34+G34 -> -135345.2 | F34: =+F35+F37+F39 -> -135345.2 | G34: =+G35+G37+G39 -> 0 | H34: =+I34+J34 -> -135345.2 | I34: =+I35+I37+I39 -> -135345.2 | J34: =+J35+J37+J39 -> 0
D35: ՇԵՆՔԵՐ ԵՎ ՇԻՆՈՒԹՅՈՒՆՆԵՐ | E35: =+F35+G35 -> -4264 | F35: =+F36 -> -4264 | G35: =+G36 -> 0 | H35: =+I35+J35 -> -4264 | I35: =+I36 -> -4264 | J35: =+J36 -> 0
D36: - Շենքերի և շինությունների շինարարություն | E36: =+F36+G36 -> -4264 | F36: -4264 | G36: 0 | H36: =+I36+J36 -> -4264 | I36: -4264 | J36: 0
D37: ՄԵՔԵՆԱՆԵՐ ԵՎ ՍԱՐՔԱՎՈՐՈՒՄՆԵՐ | E37: =+F37+G37 -> -129940 | F37: =+F38 -> -129940 | G37: =+G38 -> 0 | H37: =+I37+J37 -> -129940 | I37: =+I38 -> -129940 | J37: =+J38 -> 0
D38: - Վարչական սարքավորումներ | E38: =+F38+G38 -> -129940 | F38: -129940 | G38: 0 | H38: =+I38+J38 -> -129940 | I38: -129940 | J38: 0
D39: ԱՅԼ ՀԻՄՆԱԿԱՆ ՄԻՋՈՑՆԵՐ | E39: =+F39+G39 -> -1141.2 | F39: =+F40 -> -1141.2 | G39: =+G40 -> 0 | H39: =+I39+J39 -> -1141.2 | I39: =+I40 -> -1141.2 | J39: =+J40 -> 0
D40: - Նախագծահետազոտական ծախսեր | E40: =+F40+G40 -> -1141.2 | F40: -1141.2 | G40: 0 | H40: =+I40+J40 -> -1141.2 | I40: -1141.2 | J40: 0
C41: 12004 | D41: Համաշխարհային բանկի աջակցությամբ իրականացվող Սոցիալական ներդրումների և տեղական զարգացման ծրագրի լրացուցիչ ֆինանսավորման վարկի շրջանակներում ՀՀ համայնքային և միջհամայնքային ենթակառուցվածքների որակի, օգտագործման և հասանելիության բարելավում: | E41: =+F41+G41 -> -1440000 | F41: =+F43 -> -1440000 | G41: =+G43 -> 0 | H41: =+I41+J41 -> -1850000 | I41: =+I43 -> -1850000 | J41: =+J43 -> 0
...

Sheet Հ8
D1: Հավելված N 8
C2: ՀՀ կառավարության 2023 թվականի
C3: ______________ ի ___Ն որոշման
B7: ՀԱՅԱՍՏԱՆԻ ՀԱՆՐԱՊԵՏՈՒԹՅԱՆ ԿԱՌԱՎԱՐՈՒԹՅԱՆ 2022 ԹՎԱԿԱՆԻ ԴԵԿՏԵՄԲԵՐԻ 29-Ի N 2111-Ն ՈՐՈՇՄԱՆ N 9 ՀԱՎԵԼՎԱԾԻ N 9.7, 9․47 ԵՎ N 9.1 ՀԱՎԵԼՎԱԾԻ N 9.1.8, 9.1.25, 9․1․58 ԱՂՅՈՒՍԱԿՆԵՐՈՒՄ ԿԱՏԱՐՎՈՂ ԼՐԱՑՈՒՄՆԵՐԸ ԵՎ ՓՈՓՈԽՈՒԹՅՈՒՆՆԵՐԸ
D8: Աղյուսակներ 9.7 և 9.1.8
B9: ՀՀ տարածքային կառավարման և ենթակառուցվածքների նախարարություն
B10: ՄԱՍ 1 ԵՎ 2. ՊԵՏԱԿԱՆ ՄԱՐՄՆԻ ԳԾՈՎ ԱՐԴՅՈՒՆՔԱՅԻՆ (ԿԱՏԱՐՈՂԱԿԱՆ) ՑՈՒՑԱՆԻՇՆԵՐԸ
B12: Ծրագրի դասիչը | C12: Ծրագրի անվանումը
B13: 1019 | C13: Սոցիալական ներդրումների և տեղական զարգացման ծրագիր
B15: Ծրագրի միջոցառումները
B17: Ծրագրի դասիչը` | C17: 1019 | D17: Ցուցանիշների փոփոխությունը (նվազեցումները նշված են փակագծերում)
B18: Միջոցառման դասիչը` | C18: 12001 | D18: Ինն ամիս | E18: Տարի
B19: Միջոցառման անվանումը` | C19: Համաշխարհային բանկի աջակցությամբ իրականացվող Տարածքային զարգացման հիմնադրամի ծրագրի շրջանակներում ՀՀ տարածքներում ջրագծերի, առողջապահության, կրթության, մշակույթի, հատուկ խնամքի և ենթակառուցվածքների ոլորտի վերականգնման և շինարարության աշխատանքներ
B20: Նկարագրությունը` | C20: Տարածքային զարգացման հիմնադրամի ծրագրով նախատեսված ՀՀ տարածքներում ջրագծերի, առողջապահության, կրթության օբյեկտների, մշակույթային տների, ծերանոցների, մանկատների, հատուկ դպրոցների, մանկապարտեզների և կոյուղու օբյեկտների հիմնանորոգում և շինարարություն
B21: Միջոցառման տեսակը` | C21: Տրանսֆերտների տրամադրում
B22: Շահառուների ընտրության չափանիշները | C22: Համաձայն ՏԶՀ Ղեկավար ձեռնարկի, որը ֆինանսավորման համաձայնագրի մաս է կազմում
B23: Արդյունքի չափորոշիչներ
B24: Միջոցառման վրա կատարվող ծախսը (հազար դրամ) | D24: =Հ5!H136 -> -135345.2 | E24: =Հ5!I136 -> -135345.2
B26: Ծրագրի դասիչը` | C26: 1019 | D26: Ցուցանիշների փոփոխությունը (նվազեցումները նշված են փակագծերում)
B27: Միջոցառման դասիչը` | C27: 12004 | D27: Ինն ամիս | E27: Տարի
B28: Միջոցառման անվանումը` | C28: Համաշխարհային բանկի աջակցությամբ իրականացվող Սոցիալական ներդրումների և տեղական զարգացման ծրագրի լրացուցիչ ֆինանսավորման վարկի շրջանակներում ՀՀ համայնքային և միջհամայնքային ենթակառուցվածքների որակի, օգտագործման և հասանելիության բարելավում:
B29: Նկարագրությունը` | C29: Ջրագծերի, առողջապահության, կրթության օբյեկտների, մշակույթային տների, ծերանոցների, մանկատների, հատուկ դպրոցների, մանկապարտզների և կոյուղու օբյեկտնրի հիմն. և շինարարություն., գույքի և սարքավորումների տրամադրում շահառու ենթածրագրերի համար:
B30: Միջոցառման տեսակը` | C30: Տրանսֆերտների տրամադրում
B31: Շահառուների ընտրության չափանիշները | C31: Համաձայն ՏԶՀ Ղեկավար ձեռնարկի, որը ֆինանսավորման համաձայնագրի մաս է կազմում
B32: Արդյունքի չափորոշիչներ
B33: Միջոցառման վրա կատարվող ծախսը (հազար դրամ) | D33: =Հ5!H149 -> -1440000 | E33: =Հ5!I149 -> -1850000
B35: Ծրագրի դասիչը | C35: Ծրագրի անվանումը
B36: 1004 | C36: Ոռոգման համակարգի առողջացում
B38: Ծրագրի միջոցառումները
B40: Ծրագրի դասիչը` | C40: 1004 | D40: Ցուցանիշների փոփոխությունը (նվազեցումները նշված են փակագծերում)
B41: Միջոցառման դասիչը` | C41: 31005 | D41: Ինն ամիս | E41: Տարի
B42: Միջոցառման անվանումը` | C42: Եվրասիական զարգացման բանկի աջակցությամբ իրականացվող ոռոգման համակարգերի զարգացման ծրագրի շրջանակներում ջրային տնտեսության ենթակառուցվածքների հիմնանորոգում
B43: Նկարագրությունը` | C43: Եվրասիական զարգացման բանկի աջակցությամբ իրականացվող ոռոգման համակարգերի զարգացման ծրագիր
B44: Միջոցառման տեսակը` | C44: Պետական մարմինների կողմից օգտագործվող ոչ ֆինանսական ակտիվների հետ գործառնություններ
B45: Ակտիվն օգտագործող կազմակերպության(ների) անվանում(ները)՛ | C45: Մասնագիտացված միավոր
B46: Արդյունքի չափորոշիչներ
B47: Միջոցառման վրա կատարվող ծախսը (հազար դրամ) | D47: =Հ5!H24 -> 0 | E47: =Հ5!I24 -> -700000
B49: Ծրագրի դասիչը | C49: Ծրագրի անվանումը
B50: 1049 | C50: Ճանապարհային ցանցի բարելավում
B52: Ծրագրի միջոցառումները
...

Sheet Հ9
H1: Հավելված N 9
H2: ՀՀ կառավարության 2023 թվականի
H3: ______________ ի ___Ն որոշման
B5: ՀԱՅԱՍՏԱՆԻ ՀԱՆՐԱՊԵՏՈՒԹՅԱՆ ԿԱՌԱՎԱՐՈՒԹՅԱՆ 2022 ԹՎԱԿԱՆԻ ԴԵԿՏԵՄԲԵՐԻ 29-Ի N 2111-Ն ՈՐՈՇՄԱՆ N 10 ՀԱՎԵԼՎԱԾՈՒՄ ԿԱՏԱՐՎՈՂ ԼՐԱՑՈՒՄՆԵՐԸ
B6: Կոդը | C6: Անվանումը | D6: Գնման ձևը | E6: Չափման միավորը | F6: Միավորի գինը | G6: Ցուցանիշների փոփոխությունը (ավելացումները նշված են դրական նշանով)
G7: Քանակը | H7: Գումարը (հազար դրամով)
B8: ՀՀ տարածքային կառավարման և ենթակառուցվածքների նախարարություն | H8: =+H9 -> 8859261.6
B9: Բաժին N 04 | C9: Խումբ N 05 | D9: Դաս N 01 | E9: Ճանապարհային տրանսպորտ | H9: =+H10+H112 -> 8859261.6
B10: 1049 21001 | C10: Պետական նշանակության ավտոճանապարհների հիմնանորոգում | H10: =+H11+H38 -> 8856901.6
B11: ՄԱՍ II. ԱՇԽԱՏԱՆՔՆԵՐ | H11: =H12+H13+H14+H15+H16+H17+H18+H19+H20+H21+H22+H23+H24+H25+H26+H27+H28+H29+H30+H31+H32+H33+H34+H35+H36+H37 -> 8673321.7
B12: 45231177/626 | C12: ճանապարհների վերանորոգման աշխատանքներ | D12: ԲՄ | E12: դրամ | F12: 836440988 | G12: 1 | H12: =+G12*F12/1000 -> 836440.99
B13: 45231177/629 | C13: ճանապարհների վերանորոգման աշխատանքներ | D13: ԲՄ | E13: դրամ | F13: 1008659961 | G13: 1 | H13: =+G13*F13/1000 -> 1008660
B14: 45231177/515 | C14: ճանապարհների վերանորոգման աշխատանքներ | D14: ՀԲՄ | E14: դրամ | F14: 119998633 | G14: 1 | H14: =+G14*F14/1000 -> 119998.63
B15: 45231177/558 | C15: ճանապարհների վերանորոգման աշխատանքներ | D15: ՀԲՄ | E15: դրամ | F15: 1280220000 | G15: 1 | H15: =+G15*F15/1000 -> 1280220
B16: 45231177/526 | C16: ճանապարհների վերանորոգման աշխատանքներ | D16: ԲՄ | E16: դրամ | F16: 312600000 | G16: 1 | H16: =+G16*F16/1000 -> 312600
B17: 45231177/574 | C17: ճանապարհների վերանորոգման աշխատանքներ | D17: ՀԲՄ | E17: դրամ | F17: 467221936 | G17: 1 | H17: =+G17*F17/1000 -> 467221.94
B18: 45231177/101 | C18: ճանապարհների վերանորոգման աշխատանքներ | D18: ՀԲՄ | E18: դրամ | H18: =-3046197/1000 -> -3046.197
B19: 45231177/501 | C19: ճանապարհների վերանորոգման աշխատանքներ | D19: ՀԲՄ | E19: դրամ | F19: 429507509 | G19: 1 | H19: =+G19*F19/1000 -> 429507.51
B20: 45231177/502 | C20: ճանապարհների վերանորոգման աշխատանքներ | D20: ՀԲՄ | E20: դրամ | F20: 57456000 | G20: 1 | H20: =+G20*F20/1000 -> 57456
B21: 45231177/504 | C21: ճանապարհների վերանորոգման աշխատանքներ | D21: ՀԲՄ | E21: դրամ | F21: 825030159 | G21: 1 | H21: =+G21*F21/1000 -> 825030.16
B22: 45231177/519 | C22: ճանապարհների վերանորոգման աշխատանքներ | D22: ԲՄ | E22: դրամ | F22: 193971872 | G22: 1 | H22: =+G22*F22/1000 -> 193971.87
B23: 45231177/505 | C23: ճանապարհների վերանորոգման աշխատանքներ | D23: ՀԲՄ | E23: դրամ | F23: 163445070 | G23: 1 | H23: =+G23*F23/1000 -> 163445.07
B24: 45231177/63 | C24: ճանապարհների վերանորոգման աշխատանքներ | D24: ՀԲՄ | E24: դրամ | H24: =-968887/1000 -> -968.887
B25: 45231177/545 | C25: ճանապարհների վերանորոգման աշխատանքներ | D25: ՀԲՄ | E25: դրամ | F25: 788132660 | G25: 1 | H25: =+G25*F25/1000 -> 788132.66
B26: 45231177/523 | C26: ճանապարհների վերանորոգման աշխատանքներ | D26: ԲՄ | E26: դրամ | F26: 590611431 | G26: 1 | H26: =+G26*F26/1000 -> 590611.43
B27: 45231177/506 | C27: ճանապարհների վերանորոգման աշխատանքներ | D27: ՀԲՄ | E27: դրամ | F27: 51168000 | G27: 1 | H27: =+G27*F27/1000 -> 51168
B28: 45231177/555 | C28: ճանապարհների վերանորոգման աշխատանքներ | D28: ՀԲՄ | E28: դրամ | F28: 537864000 | G28: 1 | H28: =+G28*F28/1000 -> 537864
B29: 45231177/509 | C29: ճանապարհների վերանորոգման աշխատանքներ | D29: ՀԲՄ | E29: դրամ | F29: 154343939 | G29: 1 | H29: =+G29*F29/1000 -> 154343.94
B30: 45231177/556 | C30: ճանապարհների վերանորոգման աշխատանքներ | D30: ՀԲՄ | E30: դրամ | F30: 284337600 | G30: 1 | H30: =+G30*F30/1000 -> 284337.6
B31: 45231177 | C31: ճանապարհների վերանորոգման աշխատանքներ | D31: ՀԲՄ | E31: դրամ | F31: 42711270 | G31: 1 | H31: =+G31*F31/1000 -> 42711.27
B32: 45231177/524 | C32: ճանապարհների վերանորոգման աշխատանքներ | D32: ԲՄ | E32: դրամ | F32: 428483640 | G32: 1 | H32: =+G32*F32/1000 -> 428483.64
B33: 45231177 | C33: ճանապարհների վերանորոգման աշխատանքներ | D33: ՀԲՄ | E33: դրամ | F33: 24524370 | G33: 1 | H33: =+G33*F33/1000 -> 24524.37
B34: 45231177 | C34: ճանապարհների վերանորոգման աշխատանքներ | D34: ԲՄ | E34: դրամ | F34: 16000000 | G34: 1 | H34: =+G34*F34/1000 -> 16000
B35: 45231177/525 | C35: ճանապարհների վերանորոգման աշխատանքներ | D35: ԲՄ | E35: դրամ | F35: 243156000 | G35: 1 | H35: =+G35*F35/1000 -> 243156
B36: 45231177/18 | C36: ճանապարհների վերանորոգման աշխատանքներ | D36: ՀԲՄ | E36: դրամ | H36: =-65010740/1000 -> -65010.74
B37: 45231177/30 | C37: ճանապարհների վերանորոգման աշխատանքներ | D37: ՀԲՄ | E37: դրամ | H37: =-113537514/1000 -> -113537.51
B38: ՄԱՍ III. ԾԱՌԱՅՈՒԹՅՈՒՆՆԵՐ | H38: =SUM(H39:H111) -> 183579.88
B39: 71351540/501 | C39: տեխնիկական հսկողության ծառայություններ | D39: ՀԲՄ | E39: դրամ | F39: 1976087 | G39: 1 | H39: =+G39*F39/1000 -> 1976.087
B40: 71351540/504 | C40: տեխնիկական հսկողության ծառայություններ | D40: ՀԲՄ | E40: դրամ | F40: 3776737 | G40: 1 | H40: =+G40*F40/1000 -> 3776.737
B41: 71351540/518 | C41: տեխնիկական հսկողության ծառայություններ | D41: ՀԲՄ | E41: դրամ | F41: 589435 | G41: 1 | H41: =+G41*F41/1000 -> 589.435
...

Sheet Պահուստ
I1: Հավելված N 10
I2: ՀՀ կառավարության 2023 թվականի
I3: ______________ ի ___Ն որոշման
D5: ՀԱՅԱՍՏԱՆԻ ՀԱՆՐԱՊԵՏՈՒԹՅԱՆ ԿԱՌԱՎԱՐՈՒԹՅԱՆ ՊԱՀՈՒՍՏԱՅԻՆ ՖՈՆԴԻՑ ՀԱՏԿԱՑՎՈՂ ԳՈՒՄԱՐԻ ՄԱՍԻՆ
H6: հազար դրամ
A7: Գործառական դասիչը | D7: Ծրագրային դասիչը | F7: Բյուջետային հատկացումների գլխավոր կարգադրիչների, ծրագրերի, միջոցառումների և միջոցառումները կատարող պետական մարմինների անվանումները | G7: Ցուցանիշների փոփոխությունը (ավելացումները նշված են դրական նշանով, իսկ նվազեցումները` փակագծերում)
A8: բաժինը | B8: խումբը | C8: դասը | D8: ծրագիրը | E8: միջոցառումը | G8: Առաջին կիսամյակ | H8: Ինն ամիս | I8: Տարի
F10: ԸՆԴԱՄԵՆԸ՝ ԾԱԽՍԵՐ | H10: =H12+H32 -> 0 | I10: =I12+I32 -> 0
F11: =F13 -> այդ թվում`
F12: =F25 -> ՀՀ տարածքային կառավարման և ենթակառուցվածքների նախարարություն | H12: =H14 -> 6473999.7 | I12: =I14 -> 7102276
F13: այդ թվում`
A14: 04 | F14: =Հ5!G14 -> ՏՆՏԵՍԱԿԱՆ ՀԱՐԱԲԵՐՈՒԹՅՈՒՆՆԵՐ | H14: =H16 -> 6473999.7 | I14: =I16 -> 7102276
F15: այդ թվում`
B16: 05 | F16: =Հ5!G33 -> Տրանսպորտ | H16: =H18 -> 6473999.7 | I16: =I18 -> 7102276
F17: այդ թվում`
C18: 01 | F18: =Հ5!G35 -> Ճանապարհային տրանսպորտ | H18: =H21 -> 6473999.7 | I18: =I21 -> 7102276
F19: այդ թվում`
F20: ՀՀ տարածքային կառավարման և ենթակառուցվածքների նախարարություն | H20: =H21 -> 6473999.7 | I20: =I21 -> 7102276
D21: 1049 | F21: =Հ5!G39 -> Ճանապարհային ցանցի բարելավում | H21: =H23 -> 6473999.7 | I21: =I23 -> 7102276
F22: այդ թվում`
E23: 21001 | F23: Պետական նշանակության ավտոճանապարհների հիմնանորոգում | H23: =H25 -> 6473999.7 | I23: =I25 -> 7102276
F24: այդ թվում` ըստ կատարողների
F25: ՀՀ տարածքային կառավարման և ենթակառուցվածքների նախարարություն | H25: =H27 -> 6473999.7 | I25: =I27 -> 7102276
F26: այդ թվում`բյուջետային ծախսերի տնտեսագիտական դասակարգման հոդվածներ
F27: ԸՆԴԱՄԵՆԸ ԾԱԽՍԵՐ | H27: =H28 -> 6473999.7 | I27: =I28 -> 7102276
F28: ՈՉ ՖԻՆԱՆՍԱԿԱՆ ԱԿՏԻՎՆԵՐԻ ԳԾՈՎ ԾԱԽՍԵՐ | H28: =H29 -> 6473999.7 | I28: =I29 -> 7102276
F29: ՀԻՄՆԱԿԱՆ ՄԻՋՈՑՆԵՐ | H29: =H30 -> 6473999.7 | I29: =I30 -> 7102276
F30: ՇԵՆՔԵՐ ԵՎ ՇԻՆՈՒԹՅՈՒՆՆԵՐ | H30: =H31 -> 6473999.7 | I30: =I31 -> 7102276
F31: - Շենքերի և շինությունների կապիտալ վերանորոգում | H31: =-H32 -> 6473999.7 | I31: =-I32 -> 7102276
F32: ՀՀ կառավարություն | H32: =H33 -> -6473999.7 | I32: =I33 -> -7102276
A33: 11 | F33: ՀԻՄՆԱԿԱՆ ԲԱԺԻՆՆԵՐԻՆ ՉԴԱՍՎՈՂ ՊԱՀՈՒՍՏԱՅԻՆ ՖՈՆԴԵՐ | H33: =H35 -> -6473999.7 | I33: =I35 -> -7102276
F34: այդ թվում`
B35: 01 | F35: ՀՀ կառավարության և համայնքների պահուստային ֆոնդ | H35: =H37 -> -6473999.7 | I35: =I37 -> -7102276
F36: այդ թվում`
C37: 01 | F37: ՀՀ կառավարության պահուստային ֆոնդ | H37: =H41 -> -6473999.7 | I37: =I39 -> -7102276
F38: այդ թվում`
D39: 1139 | F39: ՀՀ կառավարության պահուստային ֆոնդ | H39: =H41 -> -6473999.7 | I39: =I41 -> -7102276
F40: =F38 -> այդ թվում`
E41: 11001 | F41: ՀՀ կառավարության պահուստային ֆոնդ | H41: =+H43 -> -6473999.7 | I41: =+I43 -> -7102276
F42: այդ թվում` ըստ կատարողների
...
