Workbook
Name AgencyCode: #REF!
Name AgencyCode: #REF!
Name AgencyCode: #REF!
Name AgencyCode: #REF!
Name AgencyCode: #REF!
Name AgencyName: #REF!
Name AgencyName: #REF!
Name AgencyName: #REF!
Name AgencyName: #REF!
Name åû: #REF!
Name åû: #REF!
Name davit: #REF!
Name davit: #REF!
Name Functional1: #REF!
Name Functional1: #REF!
Name Functional1: #REF!
Name Functional1: #REF!
Name ggg: #REF!
Name ggg: #REF!
Name mas: #REF!
Name mas: #REF!
Name mass: #REF!
Name mass: #REF!
Name PANature: #REF!
Name PANature: #REF!
Name PANature: #REF!
Name PANature: #REF!
Name PAType: #REF!
Name PAType: #REF!
Name PAType: #REF!
Name PAType: #REF!
Name Performance2: #REF!
Name Performance2: #REF!
Name Performance2: #REF!
Name Performance2: #REF!
Name PerformanceType: #REF!
Name PerformanceType: #REF!
Name PerformanceType: #REF!
Name PerformanceType: #REF!
Name x: #REF!
Name x: #REF!
Name Հավելված: #REF!
Name Հավելված: #REF!
Name Հավելված: #REF!
Name Մաս: #REF!
Name Մաս: #REF!
Name Մաս: #REF!
Name շախմատիստ: #REF!
Name շախմատիստ: #REF!
Name շախմատիստ: #REF!

Sheet 1
H1: Հավելված N 1
H2: ՀՀ կառավարության 2023 թվականի
H3: ______________ ի ___Ն որոշման
A4: «ՀԱՅԱՍՏԱՆԻ ՀԱՆՐԱՊԵՏՈՒԹՅԱՆ 2023 ԹՎԱԿԱՆԻ ՊԵՏԱԿԱՆ ԲՅՈՒՋԵԻ ՄԱՍԻՆ» ՕՐԵՆՔԻ N 1 ՀԱՎԵԼՎԱԾԻ N 3 ԱՂՅՈՒՍԱԿՈՒՄ ԿԱՏԱՐՎՈՂ ՓՈՓՈԽՈՒԹՅՈՒՆՆԵՐԸ ԵՎ ԼՐԱՑՈՒՄՆԵՐԸ
G5: հազ. դրամ
A6: Ծրագրային դասիչ | C6: Բյուջետային գլխավոր կարգադրիչների, ծրագրերի, միջոցառումների և ուղղությունների անվանումները | D6: Ցուցանիշների փոփոխությունը (Ավելացումները նշված են դրական նշանով, իսկ նվազեցումները` փակագծերում)
D7: Ընդամենը, | E7: այդ թվում՝
A8: Ծրագիր | B8: Միջոցառում | E8: Կառուցման աշխատանքներ | F8: Վերակառուցման, վերանորոգման և վերականգնման աշխատանքներ | G8: Նախագծահե- տազոտական, գեոդեզիա- քարտեզագրա- կան աշխա- տանքներ | H8: Ոչ ֆինանսական այլ ակտիվների ձեռքբերում
C9: ԸՆԴԱՄԵՆԸ | D9: 0 | E9: =+E11 -> 0 | F9: =+F11 -> 0 | G9: =+G11 -> 0 | H9: =+H11 -> 0
C10: այդ թվում՝
C11: ՀՀ ՏԱՐԱԾՔԱՅԻՆ ԿԱՌԱՎԱՐՄԱՆ ԵՎ ԵՆԹԱԿԱՌՈՒՑՎԱԾՔՆԵՐԻ ՆԱԽԱՐԱՐՈՒԹՅՈՒՆ | D11: 0 | E11: =+E13+E14 -> 0 | F11: =+F13+F14 -> 0 | G11: =+G13+G14 -> 0 | H11: =+H13+H14 -> 0
C12: այդ թվում`
A13: 1049 | B13: 21020 | C13: Միջպետական և հանրապետական նշանակության ավտոճանապարհների միջին նորոգում | D13: =+E13+F13+G13+H13 -> -2624260.8 | E13: 0 | F13: =-G14-F14-E14 -> -2624260.8 | G13: 0 | H13: 0
A14: 1049 | B14: 21020 | C14: Միջպետական և հանրապետական նշանակության ավտոճանապարհների միջին նորոգում | D14: =+E14+F14+G14+H14 -> 2624260.8 | E14: =E16+E18 -> 0 | F14: =F16+F18 -> 2624260.8 | G14: =G16+G18 -> 0 | H14: 0
C15: այդ թվում`
B16: =+'[1]3'!B17 -> 1 | C16: =+'[1]3'!C17 -> Միջպետական նշանակության ավտոճանապարհներ, այդ թվում | D16: =+E16+F16+G16+H16 -> 750000 | E16: =SUM(E17:E17) -> 0 | F16: =SUM(F17:F17) -> 750000 | G16: =SUM(G17:G17) -> 0 | H16: =SUM(H17:H17) -> 0
C17: Մ-4, Երևան - Սևան – Իջևան – ՀՀ սահման միջպետական նշանակության ավտոճանապարհի կմ 12+747 - կմ26+000 (աջ գոտի) հատվածի միջին նորոգում | D17: =+E17+F17+G17+H17 -> 750000 | E17: 0 | F17: =+Հ3!F20 -> 750000 | G17: 0 | H17: 0
B18: =+'[1]3'!B29 -> 2 | C18: =+Հ3!D21 -> Հանրապետական նշանակության ավտոճանապարհներ, այդ թվում | D18: =+E18+F18+G18+H18 -> 1874260.8 | E18: =SUM(E19:E20) -> 0 | F18: =SUM(F19:F22) -> 1874260.8 | G18: =SUM(G19:G20) -> 0 | H18: =SUM(H19:H20) -> 0
C19: Հ-17 /Մ-5/ (Արմավիր) - /Մ-9/ հանրապետական նշանակության ավտոճանապարհի կմ 2+070 - կմ 3+280, կմ 3+930 - կմ 5+230 և կմ 12+060 - կմ 22+800 հատվածների միջին նորոգում | D19: =+E19+F19+G19+H19 -> 599999.98 | E19: 0 | F19: =+Հ3!F22 -> 599999.98 | G19: 0 | H19: 0
C20: Հ-28, /Հ-55/- Ջրառատ- Մեղրաձոր- Հանքավան հանրապետական նշանակության ավտոճանապարհի կմ2+000 - կմ16+985 և կմ19+000- կմ32+200 հատվածների միջին նորոգում | D20: =+E20+F20+G20+H20 -> 999999 | E20: 0 | F20: =+Հ3!F23 -> 999999 | G20: 0 | H20: 0
C21: Հ-39, /Մ-10/ -Գավառ - /Մ-10/ հանրապետական նշանակության ավտոճանապարհի կմ0+000 - կմ 4+005 հատվածի միջին նորոգում | D21: =+E21+F21+G21+H21 -> 200262 | E21: 0 | F21: =+Հ3!F24 -> 200262 | G21: 0 | H21: 0
C22: Հ-76, /Մ-5/ - Ակնալիճ - Մեծամորի թանգարան հանրապետական նշանակության ավտոճանապարհի կմ0+000 - կմ2+050 հատվածի միջին նորոգում | D22: =+E22+F22+G22+H22 -> 73999.8 | E22: 0 | F22: =+Հ3!F25 -> 73999.8 | G22: 0 | H22: 0

Sheet Հ2
H1: Հավելված N 2
H2: ՀՀ կառավարության 2023 թվականի
H3: ______________ ի ___Ն որոշման
A5: ՀԱՅԱՍՏԱՆԻ ՀԱՆՐԱՊԵՏՈՒԹՅԱՆ ԿԱՌԱՎԱՐՈՒԹՅԱՆ 2022 ԹՎԱԿԱՆԻ ԴԵԿՏԵՄԲԵՐԻ 29-Ի N 2111-Ն ՈՐՈՇՄԱՆ N 3 ԵՎ N 4 ՀԱՎԵԼՎԱԾՆԵՐՈՒՄ ԿԱՏԱՐՎՈՂ ՓՈՓՈԽՈՒԹՅՈՒՆՆԵՐԸ ԵՎ ԼՐԱՑՈՒՄՆԵՐԸ
H7: հազար դրամներով
A8: Գործառական դասիչը | D8: Ծրագրային դասիչը | F8: Բյուջետային հատկացումների գլխավոր կարգադրիչների, ծրագրերի, միջոցառումների և միջոցառումները կատարող պետական մարմինների անվանումները | G8: Ցուցանիշների փոփոխությունը (ավելացումները նշված են դրական նշանով, իսկ նվազեցումները` փակագծերում)
A9: Բաժին | B9: Խումբ | C9: Դաս | D9: Ծրագիր | E9: Միջոցառում | G9: Ինն ամիս | H9: Տարի
F10: ԸՆԴԱՄԵՆԸ | G10: =+G12 -> 0 | H10: =+H12 -> 0
F11: այդ թվում
F12: ՀՀ տարածքային կառավարման և ենթակառուցվածքների նախարարություն | G12: =+G13 -> 0 | H12: =+H13 -> 0
A13: 04 | F13: ՏՆՏԵՍԱԿԱՆ ՀԱՐԱԲԵՐՈՒԹՅՈՒՆՆԵՐ | G13: =G15 -> 0 | H13: =H15 -> 0
F14: այդ թվում`
B15: 05 | F15: Տրանսպորտ | G15: =G17 -> 0 | H15: =H17 -> 0
F16: այդ թվում`
C17: 01 | F17: Ճանապարհային տրանսպորտ | G17: =+G19 -> 0 | H17: =+H19 -> 0
F18: այդ թվում`
F19: ՀՀ տարածքային կառավարման և ենթակառուցվածքների նախարարություն | G19: =+G21 -> 0 | H19: =+H21 -> 0
F20: այդ թվում`
D21: 1049 | F21: Ճանապարհային ցանցի բարելավում | G21: =+G23 -> 0 | H21: =+H23 -> 0
F22: այդ թվում`
E23: 21020 | F23: Միջպետական և հանրապետական նշանակության ավտոճանապարհների միջին նորոգում | G23: =G32+G25 -> 0 | H23: =H32+H25 -> 0
F24: այդ թվում` ըստ կատարողների
F25: ՀՀ կառավարություն | G25: =G27 -> -844234.3 | H25: =H27 -> -2624260.8
F26: այդ թվում` բյուջետային ծախսերի տնտեսագիտական դասակարգման հոդվածներ
F27: ԸՆԴԱՄԵՆԸ ԾԱԽՍԵՐ | G27: =+G28 -> -844234.3 | H27: =+H28 -> -2624260.8
F28: ՈՉ ՖԻՆԱՆՍԱԿԱՆ ԱԿՏԻՎՆԵՐԻ ԳԾՈՎ ԾԱԽՍԵՐ | G28: =G29 -> -844234.3 | H28: =H29 -> -2624260.8
F29: ՀԻՄՆԱԿԱՆ ՄԻՋՈՑՆԵՐ | G29: =G30 -> -844234.3 | H29: =H30 -> -2624260.8
F30: ՇԵՆՔԵՐ ԵՎ ՇԻՆՈՒԹՅՈՒՆՆԵՐ | G30: =G31 -> -844234.3 | H30: =H31 -> -2624260.8
F31: - Շենքերի և շինությունների կապիտալ վերանորոգում | G31: =-G32 -> -844234.3 | H31: =-H32 -> -2624260.8
F32: ՀՀ տարածքային կառավարման և ենթակառուցվածքների նախարարություն | G32: =G34 -> 844234.3 | H32: =H34 -> 2624260.8
F33: այդ թվում`բյուջետային ծախսերի տնտեսագիտական դասակարգման հոդվածներ
F34: ԸՆԴԱՄԵՆԸ ԾԱԽՍԵՐ | G34: =+G35 -> 844234.3 | H34: =+H35 -> 2624260.8
F35: ՈՉ ՖԻՆԱՆՍԱԿԱՆ ԱԿՏԻՎՆԵՐԻ ԳԾՈՎ ԾԱԽՍԵՐ | G35: =G36 -> 844234.3 | H35: =H36 -> 2624260.8
F36: ՀԻՄՆԱԿԱՆ ՄԻՋՈՑՆԵՐ | G36: =+G37 -> 844234.3 | H36: =+H37 -> 2624260.8
F37: ՇԵՆՔԵՐ ԵՎ ՇԻՆՈՒԹՅՈՒՆՆԵՐ | G37: =+G38 -> 844234.3 | H37: =+H38 -> 2624260.8
F38: - Շենքերի և շինությունների կապիտալ վերանորոգում | G38: =+Հ3!E17 -> 844234.3 | H38: =+Հ3!F17 -> 2624260.8

Sheet Հ3
F1: Հավելված N 3
F2: ՀՀ կառավարության 2023 թվականի
F3: ______________ ի ___Ն որոշման
A5: ՀԱՅԱՍՏԱՆԻ ՀԱՆՐԱՊԵՏՈՒԹՅԱՆ ԿԱՌԱՎԱՐՈՒԹՅԱՆ 2022 ԹՎԱԿԱՆԻ ԴԵԿՏԵՄԲԵՐԻ 29-Ի N 2111-Ն ՈՐՈՇՄԱՆ N 5 ՀԱՎԵԼՎԱԾԻ N 2 ԱՂՅՈՒՍԱԿՈՒՄ ԿԱՏԱՐՎՈՂ ՓՈՓՈԽՈՒԹՅՈՒՆՆԵՐԸ ԵՎ ԼՐԱՑՈՒՄՆԵՐԸ
F7: հազար դրամներով
B8: Ծրագրային դասիչը | D8: Հատկացումների տրամադրման նպատակները և բյուջետային գլխավոր կարգադրիչների, ծրագրերի, միջոցառումների և կատարող պետական մարմնի անվանումները | E8: Ցուցանիշների փոփոխությունը (Ավելացումները նշված են դրական նշանով, իսկ նվազեցումները` փակագծերում)
B9: Ծրագիր | C9: Միջոցառում | E9: Ինն ամիս | F9: Տարի
D10: ԸՆԴԱՄԵՆԸ | E10: =+E12 -> 0 | F10: =+F12 -> 0
D11: այդ թվում՝
D12: ՀՀ ՏԱՐԱԾՔԱՅԻՆ ԿԱՌԱՎԱՐՄԱՆ ԵՎ ԵՆԹԱԿԱՌՈՒՑՎԱԾՔՆԵՐԻ ՆԱԽԱՐԱՐՈՒԹՅՈՒՆ | E12: =+E14 -> 0 | F12: =+F14 -> 0
D13: այդ թվում`
B14: 1049 | C14: =+'1'!B13 -> 21020 | D14: =+'1'!C13 -> Միջպետական և հանրապետական նշանակության ավտոճանապարհների միջին նորոգում | E14: =+E16+E17 -> 0 | F14: =+F16+F17 -> 0
D15: այդ թվում` ըստ կատարողների
D16: ՀՀ կառավարություն | E16: =-E17 -> -844234.3 | F16: =-F17 -> -2624260.8
D17: ՀՀ տարածքային կառավարման և ենթակառուցվածքների նախարարություն | E17: =+E19+E21 -> 844234.3 | F17: =+F19+F21 -> 2624260.8
D18: այդ թվում՝ ըստ ուղղությունների
C19: 1 | D19: Միջպետական նշանակության ավտոճանապարհներ, այդ թվում | E19: =SUM(E20:E20) -> 120000 | F19: =SUM(F20:F20) -> 750000
D20: Մ-4, Երևան - Սևան – Իջևան – ՀՀ սահման միջպետական նշանակության ավտոճանապարհի կմ 12+747 - կմ26+000 (աջ գոտի) հատվածի միջին նորոգում | E20: 120000 | F20: 750000
C21: 2 | D21: Հանրապետական նշանակության ավտոճանապարհներ, այդ թվում | E21: =SUM(E22:E25) -> 724234.3 | F21: =SUM(F22:F25) -> 1874260.8
D22: Հ-17, /Մ-5/ (Արմավիր) - /Մ-9/ հանրապետական նշանակության ավտոճանապարհի կմ 2+070 - կմ 3+280, կմ 3+930 - կմ 5+230 և կմ 12+060 - կմ 22+800 հատվածների միջին նորոգում | E22: 150000 | F22: 599999.98
D23: Հ-28, /Հ-55/- Ջրառատ- Մեղրաձոր- Հանքավան հանրապետական նշանակության ավտոճանապարհի կմ2+000 - կմ16+985 և կմ19+000- կմ32+200 հատվածների միջին նորոգում | E23: 350000 | F23: 999999
D24: Հ-39, /Մ-10/ -Գավառ - /Մ-10/ հանրապետական նշանակության ավտոճանապարհի կմ0+000 - կմ 4+005 հատվածի միջին նորոգում | E24: =150000+234.5 -> 150234.5 | F24: 200262
D25: Հ-76, /Մ-5/ - Ակնալիճ - Մեծամորի թանգարան հանրապետական նշանակության ավտոճանապարհի կմ0+000 - կմ2+050 հատվածի միջին նորոգում | E25: 73999.8 | F25: 73999.8

Sheet Հ4
E1: Հավելված N 4
E2: ՀՀ կառավարության 2023 թվականի
E3: ______________ ի ___Ն որոշման
B5: ՀԱՅԱՍՏԱՆԻ ՀԱՆՐԱՊԵՏՈՒԹՅԱՆ ԿԱՌԱՎԱՐՈՒԹՅԱՆ 2022 ԹՎԱԿԱՆԻ ԴԵԿՏԵՄԲԵՐԻ 29-Ի N 2111-Ն ՈՐՈՇՄԱՆ N 9.1 ՀԱՎԵԼՎԱԾԻ NN 9.1.7 ԵՎ 9.1.58 ԱՂՅՈՒՍԱԿՆԵՐՈՒՄ ԿԱՏԱՐՎՈՂ ՓՈՓՈԽՈՒԹՅՈՒՆՆԵՐԸ ԵՎ ԼՐԱՑՈՒՄՆԵՐԸ
E7: Աղյուսակ 9.1.7
B8: ՀՀ տարածքային կառավարման և ենթակառուցվածքների նախարարություն
B9: ՄԱՍ 1. ՊԵՏԱԿԱՆ ՄԱՐՄՆԻ ԳԾՈՎ ԱՐԴՅՈՒՆՔԱՅԻՆ (ԿԱՏԱՐՈՂԱԿԱՆ) ՑՈՒՑԱՆԻՇՆԵՐԸ
B11: Ծրագրի դասիչը | C11: Ծրագրի անվանումը
B12: 1049 | C12: Ճանապարհային ցանցի բարելավում
B14: Ծրագրի միջոցառումները
B15: Ծրագրի դասիչը` | C15: 1049 | D15: Ցուցանիշների փոփոխությունը (ավելացումները նշված են դրական նշանով)
B16: Միջոցառման դասիչը` | C16: 21020 | D16: Ինն ամիս | E16: Տարի
B17: Միջոցառման անվանումը` | C17: Միջպետական և հանրապետական նշանակության ավտոճանապարհների միջին նորոգում
B18: Նկարագրությունը` | C18: Միջպետական և հանրապետական նշանակության ավտոճանապարհների պատվածքի մաշված վերին շերտի վերականգնում և շինարարական նորմերով նախատեսված սկզբնական որակական ցուցանիշների ապահովում
B19: Միջոցառման տեսակը` | C19: Հանրության կողմից անմիջականորեն օգտագործվող ակտիվների հետ կապված միջոցառումներ
B20: Միջոցառումն իրականացնողի անվանումը | C20: ՀՀ տարածքային կառավարման և ենթակառուցվածքների նախարարություն, մրցութային կարգով ընտրված կազմակերպություններ
B21: Արդյունքի չափորոշիչներ
B22: =+B42 -> Միջին նորոգման ենթակա ճանապարհների երկարությունը, կիլոմետր | D22: =6.9+13.4 -> 20.3 | E22: =36+24.7 -> 60.7
B23: =+B43 -> Աշխատանքների ավարտվածության աստիճան, % | D23: 0 | E23: =-E43 -> 0
B24: Միջոցառման վրա կատարվող ծախսը (հազար դրամ) | D24: =+Հ3!E17 -> 844234.3 | E24: =+Հ3!F17 -> 2624260.8
E27: Աղյուսակ 9.1.58
C28: ՀՀ կառավարություն
B29: ՄԱՍ 1. ՊԵՏԱԿԱՆ ՄԱՐՄՆԻ ԳԾՈՎ ԱՐԴՅՈՒՆՔԱՅԻՆ (ԿԱՏԱՐՈՂԱԿԱՆ) ՑՈՒՑԱՆԻՇՆԵՐԸ
B31: Ծրագրի դասիչը | C31: Ծրագրի անվանումը
B32: 1049 | C32: Ճանապարհային ցանցի բարելավում
B34: Ծրագրի միջոցառումները
B35: Ծրագրի դասիչը` | C35: 1049 | D35: Ցուցանիշների փոփոխությունը (նվազեցումները նշված են փակագծերում)
B36: Միջոցառման դասիչը` | C36: 21020 | D36: Ինն ամիս | E36: Տարի
B37: Միջոցառման անվանումը` | C37: Միջպետական և հանրապետական նշանակության ավտոճանապարհների միջին նորոգում
B38: Նկարագրությունը` | C38: Միջպետական և հանրապետական նշանակության ավտոճանապարհների պատվածքի մաշված վերին շերտի վերականգնում և շինարարական նորմերով նախատեսված սկզբնական որակական ցուցանիշների ապահովում
B39: Միջոցառման տեսակը` | C39: Հանրության կողմից անմիջականորեն օգտագործվող ակտիվների հետ կապված միջոցառումներ
B40: Միջոցառումն իրականացնողի անվանումը | C40: ՀՀ տարածքային կառավարման և ենթակառուցվածքների նախարարություն, մրցութային կարգով ընտրված կազմակերպություններ
C41: Արդյունքի չափորոշիչներ
B42: Միջին նորոգման ենթակա ճանապարհների երկարությունը, կիլոմետր | D42: -6.9 | E42: -36
B43: Աշխատանքների ավարտվածության աստիճան, % | D43: 0 | E43: 0
B44: Միջոցառման վրա կատարվող ծախսը (հազար դրամ) | D44: =-D24 -> -844234.3 | E44: =-E24 -> -2624260.8

Sheet Հ5
H1: Հավելված N 5
H2: ՀՀ կառավարության 2023 թվականի
H3: ______________ ի ___Ն որոշման
B5: ՀԱՅԱՍՏԱՆԻ ՀԱՆՐԱՊԵՏՈՒԹՅԱՆ ԿԱՌԱՎԱՐՈՒԹՅԱՆ 2022 ԹՎԱԿԱՆԻ ԴԵԿՏԵՄԲԵՐԻ 29-Ի N 2111-Ն ՈՐՈՇՄԱՆ N 10 ՀԱՎԵԼՎԱԾՈՒՄ ԿԱՏԱՐՎՈՂ ԼՐԱՑՈՒՄՆԵՐԸ
B6: Կոդը | C6: Անվանումը | D6: Գնման ձևը | E6: Չափման միավորը | F6: Միավորի գինը | G6: Ցուցանիշների փոփոխությունը (ավելացումները նշված են դրական նշանով)
G7: Քանակը | H7: Գումարը (հազար դրամով)
B8: ՀՀ տարածքային կառավարման և ենթակառուցվածքների նախարարություն | H8: =+H9 -> 2624260.8
B9: Բաժին N 04 | C9: Խումբ N 05 | D9: Դաս N 01 | E9: Ճանապարհային տրանսպորտ | H9: =+H10 -> 2624260.8
B10: 1049 21020 | C10: =+Հ3!D14 -> Միջպետական և հանրապետական նշանակության ավտոճանապարհների միջին նորոգում | H10: =+H11 -> 2624260.8
B11: ՄԱՍ II. ԱՇԽԱՏԱՆՔՆԵՐ | H11: =+H12+H13+H14+H15+H16 -> 2624260.8
B12: 45231177/580 | C12: ճանապարհների վերանորոգման աշխատանքներ | D12: ՀԲՄ | E12: դրամ | F12: 599999979 | G12: 1 | H12: =+G12*F12/1000 -> 599999.98
B13: 45231177/581 | C13: ճանապարհների վերանորոգման աշխատանքներ | D13: ՀԲՄ | E13: դրամ | F13: 999999000 | G13: 1 | H13: =+G13*F13/1000 -> 999999
B14: 45231177/583 | C14: ճանապարհների վերանորոգման աշխատանքներ | D14: ՀԲՄ | E14: դրամ | F14: 200262000 | G14: 1 | H14: =+G14*F14/1000 -> 200262
B15: 45231177/585 | C15: ճանապարհների վերանորոգման աշխատանքներ | D15: ՀԲՄ | E15: դրամ | F15: 73999800 | G15: 1 | H15: =+G15*F15/1000 -> 73999.8
B16: 45231177/586 | C16: ճանապարհների վերանորոգման աշխատանքներ | D16: ՀԲՄ | E16: դրամ | F16: 750000000 | G16: 1 | H16: =+G16*F16/1000 -> 750000
