Workbook
Name AgencyCode: #REF!
Name AgencyCode: #REF!
Name AgencyCode: #REF!
Name AgencyName: #REF!
Name AgencyName: #REF!
Name åû: #REF!
Name davit: #REF!
Name Functional1: #REF!
Name Functional1: #REF!
Name ggg: #REF!
Name mas: #REF!
Name mass: #REF!
Name PANature: #REF!
Name PANature: #REF!
Name PAType: #REF!
Name PAType: #REF!
Name Performance2: #REF!
Name Performance2: #REF!
Name PerformanceType: #REF!
Name PerformanceType: #REF!
Name x: #REF!
Name Հավելված: #REF!
Name Մաս: #REF!
Name շախմատիստ: #REF!

Sheet 1
D1: Հավելված N 1
D2: ՀՀ կառավարության 2023 թվականի
D3: ______________ ի ___Ն որոշման
B6: «ՀԱՅԱՍՏԱՆԻ ՀԱՆՐԱՊԵՏՈՒԹՅԱՆ 2023 ԹՎԱԿԱՆԻ ՊԵՏԱԿԱՆ ԲՅՈՒՋԵԻ ՄԱՍԻՆ» ՀԱՅԱՍՏԱՆԻ ՀԱՆՐԱՊԵՏՈՒԹՅԱՆ ՕՐԵՆՔԻ N 1 ՀԱՎԵԼՎԱԾԻ N 2 ԱՂՅՈՒՍԱԿՈՒՄ ՎԵՐԱԲԱՇԽՈՒՄ ԵՎ ՀԱՅԱՍՏԱՆԻ ՀԱՆՐԱՊԵՏՈՒԹՅԱՆ ԿԱՌԱՎԱՐՈՒԹՅԱՆ 2022 ԹՎԱԿԱՆԻ ԴԵԿՏԵՄԲԵՐԻ 29-Ի N 2111-Ն ՈՐՈՇՄԱՆ N 5 ՀԱՎԵԼՎԱԾԻ N 1 ԱՂՅՈՒՍԱԿՈՒՄ ԿԱՏԱՐՎՈՂ ՓՈՓՈԽՈՒԹՅՈՒՆՆԵՐԸ ԵՎ ԼՐԱՑՈՒՄՆԵՐԸ
F8: հազար դրամ/
B9: Ծրագրային դասիչը | D9: Բյուջետային հատկացումների գլխավոր կարգադրիչների, ծրագրերի և միջոցառումների անվանումները | E9: Ցուցանիշների փոփոխությունը (ավելացումները նշված են դրական նշանով, իսկ նվազեցումները` փակագծերում)
B10: Ծրագիր | C10: Միջոցառում | E10: ինն ամիս | F10: Տարի
D11: ='2'!F10 -> ԸՆԴԱՄԵՆԸ ԾԱԽՍԵՐ | E11: =E12 -> - | F11: =F12+F38 -> 0
D12: ՀՀ տարածքային կառավարման և ենթակառուցվածքների նախարարություն | E12: =E13 -> - | F12: =F13+F25 -> 0
B13: 1049 | D13: Ծրագրի անվանումը` | E13: =E19 -> - | F13: =F21 -> -250000
D14: Ճանապարհային ցանցի բարելավում
D15: Ծրագրի նպատակը`
D16: Ճանապարհային ցանցի բարելավում և անվտանգ երթևեկության ապահովում
D17: Վերջնական արդյունքի նկարագրությունը`
D18: Ճանապարհային ծածկի որակի և փոխադրումների արդյունավետության բարելավում, ճանապարհների վիճակով պայմանավորված պատահարների նվազում
C19: 21012 | D19: Միջոցառման անվանումը` | E19: =E25 -> -
D20: Եվրասիական զարգացման բանկի աջակցությամբ իրականացվող Հյուսիս-հարավ միջանցքի զարգացման ծրագիր
D21: Միջոցառման նկարագրությունը` | F21: ='2'!H19 -> -250000
D22: Ճանապարհաշինական աշխատանքներ
D23: Միջոցառման տեսակը՝
D24: Հանրության կողմից անմիջականորեն օգտագործվող ակտիվների հետ կապված միջոցառումներ
B25: 1157 | D25: Ծրագրի անվանումը՝ | E25: =E32 -> - | F25: =+F32 -> 250000
D26: Քաղաքային զարգացում
D27: Ծրագրի նպատակը՝
D28: Քաղաքային ենթակառուցվածքների զարգացում
D29: Վերջնական արդյունքի նկարագրությունը`
D30: Քաղաքային ենթակառուցվածքների արդիականացում և բարելավում
D31: Ծրագրի միջոցառումներ
C32: 21038 | D32: Միջոցառման անվանումը՝ | E32: =E38 -> - | F32: ='2'!H48 -> 250000
D33: Երևանի բուսաբանական այգու տարածքում անտառապուրակի կառուցապատման աշխատանքներ
D34: Միջոցառման նկարագրությունը՝
D35: Երևան քաղաքում անտառապուրակի հիմնում և կանաչ գոտիների արդիականացում
D36: Միջոցառման տեսակը՝
D37: Հանրության կողմից անմիջականորեն օգտագործվող ակտիվների հետ կապված միջոցառումներ
D38: ='2'!F49 -> ՀՀ կառավարություն | E38: =E39 -> - | F38: =F39 -> 0
B39: 1139 | D39: Ծրագրի անվանումը` | E39: =E45 -> - | F39: =F45+F51 -> 0
D40: ՀՀ կառավարության պահուստային ֆոնդ
D41: Ծրագրի նպատակը`
D42: Պետական բյուջեում չկանխատեսված՝ ինչպես նաև բյուջետային երաշխիքների ապահովման ծախսերի ֆինանսավորման ապահովում
D43: Վերջնական արդյունքի նկարագրությունը`
...

Sheet 2
H1: Հավելված N 2
H2: ՀՀ կառավարության 2023 թվականի
H3: ______________ ի ___Ն որոշման
A5: ՀԱՅԱՍՏԱՆԻ ՀԱՆՐԱՊԵՏՈՒԹՅԱՆ ԿԱՌԱՎԱՐՈՒԹՅԱՆ 2022 ԹՎԱԿԱՆԻ ԴԵԿՏԵՄԲԵՐԻ 29-Ի N 2111-Ն ՈՐՈՇՄԱՆ NN 3 ԵՎ 4 ՀԱՎԵԼՎԱԾՆԵՐՈՒՄ ԿԱՏԱՐՎՈՂ ՓՈՓՈԽՈՒԹՅՈՒՆՆԵՐԸ ԵՎ ԼՐԱՑՈՒՄՆԵՐԸ
G7: հազար դրամներով
A8: Գործառական դասիչը | D8: Ծրագրային դասիչը | F8: Բյուջետային ծախսերի գործառական դասակարգման բաժինների, խմբերի և դասերի, բյուջետային հատկացումների գլխավոր կարգադրիչների, ծրագրերի, միջոցառումների և միջոցառումները կատարող պետական մարմինների անվանումները | G8: Ցուցանիշների փոփոխությունը (ավելացումները նշված են դրական նշանով, իսկ նվազեցումները` փակագծերում)
A9: Բաժին | B9: Խումբ | C9: Դաս | D9: Ծրագիր | E9: Միջոցառում | G9: ինն ամիս | H9: Տարի
F10: ԸՆԴԱՄԵՆԸ ԾԱԽՍԵՐ | H10: =H12+H49 -> 0
F11: այդ թվում`
F12: =F23 -> ՀՀ տարածքային կառավարման և ենթակառուցվածքների նախարարություն | H12: =H13+H30 -> 0
A13: 04 | F13: ՏՆՏԵՍԱԿԱՆ ՀԱՐԱԲԵՐՈՒԹՅՈՒՆՆԵՐ | G13: =+G15 -> - | H13: =+H15 -> -250000
F14: այդ թվում`
B15: 05 | F15: Տրանսպորտ | G15: =+G17 -> - | H15: =H17 -> -250000
F16: այդ թվում`
C17: 01 | F17: Ճանապարհային տրանսպորտ | G17: =+G18 -> - | H17: =H18 -> -250000
F18: այդ թվում` | G18: =+G19 -> - | H18: =H19 -> -250000
D19: 1049 | F19: Ճանապարհային ցանցի բարելավում | G19: =+G21 -> - | H19: =H21 -> -250000
F20: այդ թվում`
E21: 21012 | F21: Եվրասիական զարգացման բանկի աջակցությամբ իրականացվող Հյուսիս-հարավ միջանցքի զարգացման ծրագիր | G21: =+G23 -> - | H21: =H23 -> -250000
F22: այդ թվում` ըստ կատարողների
F23: ՀՀ տարածքային կառավարման և ենթակառուցվածքների նախարարություն | G23: =G25 -> - | H23: =H24 -> -250000
F24: այդ թվում` բյուջետային ծախսերի տնտեսագիտական դասակարգման հոդվածներ | G24: =G25 -> - | H24: =H25 -> -250000
F25: ԸՆԴԱՄԵՆԸ ԾԱԽՍԵՐ | G25: =+G26 -> - | H25: =+H26 -> -250000
F26: ՈՉ ՖԻՆԱՆՍԱԿԱՆ ԱԿՏԻՎՆԵՐԻ ԳԾՈՎ ԾԱԽՍԵՐ | G26: =G27 -> - | H26: =H27 -> -250000
F27: ՀԻՄՆԱԿԱՆ ՄԻՋՈՑՆԵՐ | G27: =G28 -> - | H27: =H28 -> -250000
F28: ՇԵՆՔԵՐ ԵՎ ՇԻՆՈՒԹՅՈՒՆՆԵՐ | G28: =G29 -> - | H28: =H29 -> -250000
F29: - Շենքերի և շինությունների շինարարություն | G29: - | H29: -250000
A30: 08 | F30: ՀԱՆԳԻՍՏ, ՄՇԱԿՈՒՅԹ ԵՎ ԿՐՈՆ | G30: =+G32 -> 0 | H30: =+H32 -> 250000
F31: այդ թվում`
B32: 01 | F32: ='[1]2'!$F$14 -> Հանգստի և սպորտի ծառայություններ | G32: =G34 -> 0 | H32: =H34 -> 250000
F33: այդ թվում`
C34: 01 | F34: ='[1]2'!$F$16 -> Հանգստի և սպորտի ծառայություններ | G34: =G36 -> 0 | H34: =H36 -> 250000
F35: այդ թվում`
F36: ՀՀ տարածքային կառավարման և ենթակառուցվածքների նախարարություն | G36: =+G38 -> 0 | H36: =+H38 -> 250000
F37: այդ թվում`
D38: 1157 | F38: Քաղաքային զարգացում | G38: =+G40 -> 0 | H38: =+H40 -> 250000
F39: այդ թվում`
E40: 21038 | F40: Երևանի բուսաբանական այգու տարածքում անտառապուրակի կառուցապատման աշխատանքներ | G40: =+G42 -> 0 | H40: =+H42 -> 250000
F41: այդ թվում` ըստ կատարողների
F42: ՀՀ տարածքային կառավարման և ենթակառուցվածքների նախարարություն | G42: =+G44 -> 0 | H42: =+H44 -> 250000
...

Sheet 3
F1: Հավելված N 3
E2: ՀՀ կառավարության 2023 թվականի
E3: ______________ ի ___Ն որոշման
A5: «ՀԱՅԱUՏԱՆԻ ՀԱՆՐԱՊԵՏՈՒԹՅԱՆ 2023 ԹՎԱԿԱՆԻ ՊԵՏԱԿԱՆ ԲՅՈՒՋԵԻ ՄԱUԻՆ» OՐԵՆՔԻ N 1 ՀԱՎԵԼՎԱԾԻ N 3 ԱՂՅՈՒՍԱԿՈՒՄ ԿԱՏԱՐՎՈՂ ԼՐԱՑՈՒՄՆԵՐԸ
G6: հազար դրամներով
A7: Ծրագրային դասիչ | C7: Բյուջետային գլխավոր կարգադրիչների, ծրագրերի, միջոցառումների և ուղղությունների անվանումները | D7: Ընդամենը | E7: այդ թվում`
A8: Ծրագիր | B8: Միջոցառում | E8: Կառուցման աշխատանքներ | F8: Վերակառուցման, վերանորոգման և վերականգնման աշխատանքներ | G8: Նախագծահե- տազոտական, գեոդեզիա- քարտեզագրա- կան աշխա- տանքներ | H8: Ոչ ֆինանսական այլ ակտիվների ձեռքբերում
C9: ԸՆԴԱՄԵՆԸ | D9: =+D11 -> 250000 | E9: =+E11 -> 250000 | F9: =+F11 -> 0 | G9: =+G11 -> 0 | H9: =+H11 -> 0
C10: այդ թվում՝
C11: ՀՀ ՏԱՐԱԾՔԱՅԻՆ ԿԱՌԱՎԱՐՄԱՆ ԵՎ ԵՆԹԱԿԱՌՈՒՑՎԱԾՔՆԵՐԻ ՆԱԽԱՐԱՐՈՒԹՅՈՒՆ | D11: =SUM(D13:D13) -> 250000 | E11: =SUM(E13:E13) -> 250000 | F11: =SUM(F13:F13) -> 0 | G11: =SUM(G13:G13) -> 0 | H11: =SUM(H13:H13) -> 0
C12: այդ թվում`
A13: 1157 | B13: 21038 | C13: Երևանի բուսաբանական այգու տարածքում անտառապուրակի կառուցապատման աշխատանքներ | D13: =E13 -> 250000 | E13: ='1'!F32 -> 250000 | F13: 0 | G13: 0 | H13: 0
C15: ՀԱՅԱՍՏԱՆԻ ՀԱՆՐԱՊԵՏՈՒԹՅԱՆ ՎԱՐՉԱՊԵՏԻ ԱՇԽԱՏԱԿԱԶՄԻ ՂԵԿԱՎԱՐ | F15: Ա.ՀԱՐՈՒԹՅՈՒՆՅԱՆ

Sheet 4
I1: Հավելված N4
I2: ՀՀ կառավարության 2021 թվականի
I3: ______________N______-Ն որոշման
A4: «ՀԱՅԱՍՏԱՆԻ ՀԱՆՐԱՊԵՏՈՒԹՅԱՆ 2023 ԹՎԱԿԱՆԻ ՊԵՏԱԿԱՆ ԲՅՈՒՋԵԻ ՄԱՍԻՆ» ՕՐԵՆՔԻ N1 ՀԱՎԵԼՎԱԾԻ N4 ԱՂՅՈՒՍԱԿՈՒՄ ԵՎ ՀԱՅԱՍՏԱՆԻ ՀԱՆՐԱՊԵՏՈՒԹՅԱՆ ԿԱՌԱՎԱՐՈՒԹՅԱՆ 2022 ԹՎԱԿԱՆԻ ԴԵԿՏԵՄԲԵՐԻ 29-Ի N2111-Ն ՈՐՈՇՄԱՆ N 5 ՀԱՎԵԼՎԱԾԻ N3 ԱՂՅՈՒՍԱԿՈՒՄ ԿԱՏԱՐՎՈՂ ՓՈՓՈԽՈՒԹՅՈՒՆՆԵՐԸ
I5: հազար դրամներով
A6: Ծրագրային դասիչը | C6: Բյուջետային հատկացումների գլխավոր կարգադրիչների, ծրագրերի, միջոցառումների և միջոցառումները կատարող պետական մարմինների անվանումները | D6: Ցուցանիշների փոփոխությունը (նվազեցումները նշված են փակագծերում)
D7: Ինն ամիս | G7: Տարի
A8: Ծրագիր | B8: Միջոցառում | D8: Ընդամենը | E8: այդ թվում | G8: Ընդամենը | H8: այդ թվում
E9: Վարկային միջոցներ | F9: Համաֆինան սավորում | H9: Վարկային միջոցներ | I9: Համաֆինան սավորում
C10: ԸՆԴԱՄԵՆԸ_x000D_ | D10: =F10 -> - | E10: - | F10: =F12 -> - | G10: =I10 -> -250000 | H10: - | I10: =I12 -> -250000
C11: այդ թվում`
C12: ԸՆԹԱՑԻԿ ԾԱԽՍԵՐ | D12: =F12 -> - | E12: - | F12: =F13 -> - | G12: =G13 -> -250000 | H12: - | I12: =I13 -> -250000
C13: ՀՀ ՏԱՐԱԾՔԱՅԻՆ ԿԱՌԱՎԱՐՄԱՆ ԵՎ ԵՆԹԱԿԱՌՈՒՑՎԱԾՔՆԵՐԻ ՆԱԽԱՐԱՐՈՒԹՅՈՒՆ_x000D_ | D13: =F13 -> - | E13: - | F13: =F15 -> - | G13: =I13 -> -250000 | H13: - | I13: =I15 -> -250000
C14: այդ թվում`
A15: 1049 | C15: Ճանապարհային ցանցի բարելավում | D15: =F15 -> - | E15: - | F15: =F17 -> - | G15: =I15 -> -250000 | H15: - | I15: =I17 -> -250000
C16: այդ թվում`
B17: 21012 | C17: Եվրասիական զարգացման բանկի աջակցությամբ իրականացվող Հյուսիս-հարավ միջանցքի զարգացման ծրագիր | D17: =F17 -> - | E17: - | F17: =F19 -> - | G17: =I17 -> -250000 | H17: - | I17: =I25 -> -250000
C18: այդ թվում` ըստ կատարողների
C19: ՀՀ տարածքային կառավարման և ենթակառուցվածքների նախարարություն | D19: =F19 -> - | E19: - | F19: =F25 -> - | G19: =I19 -> -250000 | H19: - | I19: =I25 -> -250000
C20: այդ թվում` բյուջետային ծախսերի տնտեսագիտական դասակարգման հոդվածներ
C21: ԸՆԴԱՄԵՆԸ ԾԱԽՍԵՐ | D21: =F21 -> - | E21: - | F21: =F25 -> - | G21: =I21 -> -250000 | H21: - | I21: =I25 -> -250000
C22: ՈՉ ՖԻՆԱՆՍԱԿԱՆ ԱԿՏԻՎՆԵՐԻ ԳԾՈՎ ԾԱԽՍԵՐ | D22: =F22 -> - | E22: - | F22: =F23 -> - | G22: =I22 -> -250000 | H22: - | I22: =I25 -> -250000
C23: ՀԻՄՆԱԿԱՆ ՄԻՋՈՑՆԵՐ | D23: =F23 -> - | E23: - | F23: =F25 -> - | G23: =I23 -> -250000 | H23: - | I23: =I25 -> -250000
C24: ՇԵՆՔԵՐ ԵՎ ՇԻՆՈՒԹՅՈՒՆՆԵՐ | D24: =F24 -> - | E24: - | F24: =F23 -> - | G24: =I24 -> -250000 | H24: - | I24: =I23 -> -250000
C25: - Շենքերի և շինությունների շինարարություն | D25: =F25 -> - | E25: - | F25: - | G25: =I25 -> -250000 | I25: ='2'!H29 -> -250000

Sheet 5
E1: Հավելված N 5
E2: ՀՀ կառավարության 2023 թվականի
E3: ______________ ի ___Ն որոշման
A5: ՀԱՅԱՍՏԱՆԻ ՀԱՆՐԱՊԵՏՈՒԹՅԱՆ ԿԱՌԱՎԱՐՈՒԹՅԱՆ 2022 ԹՎԱԿԱՆԻ ԴԵԿՏԵՄԲԵՐԻ 29-Ի N 2111-Ն ՈՐՈՇՄԱՆ N 5 ՀԱՎԵԼՎԱԾԻ N 2 ԱՂՅՈՒՍԱԿՈՒՄ ԿԱՏԱՐՎՈՂ ՓՈՓՈԽՈՒԹՅՈՒՆՆԵՐԸ ԵՎ ԼՐԱՑՈՒՄՆԵՐԸ
E6: հազար դրամներով
A7: Ծրագրային դասիչ | C7: Բյուջետային գլխավոր կարգադրիչների, ծրագրերի, միջոցառումների և ուղղությունների անվանումները | D7: Ցուցանիշների փոփոխությունը (ավելացումները նշված են դրական նշանով, իսկ նվազեցումները` փակագծերում)
A8: Ծրագիր | B8: Միջոցառում | D8: ինն ամիս | E8: Տարի
C9: ԸՆԴԱՄԵՆԸ | D9: =D11 -> 0 | E9: =E11 -> 250000
C10: այդ թվում՝
C11: ՀՀ ՏԱՐԱԾՔԱՅԻՆ ԿԱՌԱՎԱՐՄԱՆ ԵՎ ԵՆԹԱԿԱՌՈՒՑՎԱԾՔՆԵՐԻ ՆԱԽԱՐԱՐՈՒԹՅՈՒՆ | D11: =D13 -> 0 | E11: =E13 -> 250000
C12: այդ թվում`
A13: 1157 | B13: 21038 | C13: Երևանի բուսաբանական այգու տարածքում անտառապուրակի կառուցապատման աշխատանքներ | D13: =D15 -> 0 | E13: =E15 -> 250000
C14: այդ թվում` ըստ կատարողների
C15: ՀՀ տարածքային կառավարման և ենթակառուցվածքների նախարարություն | D15: ='2'!G48 -> 0 | E15: ='2'!H48 -> 250000
C18: ՀԱՅԱՍՏԱՆԻ ՀԱՆՐԱՊԵՏՈՒԹՅԱՆ ՎԱՐՉԱՊԵՏԻ ԱՇԽԱՏԱԿԱԶՄԻ ՂԵԿԱՎԱՐ | D18: Ա.ՀԱՐՈՒԹՅՈՒՆՅԱՆ

Sheet 6
C1: Հավելված N 6
C2: ՀՀ կառավարության 2023 թվականի
C3: ______________ ի ___Ն որոշման
A5: ՀԱՅԱՍՏԱՆԻ ՀԱՆՐԱՊԵՏՈՒԹՅԱՆ ԿԱՌԱՎԱՐՈՒԹՅԱՆ 2022 ԹՎԱԿԱՆԻ ԴԵԿՏԵՄԲԵՐԻ 29-Ի N 2111-Ն ՈՐՈՇՄԱՆ N 8 ՀԱՎԵԼՎԱԾՆԵՐՈՒՄ ԿԱՏԱՐՎՈՂ ՓՈՓՈԽՈՒԹՅՈՒՆՆԵՐԸ ԵՎ ԼՐԱՑՈՒՄՆԵՐԸ
A6: Գործառական դասիչը | D6: Ծրագրային դասիչը | F6: Բյուջետային հատակացումների գլխավոր կարգադրիչներ, ծրագրերի, միջոցառումների և միջոցառումներն իրականացնող պետական մարմինների անվանումները | G6: Գումարը (հազար դրամ)
A7: Բաժին | B7: Խումբ | C7: Դաս | D7: Ծրագիր | E7: Միջոցառում
F8: ԸՆԴԱՄԵՆԸ ԾԱԽՍԵՐ | G8: =+G9 -> 250000
A9: 08 | F9: ՀԱՆԳԻՍՏ, ՄՇԱԿՈՒՅԹ ԵՎ ԿՐՈՆ | G9: =G10 -> 250000 | H9: =H10 -> #REF!
B10: 01 | F10: ='2'!F32 -> Հանգստի և սպորտի ծառայություններ | G10: =G11 -> 250000 | H10: =H11 -> #REF!
C11: 01 | F11: ='2'!F34 -> Հանգստի և սպորտի ծառայություններ | G11: =G12 -> 250000 | H11: =#REF! -> #REF!
D12: 1157 | F12: Քաղաքային զարգացում | G12: =+G13 -> 250000 | H12: =+H13 -> #REF!
E13: 21038 | F13: Երևանի բուսաբանական այգու տարածքում անտառապուրակի կառուցապատման աշխատանքներ | G13: ='2'!H48 -> 250000 | H13: =+#REF! -> #REF!
B18: ՀԱՅԱՍՏԱՆԻ ՀԱՆՐԱՊԵՏՈՒԹՅԱՆ ՎԱՐՉԱՊԵՏԻ ԱՇԽԱՏԱԿԱԶՄԻ ՂԵԿԱՎԱՐ
G20: Ա. ՀԱՐՈՒԹՅՈՒՆՅԱՆ

Sheet 7
E1: Հավելված N 7
D2: ՀՀ կառավարության 2023 թվականի
D3: ______________ ի ___Ն որոշման
A5: ՀԱՅԱՍՏԱՆԻ ՀԱՆՐԱՊԵՏՈՒԹՅԱՆ ԿԱՌԱՎԱՐՈՒԹՅԱՆ 2022 ԹՎԱԿԱՆԻ ԴԵԿՏԵՄԲԵՐԻ 29-Ի N 2111-Ն ՈՐՈՇՄԱՆ N 9 և N 9.1 ՀԱՎԵԼՎԱԾՆԵՐԻ N 9.7, 9.47 ԵՎ 9.1.7, 9.1.58 ԱՂՅՈՒՍԱԿՆԵՐՈՒՄ ԿԱՏԱՐՎՈՂ ԼՐԱՑՈՒՄՆԵՐԸ
E6: Աղյուսակ N 9.7
E7: Աղյուսակ N 9.1.7
C8: ՀՀ տարածքային կառավարման և ենթակառուցվածնքերի նախարարություն
A10: ՄԱՍ 2. ՊԵՏԱԿԱՆ ՄԱՐՄՆԻ ԳԾՈՎ ԱՐԴՅՈՒՆՔԱՅԻՆ (ԿԱՏԱՐՈՂԱԿԱՆ) ՑՈՒՑԱՆԻՇՆԵՐԸ
B13: Ծրագրի դասիչը | C13: Ծրագրի անվանումը
B14: 1049 | C14: Ճանապարհային ցանցի բարելավում
B15: Ծրագրի միջոցառումները
B16: Ծրագրի դասիչը՝ | C16: 1049 | D16: =D50 -> Ցուցանիշների փոփոխությունը (նվազեցումները նշված են փակագծերում)
B17: Միջոցառման դասիչը՝ | C17: 21012 | D17: ինն ամիս | E17: Տարի
B18: Միջոցառման անվանումը՝ | C18: Եվրասիական զարգացման բանկի աջակցությամբ իրականացվող Հյուսիս-հարավ միջանցքի զարգացման ծրագիր
B19: Նկարագրությունը՝ | C19: Ճանապարհաշինական աշխատանքներ
B20: Միջոցառման տեսակը՝ | C20: Հանրության կողմից անմիջականորեն օգտագործվող ակտիվների հետ կապված միջոցառումներ
B21: Միջոցառումն իրականացնողի անվանումը՛ | C21: Մասնագիտացված միավոր
B22: Արդյունքի չափորոշիչներ
B23: Միջոցառման վրա կատարվող ծախսը (հազար դրամ) | D23: ='1'!E20 -> 0 | E23: -250000
B26: Ծրագրի դասիչը | C26: Ծրագրի անվանումը
B27: 1157 | C27: Քաղաքային զարգացում
B28: Ծրագրի միջոցառումները
B29: Ծրագրի դասիչը՝ | C29: 1157 | D29: =D59 -> Ցուցանիշների փոփոխությունը (ավելացումները նշված են դրական նշանով)
B30: Միջոցառման դասիչը՝ | C30: 21038 | D30: ինն ամիս | E30: Տարի
B31: Միջոցառման անվանումը՝ | C31: Երևանի բուսաբանական այգու տարածքում անտառապուրակի կառուցապատման աշխատանքներ
B32: Նկարագրությունը՝ | C32: Երևան քաղաքում անտառապուրակի հիմնում և կանաչ գոտիների արդիականացում
B33: Միջոցառման տեսակը՝ | C33: ='1'!D37 -> Հանրության կողմից անմիջականորեն օգտագործվող ակտիվների հետ կապված միջոցառումներ
B34: Շահառուների ընտրության չափանիշները | C34: ՀՀ բնակչություն
B35: Արդյունքի չափորոշիչներ
B36: Այգիների քանակ (հատ) | E36: 1
B37: Երևանի բուսաբանական այգու տարածքում անտառապուրակի կառուցապատման աշխատանքների ավարտվածության աստիճան, % | E37: 5,5
B38: Միջոցառման վրա կատարվող ծախսը (հազար դրամ) | E38: ='1'!F32 -> 250000
E40: Աղյուսակ 9.47
D42: Աղյուսակ 9.1.58
C43: ՀՀ ԿԱՌԱՎԱՐՈՒԹՅՈՒՆ
B44: ՄԱՍ 1. ՊԵՏԱԿԱՆ ՄԱՐՄՆԻ ԳԾՈՎ ԱՐԴՅՈՒՆՔԱՅԻՆ (ԿԱՏԱՐՈՂԱԿԱՆ) ՑՈՒՑԱՆԻՇՆԵՐԸ
B46: Ծրագրի դասիչը | C46: Ծրագրի անվանումը
B47: 1139 | C47: ՀՀ կառավարության պահուստային ֆոնդ
B49: Ծրագրի միջոցառումները
B50: Ծրագրի դասիչը՝ | C50: 1139 | D50: Ցուցանիշների փոփոխությունը (նվազեցումները նշված են փակագծերում)
...

Sheet 8
D1: Հավելված N 8
A2: ՀՀ կառավարության 2023 թվականի
A3: ______________ ի ___Ն որոշման
A5: ՀԱՅԱՍՏԱՆԻ ՀԱՆՐԱՊԵՏՈՒԹՅԱՆ ԿԱՌԱՎԱՐՈՒԹՅԱՆ 2022 ԹՎԱԿԱՆԻ ԴԵԿՏԵՄԲԵՐԻ 29-Ի N 2111-Ն ՈՐՈՇՄԱՆ N 10 ՀԱՎԵԼՎԱԾՈՒՄ ԿԱՏԱՐՎՈՂ ԼՐԱՑՈՒՄՆԵՐԸ
A7: Կոդը | B7: Անվանումը | E7: Գնման ձևը | F7: Չափման միավորը | G7: Ցուցանիշների փոփոխությունը (ավելացումները նշված են դրական նշանով)
G8: Միավորի գինը | H8: Քանակը | I8: Գումարը (հազար դրամ)
A9: 1 | B9: 2 | E9: 3 | F9: 4 | G9: 5 | H9: 6 | I9: 7
A10: ՀՀ տարածքային կառավարման և ենթակառուցվածքների նախարարություն | I10: =+I11 -> 250000
A11: Բաժին N 08 | B11: Խումբ N 01 | C11: Դաս N 01 | D11: ='2'!F32 -> Հանգստի և սպորտի ծառայություններ | I11: =+I12 -> 250000
A12: 1157-21038 | B12: Երևանի բուսաբանական այգու տարածքում անտառապուրակի կառուցապատման աշխատանքների իրականացում | I12: =I13 -> 250000
B13: ՄԱՍ II. ԱՇԽԱՏԱՆՔՆԵՐ | I13: =SUM(I14:I14) -> 250000
A14: 45221142 | B14: ընդհանուր շինարարական աշխատանքներ | E14: ԲՄ | F14: դրամ | G14: 250000000 | H14: 1 | I14: =G14*H14/1000 -> 250000
B17: ՀԱՅԱՍՏԱՆԻ ՀԱՆՐԱՊԵՏՈՒԹՅԱՆ ՎԱՐՉԱՊԵՏԻ ԱՇԽԱՏԱԿԱԶՄԻ ՂԵԿԱՎԱՐ | G17: Ա.ՀԱՐՈՒԹՅՈՒՆՅԱՆ
