Workbook
Name AgencyCode: #REF!
Name AgencyCode: #REF!
Name AgencyCode: #REF!
Name AgencyCode: #REF!
Name AgencyCode: #REF!
Name AgencyName: #REF!
Name AgencyName: #REF!
Name AgencyName: #REF!
Name AgencyName: #REF!
Name AgencyName: #REF!
Name åû: #REF!
Name åû: #REF!
Name davit: #REF!
Name davit: #REF!
Name davit: #REF!
Name davit: #REF!
Name davit: #REF!
Name Functional1: #REF!
Name Functional1: #REF!
Name Functional1: #REF!
Name Functional1: #REF!
Name Functional1: #REF!
Name ggg: #REF!
Name ggg: #REF!
Name ggg: #REF!
Name ggg: #REF!
Name ggg: #REF!
Name mas: #REF!
Name mas: #REF!
Name mass: #REF!
Name mass: #REF!
Name PANature: #REF!
Name PANature: #REF!
Name PANature: #REF!
Name PANature: #REF!
Name PANature: #REF!
Name PAType: #REF!
Name PAType: #REF!
Name PAType: #REF!
Name PAType: #REF!
Name PAType: #REF!
Name Performance2: #REF!
Name Performance2: #REF!
Name Performance2: #REF!
Name Performance2: #REF!
Name Performance2: #REF!
Name PerformanceType: #REF!
Name PerformanceType: #REF!
Name PerformanceType: #REF!
Name PerformanceType: #REF!
Name PerformanceType: #REF!
Name x: #REF!
Name x: #REF!
Name Հավելված: #REF!
Name Հավելված: #REF!
Name Հավելված: #REF!
Name Հավելված: #REF!
Name Հավելված: #REF!
Name Մաս: #REF!
Name Մաս: #REF!

Sheet havelvac 1
F1: Հավելված N 1
F2: ՀՀ կառավարության 2023 թվականի
F3: ______________ ի ___Ն որոշման
B5: «ՀԱՅԱUՏԱՆԻ ՀԱՆՐԱՊԵՏՈՒԹՅԱՆ 2023 ԹՎԱԿԱՆԻ ՊԵՏԱԿԱՆ ԲՅՈՒՋԵԻ ՄԱUԻՆ» OՐԵՆՔԻ N 1 ՀԱՎԵԼՎԱԾԻ N 2 ԱՂՅՈՒՍԱԿՈՒՄ ԿԱՏԱՐՎՈՂ ՎԵՐԱԲԱՇԽՈՒՄԸ ԵՎ ՀԱՅԱՍՏԱՆԻ ՀԱՆՐԱՊԵՏՈՒԹՅԱՆ ԿԱՌԱՎԱՐՈՒԹՅԱՆ 2022 ԹՎԱԿԱՆԻ ԴԵԿՏԵՄԲԵՐԻ 29-Ի ԹԻՎ 2111-Ն ՈՐՈՇՄԱՆ N 5 ՀԱՎԵԼՎԱԾԻ N 1 ԱՂՅՈՒՍԱԿՈՒՄ ԿԱՏԱՐՎՈՂ ՓՈՓՈԽՈՒԹՅՈՒՆՆԵՐԸ
E7: /հազար դրամ/
B8: Ծրագրային դասիչը | D8: Բյուջետային հատկացումների գլխավոր կարգադրիչների, ծրագրերի և միջոցառումների անվանումները | E8: Ցուցանիշների փոփոխությունը (ավելացումները նշված են դրական նշանով, իսկ նվազեցումները` փակագծերում)
B9: Ծրագիրը | C9: Միջոցառումը | E9: Ինն ամիս | F9: Տարի
C10: ԸՆԴԱՄԵՆԸ | E10: =+E11 -> 0 | F10: =+F11 -> 0
D11: ՀՀ տարածքային կառավարման և ենթակառուցվածքների նախարարություն | E11: =+E12+E26 -> 0 | F11: =+F12+F26 -> 0
B12: 1001 | D12: Ծրագրի անվանումը` | E12: =+E19 -> 28849 | F12: =+F19 -> 28849
D13: Տարածքային կառավարման ոլորտում քաղաքականության մշակում, ծրագրերի համակարգում և մոնիտորինգի իրականացում
D14: Ծրագրի նպատակը`
D15: Տարածքային կառավարման բնագավառում պետական արդյունավետ քաղաքականության մշակման և իրականացման ապահովում
D16: Վերջնական արդյունքի նկարագրությունը`
D17: Տարածքային կառավարման քաղաքականության իրագործմանն ուղղված ծրագրերի ազդեցության և արդյունավետության բարելավում
B18: Ծրագրի միջոցառումներ
C19: 11001 | D19: Միջոցառման անվանումը` | E19: 28849 | F19: 28849
D20: Տարածքային կառավարման և ենթակառուցվածքների քաղաքականության մշակում և ծառայությունների մատուցում
D21: Միջոցառման նկարագրությունը`
D22: Տարածքային կառավարման և ենթակառուցվածքների բնագավառում պետական քաղաքականության մշակման և դրա կատարման համակարգման, պետական ծրագրերի մշակման, իրականացման, մոնիտորինգի, խորհրդատվության և աջակցության ծառայություններ
D23: Միջոցառման տեսակը
D24: Ծառայությունների մատուցում
B25: 1004 | D25: Ծրագրի անվանումը`
D26: Ոռոգման համակարգի առողջացում | E26: =+E32 -> -28849 | F26: =+F32 -> -28849
D27: Ծրագրի նպատակը`
D28: Ոռոգման ծառայությունների հասանելիության և մատչելիության ապահովում
D29: Վերջնական արդյունքի նկարագրությունը՝
D30: Ոռոգման ջրի մատակարարման արդյունավետության և հասանելիության բարելավում, կորուստների կրճատում
B31: Ծրագրի միջոցառումներ
C32: 11010 | D32: Միջոցառման անվանումը՝ | E32: =-E19 -> -28849 | F32: =-F19 -> -28849
D33: Գերմանիայի զարգացման վարկերի բանկի աջակցությամբ իրականացվող Ախուրյան գետի ջրային ռեսուրսների ինտեգրացված կառավարում փուլ 1 ծրագրով Ջրաձոր գյուղի վերաբնակեցման գործողությունների խորհրդատվություն և կառավարում
D34: Միջոցառման նկարագրությունը`
D35: Գերմանիայի զարգացման վարկերի բանկի աջակցությամբ իրականացվող Ախուրյան գետի ջրային ռեսուրսների ինտեգրացված կառավարում փուլ 1 ծրագրով Ջրաձոր գյուղի վերաբնակեցման գործողությունների համակարգում և ղեկավարում
D36: Միջոցառման տեսակը՝
D37: Ծառայությունների մատուցում
B41: ՀԱՅԱՍՏԱՆԻ ՀԱՆՐԱՊԵՏՈՒԹՅԱՆ
B42: ՎԱՐՉԱՊԵՏԻ ԱՇԽԱՏԱԿԱԶՄԻ
D43: ՂԵԿԱՎԱՐ՝ Ա.ՀԱՐՈՒԹՅՈՒՆՅԱՆ

Sheet havelvac 2
I1: Հավելված N 2
I2: ՀՀ կառավարության 2023 թվականի
I3: ______________ ի ___Ն որոշման
B6: ՀԱՅԱՍՏԱՆԻ ՀԱՆՐԱՊԵՏՈՒԹՅԱՆ ԿԱՌԱՎԱՐՈՒԹՅԱՆ 2022 ԹՎԱԿԱՆԻ ԴԵԿՏԵՄԲԵՐԻ 29-Ի N 2111-Ն ՈՐՈՇՄԱՆ N 3 ԵՎ N 4 ՀԱՎԵԼՎԱԾՆԵՐՈՒՄ ԿԱՏԱՐՎՈՂ ՓՈՓՈԽՈՒԹՅՈՒՆՆԵՐԸ
I8: /հազար դրամ/
B9: Գործառական դասիչը | E9: Ծրագրային դասիչը | G9: Բյուջետային ծախսերի գործառական դասակարգման բաժինների, խմբերի և դասերի, բյուջետային ծրագրերի, միջոցառումների բյուջետային հատկացումնեյի գլխավոր կարգադրիչների անվանումները | H9: Ցուցանիշների փոփոխությունը (ավելացումները նշված են դրական նշանով, իսկ նվազեցումները` փակագծերում)
B10: Բաժին | C10: Խումբ | D10: Դաս | E10: Ծրագիր | F10: Միջոցառում | H10: Ինն ամիս | I10: Տարի
G11: ԸՆԴԱՄԵՆԸ | H11: =+H12 -> 0 | I11: =+I12 -> 0
G12: ՀՀ տարածքային կառավարման և ենթակառուցվածքների նախարարություն | H12: =H31+H13 -> 0 | I12: =I31+I13 -> 0
B13: 01 | G13: ԸՆԴՀԱՆՈՒՐ ԲՆՈՒՅԹԻ ՀԱՆՐԱՅԻՆ ԾԱՌԱՅՈՒԹՅՈՒՆՆԵՐ | H13: =+H15 -> 28849 | I13: =+I15 -> 28849
G14: այդ թվում`
C15: 01 | G15: Օրենսդիր և գործադիր մարմիններ, պետական կառավարում, ֆինանսական և հարկաբյուջետային հարաբերություններ, արտաքին հարաբերություններ | H15: =+H17 -> 28849 | I15: =+I17 -> 28849
G16: այդ թվում`
D17: 01 | G17: Օրենսդիր և գործադիր մարմիններ, պետական կառավարում | H17: =H23 -> 28849 | I17: =I23 -> 28849
G18: այդ թվում`
G19: =+'havelvac 1'!D11 -> ՀՀ տարածքային կառավարման և ենթակառուցվածքների նախարարություն | H19: =+H23 -> 28849 | I19: =+I23 -> 28849
G20: այդ թվում`
E21: 1001 | G21: Տարածքային կառավարման ոլորտում քաղաքականության մշակում, ծրագրերի համակարգում և մոնիտորինգի իրականացում | H21: =+H23 -> 28849 | I21: =+I23 -> 28849
G22: այդ թվում`
F23: 11001 | G23: Տարածքային կառավարման և ենթակառուցվածքների քաղաքականության մշակում և ծառայությունների մատուցում | H23: =+H25 -> 28849 | I23: =+I25 -> 28849
G24: այդ թվում` ըստ կատարողների
G25: ՀՀ տարածքային կառավարման և ենթակառուցվածքների նախարարություն | H25: =+H27 -> 28849 | I25: =+I27 -> 28849
G26: այդ թվում` բյուջետային ծախսերի տնտեսագիտական դասակարգման հոդվածներ
G27: ԸՆԴԱՄԵՆԸ ԾԱԽՍԵՐ | H27: =+H28 -> 28849 | I27: =+I28 -> 28849
G28: ԸՆԹԱՑԻԿ ԾԱԽՍԵՐ | H28: =+H29 -> 28849 | I28: =+I29 -> 28849
G29: ԱՅԼ ԾԱԽՍԵՐ | H29: =+H30 -> 28849 | I29: =+I30 -> 28849
G30: Հարկեր, պարտադիր վճարներ և տույժեր, որոնք կառավարման տարբեր մակարդակների կողմից կիրառվում են միմյանց նկատմամբ | H30: =-H31 -> 28849 | I30: =+H30 -> 28849
B31: 04 | G31: ՏՆՏԵՍԱԿԱՆ ՀԱՐԱԲԵՐՈՒԹՅՈՒՆՆԵՐ | H31: =+H33 -> -28849 | I31: =+I33 -> -28849
G32: այդ թվում`
C33: 02 | G33: Գյուղատնտեսություն, անտառային տնտեսություն, ձկնորսություն և որսորդություն | H33: -28849 | I33: -28849
G34: այդ թվում`
D35: 04 | G35: Ոռոգում | H35: -28849 | I35: -28849
G36: այդ թվում`
G37: ՀՀ ՏԱՐԱԾՔԱՅԻՆ ԿԱՌԱՎԱՐՄԱՆ ԵՎ ԵՆԹԱԿԱՌՈՒՑՎԱԾՔՆԵՐԻ ՆԱԽԱՐԱՐՈՒԹՅՈՒՆ | H37: -28849 | I37: -28849
G38: այդ թվում`
E39: 1004 | G39: Ոռոգման համակարգի առողջացում | H39: -28849 | I39: -28849
G40: այդ թվում`
F41: 11010 | G41: Գերմանիայի զարգացման վարկերի բանկի աջակցությամբ իրականացվող Ախուրյան գետի ջրային ռեսուրսների ինտեգրացված կառավարում փուլ 1 ծրագրով Ջրաձոր գյուղի վերաբնակեցման գործողությունների խորհրդատվություն և կառավարում | H41: -28849 | I41: -28849
G42: այդ թվում` ըստ կատարողների
G43: ՀՀ տարածքային կառավարման և ենթակառուցվածքների նախարարության ջրային կոմիտե | H43: -28849 | I43: -28849
G44: այդ թվում` բյուջետային ծախսերի տնտեսագիտական դասակարգման հոդվածներ
G45: ԸՆԴԱՄԵՆԸ ԾԱԽՍԵՐ | H45: -28849 | I45: -28849
G46: ԸՆԹԱՑԻԿ ԾԱԽՍԵՐ | H46: =H47 -> -28849 | I46: =I47 -> -28849
G47: ԴՐԱՄԱՇՆՈՐՀՆԵՐ | H47: =H48 -> -28849 | I47: =I48 -> -28849
G48: Ընթացիկ դրամաշնորհներ պետական հատվածի այլ մակարդակներին | H48: =H49 -> -28849 | I48: =I49 -> -28849
G49: - Այլ ընթացիկ դրամաշնորհներ | H49: =-H30 -> -28849 | I49: =-I30 -> -28849
C52: ՀԱՅԱՍՏԱՆԻ ՀԱՆՐԱՊԵՏՈՒԹՅԱՆ ՎԱՐՉԱՊԵՏԻ ԱՇԽԱՏԱԿԱԶՄԻ ՂԵԿԱՎԱՐ՝ | H52: Ա.ՀԱՐՈՒԹՅՈՒՆՅԱՆ

Sheet 3
J1: Հավելված N3
J2: ՀՀ կառավարության 2023 թվականի
J3: ______________ ի ___Ն որոշման
B5: «ՀԱՅԱUՏԱՆԻ ՀԱՆՐԱՊԵՏՈՒԹՅԱՆ 2023 ԹՎԱԿԱՆԻ ՊԵՏԱԿԱՆ ԲՅՈՒՋԵԻ ՄԱUԻՆ» OՐԵՆՔԻ N 1 ՀԱՎԵԼՎԱԾԻ N 4 ԱՂՅՈՒՍԱԿՈՒՄ ԵՎ ՀԱՅԱՍՏԱՆԻ ՀԱՆՐԱՊԵՏՈՒԹՅԱՆ ԿԱՌԱՎԱՐՈՒԹՅԱՆ 2022 ԹՎԱԿԱՆԻ ԴԵԿՏԵՄԲԵՐԻ 29-Ի N 2111-Ն ՈՐՈՇՄԱՆ N 5 ՀԱՎԵԼՎԱԾԻ N 3 ԱՂՅՈՒՍԱԿՈՒՄ ԿԱՏԱՐՎՈՂ ՓՈՓՈԽՈՒԹՅՈՒՆՆԵՐԸ
J6: հազ. դրամ
B7: Ծրագրային դասիչը | D7: Բյուջետային գլխավոր կարգադրիչների, ծրագրերի և միջոցառումների անվանումները | E7: Ցուցանիշների փոփոխությունը (նվազեցումները նշված են փակագծերում)
E8: Ինն ամիս | H8: Տարի
E9: Ընդամենը | F9: այդ թվում` | H9: Ընդամենը | I9: այդ թվում`
B10: Ծրագիր | C10: Միջոց առում | F10: Վարկային միջոցներ | G10: Համաֆինան սավորում | I10: Վարկային միջոցներ | J10: Համաֆինան սավորում
D11: ԸՆԴԱՄԵՆԸ | E11: =+F11+G11 -> -28849 | F11: =+F13 -> 0 | G11: =+G13 -> -28849 | H11: =+I11+J11 -> -28849 | I11: =+I13 -> 0 | J11: =+J13 -> -28849
D12: այդ թվում`
D13: ԸՆԹԱՑԻԿ ԾԱԽՍԵՐ | E13: =+F13+G13 -> -28849 | F13: =+F14 -> 0 | G13: =+G14 -> -28849 | H13: =+I13+J13 -> -28849 | I13: =+I14 -> 0 | J13: =+J14 -> -28849
D14: ՀՀ ՏԱՐԱԾՔԱՅԻՆ ԿԱՌԱՎԱՐՄԱՆ ԵՎ ԵՆԹԱԿԱՌՈՒՑՎԱԾՔՆԵՐԻ ՆԱԽԱՐԱՐՈՒԹՅՈՒՆ | E14: =+F14+G14 -> -28849 | F14: =+F15 -> 0 | G14: =+G15 -> -28849 | H14: =+I14+J14 -> -28849 | I14: =+I15 -> 0 | J14: =+J15 -> -28849
B15: 1004 | D15: Ոռոգման համակարգի առողջացում | E15: =+F15+G15 -> -28849 | F15: =+F17 -> 0 | G15: =+G17 -> -28849 | H15: =+I15+J15 -> -28849 | I15: =+I17 -> 0 | J15: =+J17 -> -28849
D16: այդ թվում`
C17: 11010 | D17: Գերմանիայի զարգացման վարկերի բանկի աջակցությամբ իրականացվող Ախուրյան գետի ջրային ռեսուրսների ինտեգրացված կառավարում փուլ 1 ծրագրով Ջրաձոր գյուղի վերաբնակեցման գործողությունների խորհրդատվություն և կառավարում | E17: =+F17+G17 -> -28849 | F17: =+F19 -> 0 | G17: =+G19 -> -28849 | H17: =+I17+J17 -> -28849 | I17: =+I19 -> 0 | J17: =+J19 -> -28849
D18: այդ թվում` ըստ կատարողների
D19: ՀՀ տարածքային կառավարման և ենթակառուցվածքների նախարարության ջրային կոմիտե | E19: =F19+G19 -> -28849 | F19: =+F21 -> 0 | G19: =+G21 -> -28849 | H19: =I19+J19 -> -28849 | I19: =+I21 -> 0 | J19: =+J21 -> -28849
D20: այդ թվում` բյուջետային ծախսերի տնտեսագիտական դասակարգման հոդվածներ
D21: ԸՆԴԱՄԵՆԸ ԾԱԽՍԵՐ | E21: =+E22 -> -28849 | F21: =+F22 -> 0 | G21: =+G22 -> -28849 | H21: =+H22 -> -28849 | I21: =+I22 -> 0 | J21: =+J22 -> -28849
D22: ԸՆԹԱՑԻԿ ԾԱԽՍԵՐ | E22: =F22+G22 -> -28849 | F22: =+F23 -> 0 | G22: =+G23 -> -28849 | H22: =I22+J22 -> -28849 | I22: =+I23 -> 0 | J22: =J25 -> -28849
D23: ԴՐԱՄԱՇՆՈՐՀՆԵՐ | E23: =+F23+G23 -> -28849 | F23: =+F24 -> 0 | G23: =+G24 -> -28849 | H23: =+I23+J23 -> -28849 | I23: =+I24 -> 0 | J23: =+J24 -> -28849
D24: Ընթացիկ դրամաշնորհներ պետական հատվածի այլ մակարդակներին | E24: =+F24+G24 -> -28849 | F24: =+F25 -> 0 | G24: =+G25 -> -28849 | H24: =+I24+J24 -> -28849 | I24: =+I25 -> 0 | J24: =+J25 -> -28849
D25: - Այլ ընթացիկ դրամաշնորհներ | E25: =+F25+G25 -> -28849 | F25: 0 | G25: =+'havelvac 2'!H49 -> -28849 | H25: =+I25+J25 -> -28849 | I25: 0 | J25: =+G25 -> -28849
E26: =+#REF!-#REF! -> #REF!

Sheet havelvac 4
E2: Հավելված N 4
E3: ՀՀ կառավարության 2023 թվականի
E4: ______________ ի ___Ն որոշման
A6: ՀԱՅԱՍՏԱՆԻ ՀԱՆՐԱՊԵՏՈՒԹՅԱՆ ԿԱՌԱՎԱՐՈՒԹՅԱՆ 2022 ԹՎԱԿԱՆԻ ԴԵԿՏԵՄԲԵՐԻ 29-Ի ԹԻՎ 2111-Ն ՈՐՈՇՄԱՆ N 9 ՀԱՎԵԼՎԱԾԻ N 9.7 ԱՂՅՈՒՍԱԿՈՒՄ ԿԱՏԱՐՎՈՂ ՓՈՓՈԽՈՒԹՅՈՒՆՆԵՐԸ
E7: Աղյուսակ 9.7
A8: ՀՀ տարածքային կառավարման և ենթակառուցվածքների նախարարություն
A10: ՄԱՍ 2. ՊԵՏԱԿԱՆ ՄԱՐՄՆԻ ԳԾՈՎ ԱՐԴՅՈՒՆՔԱՅԻՆ (ԿԱՏԱՐՈՂԱԿԱՆ) ՑՈՒՑԱՆԻՇՆԵՐԸ
B12: Ծրագրի դասիչը | C12: Ծրագրի անվանումը
B13: =+'havelvac 2'!E21 -> 1001 | C13: =+'havelvac 2'!G21 -> Տարածքային կառավարման ոլորտում քաղաքականության մշակում, ծրագրերի համակարգում և մոնիտորինգի իրականացում
B15: Ծրագրի դասիչը՝ | C15: =+'havelvac 2'!E21 -> 1001 | D15: Ցուցանիշների փոփոխությունը (ավելացումները նշված են դրական նշանով)
B16: Միջոցառման դասիչը՝ | C16: =+'havelvac 2'!F23 -> 11001 | D16: Ինն ամիս | E16: Տարի
B17: Միջոցառման անվանումը՝ | C17: =+'havelvac 2'!G23 -> Տարածքային կառավարման և ենթակառուցվածքների քաղաքականության մշակում և ծառայությունների մատուցում
B18: Նկարագրությունը՝ | C18: =+'havelvac 1'!D22 -> Տարածքային կառավարման և ենթակառուցվածքների բնագավառում պետական քաղաքականության մշակման և դրա կատարման համակարգման, պետական ծրագրերի մշակման, իրականացման, մոնիտորինգի, խորհրդատվության և աջակցության ծառայություններ
B19: Միջոցառման տեսակը՝ | C19: =+'havelvac 1'!D24 -> Ծառայությունների մատուցում
B20: Արդյունքի չափորոշիչներ
B21: Միջոցառման վրա կատարվող ծախսը (հազար դրամ) | D21: =+'havelvac 1'!E12 -> 28849 | E21: =+'havelvac 1'!F12 -> 28849
B23: Ծրագրի դասիչը | C23: Ծրագրի անվանումը
B24: 1004 | C24: Ոռոգման համակարգի առողջացում
B25: Ծրագրի միջոցառումները
B26: Ծրագրի դասիչը` | C26: 1004 | D26: Ցուցանիշների փոփոխությունը (նվազեցումները նշված են փակագծերում)
B27: Միջոցառման դասիչը` | C27: 11010 | D27: Ինն ամիս | E27: Տարի
B28: Միջոցառման անվանումը` | C28: Գերմանիայի զարգացման վարկերի բանկի աջակցությամբ իրականացվող Ախուրյան գետի ջրային ռեսուրսների ինտեգրացված կառավարում փուլ 1 ծրագրով Ջրաձոր գյուղի վերաբնակեցման գործողությունների խորհրդատվություն և կառավարում
B29: Նկարագրությունը` | C29: Գերմանիայի զարգացման վարկերի բանկի աջակցությամբ իրականացվող Ախուրյան գետի ջրային ռեսուրսների ինտեգրացված կառավարում փուլ 1 ծրագրով Ջրաձոր գյուղի վերաբնակեցման գործողությունների համակարգում և ղեկավարում
B30: Միջոցառման տեսակը` | C30: Ծառայությունների մատուցում
B31: Ակտիվն օգտագործող կազմակերպության(ների) անվանում(ները)՛ | C31: Մասնագիտացված միավոր
B32: Արդյունքի չափորոշիչներ
B33: Միջոցառման վրա կատարվող ծախսը (հազար դրամ) | D33: =-D21 -> -28849 | E33: =-E21 -> -28849
A37: ՀԱՅԱՍՏԱՆԻ ՀԱՆՐԱՊԵՏՈՒԹՅԱՆ
A38: ՎԱՐՉԱՊԵՏԻ ԱՇԽԱՏԱԿԱԶՄԻ
B39: ՂԵԿԱՎԱՐ՝ Ա.ՀԱՐՈՒԹՅՈՒՆՅԱՆ

Sheet havelvac 5
E2: Հավելված N 5
E3: ՀՀ կառավարության 2023 թվականի
E4: ______________ ի ___Ն որոշման
A6: ՀԱՅԱՍՏԱՆԻ ՀԱՆՐԱՊԵՏՈՒԹՅԱՆ ԿԱՌԱՎԱՐՈՒԹՅԱՆ 2022 ԹՎԱԿԱՆԻ ԴԵԿՏԵՄԲԵՐԻ 29-Ի ԹԻՎ 2111-Ն ՈՐՈՇՄԱՆ N 9.1 ՀԱՎԵԼՎԱԾԻ NN 9.1.7 ԵՎ 9.1.25 ԱՂՅՈՒՍԱԿՆԵՐՈՒՄ ԿԱՏԱՐՎՈՂ ՓՈՓՈԽՈՒԹՅՈՒՆՆԵՐԸ
E7: Աղյուսակ 9.1.7
A8: ՀՀ տարածքային կառավարման և ենթակառուցվածքների նախարարություն
A10: ՄԱՍ 1. ՊԵՏԱԿԱՆ ՄԱՐՄՆԻ ԳԾՈՎ ԱՐԴՅՈՒՆՔԱՅԻՆ (ԿԱՏԱՐՈՂԱԿԱՆ) ՑՈՒՑԱՆԻՇՆԵՐԸ
B12: Ծրագրի դասիչը | C12: Ծրագրի անվանումը
B13: =+'havelvac 4'!B13 -> 1001 | C13: =+'havelvac 1'!D13 -> Տարածքային կառավարման ոլորտում քաղաքականության մշակում, ծրագրերի համակարգում և մոնիտորինգի իրականացում
B15: Ծրագրի միջոցառումները
B16: Ծրագրի դասիչը՝ | C16: =+'havelvac 4'!C15 -> 1001 | D16: Ցուցանիշների փոփոխությունը (ավելացումները նշված են դրական նշանով)
B17: Միջոցառման դասիչը՝ | C17: =+'havelvac 4'!C16 -> 11001 | D17: Ինն ամիս | E17: Տարի
B18: Միջոցառման անվանումը՝ | C18: =+'havelvac 4'!C17 -> Տարածքային կառավարման և ենթակառուցվածքների քաղաքականության մշակում և ծառայությունների մատուցում
B19: Նկարագրությունը՝ | C19: =+'havelvac 4'!C18 -> Տարածքային կառավարման և ենթակառուցվածքների բնագավառում պետական քաղաքականության մշակման և դրա կատարման համակարգման, պետական ծրագրերի մշակման, իրականացման, մոնիտորինգի, խորհրդատվության և աջակցության ծառայություններ
B20: Միջոցառման տեսակը՝ | C20: =+'havelvac 4'!C19 -> Ծառայությունների մատուցում
B21: Արդյունքի չափորոշիչներ
B22: Միջոցառման վրա կատարվող ծախսը (հազար դրամ) | D22: =+'havelvac 1'!E12 -> 28849 | E22: =+'havelvac 1'!F12 -> 28849
E24: Աղյուսակ 9.1.25
B25: ՀՀ տարածքային կառավարման և ենթակառուցվածքների նախարարության ջրային կոմիտե
B27: ՄԱՍ 1. ՊԵՏԱԿԱՆ ՄԱՐՄՆԻ ԳԾՈՎ ԱՐԴՅՈՒՆՔԱՅԻՆ (ԿԱՏԱՐՈՂԱԿԱՆ) ՑՈՒՑԱՆԻՇՆԵՐԸ
B30: Ծրագրի դասիչը | C30: Ծրագրի անվանումը
B31: 1004 | C31: Ոռոգման համակարգի առողջացում
B33: Ծրագրի միջոցառումները
B35: Ծրագրի դասիչը` | C35: 1004 | D35: Ցուցանիշների փոփոխությունը (նվազեցումները նշված են փակագծերում)
B36: Միջոցառման դասիչը` | C36: 11010 | D36: Ինն ամիս | E36: Տարի
B37: Միջոցառման անվանումը` | C37: Գերմանիայի զարգացման վարկերի բանկի աջակցությամբ իրականացվող Ախուրյան գետի ջրային ռեսուրսների ինտեգրացված կառավարում փուլ 1 ծրագրով Ջրաձոր գյուղի վերաբնակեցման գործողությունների խորհրդատվություն և կառավարում
B38: Նկարագրությունը` | C38: Գերմանիայի զարգացման վարկերի բանկի աջակցությամբ իրականացվող Ախուրյան գետի ջրային ռեսուրսների ինտեգրացված կառավարում փուլ 1 ծրագրով Ջրաձոր գյուղի վերաբնակեցման գործողությունների համակարգում և ղեկավարում
B39: Միջոցառման տեսակը` | C39: Ծառայությունների մատուցում
B40: Ակտիվն օգտագործող կազմակերպության(ների) անվանում(ները)՛ | C40: Մասնագիտացված միավոր
B41: Արդյունքի չափորոշիչներ
B42: Միջոցառման վրա կատարվող ծախսը (հազար դրամ) | D42: =-D22 -> -28849 | E42: =-E22 -> -28849
A45: ՀԱՅԱՍՏԱՆԻ ՀԱՆՐԱՊԵՏՈՒԹՅԱՆ
A46: ՎԱՐՉԱՊԵՏԻ ԱՇԽԱՏԱԿԱԶՄԻ
B47: ՂԵԿԱՎԱՐ՝ Ա.ՀԱՐՈՒԹՅՈՒՆՅԱՆ
