Workbook

Sheet Հավելված 1
E1: Հավելված № 1
E2: ՀՀ կառավարության 2023 թվականի
E3: ------------ N ---------- որոշման
A5: «ՀԱՅԱՍՏԱՆԻ ՀԱՆՐԱՊԵՏՈՒԹՅԱՆ 2023 ԹՎԱԿԱՆԻ ՊԵՏԱԿԱՆ ԲՅՈՒՋԵԻ ՄԱՍԻՆ» ՕՐԵՆՔԻ N 1 ՀԱՎԵԼՎԱԾԻ N 2 ԱՂՅՈՒՍԱԿՈՒՄ ԿԱՏԱՐՎՈՂ ՎԵՐԱԲԱՇԽՈՒՄԸ ԵՎ ՀԱՅԱՍՏԱՆԻ ՀԱՆՐԱՊԵՏՈՒԹՅԱՆ ԿԱՌԱՎԱՐՈՒԹՅԱՆ 2022 ԹՎԱԿԱՆԻ ԴԵԿՏԵՄԲԵՐԻ 29-Ի N 2111-Ն ՈՐՈՇՄԱՆN 5 ՀԱՎԵԼՎԱԾԻ N 1 ԱՂՅՈՒՍԱԿՈՒՄ ԿԱՏԱՐՎՈՂ ՓՈՓՈԽՈՒԹՅՈՒՆՆԵՐԸ
E6: հազար դրամներով
A7: Ծրագրային դասիչը | C7: Բյուջետային հատկացումների գլխավոր կարգադրիչների, ծրագրերի և միջոցառումների անվանումները | D7: Ցուցանիշների փոփոխությունները (ավելացումները նշված են դրական նշանով, իսկ նվազեցումները՝ փակագծերում)
D8: Ինն ամիս | E8: Տարի
A9: Ծրագիր | B9: Միջոցառում
C10: ԸՆԴԱՄԵՆԸ | D10: =+D11 -> 0 | E10: =+E11 -> 0
C11: ՀՀ էկոնոմիկայի նախարարություն | D11: =+D12+D25 -> 0 | E11: =+E12+E25 -> 0
A12: 1022 | C12: Ծրագրի անվանումը` | D12: =+D19 -> 55966.1 | E12: =+E19 -> 66477.6
C13: Գյուղատնտեսության խթանման ծրագիր
C14: Ծրագրի նպատակը`
C15: Գյուղատնտեսական մթերքի և դրանց վերամշակումից ստացվող սննդամթերքի ծավալների ավելացում
C16: Վերջնական արդյունքի նկարագրությունը`
C17: Գյուղատնտեսական մթերքների ծավալների ավելացում: Օգտագործվող վարելահողերի ավելացում: Պտուղբանջարեղենի և խաղողի վերամշակումից ստացված արտադրանքի ծավալների աճ
A18: Ծրագրի միջոցառումներ
B19: 11002 | C19: Միջոցառման անվանումը` | D19: 55966.1 | E19: 66477.6
C20: Պետական աջակցություն Հայաստանի Հանրապետության գյուղատնտեսական ծրագրերի իրականացմանը
C21: Միջոցառման նկարագրությունը`
C22: Աջակցություն Հայաստանի Հանրապետության բուսաբուծության խթանման, բույսերի պաշտպանության և անասնաբուժական ծրագրերի իրականացմանը
C23: Միջոցառման տեսակը
C24: Ծառայությունների մատուցում
A25: 1058 | C25: Ծրագրի անվանումը` | D25: =+D32 -> -55966.1 | E25: =+E32 -> -66477.6
C26: Էկոնոմիկայի ոլորտում պետական քաղաքականության մշակում, ծրագրերի համակարգում և մոնիտորինգ
C27: Ծրագրի նպատակը`
C28: Էկոնոմիկայի ոլորտում պետական արդյունավետ քաղաքականության մշակման և իրականացման ապահովում
C29: Վերջնական արդյունքի նկարագրությունը`
C30: Էկոնոմիկայի ոլորտում իրականացվող ծրագրերի ազդեցության և արդյունավետության բարելավում
A31: Ծրագրի միջոցառումներ
B32: 11001 | C32: Միջոցառման անվանումը` | D32: -55966.1 | E32: -66477.6
C33: Էկոնոմիկայի ոլորտում պետական քաղաքականության մշակում, ծրագրերի համակարգում և մոնիտորինգ
C34: Միջոցառման նկարագրությունը`
C35: Քաղաքականության մշակման և դրա կատարման համակարգման, պետական ծրագրերի պլանավորման, մշակման, իրականացման և մոնիտորինգի (վերահսկման) ծառայություններ
C36: Միջոցառման տեսակը
C37: Ծառայությունների մատուցում

Sheet Հավելված 2
G1: Հավելված № 2
A5: ՀԱՅԱՍՏԱՆԻ ՀԱՆՐԱՊԵՏՈՒԹՅԱՆ ԿԱՌԱՎԱՐՈՒԹՅԱՆ 2022 ԹՎԱԿԱՆԻ ԴԵԿՏԵՄԲԵՐԻ 29 Ի N 2111-Ն ՈՐՈՇՄԱՆ N 3 և N 4 ՀԱՎԵԼՎԱԾՆԵՐՈՒՄ ԿԱՏԱՐՎՈՂ ՓՈՓՈԽՈՒԹՅՈՒՆՆԵՐԸ
H6: հազար դրամ
A7: Գործառական դասիչը | D7: Ծրագրային դասիչը | F7: Բյուջետային ծախսերի գործառական դասակարգման բաժինների, խմբերի և դասերի, բյուջետային ծրագրերի միջոցառումների, բյուջետային հատկացումների գլխավոր կարգադրիչների անվանումները | G7: Ցուցանիշների փոփոխությունները (ավելացումները նշված են դրական նշանով, իսկ նվազեցումները՝ փակագծերում)
G8: Ինն ամիս | H8: Տարի
A9: Բաժին | B9: Խումբ | C9: Դաս | D9: Ծրագիր | E9: Միջոցառում
F10: ԸՆԴԱՄԵՆԸ ԾԱԽՍԵՐ | G10: =+G14 -> 0 | H10: =+H14 -> 0
F11: այդ թվում`
F12: ՀՀ էկոնոմիկայի նախարարություն
F13: այդ թվում`
A14: 04 | F14: ՏՆՏԵՍԱԿԱՆ ՀԱՐԱԲԵՐՈՒԹՅՈՒՆՆԵՐ | G14: =+G16 -> 0 | H14: =+H16 -> 0
F15: այդ թվում`
B16: 02 | F16: Գյուղատնտեսություն, անտառային տնտեսություն, ձկնորսություն և որսորդություն | G16: =+G18 -> 0 | H16: =+H18 -> 0
F17: այդ թվում`
C18: 01 | F18: Գյուղատնտեսություն | G18: =+G20+G35 -> 0 | H18: =+H20+H35 -> 0
F19: այդ թվում`
D20: 1022 | F20: Գյուղատնտեսության խթանման ծրագիր | G20: =+G22 -> 55966.1 | H20: =+H22 -> 66477.6
F21: այդ թվում`
E22: 11002 | F22: Պետական աջակցություն Հայաստանի Հանրապետության գյուղատնտեսական ծրագրերի իրականացմանը | G22: =+G24 -> 55966.1 | H22: =+H24 -> 66477.6
F23: այդ թվում` ըստ կատարողների
F24: ՀՀ էկոնոմիկայի նախարարություն | G24: =+G26 -> 55966.1 | H24: =+H26 -> 66477.6
F25: այդ թվում` բյուջետային ծախսերի տնտեսագիտական դասակարգման հոդվածներ
F26: ԸՆԴԱՄԵՆԸ ԾԱԽՍԵՐ | G26: =+G27 -> 55966.1 | H26: =+H27 -> 66477.6
F27: ԸՆԹԱՑԻԿ ԾԱԽՍԵՐ | G27: =+G28 -> 55966.1 | H27: =+H28 -> 66477.6
F28: ԴՐԱՄԱՇՆՈՐՀՆԵՐ | G28: =+G29 -> 55966.1 | H28: =+H29 -> 66477.6
F29: Ընթացիկ դրամաշնորհներ պետական հատվածի այլ մակարդակներին | G29: =+G30 -> 55966.1 | H29: =+H30 -> 66477.6
F30: - Ընթացիկ դրամաշնորհներ պետական և համայնքների ոչ առևտրային կազմակերպություններին | G30: =+'Հավելված 1'!D19 -> 55966.1 | H30: =+'Հավելված 1'!E19 -> 66477.6
B31: 01 | F31: Ընդհանուր բնույթի տնտեսական, առևտրային և աշխատանքի գծով հարաբերություններ | G31: =+G33 -> -55966.1 | H31: =+H33 -> -66477.6
F32: այդ թվում`
C33: 01 | F33: Ընդհանուր բնույթի տնտեսական և առևտրային հարաբերություններ | G33: =+G35 -> -55966.1 | H33: =+H35 -> -66477.6
F34: այդ թվում`
D35: 1058 | F35: Էկոնոմիկայի ոլորտում պետական քաղաքականության մշակում, ծրագրերի համակարգում և մոնիտորինգ | G35: =+G37 -> -55966.1 | H35: =+H37 -> -66477.6
F36: այդ թվում`
E37: 11001 | F37: Էկոնոմիկայի ոլորտում պետական քաղաքականության մշակում, ծրագրերի համակարգում և մոնիտորինգ | G37: =+G39 -> -55966.1 | H37: =+H39 -> -66477.6
F38: այդ թվում` ըստ կատարողների
F39: ՀՀ էկոնոմիկայի նախարարություն | G39: =+G41 -> -55966.1 | H39: =+H41 -> -66477.6
F40: այդ թվում` բյուջետային ծախսերի տնտեսագիտական դասակարգման հոդվածներ
F41: ԸՆԴԱՄԵՆԸ ԾԱԽՍԵՐ | G41: =+G42 -> -55966.1 | H41: =+H42 -> -66477.6
F42: ԸՆԹԱՑԻԿ ԾԱԽՍԵՐ | G42: =+G43 -> -55966.1 | H42: =+H43 -> -66477.6
F43: ԱՇԽԱՏԱՆՔԻ ՎԱՐՁԱՏՐՈՒԹՅՈՒՆ | G43: =+G44 -> -55966.1 | H43: =+H44 -> -66477.6
...

Sheet Հավելված 3
G1: Հավելված № 3
F2: ՀՀ կառավարության 2023 թվականի
G3: № ------------ -Ն որոշման
B5: ՀԱՅԱՍՏԱՆԻ ՀԱՆՐԱՊԵՏՈՒԹՅԱՆ ԿԱՌԱՎԱՐՈՒԹՅԱՆ 2022 ԹՎԱԿԱՆԻ ԴԵԿՏԵՄԲԵՐԻ 29-Ի N 2111-Ն ՈՐՈՇՄԱՆ N 5 ՀԱՎԵԼՎԱԾԻ 7 ԱՂՅՈՒՍԱԿՈՒՄ ԿԱՏԱՐՎՈՂ ՓՈՓՈԽՈՒԹՅՈՒՆԸ
H6: հազար դրամներով
B7: Ծրագրային դասիչ | D7: Բյուջետային հատկացումների գլխավոր կարգադրիչների, ծրագրերի, միջոցառումների, ծախսային ուղղությունների անվանումները | G7: Միջոցառումները կատարող պետական մարմինների և դրամաշնորհ ստացող տնտեսվարող սուբյեկտների անվանումները | H7: Տարի
B8: Ծրագիր | C8: Միջոցառում | H8: Ցուցանիշների փոփոխությունը (ավելացումները նշված են դրական նշանով)
B9: 1 | C9: 2 | D9: 3 | G9: 4 | H9: 5
B10: ԸՆԴԱՄԵՆԸ | H10: =+H11 -> 66477.6
B11: ՀՀ էկոնոմիկայի նախարարություն | H11: =+H12 -> 66477.6
B12: 1022 | C12: Գյուղատնտեսության խթանման ծրագիր | H12: =+H13 -> 66477.6
C13: 11002 | D13: Պետական աջակցություն Հայաստանի Հանրապետության գյուղատնտեսական ծրագրերի իրականացմանը | G13: ՀՀ էկոնոմիկայի նախարարություն | H13: =+H14 -> 66477.6
G14: «Գյուղատնտեսական ծառայությունների կենտրոն» ՊՈԱԿ | H14: =+'Հավելված 1'!E19 -> 66477.6

Sheet Հավելված 4 
D1: Հավելված № 4
D3: № ------------ -Ն որոշման
A5: ՀԱՅԱՍՏԱՆԻ ՀԱՆՐԱՊԵՏՈՒԹՅԱՆ ԿԱՌԱՎԱՐՈՒԹՅԱՆ 2022 ԹՎԱԿԱՆԻ ԴԵԿՏԵՄԲԵՐԻ 29-Ի N 2111-Ն ՈՐՈՇՄԱՆ N 9 ՀԱՎԵԼՎԱԾԻ 9.10 ԱՂՅՈՒՍԱԿՈՒՄ ԵՎ N 9.1 ՀԱՎԵԼՎԱԾԻ 9.1.10 ԱՂՅՈՒՍԱԿՈՒՄ ԿԱՏԱՐՎՈՂ ՓՈՓՈԽՈՒԹՅՈՒՆՆԵՐԸ
A7: ՀՀ էկոնոմիկայի նախարարություն
A8: ՄԱՍ 1. ՊԵՏԱԿԱՆ ՄԱՐՄՆԻ ԳԾՈՎ ԱՐԴՅՈՒՆՔԱՅԻՆ (ԿԱՏԱՐՈՂԱԿԱՆ) ՑՈՒՑԱՆԻՇՆԵՐԸ
E9: ՀԱՅԱՍՏԱՆԻ ՀԱՆՐԱՊԵՏՈՒԹՅԱՆ ԿԱՌԱՎԱՐՈՒԹՅԱՆ 2021 ԹՎԱԿԱՆԻ ԴԵԿՏԵՄԲԵՐԻ 23-Ի N 2121-Ն ՈՐՈՇՄԱՆ N 9 ՀԱՎԵԼՎԱԾԻ 9.10 ԱՂՅՈՒՍԱԿՈՒՄ N 9.1 ՀԱՎԵԼՎԱԾԻ 9.1.10 ԱՂՅՈՒՍԱԿՈՒՄ ԿԱՏԱՐՎՈՂ ՓՈՓՈԽՈՒԹՅՈՒՆՆԵՐԸ ԵՎ ԼՐԱՑՈՒՄԸ
A10: Ծրագրի դասիչը | B10: Ծրագրի անվանումը
A11: 1022 | B11: Գյուղատնտեսության խթանման ծրագիր
A13: Ծրագրի միջոցառումները
A14: Ծրագրի դասիչը` | B14: 1022 | C14: Ցուցանիշների փոփոխությունը (ավելացումները նշված են դրական նշանով)
A15: Միջոցառման դասիչը` | B15: 11002 | C15: Ինն ամիս | D15: Տարի
A16: Միջոցառման անվանումը` | B16: Պետական աջակցություն Հայաստանի Հանրապետության գյուղատնտեսական ծրագրերի իրականացմանը
A17: Նկարագրությունը` | B17: Աջակցություն Հայաստանի Հանրապետության բուսաբուծության խթանման, բույսերի պաշտպանության և անասնաբուժական ծրագրերի իրականացմանը
A18: Միջոցառման տեսակը` | B18: Ծառայությունների մատուցում
A19: Միջոցառումն իրականացնողի անվանումը՛ | B19: Մասնագիտացված կազմակերպություններ
A20: Արդյունքի չափորոշիչներ
A21: Միջոցառման վրա կատարվող ծախսը (հազար դրամ) | C21: =+'Հավելված 1'!D19 -> 55966.1 | D21: =+'Հավելված 1'!E19 -> 66477.6
A25: Ծրագրի դասիչը` | B25: 1058 | C25: Ցուցանիշների փոփոխությունները (նվազեցումները նշված են փակագծերում)
A26: Միջոցառման դասիչը` | B26: 11001 | C26: Ինն ամիս | D26: Տարի
A27: Միջոցառման անվանումը` | B27: Էկոնոմիկայի ոլորտում պետական քաղաքականության մշակում, ծրագրերի համակարգում և մոնիտորինգ
A28: Նկարագրությունը` | B28: Քաղաքականության մշակման և դրա կատարման համակարգման, պետական ծրագրերի պլանավորման, մշակման, իրականացման և մոնիտորինգի (վերահսկման) ծառայություններ
A29: Միջոցառման տեսակը` | B29: Ծառայությունների մատուցում
A30: Միջոցառումն իրականացնողի անվանումը՛ | B30: ՀՀ էկոնոմիկայի նախարարություն
A31: Արդյունքի չափորոշիչներ
A32: Միջոցառման վրա կատարվող ծախսը (հազար դրամ) | C32: =+'Հավելված 1'!D32 -> -55966.1 | D32: =+'Հավելված 1'!E32 -> -66477.6
