Workbook

Sheet 1
A1: Հավելված 1
A2: ՀՀ կառավարության 2023 թվականի
A3: ------------ N ---------- որոշման
A5: «ՀԱՅԱՍՏԱՆԻ ՀԱՆՐԱՊԵՏՈՒԹՅԱՆ 2023 ԹՎԱԿԱՆԻ ՊԵՏԱԿԱՆ ԲՅՈՒՋԵԻ ՄԱՍԻՆ» ՀԱՅԱՍՏԱՆԻ ՀԱՆՐԱՊԵՏՈՒԹՅԱՆ ՕՐԵՆՔԻ N 1 ՀԱՎԵԼՎԱԾԻ N 2 ԱՂՅՈՒՍԱԿՈՒՄ ԿԱՏԱՐՎՈՂ ՎԵՐԱԲԱՇԽՈՒՄԸ ՈՒ ԼՐԱՑՈՒՄԸ ԵՎ ՀԱՅԱՍՏԱՆԻ ՀԱՆՐԱՊԵՏՈՒԹՅԱՆ ԿԱՌԱՎԱՐՈՒԹՅԱՆ 2022 ԹՎԱԿԱՆԻ ԴԵԿՏԵՄԲԵՐԻ 29-Ի N 2111-Ն ՈՐՈՇՄԱՆ N 5 ՀԱՎԵԼՎԱԾԻ N 1 ԱՂՅՈՒՍԱԿՈՒՄ ԿԱՏԱՐՎՈՂ ՓՈՓՈԽՈՒԹՅՈՒՆՆԵՐԸ ԵՎ ԼՐԱՑՈՒՄՆԵՐԸ
D6: հազար դրամներով
A7: Ծրագրային դասիչը | C7: Բյուջետային հատկացումների գլխավոր կարգադրիչների, ծրագրերի և միջոցառումների անվանումները | D7: Ցուցանիշների փոփոխությունները (ավելացումները նշված են դրական նշանով,իսկ նվազեցումները՝ փակագծերում)
A8: Ծրագիր | B8: Միջոցառում | D8: Ինն ամիս | E8: Տարի
C9: ԸՆԴԱՄԵՆԸ | D9: =+D10+D24 -> 0 | E9: =+E10+E24 -> 0
C10: ՀՀ Ազգային ժողով | D10: =D11 -> 43800 | E10: =E11 -> 43800
A11: 1024 | C11: Ծրագրի անվանումը` | D11: =+D18 -> 43800 | E11: =+E18 -> 43800
C12: ՀՀ Ազգային ժողովի լիազորությունների իրականացման ապահովում
C13: Ծրագրի նպատակը`
C14: Օրենսդրական դաշտի ձևավորում և կատարելագործում
C15: Վերջնական արդյունքի նկարագրությունը`
C16: Արդյունավետ օրենսդրական դաշտի ապահովում
A17: Ծրագրի միջոցառումներ
B18: 31003 | C18: Միջոցառման անվանումը` | D18: ='3'!G21 -> 43800 | E18: ='3'!H21 -> 43800
C19: ՀՀ Ազգային ժողովի շենքային պայմանների բարելավում
C20: Միջոցառման նկարագրությունը`
C21: ՀՀ Ազգային ժողովի շենք-շինությունների կապիտալ վերանորոգում և նախագծանախահաշվային փաստաթղթերի ձեռքբերում
C22: Միջոցառման տեսակը
C23: Պետական մարմինների կողմից օգտագործվող ոչ ֆինանսական ակտիվների հետ գործառնություններ
C24: ՀՀ կառավարություն | D24: =D25 -> -43800 | E24: =E25 -> -43800
A25: 1139 | C25: Ծրագրի անվանումը` | D25: =D32 -> -43800 | E25: =E32 -> -43800
C26: ՀՀ կառավարության պահուստային ֆոնդ
C27: Ծրագրի նպատակը`
C28: Պետական բյուջեում չկանխատեսված, ինչպես նաև բյուջետային երաշխիքների ապահովման ծախսերի ֆինանսավորման ապահովում
C29: Վերջնական արդյունքի նկարագրությունը`
C30: Պահուստային ֆոնդի կառավարման արդյունավետություն և թափանցիկություն
A31: Ծրագրի միջոցառումներ
B32: 11001 | C32: Միջոցառման անվանումը` | D32: -43800 | E32: -43800
C33: ՀՀ կառավարության պահուստային ֆոնդ
C34: Միջոցառման նկարագրությունը`
C35: ՀՀ պետական բյուջեում նախատեսված ելքերի լրացուցիչ ֆինանսավորման՝ պետական բյուջեում չկանխատեսված ելքերի, ինչպես նաև բյուջետային երաշխիքների ապահովման ելքերի ֆինանսավորման ապահովում
C36: Միջոցառման տեսակը
C37: Ծառայությունների մատուցում

Sheet 2
A1: Հավելված 2
A2: ՀՀ կառավարության 2023 թվականի
A3: ------------ N ---------- որոշման
A5: «ՀԱՅԱՍՏԱՆԻ ՀԱՆՐԱՊԵՏՈՒԹՅԱՆ 2023 ԹՎԱԿԱՆԻ ՊԵՏԱԿԱՆ ԲՅՈՒՋԵԻ ՄԱՍԻՆ» ՀԱՅԱՍՏԱՆԻ ՀԱՆՐԱՊԵՏՈՒԹՅԱՆ ՕՐԵՆՔԻ N 1 ՀԱՎԵԼՎԱԾԻ N 3 ԱՂՅՈՒՍԱԿՈՒՄ ԿԱՏԱՐՎՈՂ LՐԱՑՈՒՄՆԵՐԸ
G6: հազար դրամներով
A7: Ծրագրային դասիչ | C7: Բյուջետային գլխավոր կարգադրիչների, ծրագրերի, միջոցառումների և ուղղությունների անվանումները | D7: Ընդամենը | E7: Ցուցանիշների փոփոխությունները (ավելացումները նշված են դրական նշանով,իսկ նվազեցումները՝ փակագծերում)
E8: այդ թվում՝
A9: Ծրագիր | B9: Միջոցառում | E9: Կառուցման աշխատանքներ | F9: Վերակառուցման, վերանորոգման և վերականգնման աշխատանքներ | G9: Նախագծահե տազոտական, գեոդեզիա- քարտեզագրա կան աշխա տանքներ | H9: Ոչ ֆինանսական այլ ակտիվների ձեռքբերում
C10: ԸՆԴԱՄԵՆԸ | D10: =+D12 -> 43800 | E10: =+E12 -> 0 | F10: =+F12 -> 43800 | G10: =+G12 -> 0 | H10: =+H12 -> 0
C11: այդ թվում՝
C12: =+'1'!C10 -> ՀՀ Ազգային ժողով | D12: =+D14 -> 43800 | E12: =+E14 -> 0 | F12: =+F14 -> 43800 | G12: =+G14 -> 0 | H12: =+H14 -> 0
C13: այդ թվում`
A14: ='1'!A11 -> 1024 | B14: ='1'!B18 -> 31003 | C14: ='1'!C19 -> ՀՀ Ազգային ժողովի շենքային պայմանների բարելավում | D14: =+F14 -> 43800 | F14: =+'3'!G29 -> 43800

Sheet 3
A1: Հավելված 3
A2: ՀՀ կառավարության 2023 թվականի
A3: ------------ N ---------- որոշման
A5: ՀԱՅԱՍՏԱՆԻ ՀԱՆՐԱՊԵՏՈՒԹՅԱՆ ԿԱՌԱՎԱՐՈՒԹՅԱՆ 2022 ԹՎԱԿԱՆԻ ԴԵԿՏԵՄԲԵՐԻ 29-Ի N 2111-Ն ՈՐՈՇՄԱՆ N 3 ԵՎ N 4 ՀԱՎԵԼՎԱԾՆԵՐՈՒՄ ԿԱՏԱՐՎՈՂ ՓՈՓՈԽՈՒԹՅՈՒՆՆԵՐԸ ԵՎ ԼՐԱՑՈՒՄՆԵՐԸ
G6: ='2'!G6 -> հազար դրամներով
A7: Գործառական դասիչը | D7: Ծրագրային դասիչը | F7: Բյուջետային հատկացումների գլխավոր կարգադրիչների, ծրագրերի, միջոցառումների և միջոցառումները կատարող պետական մարմինների անվանումները | G7: Ցուցանիշների փոփոխությունները (ավելացումները նշված են դրական նշանով,իսկ նվազեցումները՝ փակագծերում)
A8: Բաժին | B8: Խումբ | C8: Դաս | D8: Ծրագիր | E8: Միջոցառում | G8: Ինն ամիս | H8: Տարի
F9: ԸՆԴԱՄԵՆԸ | G9: 0 | H9: 0
F10: այդ թվում`
A11: 01 | F11: ԸՆԴՀԱՆՈՒՐ ԲՆՈՒՅԹԻ ՀԱՆՐԱՅԻՆ ԾԱՌԱՅՈՒԹՅՈՒՆՆԵՐ | G11: =G13 -> 43800 | H11: =H13 -> 43800
F12: այդ թվում`
B13: 01 | F13: Օրենսդիր և գործադիր մարմիններ, պետական կառավարում, ֆինանսական և հարկաբյուջետային հարաբերություններ, արտաքին հարաբերություններ | G13: =G15 -> 43800 | H13: =H15 -> 43800
F14: այդ թվում`
C15: 01 | F15: Օրենսդիր և գործադիր մարմիններ, պետական կառավարում | G15: =G17 -> 43800 | H15: =H17 -> 43800
F16: այդ թվում`
F17: =+'1'!C10 -> ՀՀ Ազգային ժողով | G17: =G19 -> 43800 | H17: =H19 -> 43800
F18: այդ թվում`
D19: ='1'!A11 -> 1024 | F19: ='1'!C12 -> ՀՀ Ազգային ժողովի լիազորությունների իրականացման ապահովում | G19: =+G21 -> 43800 | H19: =+H21 -> 43800
F20: այդ թվում`
E21: ='1'!B18 -> 31003 | F21: ՀՀ Ազգային ժողովի շենքային պայմանների բարելավում | G21: =G23 -> 43800 | H21: =H23 -> 43800
F22: այդ թվում` ըստ կատարողների
F23: ՀՀ Ազգային ժողով | G23: =G25 -> 43800 | H23: =H25 -> 43800
F24: այդ թվում` բյուջետային ծախսերի տնտեսագիտական դասակարգման հոդվածներ
F25: ԸՆԴԱՄԵՆԸ ԾԱԽՍԵՐ | G25: =G28 -> 43800 | H25: =H28 -> 43800
F26: ՈՉ ՖԻՆԱՆՍԱԿԱՆ ԱԿՏԻՎՆԵՐԻ ԳԾՈՎ ԾԱԽՍԵՐ | G26: =G27 -> 43800 | H26: =H27 -> 43800
F27: ՀԻՄՆԱԿԱՆ ՄԻՋՈՑՆԵՐ | G27: =G28 -> 43800 | H27: =H28 -> 43800
F28: ՇԵՆՔԵՐ ԵՎ ՇԻՆՈՒԹՅՈՒՆՆԵՐ | G28: =G29 -> 43800 | H28: =H29 -> 43800
F29: - Շենքերի և շինությունների կապիտալ վերանորոգում | G29: 43800 | H29: 43800
A30: 11 | F30: ՀԻՄՆԱԿԱՆ ԲԱԺԻՆՆԵՐԻՆ ՉԴԱՍՎՈՂ ՊԱՀՈՒՍՏԱՅԻՆ ՖՈՆԴԵՐ | G30: =G32 -> -43800 | H30: =H32 -> -43800
F31: այդ թվում`
B32: 01 | F32: ՀՀ կառավարության և համայնքների պահուստային ֆոնդ | G32: =G34 -> -43800 | H32: =H34 -> -43800
F33: այդ թվում`
C34: 01 | F34: ՀՀ կառավարության պահուստային ֆոնդ | G34: =G37 -> -43800 | H34: =H37 -> -43800
F35: այդ թվում`
F36: ՀՀ կառավարություն
D37: 1139 | F37: ՀՀ կառավարության պահուստային ֆոնդ | G37: =G39 -> -43800 | H37: =H39 -> -43800
F38: այդ թվում`
E39: 11001 | F39: ՀՀ կառավարության պահուստային ֆոնդ | G39: =G41 -> -43800 | H39: =H41 -> -43800
F40: այդ թվում` ըստ կատարողների
F41: ՀՀ կառավարություն | G41: =G43 -> -43800 | H41: =H43 -> -43800
...

Sheet 4
A1: Հավելված 4
A2: ՀՀ կառավարության 2021 թվականի
A3: ------------ N ---------- որոշման
A5: ՀԱՅԱՍՏԱՆԻ ՀԱՆՐԱՊԵՏՈՒԹՅԱՆ ԿԱՌԱՎԱՐՈՒԹՅԱՆ 2022 ԹՎԱԿԱՆԻ ԴԵԿՏԵՄԲԵՐԻ 29-Ի N 2111-Ն ՈՐՈՇՄԱՆ N 5 ՀԱՎԵԼՎԱԾԻ N 2 ԱՂՅՈՒՍԱԿՈՒՄ ԿԱՏԱՐՎՈՂ ՓՈՓՈԽՈՒԹՅՈՒՆՆԵՐԸ ԵՎ ԼՐԱՑՈՒՄՆԵՐԸ
D7: հազար դրամներով
A8: Ծրագրային դասիչ | C8: Բյուջետային գլխավոր կարգադրիչների, ծրագրերի, միջոցառումների, միջոցառումները կատարող պետական մարմինների և ուղղությունների անվանումները | D8: Ցուցանիշների փոփոխությունները (ավելացումները նշված են դրական նշանով,իսկ նվազեցումները՝ փակագծերում)
A9: Ծրագիր | B9: Միջոցառում | D9: ='3'!G8 -> Ինն ամիս | E9: ='3'!H8 -> Տարի
C10: ԸՆԴԱՄԵՆԸ | D10: =+D12 -> 43800 | E10: =+E12 -> 43800
C11: այդ թվում՝
C12: =+'1'!C10 -> ՀՀ Ազգային ժողով | D12: =+D14 -> 43800 | E12: =+E14 -> 43800
C13: այդ թվում`
A14: ='1'!A11 -> 1024 | B14: ='1'!B18 -> 31003 | C14: ='1'!C19 -> ՀՀ Ազգային ժողովի շենքային պայմանների բարելավում | D14: =D16 -> 43800 | E14: =E16 -> 43800
C15: այդ թվում` ըստ կատարողների
C16: =+C12 -> ՀՀ Ազգային ժողով | D16: ='1'!D18 -> 43800 | E16: ='1'!E18 -> 43800

Sheet 5
A1: Հավելված 5
A2: ՀՀ կառավարության 2023 թվականի
A3: ------------ N ---------- որոշման
A5: ՀԱՅԱՍՏԱՆԻ ՀԱՆՐԱՊԵՏՈՒԹՅԱՆ ԿԱՌԱՎԱՐՈՒԹՅԱՆ 2022 ԹՎԱԿԱՆԻ ԴԵԿՏԵՄԲԵՐԻ 29-Ի N 2111-Ն ՈՐՈՇՄԱՆ N 9 ՀԱՎԵԼՎԱԾԻ 9.2 ԱՂՅՈՒՍԱԿՈՒՄ ԿԱՏԱՐՎՈՂ ՓՈՓՈԽՈՒԹՅՈՒՆՆԵՐԸ ԵՎ ԼՐԱՑՈՒՄՆԵՐԸ
A7: =+'1'!C10 -> ՀՀ Ազգային ժողով
A8: ՄԱՍ 2. ՊԵՏԱԿԱՆ ՄԱՐՄՆԻ ԳԾՈՎ ԱՐԴՅՈՒՆՔԱՅԻՆ (ԿԱՏԱՐՈՂԱԿԱՆ) ՑՈՒՑԱՆԻՇՆԵՐԸ
A10: Ծրագրի դասիչը | B10: Ծրագրի անվանումը
A11: ='1'!A11 -> 1024 | B11: ='1'!C12 -> ՀՀ Ազգային ժողովի լիազորությունների իրականացման ապահովում
A13: Ծրագրի միջոցառումները
A14: Ծրագրի դասիչը` | B14: ='1'!A11 -> 1024 | C14: Ցուցանիշների փոփոխությունները (ավելացումները նշված են դրական նշանով,իսկ նվազեցումները՝ փակագծերում)
A15: Միջոցառման դասիչը` | B15: ='1'!B18 -> 31003 | C15: Ինն ամիս | D15: Տարի
A16: Միջոցառման անվանումը` | B16: ='1'!C19 -> ՀՀ Ազգային ժողովի շենքային պայմանների բարելավում
A17: Նկարագրությունը` | B17: ='1'!C21 -> ՀՀ Ազգային ժողովի շենք-շինությունների կապիտալ վերանորոգում և նախագծանախահաշվային փաստաթղթերի ձեռքբերում
A18: Միջոցառման տեսակը` | B18: ='1'!C23 -> Պետական մարմինների կողմից օգտագործվող ոչ ֆինանսական ակտիվների հետ գործառնություններ
A19: Ակտիվն օգտագործող կազմակերպության(ների) անվանում(ները)՛ | B19: ՀՀ Ազգային ժողով
A20: Արդյունքի չափորոշիչներ
A21: Միջոցառման վրա կատարված ծախսը (հազար դրամ) | C21: ='1'!D18 -> 43800 | D21: ='1'!E18 -> 43800
A23: ՀԱՅԱՍՏԱՆԻ ՀԱՆՐԱՊԵՏՈՒԹՅԱՆ ԿԱՌԱՎԱՐՈՒԹՅԱՆ 2022 ԹՎԱԿԱՆԻ ԴԵԿՏԵՄԲԵՐԻ 29-Ի N 2111-Ն ՈՐՈՇՄԱՆ N 9 ՀԱՎԵԼՎԱԾԻ N 9.47 ԱՂՅՈՒՍԱԿՈՒՄ ԿԱՏԱՐՎՈՂ ՓՈՓՈԽՈՒԹՅՈՒՆՆԵՐԸ
A24: ՀՀ կառավարություն
A25: ՄԱՍ 2. ՊԵՏԱԿԱՆ ՄԱՐՄՆԻ ԳԾՈՎ ԱՐԴՅՈՒՆՔԱՅԻՆ (ԿԱՏԱՐՈՂԱԿԱՆ) ՑՈՒՑԱՆԻՇՆԵՐԸ
A27: Ծրագրի դասիչը | B27: Ծրագրի անվանումը
A28: ='1'!A25 -> 1139 | B28: ='1'!C26 -> ՀՀ կառավարության պահուստային ֆոնդ
A30: Ծրագրի դասիչը` | B30: ='1'!A25 -> 1139 | C30: Ցուցանիշների փոփոխությունները (ավելացումները նշված են դրական նշանով,իսկ նվազեցումները՝ փակագծերում)
A31: Միջոցառման դասիչը` | B31: ='1'!B32 -> 11001 | C31: Ինն ամիս | D31: Տարի
A32: Միջոցառման անվանումը` | B32: ='1'!C33 -> ՀՀ կառավարության պահուստային ֆոնդ
A33: Նկարագրությունը` | B33: ='1'!C35 -> ՀՀ պետական բյուջեում նախատեսված ելքերի լրացուցիչ ֆինանսավորման՝ պետական բյուջեում չկանխատեսված ելքերի, ինչպես նաև բյուջետային երաշխիքների ապահովման ելքերի ֆինանսավորման ապահովում
A34: Միջոցառման տեսակը` | B34: Ծառայությունների մատուցում
A35: Միջոցառումն իրականացնողի անվանումը | B35: ՀՀ կառավարություն
A36: Արդյունքի չափորոշիչներ
A37: Միջոցառման վրա կատարված ծախսը (հազար դրամ) | C37: -43800 | D37: -43800

Sheet 6
A1: Հավելված 6
A2: ՀՀ կառավարության 2023 թվականի
A3: ------------ N ---------- որոշման
A5: ՀԱՅԱՍՏԱՆԻ ՀԱՆՐԱՊԵՏՈՒԹՅԱՆ ԿԱՌԱՎԱՐՈՒԹՅԱՆ 2022 ԹՎԱԿԱՆԻ ԴԵԿՏԵՄԲԵՐԻ 29-Ի N 2111-Ն ՈՐՈՇՄԱՆ N 9.1 ՀԱՎԵԼՎԱԾԻ N 9.1.2 ԱՂՅՈՒՍԱԿՈՒՄ ԿԱՏԱՐՎՈՂ ՓՈՓՈԽՈՒԹՅՈՒՆՆԵՐԸ ԵՎ ԼՐԱՑՈՒՄՆԵՐԸ
A7: =+'5'!A7:D7 -> ՀՀ Ազգային ժողով
A8: ՄԱՍ 1. ՊԵՏԱԿԱՆ ՄԱՐՄՆԻ ԳԾՈՎ ԱՐԴՅՈՒՆՔԱՅԻՆ (ԿԱՏԱՐՈՂԱԿԱՆ) ՑՈՒՑԱՆԻՇՆԵՐԸ
A10: Ծրագրի դասիչը | B10: Ծրագրի անվանումը
A11: ='5'!A11 -> 1024 | B11: ='5'!B11:D11 -> ՀՀ Ազգային ժողովի լիազորությունների իրականացման ապահովում
A13: Ծրագրի միջոցառումները
A14: Ծրագրի դասիչը` | B14: ='1'!A11 -> 1024 | C14: Ցուցանիշների փոփոխությունները (ավելացումները նշված են դրական նշանով,իսկ նվազեցումները՝ փակագծերում)
A15: Միջոցառման դասիչը` | B15: ='1'!B18 -> 31003 | C15: Ինն ամիս | D15: Տարի
A16: Միջոցառման անվանումը` | B16: ='1'!C19 -> ՀՀ Ազգային ժողովի շենքային պայմանների բարելավում
A17: Նկարագրությունը` | B17: ='1'!C21 -> ՀՀ Ազգային ժողովի շենք-շինությունների կապիտալ վերանորոգում և նախագծանախահաշվային փաստաթղթերի ձեռքբերում
A18: Միջոցառման տեսակը` | B18: ='1'!C23 -> Պետական մարմինների կողմից օգտագործվող ոչ ֆինանսական ակտիվների հետ գործառնություններ
A19: ='5'!A19 -> Ակտիվն օգտագործող կազմակերպության(ների) անվանում(ները)՛ | B19: ='5'!B19 -> ՀՀ Ազգային ժողով
A20: Արդյունքի չափորոշիչներ
A21: Միջոցառման վրա կատարված ծախսը (հազար դրամ) | C21: ='5'!C21 -> 43800 | D21: ='5'!D21 -> 43800
A23: ՀԱՅԱՍՏԱՆԻ ՀԱՆՐԱՊԵՏՈՒԹՅԱՆ ԿԱՌԱՎԱՐՈՒԹՅԱՆ 2022 ԹՎԱԿԱՆԻ ԴԵԿՏԵՄԲԵՐԻ 29-Ի N 2111-Ն ՈՐՈՇՄԱՆ N 9.1 ՀԱՎԵԼՎԱԾԻ 9.1.58 ԱՂՅՈՒՍԱԿՈՒՄ ԿԱՏԱՐՎՈՂ ՓՈՓՈԽՈՒԹՅՈՒՆՆԵՐԸ
A25: ՀՀ կառավարություն
A26: ՄԱՍ 1. ՊԵՏԱԿԱՆ ՄԱՐՄՆԻ ԳԾՈՎ ԱՐԴՅՈՒՆՔԱՅԻՆ (ԿԱՏԱՐՈՂԱԿԱՆ) ՑՈՒՑԱՆԻՇՆԵՐԸ
A29: Ծրագրի դասիչը | B29: Ծրագրի անվանումը
A30: ='1'!A25 -> 1139 | B30: ='1'!C26 -> ՀՀ կառավարության պահուստային ֆոնդ
A32: Ծրագրի դասիչը` | B32: ='1'!A25 -> 1139 | C32: Ցուցանիշների փոփոխությունները (ավելացումները նշված են դրական նշանով,իսկ նվազեցումները՝ փակագծերում)
A33: Միջոցառման դասիչը` | B33: ='1'!B32 -> 11001 | C33: Ինն ամիս | D33: Տարի
A34: Միջոցառման անվանումը` | B34: ='1'!C33 -> ՀՀ կառավարության պահուստային ֆոնդ
A35: Նկարագրությունը` | B35: ='1'!C35 -> ՀՀ պետական բյուջեում նախատեսված ելքերի լրացուցիչ ֆինանսավորման՝ պետական բյուջեում չկանխատեսված ելքերի, ինչպես նաև բյուջետային երաշխիքների ապահովման ելքերի ֆինանսավորման ապահովում
A36: Միջոցառման տեսակը` | B36: Ծառայությունների մատուցում
A37: Միջոցառումն իրականացնողի անվանումը | B37: ՀՀ կառավարություն
A38: Արդյունքի չափորոշիչներ
A39: Միջոցառման վրա կատարված ծախսը (հազար դրամ) | C39: -43800 | D39: -43800

Sheet 7
I1: Հավելված 7
I2: ՀՀ կառավարության 2023 թվականի
I3: ------------ N ---------- որոշման
A5: ՀԱՅԱՍՏԱՆԻ ՀԱՆՐԱՊԵՏՈՒԹՅԱՆ ԿԱՌԱՎԱՐՈՒԹՅԱՆ 2022 ԹՎԱԿԱՆԻ ԴԵԿՏԵՄԲԵՐԻ 29-Ի N 2111-Ն ՈՐՈՇՄԱՆ N 10 ՀԱՎԵԼՎԱԾՈՒՄ ԿԱՏԱՐՎՈՂ ՓՈՓՈԽՈՒԹՅՈՒՆՆԵՐԸ ԵՎ ԼՐԱՑՈՒՄՆԵՐԸ
A7: Գնման առարկայի | G7: Ցուցանիշների փոփոխությունը (ավելացումները նշված են դրական նշանով, իսկ նվազեցումները՝ փակագծերում)
A8: կոդը | B8: անվանումը | C8: գնման ձևը | D8: չափի միավորը | F8: միավորի գինը | G8: քանակը | H8: Գումարը (հազար դրամներով)
A10: =+'[1]5'!A7:E7 -> ՀՀ Ազգային ժողով | H10: =+H12 -> 43800
A11: Բաժին N 01 | B11: Խումբ N 01 | C11: Դաս N 01 | D11: Օրենսդիր և գործադիր մարմիններ, պետական կառավարում
A12: 1024 31003 | B12: =+'[1]6'!B16 -> ՀՀ Ազգային ժողովի շենքային պայմանների բարելավում | H12: 43800
H13: 0
A14: 45611300/501 | B14: այլ շենքերի, շինությունների հիմնանորոգում | C14: ԳՀ | D14: դրամ | F14: 42900000 | G14: 1 | H14: =SUM(G14*F14/1000) -> 42900
A15: 71351540 | B15: տեխնիկական հսկողության ծառայություններ | C15: ԳՀ | D15: դրամ | F15: 643500 | G15: 1 | H15: =SUM(G15*F15/1000) -> 643.5
A16: 98111140 | B16: հեղինակային հսկողության ծառայություններ | C16: ՄԱ | D16: դրամ | F16: 257400 | G16: 1 | H16: =SUM(G16*F16/1000) -> 257.4
