Workbook
Name շախմատիստ: #REF!
Name շախմատիստ: #REF!

Sheet 1
E1: Հավելված N 1
C2: ՀՀ կառավարության 2023 թվականի -ի N -Ն որոշման
A3: «ՀԱՅԱՍՏԱՆԻ ՀԱՆՐԱՊԵՏՈՒԹՅԱՆ 2023 ԹՎԱԿԱՆԻ ՊԵՏԱԿԱՆ ԲՅՈՒՋԵԻ ՄԱՍԻՆ» ՀԱՅԱՍՏԱՆԻ ՀԱՆՐԱՊԵՏՈՒԹՅԱՆ ՕՐԵՆՔԻ N 1 ՀԱՎԵԼՎԱԾԻ N2 ԱՂՅՈՒՍԱԿՈՒՄ ԿԱՏԱՐՎՈՂ ՎԵՐԱԲԱՇԽՈՒՄԸ ԵՎ ՀԱՅԱՍՏԱՆԻ ՀԱՆՐԱՊԵՏՈՒԹՅԱՆ ԿԱՌԱՎԱՐՈՒԹՅԱՆ 2022 ԹՎԱԿԱՆԻ ԴԵԿՏԵՄԲԵՐԻ 29-Ի N 2111-Ն ՈՐՈՇՄԱՆ N 5 ՀԱՎԵԼՎԱԾԻ N1 ԱՂՅՈՒՍԱԿՈՒՄ ԿԱՏԱՐՎՈՂ ՓՈՓՈԽՈՒԹՅՈՒՆՆԵՐԸ
E4: հազար դրամ
A5: Ծրագրային դասիչը | C5: Բյուջետային գլխավոր կարգադրիչների, ծրագրերի և միջոցառումների անվանումները | D5: Ցուցանիշների փոփոխությունը (ավելացումները նշված են դրական նշանով, իսկ նվազեցումները` փակագծերում)
A6: Ծրագիր | B6: Միջոցառում | D6: Ինն ամիս | E6: Տարի
C7: ԸՆԴԱՄԵՆԸ ԾԱԽՍԵՐ | D7: =+D8-D9 -> 0 | E7: =+E8-E9 -> 0
C8: Հանրային հեռարձակողի խորհուրդ | D8: =SUM(D9) -> 693000 | E8: =SUM(E9) -> 693000
A9: 1042 | C9: Ծրագրի անվանումը` | D9: =SUM(D15) -> 693000 | E9: =SUM(E15) -> 693000
C10: Ռադիո և հեռուստահաղորդումների հեռարձակում
C11: Ծրագրի նպատակը`
C12: Ապահովել բազմազան տեղեկատվական, ճանաչողական, կրթական, ժամանցային հեռուստատեսային և ռադիո հաղորդումների արտադրություն և հեռարձակում
C13: Վերջնական արդյունքի նկարագրություն
C14: Բազմազան տեղեկատվական, ճանաչողական, կրթական, ժամանցային հեռուստատեսային և ռադիո հաղորդումների արտադրության և հեռարձակման ապահովում
B15: 32004 | C15: Միջոցառման անվանումը` | D15: 693000 | E15: =+D15 -> 693000
C16: ՉԺՀ-ի հետ համագործակցության շրջանակներում Հայաստանի հանրային հեռուստաընկերության ենթակառուցվածքների ապահովում
C17: Միջոցառման նկարագրությունը`
C18: Չինաստանի ժողովրդական Հանրապետության կողմից Հայաստանի հանրային հեռուստաընկերության 8–րդ տաղավարի (հեռուստաստուդիայի) կառուցման նպատակով Հայկական կողմի պարտավորությունների կատարում` օժանդակ ենթակառուցվածքների ապահովում
C19: Միջոցառման տեսակը
C20: Այլ պետական կազմակերպությունների կողմից օգտագործվող ոչ ֆինանսական ակտիվների հետ գործառնություններ
C21: ՀՀ կառավարություն | D21: =SUM(D22) -> -693000 | E21: =SUM(E22) -> -693000
A22: 1139 | C22: Ծրագրի անվանումը` | D22: =SUM(D29) -> -693000 | E22: =SUM(E29) -> -693000
C23: ՀՀ կառավարության պահուստային ֆոնդ
C24: Ծրագրի նպատակը`
C25: Պետական բյուջեում չկանխատեսված, ինչպես նաեւ բյուջետային երաշխիքների ապահովման ծախսերի ֆինանսավորման ապահովում
C26: Վերջնական արդյունքի նկարագրությունը`
C27: Պահուստային ֆոնդի կառավարման արդյունավետության և թափանցիկության ապահովում
A28: Ծրագրի միջոցառումներ
B29: 11001 | C29: Միջոցառման անվանումը` | D29: =-D15 -> -693000 | E29: =-E15 -> -693000
C30: ՀՀ կառավարության պահուստային ֆոնդ
C31: Միջոցառման նկարագրությունը`
C32: ՀՀ պետական բյուջեում նախատեսված ելքերի լրացուցիչ ֆինանսավորման, պետական բյուջեում չկանխատեսված ելքերի, ինչպես նաև բյուջետային երաշխիքների ապահովման ելքերի ֆինանսավորման ապահովում
C33: Միջոցառման տեսակը
C34: Ծառայությունների մատուցում

Sheet 2
H1: Հավելված N2
F2: ՀՀ կառավարության 2023 թվականի N -Ն որոշման
A3: ՀԱՅԱՍՏԱՆԻ ՀԱՆՐԱՊԵՏՈՒԹՅԱՆ ԿԱՌԱՎԱՐՈՒԹՅԱՆ 2022 ԹՎԱԿԱՆԻ ԴԵԿՏԵՄԲԵՐԻ 29-Ի N 2111-Ն ՈՐՈՇՄԱՆ N 3 ԵՎ 4 ՀԱՎԵԼՎԱԾՆԵՐՈՒՄ ԿԱՏԱՐՎՈՂ ՓՈՓՈԽՈՒԹՅՈՒՆՆԵՐԸ
H4: հազար դրամ
A5: Գործառական դասիչը | D5: Ծրագրային դասիչը | F5: Բյուջետային ծախսերի գործառական դասակարգման բաժինների, խմբերի և դասերի, բյուջետային ծրագրերի միջոցառումների, բյուջետային հատկացումների գլխավոր կարգադրիչների անվանումները | G5: Ցուցանիշների փոփոխությունը (ավելացումները նշված են դրական նշանով, իսկ նվազեցումները` փակագծերում)
H6: Տարի
A7: Բաժին | B7: Խումբ | C7: Դաս | D7: Ծրագիր | E7: Միջոցա ռում | G7: Ինն ամիս
F8: ԸՆԴԱՄԵՆԸ ԾԱԽՍԵՐ | G8: 0 | H8: 0
A9: 08 | F9: ՀԱՆԳԻՍՏ, ՄՇԱԿՈՒՅԹ ԵՎ ԿՐՈՆ | G9: =+G11 -> 693000 | H9: =+H11 -> 693000
F10: այդ թվում`
B11: 03 | F11: Ռադիո և հեռուստահաղորդումների հեռարձակման և հրատարակչական ծառայություններ | G11: =+G13 -> 693000 | H11: =+H13 -> 693000
F12: այդ թվում`
C13: 01 | F13: Հեռուստառադիոհաղորդումներ | G13: =+G15 -> 693000 | H13: =+H15 -> 693000
F14: այդ թվում
F15: Հանրային հեռարձակողի խորհուրդ | G15: =+G17 -> 693000 | H15: =+H17 -> 693000
F16: այդ թվում
D17: 1042 | F17: Ռադիո և հեռուստահաղորդումների հեռարձակում | G17: =+G19 -> 693000 | H17: =+H19 -> 693000
F18: այդ թվում`
E19: =+'1'!B15 -> 32004 | F19: =+'1'!C16 -> ՉԺՀ-ի հետ համագործակցության շրջանակներում Հայաստանի հանրային հեռուստաընկերության ենթակառուցվածքների ապահովում | G19: =+G21 -> 693000 | H19: =+H21 -> 693000
F20: այդ թվում` ըստ կատարողների
F21: Հանրային հեռարձակողի խորհուրդ | G21: =+G23 -> 693000 | H21: =+H23 -> 693000
F22: այդ թվում` բյուջետային ծախսերի տնտեսագիտական դասակարգման հոդվածներ
F23: ԸՆԴԱՄԵՆԸ ԾԱԽՍԵՐ | G23: =+G24 -> 693000 | H23: =+H24 -> 693000
F24: ԴՐԱՄԱՇՆՈՐՀՆԵՐ | G24: =+G25 -> 693000 | H24: =+H25 -> 693000
F25: Կապիտալ դրամաշնորհներ պետական և համայնքային առևտրային կազմակերպություններին | G25: =+'1'!D15 -> 693000 | H25: =+'1'!E15 -> 693000
A26: 11 | F26: ՀԻՄՆԱԿԱՆ ԲԱԺԻՆՆԵՐԻՆ ՉԴԱՍՎՈՂ ՊԱՀՈՒՍՏԱՅԻՆ ՖՈՆԴԵՐ | G26: =+G28 -> -693000 | H26: =+H28 -> -693000
F27: այդ թվում`
B28: 01 | F28: ՀՀ կառավարության և համայնքների պահուստային ֆոնդ | G28: =+G30 -> -693000 | H28: =+H30 -> -693000
F29: այդ թվում`
C30: 01 | F30: ՀՀ կառավարության պահուստային ֆոնդ | G30: =+G34 -> -693000 | H30: =+H34 -> -693000
F31: այդ թվում`
F32: ՀՀ կառավարություն | G32: -693000 | H32: -693000
F33: այդ թվում`
D34: 1139 | F34: ՀՀ կառավարության պահուստային ֆոնդ | G34: =+G36 -> -693000 | H34: =+H36 -> -693000
F35: այդ թվում`
E36: 11001 | F36: ՀՀ կառավարության պահուստային ֆոնդ | G36: =+G38 -> -693000 | H36: =+H38 -> -693000
F37: այդ թվում` ըստ կատարողների
F38: ՀՀ կառավարություն | G38: =+G39 -> -693000 | H38: =+H39 -> -693000
F39: այդ թվում` բյուջետային ծախսերի տնտեսագիտական դասակարգման հոդվածներ | G39: =+G40 -> -693000 | H39: =+H40 -> -693000
F40: ԸՆԴԱՄԵՆԸ ԾԱԽՍԵՐ | G40: =+G41 -> -693000 | H40: =+H41 -> -693000
F41: ԸՆԹԱՑԻԿ ԾԱԽՍԵՐ | G41: -693000 | H41: -693000
F42: ԱՅԼ ԾԱԽՍԵՐ | G42: -693000 | H42: -693000
F43: Պահուստային միջոցներ | G43: -693000 | H43: -693000

Sheet 3
H1: Հավելված N3
F2: ՀՀ կառավարության 2023 թվականի N -Ն որոշման
B4: ՀԱՅԱՍՏԱՆԻ ՀԱՆՐԱՊԵՏՈՒԹՅԱՆ ԿԱՌԱՎԱՐՈՒԹՅԱՆ 2022 ԹՎԱԿԱՆԻ ԴԵԿՏԵՄԲԵՐԻ 29-Ի N 2111-Ն ՈՐՈՇՄԱՆ N 5 ՀԱՎԵԼՎԱԾԻ 7-ՐԴ ԱՂՍՅՈՒՍԱԿՈՒՄ ԿԱՏԱՐՎՈՂ ՓՈՓՈԽՈՒԹՅՈՒՆՆԵՐԸ ԵՎ ԼՐԱՑՈՒՄՆԵՐԸ
H5: հազար դրամներով
B6: Ծրագրային դասիչ | D6: Բյուջետային հատկացումների գլխավոր կարգադրիչների, ծրագրերի, միջոցառումների, ծախսային ուղղությունների անվանումները | G6: Միջոցառումները կատարող պետական մարմինների և դրամաշնորհ ստացող տնտեսվարող սուբյեկտների անվանումները | H6: Ցուցանիշների փոփոխությունը (ավելացումները նշված են դրական նշանով)
B7: Ծրագիր | C7: Միջոցառում | H7: Տարի
B8: 1 | C8: 2 | D8: 3 | G8: 4 | H8: 6
B9: ԸՆԴԱՄԵՆԸ | H9: 693000
B11: Հանրային հեռարձակողի խորհուրդ | H11: 693000
B12: =+'1'!A9 -> 1042 | C12: =+'1'!C10 -> Ռադիո և հեռուստահաղորդումների հեռարձակում | H12: 693000
C13: =+'1'!B15 -> 32004 | D13: =+'1'!C16 -> ՉԺՀ-ի հետ համագործակցության շրջանակներում Հայաստանի հանրային հեռուստաընկերության ենթակառուցվածքների ապահովում | G13: Հանրային հեռարձակողի խորհուրդ | H13: 693000
G14: «Հայաստանի հանրային հեռուստաընկերություն» ՓԲԸ | H14: 693000

Sheet 4
D1: Հավելված N4
B2: ՀՀ կառավարության 2023 թվականի N -Ն որոշման
A3: ՀԱՅԱՍՏԱՆԻ ՀԱՆՐԱՊԵՏՈՒԹՅԱՆ ԿԱՌԱՎԱՐՈՒԹՅԱՆ 2022 ԹՎԱԿԱՆԻ ԴԵԿՏԵՄԲԵՐԻ 29-Ի N 2111-Ն ՈՐՈՇՄԱՆ N 9 ՀԱՎԵԼՎԱԾԻ NN 9.28 ԵՎ 9.47 ԱՂՅՈՒՍԱԿՆԵՐՈՒՄ ԿԱՏԱՐՎՈՂ ՓՈՓՈԽՈՒԹՅՈՒՆՆԵՐԸ ԵՎ ԼՐԱՑՈՒՄՆԵՐԸ
A4: Հանրային հեռարձակողի խորհուրդ
D5: Աղյուսակ 9.28
A6: Ծրագրի դասիչը | B6: Ծրագրի անվանումը
A7: 1042 | B7: Ռադիո և հեռուստահաղորդումների հեռարձակում
A9: Ծրագրի միջոցառումները
A10: Ծրագրի դասիչը` | B10: 1042 | C10: Ցուցանիշների փոփոխությունը (ավելացումները նշված են դրական նշանով)
A11: Միջոցառման դասիչը` | B11: =+'1'!B15 -> 32004 | C11: Ինն ամիս | D11: Տարի
A12: Միջոցառման անվանումը` | B12: =+'1'!C16 -> ՉԺՀ-ի հետ համագործակցության շրջանակներում Հայաստանի հանրային հեռուստաընկերության ենթակառուցվածքների ապահովում
A13: Նկարագրությունը` | B13: =+'1'!C18 -> Չինաստանի ժողովրդական Հանրապետության կողմից Հայաստանի հանրային հեռուստաընկերության 8–րդ տաղավարի (հեռուստաստուդիայի) կառուցման նպատակով Հայկական կողմի պարտավորությունների կատարում` օժանդակ ենթակառուցվածքների ապահովում
A14: Միջոցառման տեսակը` | B14: Այլ պետական կազմակերպությունների կողմից օգտագործվող ոչ ֆինանսական ակտիվների հետ գործառնություններ
A15: Ակտիվը օգտագործողի անվանումը | B15: «Հայաստանի հանրային հեռուստաընկերություն» ՓԲԸ
A16: Արդյունքի չափորոշիչներ
A17: Քանակական ցուցանիշներ | B17: ՉԺՀ-ի կողմից «Հայաստանի հանրային հեռուստաընկերություն» ՓԲԸ-ի 8–րդ տաղավարի (հեռուստաստուդիայի) կառուցման համար անհրաժեշտ ենթակառուցվածքների ապահովում, չափման միավոր՝ ենթակառուցվածք | C17: 1 | D17: 1
A18: Միջոցառման վրա կատարվող ծախսը (հազար դրամ) | C18: =+'1'!D15 -> 693000 | D18: =+'1'!E15 -> 693000
A21: ՀՀ կառավարություն
D22: Աղյուսակ 9.47
A23: Ծրագրի դասիչը | B23: Ծրագրի անվանումը
A24: 1139 | B24: ՀՀ կառավարության պահուստային ֆոնդ
A26: Ծրագրի միջոցառումները
A28: Ծրագրի դասիչը` | B28: 1139 | C28: Ցուցանիշների փոփոխությունը (նվազեցումները նշված են փակագծերում)
A29: Միջոցառման դասիչը` | B29: 11001 | C29: Ինն ամիս | D29: Տարի
A30: Միջոցառման անվանումը` | B30: ՀՀ կառավարության պահուստային ֆոնդ
A31: Նկարագրությունը` | B31: ՀՀ պետական բյուջեում նախատեսված ելքերի լրացուցիչ ֆինանսավորման, պետական բյուջեում չկանխատեսված ելքերի, ինչպես նաև բյուջետային երաշխիքների ապահովման ելքերի ֆինանսավորման ապահովում
A32: Միջոցառման տեսակը` | B32: Ծառայությունների մատուցում
B33: Արդյունքի չափորոշիչներ
A34: Արդյունքի չափորոշիչներ
A35: Միջոցառման վրա կատարվող ծախսը (հազար դրամ) | C35: =-C18 -> -693000 | D35: =-D18 -> -693000

Sheet 5
D1: Հավելված N5
B2: ՀՀ կառավարության 2023 թվականի N -Ն որոշման
A3: ՀԱՅԱՍՏԱՆԻ ՀԱՆՐԱՊԵՏՈՒԹՅԱՆ ԿԱՌԱՎԱՐՈՒԹՅԱՆ 2022 ԹՎԱԿԱՆԻ ԴԵԿՏԵՄԲԵՐԻ 29-Ի N 2111-Ն ՈՐՈՇՄԱՆ N 9.1 ՀԱՎԵԼՎԱԾԻ NN 9.1.35 և 9.1.58 ԱՂՅՈՒՍԱԿՆԵՐՈՒՄ ԿԱՏԱՐՎՈՂ ՓՈՓՈԽՈՒԹՅՈՒՆՆԵՐԸ ԵՎ ԼՐԱՑՈՒՄՆԵՐԸ
A4: Հանրային հեռարձակողի խորհուրդ
D5: Աղյուսակ 9.1.35
A6: Ծրագրի դասիչը | B6: Ծրագրի անվանումը
A7: 1042 | B7: Ռադիո և հեռուստահաղորդումների հեռարձակում
A9: Ծրագրի միջոցառումները
A10: Ծրագրի դասիչը` | B10: 1042 | C10: Ցուցանիշների փոփոխությունը (ավելացումները նշված են դրական նշանով)
A11: Միջոցառման դասիչը` | B11: =+'1'!B15 -> 32004 | C11: Ինն ամիս | D11: Տարի
A12: Միջոցառման անվանումը` | B12: =+'1'!C16 -> ՉԺՀ-ի հետ համագործակցության շրջանակներում Հայաստանի հանրային հեռուստաընկերության ենթակառուցվածքների ապահովում
A13: Նկարագրությունը` | B13: =+'1'!C18 -> Չինաստանի ժողովրդական Հանրապետության կողմից Հայաստանի հանրային հեռուստաընկերության 8–րդ տաղավարի (հեռուստաստուդիայի) կառուցման նպատակով Հայկական կողմի պարտավորությունների կատարում` օժանդակ ենթակառուցվածքների ապահովում
A14: Միջոցառման տեսակը` | B14: Այլ պետական կազմակերպությունների կողմից օգտագործվող ոչ ֆինանսական ակտիվների հետ գործառնություններ
A15: Ակտիվը օգտագործողի անվանումը | B15: «Հայաստանի հանրային հեռուստաընկերություն» ՓԲԸ
A16: Արդյունքի չափորոշիչներ
A17: Քանակական ցուցանիշներ | B17: ='4'!B17 -> ՉԺՀ-ի կողմից «Հայաստանի հանրային հեռուստաընկերություն» ՓԲԸ-ի 8–րդ տաղավարի (հեռուստաստուդիայի) կառուցման համար անհրաժեշտ ենթակառուցվածքների ապահովում, չափման միավոր՝ ենթակառուցվածք | C17: =+'4'!C18 -> 693000 | D17: =+'4'!D18 -> 693000
A18: Միջոցառման վրա կատարվող ծախսը (հազար դրամ)
A21: ՀՀ կառավարություն
D23: Աղյուսակ 9.1.58
A24: Ծրագրի դասիչը | B24: Ծրագրի անվանումը
A25: 1139 | B25: ՀՀ կառավարության պահուստային ֆոնդ
A27: Ծրագրի միջոցառումները
A29: Ծրագրի դասիչը` | B29: 1139 | C29: Ցուցանիշների փոփոխությունը (նվազեցումները նշված են փակագծերում)
A30: Միջոցառման դասիչը` | B30: 11001 | C30: Ինն ամիս | D30: Տարի
A31: Միջոցառման անվանումը` | B31: ՀՀ կառավարության պահուստային ֆոնդ
A32: Նկարագրությունը` | B32: ՀՀ պետական բյուջեում նախատեսված ելքերի լրացուցիչ ֆինանսավորման, պետական բյուջեում չկանխատեսված ելքերի, ինչպես նաև բյուջետային երաշխիքների ապահովման ելքերի ֆինանսավորման ապահովում
A33: Միջոցառման տեսակը` | B33: Ծառայությունների մատուցում
B34: Արդյունքի չափորոշիչներ
A35: Արդյունքի չափորոշիչներ
A36: Միջոցառման վրա կատարվող ծախսը (հազար դրամ) | C36: =-C17 -> -693000 | D36: =-D17 -> -693000
