Workbook
Name _tab10: #REF!
Name _tab10: #REF!
Name _tab10: #REF!
Name _tab11: #REF!
Name _tab11: #REF!
Name _tab11: #REF!
Name _tab12: #REF!
Name _tab12: #REF!
Name _tab12: #REF!
Name _tab13: #REF!
Name _tab13: #REF!
Name _tab13: #REF!
Name _tab14: #REF!
Name _tab14: #REF!
Name _tab14: #REF!
Name _tab15: #REF!
Name _tab15: #REF!
Name _tab15: #REF!
Name _tab16: #REF!
Name _tab16: #REF!
Name _tab16: #REF!
Name _tab17: #REF!
Name _tab17: #REF!
Name _tab17: #REF!
Name _tab18: #REF!
Name _tab18: #REF!
Name _tab18: #REF!
Name _tab19: #REF!
Name _tab19: #REF!
Name _tab19: #REF!
Name _tab20: #REF!
Name _tab20: #REF!
Name _tab20: #REF!
Name _tab21: #REF!
Name _tab21: #REF!
Name _tab21: #REF!
Name _tab22: #REF!
Name _tab22: #REF!
Name _tab22: #REF!
Name _tab23: #REF!
Name _tab23: #REF!
Name _tab23: #REF!
Name _tab24: #REF!
Name _tab24: #REF!
Name _tab24: #REF!
Name _tab5: #REF!
Name _tab5: #REF!
Name _tab5: #REF!
Name _tab6: #REF!
Name _tab6: #REF!
Name _tab6: #REF!
Name _tab7: #REF!
Name _tab7: #REF!
Name _tab7: #REF!
Name _tab8: #REF!
Name _tab8: #REF!
Name _tab8: #REF!
Name _tab9: #REF!
Name _tab9: #REF!
Name _tab9: #REF!

Sheet 1
E1: Հավելված N 1
E2: ՀՀ կառավարության 2023 թվականի
C3: -----------------ի N -----------Ն որոշման
A5: ՀԱՅԱՍՏԱՆԻ ՀԱՆՐԱՊԵՏՈՒԹՅԱՆ 2023 ԹՎԱԿԱՆԻ ՊԵՏԱԿԱՆ ԲՅՈՒՋԵԻ ՄԱՍԻՆ» ՕՐԵՆՔԻ N 1 ՀԱՎԵԼՎԱԾԻ N 2 ԱՂՅՈՒՍԱԿՈՒՄ ԿԱՏԱՐՎՈՂ ՎԵՐԱԲԱՇԽՈՒՄԸ ԵՎ ԼՐԱՑՈՒՄԸ ԵՎ ՀԱՅԱՍՏԱՆԻ ՀԱՆՐԱՊԵՏՈՒԹՅԱՆ ԿԱՌԱՎԱՐՈՒԹՅԱՆ 2022 ԹՎԱԿԱՆԻ ԴԵԿՏԵՄԲԵՐԻ 29-Ի N 2111-Ն ՈՐՈՇՄԱՆ N 5 ՀԱՎԵԼՎԱԾԻ N 1 ԱՂՅՈՒՍԱԿՈՒՄ ԿԱՏԱՐՎՈՂ ՓՈՓՈԽՈՒԹՅՈՒՆՆԵՐԸ ԵՎ ԼՐԱՑՈՒՄՆԵՐԸ
E6: (հազար դրամ)
A7: Ծրագրային դասիչը | C7: Բյուջետային հատկացումների գլխավոր կարգադրիչների, ծրագրերի և միջոցառումների անվանումները | D7: Ցուցանիշների փոփոխությունները ավելացումները նշված են դրական նշանով, իսկ նվազեցումները՝ փակագծերում
A8: Ծրագիր | B8: Միջոցառում | D8: Ինն ամիս | E8: Տարի
C9: ԸՆԴԱՄԵՆԸ | D9: =D10+D24 -> 0 | E9: =E10+E24 -> 0
C10: ՀՀ կառավարություն | D10: =D11 -> -1460638 | E10: =E11 -> -1460638
A11: 1139 | C11: Ծրագրի անվանումը` | D11: =D18 -> -1460638 | E11: =E18 -> -1460638
C12: ՀՀ կառավարության պահուստային ֆոնդ
C13: Ծրագրի նպատակը`
C14: Պետական բյուջեում չկանխատեսված, ինչպես նաեւ բյուջետային երաշխիքների ապահովման ծախսերի ֆինանսավորման ապահովում
C15: Վերջնական արդյունքի նկարագրությունը`
C16: Պահուստային ֆոնդի կառավարման արդյունավետության և թափանցիկության ապահովում
A17: Ծրագրի միջոցառումներ
B18: 11001 | C18: Միջոցառման անվանումը` | D18: -1460638 | E18: -1460638
C19: ՀՀ կառավարության պահուստային ֆոնդ
C20: Միջոցառման նկարագրությունը`
C21: ՀՀ պետական բյուջեում նախատեսված ելքերի լրացուցիչ ֆինանսավորման, պետական բյուջեում չկանխատեսված ելքերի, ինչպես նաև բյուջետային երաշխիքների ապահովման ելքերի ֆինանսավորման ապահովում
C22: Միջոցառման տեսակը
C23: Ծառայությունների մատուցում
C24: ՀՀ աշխատանքի և սոցիալական հարցերի նախարարություն | D24: =D25 -> 1460638 | E24: =E25 -> 1460638
A25: 1205 | C25: Ծրագրի անվանումը` | D25: =D32 -> 1460638 | E25: =E32 -> 1460638
C26: Սոցիալական ապահովություն
C27: Ծրագրի նպատակը`
C28: Սոցիալական ապահովության իրավունքի իրականացման ապահովում
C29: Վերջնական արդյունքի նկարագրությունը`
C30: Սոցիալական ապահովության իրավունքի իրականացում
A31: Ծրագրի միջոցառումներ
B32: 12029 | C32: Միջոցառման անվանումը` | D32: 1460638 | E32: 1460638
C33: Անկանխիկ եղանակով վճարումներից կենսաթոշակառուներին հետվճարի տրամադրում
C34: Միջոցառման նկարագրությունը`
C35: Անկանխիկ եղանակով վճարումներից կենսաթոշակառուներին հետվճարի տրամադրում՝ պետություն-մասնավոր սոցիալական փոխգործակցության միջոցառման շրջանակում
C36: Միջոցառման տեսակը
C37: Տրանսֆերտների տրամադրում

Sheet 2
H1: Հավելված N 2
H2: ՀՀ կառավարության 2023 թվականի
H3: -----------------ի N -----------Ն որոշման
A5: ՀԱՅԱՍՏԱՆԻ ՀԱՆՐԱՊԵՏՈՒԹՅԱՆ ԿԱՌԱՎԱՐՈՒԹՅԱՆ 2022 ԹՎԱԿԱՆԻ ԴԵԿՏԵՄԲԵՐԻ 29-Ի N 2111-Ն ՈՐՈՇՄԱՆ N N 3 ԵՎ 4 ՀԱՎԵԼՎԱԾՆԵՐՈՒՄ ԿԱՏԱՐՎՈՂ ՓՈՓՈԽՈՒԹՅՈՒՆՆԵՐԸ ԵՎ ԼՐԱՑՈՒՄՆԵՐԸ
H6: հազար դրամ
A7: Գործառական դասիչը | D7: Ծրագրային դասիչը | F7: Բյուջետային ծախսերի գործառական դասակարգման բաժինների, խմբերի և դասերի, բյուջետային ծրագրերի միջոցառումների, բյուջետային հատկացումների գլխավոր կարգադրիչների անվանումները | G7: ='1'!D7 -> Ցուցանիշների փոփոխությունները ավելացումները նշված են դրական նշանով, իսկ նվազեցումները՝ փակագծերում
A8: Բաժինը | B8: Խումբը | C8: Դասը | D8: Ծրագիր | E8: Միջոցառում | G8: ='1'!D8 -> Ինն ամիս | H8: ='1'!E8 -> Տարի
F9: ԸՆԴԱՄԵՆԸ ԾԱԽՍԵՐ | G9: =G11+G29 -> 0 | H9: =H11+H29 -> 0
F10: այդ թվում`
F11: ='1'!C24 -> ՀՀ աշխատանքի և սոցիալական հարցերի նախարարություն | G11: =G12 -> 1460638 | H11: =H12 -> 1460638
A12: 10 | F12: ՍՈՑԻԱԼԱԿԱՆ ՊԱՇՏՊԱՆՈՒԹՅՈՒՆ | G12: =G14 -> 1460638 | H12: =H14 -> 1460638
F13: այդ թվում`
B14: 02 | F14: Ծերություն | G14: =G16 -> 1460638 | H14: =H16 -> 1460638
F15: այդ թվում՝
C16: 01 | F16: Ծերություն | G16: =G18 -> 1460638 | H16: =H18 -> 1460638
F17: այդ թվում`
D18: 1205 | F18: Սոցիալական ապահովություն | G18: =G20 -> 1460638 | H18: =H20 -> 1460638
F19: այդ թվում`
E20: ='1'!B32 -> 12029 | F20: ='1'!C33 -> Անկանխիկ եղանակով վճարումներից կենսաթոշակառուներին հետվճարի տրամադրում | G20: =G22 -> 1460638 | H20: =H22 -> 1460638
F21: այդ թվում` ըստ կատարողների
F22: ՀՀ աշխատանքի և սոցիալական հարցերի նախարարության միասնական սոցիալական ծառայություն | G22: =G24 -> 1460638 | H22: =H24 -> 1460638
F23: այդ թվում` բյուջետային ծախսերի տնտեսագիտական դասակարգման հոդվածներ
F24: ԸՆԴԱՄԵՆԸ ԾԱԽՍԵՐ | G24: =G25 -> 1460638 | H24: =H25 -> 1460638
F25: ԸՆԹԱՑԻԿ ԾԱԽՍԵՐ | G25: =G26 -> 1460638 | H25: =H26 -> 1460638
F26: ՍՈՑԻԱԼԱԿԱՆ ՆՊԱՍՏՆԵՐ ԵՎ ԿԵՆՍԱԹՈՇԱԿՆԵՐ | G26: =G27 -> 1460638 | H26: =H27 -> 1460638
F27: Սոցիալական օգնության դրամական արտահայտությամբ նպաստներ (բյուջեից) | G27: ='1'!D32 -> 1460638 | H27: ='1'!E32 -> 1460638
F28: - Այլ նպաստներ բյուջեից | G28: ='1'!D32 -> 1460638 | H28: ='1'!E32 -> 1460638
F29: ՀՀ կառավարություն | G29: =G30 -> -1460638 | H29: =H30 -> -1460638
A30: 11 | F30: ՀԻՄՆԱԿԱՆ ԲԱԺԻՆՆԵՐԻՆ ՉԴԱՍՎՈՂ ՊԱՀՈՒՍՏԱՅԻՆ ՖՈՆԴԵՐ | G30: =G32 -> -1460638 | H30: =H32 -> -1460638
F31: այդ թվում`
B32: 01 | F32: ՀՀ կառավարության և համայնքների պահուստային ֆոնդ | G32: =G34 -> -1460638 | H32: =H34 -> -1460638
F33: այդ թվում`
C34: 01 | F34: ՀՀ կառավարության պահուստային ֆոնդ | G34: =G36 -> -1460638 | H34: =H36 -> -1460638
F35: այդ թվում`
D36: 1139 | F36: ՀՀ կառավարության պահուստային ֆոնդ | G36: =G38 -> -1460638 | H36: =H38 -> -1460638
F37: այդ թվում`
E38: 11001 | F38: ՀՀ կառավարության պահուստային ֆոնդ | G38: =G40 -> -1460638 | H38: =H40 -> -1460638
F39: այդ թվում` ըստ կատարողների
F40: ՀՀ կառավարություն | G40: =G41 -> -1460638 | H40: =H41 -> -1460638
F41: այդ թվում` բյուջետային ծախսերի տնտեսագիտական դասակարգման հոդվածներ | G41: =G42 -> -1460638 | H41: =H42 -> -1460638
F42: ԸՆԴԱՄԵՆԸ ԾԱԽՍԵՐ | G42: =G43 -> -1460638 | H42: =H43 -> -1460638
F43: ԸՆԹԱՑԻԿ ԾԱԽՍԵՐ | G43: =G44 -> -1460638 | H43: =H44 -> -1460638
F44: ԱՅԼ ԾԱԽՍԵՐ | G44: =G45 -> -1460638 | H44: =H45 -> -1460638
F45: Պահուստային միջոցներ | G45: ='1'!D18 -> -1460638 | H45: ='1'!E18 -> -1460638

Sheet 3
D1: Հավելված N 3
B2: ՀՀ կառավարության 2023 թվականի
B3: -----------------ի N -----------Ն որոշման
A4: ՀԱՅԱՍՏԱՆԻ ՀԱՆՐԱՊԵՏՈՒԹՅԱՆ ԿԱՌԱՎԱՐՈՒԹՅԱՆ 2020 ԹՎԱԿԱՆԻ ԴԵԿՏԵՄԲԵՐԻ 30-Ի N 2215-Ն ՈՐՈՇՄԱՆ N 9 ՀԱՎԵԼՎԱԾԻ N 9.1.20 ԱՂՅՈՒՍԱԿՈՒՄ ԿԱՏԱՐՎՈՂ ՓՈՓՈԽՈՒԹՅՈՒՆՆԵՐԸ
A5: ՀԱՅԱՍՏԱՆԻ ՀԱՆՐԱՊԵՏՈՒԹՅԱՆ ԿԱՌԱՎԱՐՈՒԹՅԱՆ 2022 ԹՎԱԿԱՆԻ ԴԵԿՏԵՄԲԵՐԻ 29-Ի N 2111-Ն ՈՐՈՇՄԱՆ N 9 ՀԱՎԵԼՎԱԾԻ N 9.15 ԵՎ N 9.47 ԱՂՅՈՒՍԱԿՈՒՄ ԿԱՏԱՐՎՈՂ ՓՈՓՈԽՈՒԹՅՈՒՆՆԵՐԸ ԵՎ ԼՐԱՑՈՒՄՆԵՐԸ
A6: Հայաստանի Հանրապետության աշխատանքի և սոցիալական հարցերի նախարարություն
A7: ՄԱՍ 2. ՊԵՏԱԿԱՆ ՄԱՐՄՆԻ ԳԾՈՎ ԱՐԴՅՈՒՆՔԱՅԻՆ (ԿԱՏԱՐՈՂԱԿԱՆ) ՑՈՒՑԱՆԻՇՆԵՐԸ
A11: Ծրագրի դասիչը | B11: Ծրագրի անվանումը
A12: 1205 | B12: Սոցիալական ապահովություն
A14: Ծրագրի միջոցառումները
A15: Ծրագրի դասիչը` | B15: 1205 | C15: Ցուցանիշների փոփոխությունները ավելացումները նշված են դրական նշանով
A16: Միջոցառման դասիչը` | B16: 12029 | C16: Ինն ամիս | D16: Տարի
A17: Միջոցառման անվանումը` | B17: Անկանխիկ եղանակով վճարումներից կենսաթոշակառուներին հետվճարի տրամադրում
A18: Նկարագրությունը` | B18: Անկանխիկ եղանակով վճարումներից կենսաթոշակառուներին հետվճարի տրամադրում՛ պետություն-մասնավոր սոցիալական փոխգործակցության միջոցառման շրջանակում
A19: Միջոցառման տեսակը` | B19: Տրանսֆերտների տրամադրում
A20: Միջոցառումն իրականացնողի անվանումը | B20: ՀՀ աշխատանքի և սոցիալական հարցերի նախարարության միասնական սոցիալական ծառայություն
A21: Արդյունքի չափորոշիչներ
A22: Անկանխիկ եղանակով վճարումներ իրականացնող շահառուների թիվ | C22: 125000 | D22: 125000
A23: Միջոցառման վրա կատարվող ծախսը (հազար դրամ) | C23: ='1'!D32 -> 1460638 | D23: ='1'!E32 -> 1460638
B25: ՀՀ կառավարություն
A26: Ծրագրի դասիչը | B26: Ծրագրի անվանումը
A27: 1139 | B27: ՀՀ կառավարության պահուստային ֆոնդ
A28: Ծրագրի միջոցառումներ
A30: Ծրագրի դասիչը` | B30: 1139 | C30: Ցուցանիշների փոփոխությունները նվազեցումները նշված են փակագծերում
A31: Միջոցառման դասիչը` | B31: 11001 | C31: Ինն ամիս | D31: Տարի
A32: Միջոցառման անվանումը` | B32: ՀՀ կառավարության պահուստային ֆոնդ
A33: Նկարագրությունը` | B33: ՀՀ պետական բյուջեում նախատեսված ելքերի լրացուցիչ ֆինանսավորման, պետական բյուջեում չկանխատեսված ելքերի, ինչպես նաև բյուջետային երաշխիքների ապահովման ելքերի ֆինանսավորման ապահովում
A34: Միջոցառման տեսակը` | B34: Ծառայությունների մատուցում
A35: Միջոցառումն իրականացնողի անվանումը | B35: ՀՀ կառավարություն
A36: Արդյունքի չափորոշիչներ
A37: Միջոցառման վրա կատարվող ծախսը (հազար դրամ) | C37: ='1'!D18 -> -1460638 | D37: ='1'!E18 -> -1460638

Sheet 4
D1: Հավելված N 4
D2: ՀՀ կառավարության 2023 թվականի
D3: -----------------ի N -----------Ն որոշման
A4: ՀԱՅԱՍՏԱՆԻ ՀԱՆՐԱՊԵՏՈՒԹՅԱՆ ԿԱՌԱՎԱՐՈՒԹՅԱՆ 2020 ԹՎԱԿԱՆԻ ԴԵԿՏԵՄԲԵՐԻ 30-Ի N 2215-Ն ՈՐՈՇՄԱՆ N 9 ՀԱՎԵԼՎԱԾԻ N 9.1.20 ԱՂՅՈՒՍԱԿՈՒՄ ԿԱՏԱՐՎՈՂ ՓՈՓՈԽՈՒԹՅՈՒՆՆԵՐԸ
A5: ՀԱՅԱՍՏԱՆԻ ՀԱՆՐԱՊԵՏՈՒԹՅԱՆ ԿԱՌԱՎԱՐՈՒԹՅԱՆ 2022 ԹՎԱԿԱՆԻ ԴԵԿՏԵՄԲԵՐԻ 29-Ի N 2111-Ն ՈՐՈՇՄԱՆ N 9.1 ՀԱՎԵԼՎԱԾԻ N 9.1.19 ԵՎ N 9.1.58 ԱՂՅՈՒՍԱԿՆԵՐՈՒՄ ԿԱՏԱՐՎՈՂ ՓՈՓՈԽՈՒԹՅՈՒՆՆԵՐԸ ԵՎ ԼՐԱՑՈՒՄՆԵՐԸ
A6: Հայաստանի Հանրապետության աշխատանքի և սոցիալական հարցերի նախարարության միասնական սոցիալական ծառայություն
A7: ՄԱՍ 1. ՊԵՏԱԿԱՆ ՄԱՐՄՆԻ ԳԾՈՎ ԱՐԴՅՈՒՆՔԱՅԻՆ (ԿԱՏԱՐՈՂԱԿԱՆ) ՑՈՒՑԱՆԻՇՆԵՐԸ
A11: Ծրագրի դասիչը | B11: Ծրագրի անվանումը
A12: 1205 | B12: Սոցիալական ապահովություն
A14: Ծրագրի միջոցառումները
A15: ='3'!A15 -> Ծրագրի դասիչը` | B15: ='3'!B15 -> 1205 | C15: Ցուցանիշների փոփոխությունները ավելացումները նշված են դրական նշանով
A16: ='3'!A16 -> Միջոցառման դասիչը` | B16: ='3'!B16 -> 12029 | C16: Ինն ամիս | D16: Տարի
A17: ='3'!A17 -> Միջոցառման անվանումը` | B17: ='3'!B17 -> Անկանխիկ եղանակով վճարումներից կենսաթոշակառուներին հետվճարի տրամադրում
A18: ='3'!A18 -> Նկարագրությունը` | B18: ='3'!B18 -> Անկանխիկ եղանակով վճարումներից կենսաթոշակառուներին հետվճարի տրամադրում՛ պետություն-մասնավոր սոցիալական փոխգործակցության միջոցառման շրջանակում
A19: ='3'!A19 -> Միջոցառման տեսակը` | B19: ='3'!B19 -> Տրանսֆերտների տրամադրում
A20: ='3'!A20 -> Միջոցառումն իրականացնողի անվանումը | B20: ='3'!B20 -> ՀՀ աշխատանքի և սոցիալական հարցերի նախարարության միասնական սոցիալական ծառայություն
A21: Արդյունքի չափորոշիչներ
A22: ='3'!A22:B22 -> Անկանխիկ եղանակով վճարումներ իրականացնող շահառուների թիվ | C22: ='3'!C22 -> 125000 | D22: ='3'!D22 -> 125000
A23: Միջոցառման վրա կատարվող ծախսը (հազար դրամ) | C23: ='3'!C23 -> 1460638 | D23: ='3'!D23 -> 1460638
B25: ՀՀ կառավարություն
A26: Ծրագրի դասիչը | B26: Ծրագրի անվանումը
A27: 1139 | B27: ՀՀ կառավարության պահուստային ֆոնդ
A28: Ծրագրի միջոցառումներ
A30: Ծրագրի դասիչը` | B30: 1139 | C30: Ցուցանիշների փոփոխությունները նվազեցումները նշված են փակագծերում
A31: Միջոցառման դասիչը` | B31: 11001 | C31: Ինն ամիս | D31: Տարի
A32: Միջոցառման անվանումը` | B32: ՀՀ կառավարության պահուստային ֆոնդ
A33: Նկարագրությունը` | B33: ՀՀ պետական բյուջեում նախատեսված ելքերի լրացուցիչ ֆինանսավորման, պետական բյուջեում չկանխատեսված ելքերի, ինչպես նաև բյուջետային երաշխիքների ապահովման ելքերի ֆինանսավորման ապահովում
A34: Միջոցառման տեսակը` | B34: Ծառայությունների մատուցում
A35: Միջոցառումն իրականացնողի անվանումը | B35: ՀՀ կառավարություն
A36: Արդյունքի չափորոշիչներ
A37: Միջոցառման վրա կատարվող ծախսը (հազար դրամ) | C37: ='1'!D18 -> -1460638 | D37: ='1'!E18 -> -1460638

Sheet 5
H1: Հավելված N 5
G2: ՀՀ կառավարության 2023 թվականի
G3: -----------------ի N -----------Ն որոշման
B5: ՀԱՅԱՍՏԱՆԻ ՀԱՆՐԱՊԵՏՈՒԹՅԱՆ 2023 ԹՎԱԿԱՆԻ ՊԵՏԱԿԱՆ ԲՅՈՒՋԵՈՎ ՆԱԽԱՏԵՍՎԱԾ՝ ՀԱՅԱՍՏԱՆԻ ՀԱՆՐԱՊԵՏՈՒԹՅԱՆ ԿԱՌԱՎԱՐՈՒԹՅԱՆ ՊԱՀՈՒՍՏԱՅԻՆ ՖՈՆԴԻՑ ՀԱՏԿԱՑՈՒՄՆԵՐ ԿԱՏԱՐԵԼՈՒ ՎԵՐԱԲԵՐՅԱԼ
G6: հազար դրամ
A7: Գործառական դասիչը | D7: Ծրագրային դասիչը | F7: Բյուջետային ծախսերի գործառական դասակարգման բաժինների, խմբերի և դասերի, բյուջետային ծրագրերի միջոցառումների, բյուջետային հատկացումների գլխավոր կարգադրիչների անվանումները | G7: Ցուցանիշների փոփոխությունը (ավելացումները նշված են դրական նշանով, իսկ նվազեցումները` փակագծերում)
A8: Բաժին | B8: Խումբ | C8: Դաս | D8: Ծրագիր | E8: Միջոցառում | G8: Ինն ամիս | H8: Տարի
F9: ԸՆԴԱՄԵՆԸ ԾԱԽՍԵՐ | G9: =G11+G28 -> 0 | H9: =H11+H28 -> 0
F10: այդ թվում`
F11: ՀՀ կառավարություն | G11: =G12 -> -1460638 | H11: =H12 -> -1460638
A12: 11 | F12: ՀԻՄՆԱԿԱՆ ԲԱԺԻՆՆԵՐԻՆ ՉԴԱՍՎՈՂ ՊԱՀՈՒՍՏԱՅԻՆ ՖՈՆԴԵՐ | G12: =+G14 -> -1460638 | H12: =+H14 -> -1460638
F13: այդ թվում`
B14: 01 | F14: ՀՀ կառավարության և համայնքների պահուստային ֆոնդ | G14: =G16 -> -1460638 | H14: =H16 -> -1460638
F15: այդ թվում`
C16: 01 | F16: ՀՀ կառավարության պահուստային ֆոնդ | G16: =G18 -> -1460638 | H16: =H18 -> -1460638
F17: այդ թվում`
D18: 1139 | F18: ՀՀ կառավարության պահուստային ֆոնդ | G18: =+G20 -> -1460638 | H18: =+H20 -> -1460638
F19: այդ թվում`
E20: 11001 | F20: ՀՀ կառավարության պահուստային ֆոնդ | G20: =G22 -> -1460638 | H20: =H22 -> -1460638
F21: այդ թվում` ըստ կատարողների
F22: ՀՀ կառավարություն | G22: =G24 -> -1460638 | H22: =H24 -> -1460638
F23: այդ թվում` բյուջետային ծախսերի տնտեսագիտական դասակարգման հոդվածներ
F24: ԸՆԴԱՄԵՆԸ ԾԱԽՍԵՐ | G24: =G25 -> -1460638 | H24: =H25 -> -1460638
F25: ԸՆԹԱՑԻԿ ԾԱԽՍԵՐ | G25: =G26 -> -1460638 | H25: =H26 -> -1460638
F26: Այլ ծախսեր | G26: =G27 -> -1460638 | H26: =H27 -> -1460638
F27: - Պահուստային միջոցներ | G27: ='1'!D18 -> -1460638 | H27: ='1'!E18 -> -1460638
F28: ՀՀ աշխատանքի և սոցիալական հարցերի նախարարություն | G28: =G29 -> 1460638 | H28: =H29 -> 1460638
A29: ='2'!A12 -> 10 | F29: ='2'!F12 -> ՍՈՑԻԱԼԱԿԱՆ ՊԱՇՏՊԱՆՈՒԹՅՈՒՆ | G29: ='2'!G12 -> 1460638 | H29: ='2'!H12 -> 1460638
F30: ='2'!F13 -> այդ թվում`
B31: ='2'!B14 -> 02 | F31: ='2'!F14 -> Ծերություն | G31: ='2'!G14 -> 1460638 | H31: ='2'!H14 -> 1460638
F32: ='2'!F15 -> այդ թվում՝
C33: ='2'!C16 -> 01 | F33: ='2'!F16 -> Ծերություն | G33: ='2'!G16 -> 1460638 | H33: ='2'!H16 -> 1460638
F34: ='2'!F17 -> այդ թվում`
D35: ='2'!D18 -> 1205 | F35: ='2'!F18 -> Սոցիալական ապահովություն | G35: ='2'!G18 -> 1460638 | H35: ='2'!H18 -> 1460638
F36: ='2'!F19 -> այդ թվում`
E37: ='2'!E20 -> 12029 | F37: ='2'!F20 -> Անկանխիկ եղանակով վճարումներից կենսաթոշակառուներին հետվճարի տրամադրում | G37: ='2'!G20 -> 1460638 | H37: ='2'!H20 -> 1460638
F38: ='2'!F21 -> այդ թվում` ըստ կատարողների
F39: ='2'!F22 -> ՀՀ աշխատանքի և սոցիալական հարցերի նախարարության միասնական սոցիալական ծառայություն | G39: ='2'!G22 -> 1460638 | H39: ='2'!H22 -> 1460638
F40: ='2'!F23 -> այդ թվում` բյուջետային ծախսերի տնտեսագիտական դասակարգման հոդվածներ
F41: ='2'!F24 -> ԸՆԴԱՄԵՆԸ ԾԱԽՍԵՐ | G41: ='2'!G24 -> 1460638 | H41: ='2'!H24 -> 1460638
F42: ='2'!F25 -> ԸՆԹԱՑԻԿ ԾԱԽՍԵՐ | G42: ='2'!G25 -> 1460638 | H42: ='2'!H25 -> 1460638
F43: ='2'!F26 -> ՍՈՑԻԱԼԱԿԱՆ ՆՊԱՍՏՆԵՐ ԵՎ ԿԵՆՍԱԹՈՇԱԿՆԵՐ | G43: ='2'!G26 -> 1460638 | H43: ='2'!H26 -> 1460638
F44: ='2'!F27 -> Սոցիալական օգնության դրամական արտահայտությամբ նպաստներ (բյուջեից) | G44: ='2'!G27 -> 1460638 | H44: ='2'!H27 -> 1460638
F45: ='2'!F28 -> - Այլ նպաստներ բյուջեից | G45: ='1'!D32 -> 1460638 | H45: ='1'!E32 -> 1460638
