Workbook
Name a: #REF!
Name a: #REF!
Name AgencyCode: #REF!
Name AgencyCode: #REF!
Name AgencyCode: #REF!
Name AgencyCode: #REF!
Name AgencyCode: #REF!
Name AgencyName: #REF!
Name AgencyName: #REF!
Name AgencyName: #REF!
Name AgencyName: #REF!
Name AgencyName: #REF!
Name davit: #REF!
Name davit: #REF!
Name davit: #REF!
Name davit: #REF!
Name Functional1: #REF!
Name Functional1: #REF!
Name Functional1: #REF!
Name Functional1: #REF!
Name Functional1: #REF!
Name ggg: #REF!
Name ggg: #REF!
Name ggg: #REF!
Name ggg: #REF!
Name HAVELVAC10: #REF!
Name PANature: #REF!
Name PANature: #REF!
Name PANature: #REF!
Name PANature: #REF!
Name PANature: #REF!
Name PAType: #REF!
Name PAType: #REF!
Name PAType: #REF!
Name PAType: #REF!
Name PAType: #REF!
Name Performance2: #REF!
Name Performance2: #REF!
Name Performance2: #REF!
Name Performance2: #REF!
Name Performance2: #REF!
Name PerformanceType: #REF!
Name PerformanceType: #REF!
Name PerformanceType: #REF!
Name PerformanceType: #REF!
Name PerformanceType: #REF!
Name Հավելված: #REF!
Name Հավելված: #REF!
Name Հավելված: #REF!
Name Հավելված: #REF!
Name Մաս: #REF!
Name Մաս: #REF!
Name Մաս: #REF!
Name Մաս: #REF!
Name շախմատիստ: #REF!
Name շախմատիստ: #REF!
Name շախմատիստ: #REF!
Name շախմատիստ: #REF!

Sheet Havelvats 1
E1: Հավելված N 1
D2: ՀՀ կառավարության 2023 թվականի
D3: ______________ ի ___Ն որոշման
A5: «ՀԱՅԱUՏԱՆԻ ՀԱՆՐԱՊԵՏՈՒԹՅԱՆ 2023 ԹՎԱԿԱՆԻ ՊԵՏԱԿԱՆ ԲՅՈՒՋԵԻ ՄԱUԻՆ» ՀԱՅԱUՏԱՆԻ ՀԱՆՐԱՊԵՏՈՒԹՅԱՆ OՐԵՆՔԻ N 1 ՀԱՎԵԼՎԱԾԻ N 2 ԱՂՅՈՒՍԱԿՈՒՄ ԿԱՏԱՐՎՈՂ ՎԵՐԱԲԱՇԽՈՒՄԸ ԵՎ ՀԱՅԱՍՏԱՆԻ ՀԱՆՐԱՊԵՏՈՒԹՅԱՆ ԿԱՌԱՎԱՐՈՒԹՅԱՆ 2022 ԹՎԱԿԱՆԻ ԴԵԿՏԵՄԲԵՐԻ 29-Ի N 2111-Ն ՈՐՈՇՄԱՆ N 5 ՀԱՎԵԼՎԱԾԻ N 1 ԱՂՅՈՒՍԱԿՈՒՄ ԿԱՏԱՐՎՈՂ ՓՈՓՈԽՈՒԹՅՈՒՆՆԵՐԸ ԵՎ ԼՐԱՑՈՒՄՆԵՐԸ
D6: հազ. դրամներով
A7: Ծրագրային դասիչը | C7: Բյուջետային հատկացումների գլխավոր կարգադրիչների, ծրագրերի և միջոցառումների անվանումները | D7: Ցուցանիշների փոփոխությունը (ավելացումները նշված են դրական նշանով, իսկ նվազեցումները՝ փակագծերում)
A8: Ծրագիր | B8: Միջոցառում | D8: Ինն ամիս | E8: Տարի
C9: ԸՆԴԱՄԵՆԸ | D9: =+D11+D38 -> 0 | E9: =+E11+E38 -> 0
C10: այդ թվում
C11: ՀՀ ԿՐԹՈՒԹՅԱՆ, ԳԻՏՈՒԹՅԱՆ, ՄՇԱԿՈՒՅԹԻ ԵՎ ՍՊՈՐՏԻ ՆԱԽԱՐԱՐՈՒԹՅՈՒՆ | D11: =D12+D25 -> 0 | E11: =E12+E25 -> 479820
A12: 1041 | C12: Ծրագրի անվանումը` | D12: =D19 -> 196548 | E12: =E19 -> 676368
C13: Մեծ նվաճումների սպորտ
C14: Ծրագրի նպատակը`
C15: Նպաստել Հայաստանում մեծ սպորտի շարունակական զարգացմանը և միջազգային հարթակներում ՀՀ դիրքի բարելավմանը
C16: Վերջնական արդյունքի նկարագրությունը`
C17: ՀՀ առաջնությունների ընդլայնում, միջազգային սպորտային միջոցառումներին մասնակցության և նվաճումների ապահովում
C18: Ծրագրի միջոցառումներ
B19: 11042 | C19: Միջոցառման անվանումը` | D19: 196548 | E19: 676368
C20: Երևանում կայանալիք սամբոյի մեծահասակների աշխարհի առաջնության անցկացում
C21: Միջոցառման նկարագրությունը`
C22: 2023 թ. Երևանում կայանալիք սամբոյի մեծահասակների աշխարհի առաջնության կազմակերպում և անցկացում
C23: Միջոցառման տեսակը
C24: Ծառայությունների մատուցում
A25: 1148 | C25: Ծրագրի անվանումը` | D25: =D32 -> -196548 | E25: =E32 -> -196548
C26: Արտադպրոցական դաստիարակության ծրագիր
C27: Ծրագրի նպատակը`
C28: Նպաստել հանրակրթական ուսուցման համակարգում ընդգրկված երեխաների ֆիզիկական, հոգևոր և գեղագիտական զարգացմանը, բնապահպանական և կիրառական գիտելիքների ձեռքբերմանը
C29: Վերջնական արդյունքի նկարագրությունը`
C30: Ստեղծել պայմաններ սովորողների ազատ ժամանացի կազմակերպան միջոցով նրանց հետաքրքրությունների բացահայտման, ձևավորման և զարգացման համար
C31: Ծրագրի միջոցառումներ
B32: 11016 | C32: Միջոցառման անվանումը` | D32: -196548 | E32: -196548
C33: ՀՀ հանրակրթական ծրագրեր իրականացնող ուսումնական հաստատությունների 11-րդ դասարանների աշակերտների ռազմամարզական ճամբարի կազմակերպում
C34: Միջոցառման նկարագրությունը`
C35: Նպաստել 11-րդ դասարաններում սովորող դպրոցականների մոտ «Նախնական զինվորական պատրաստություն» առարկայից ստացած գիտելիքների հարստացմանը և դրանց համապատասխան կարողությունների և հմտությունների զարգացմանը
C36: Միջոցառման տեսակը
C37: Ծառայությունների մատուցում
C38: ՀՀ ԿԱՌԱՎԱՐՈՒԹՅՈՒՆ | D38: =+D39 -> 0 | E38: =+E39 -> -479820
A39: 1139 | C39: Ծրագրի անվանումը` | D39: =+D45+D51 -> 0 | E39: =+E45+E51 -> -479820
C40: ՀՀ կառավարության պահուստային ֆոնդ
C41: Ծրագրի նպատակը`
C42: Պետական բյուջեում չկանխատեսված, ինչպես նաև բյուջետային երաշխիքների ապահովման ծախսերի ֆինանսավորման ապահովում
C43: Վերջնական արդյունքի նկարագրությունը`
C44: Պահուստային ֆոնդի կառավարման արդյունավետության և թափանցիկության ապահովում
B45: 11001 | C45: Միջոցառման անվանումը` | D45: -196548 | E45: -676368
C46: ՀՀ կառավարության պահուստային ֆոնդ
C47: Միջոցառման նկարագրությունը`
C48: ՀՀ պետական բյուջեում նախատեսված ելքերի լրացուցիչ ֆինանսավորման՝ պետական բյուջեում չկանխատեսված ելքերի, ինչպես նաև բյուջետային երաշխիքների ապահովման ելքերի ֆինանսավորման ապահովում
C49: Միջոցառման տեսակը
C50: Ծառայությունների մատուցում
B51: 11001 | C51: Միջոցառման անվանումը` | D51: 196548 | E51: 196548
C52: ՀՀ կառավարության պահուստային ֆոնդ
C53: Միջոցառման նկարագրությունը`
C54: ՀՀ պետական բյուջեում նախատեսված ելքերի լրացուցիչ ֆինանսավորման՝ պետական բյուջեում չկանխատեսված ելքերի, ինչպես նաև բյուջետային երաշխիքների ապահովման ելքերի ֆինանսավորման ապահովում
C55: Միջոցառման տեսակը
C56: Ծառայությունների մատուցում

Sheet Havelvats 2 
H1: Հավելված N 2
G2: ՀՀ կառավարության 2023 թվականի
G3: ______________ ի ___Ն որոշման
A5: ՀԱՅԱՍՏԱՆԻ ՀԱՆՐԱՊԵՏՈՒԹՅԱՆ ԿԱՌԱՎԱՐՈՒԹՅԱՆ 2022 ԹՎԱԿԱՆԻ ԴԵԿՏԵՄԲԵՐԻ 29-Ի N 2111-Ն ՈՐՈՇՄԱՆ N 3 ԵՎ N 4 ՀԱՎԵԼՎԱԾՆԵՐՈՒՄ ԿԱՏԱՐՎՈՂ ՓՈՓՈԽՈՒԹՅՈՒՆՆԵՐԸ ԵՎ ԼՐԱՑՈՒՄՆԵՐԸ
A9: Գործառական դասիչը | D9: Ծրագրային դասիչը | F9: Բյուջետային հատկացումների գլխավոր կարգադրիչների, ծրագրերի, միջոցառումների և միջոցառումները կատարող պետական մարմինների անվանումները | G9: Ցուցանիշների փոփոխությունը (ավելացումները նշված են դրական նշանով, իսկ նվազեցումները՝ փակագծերում)
A10: Բաժին | B10: Խումբ | C10: Դաս | D10: Ծրագիր | E10: Միջոցառում | G10: Ինն ամիս | H10: Տարի
F11: ԸՆԴԱՄԵՆԸ | G11: =G13 -> 0 | H11: =H13 -> 479820
F12: այդ թվում
F13: ՀՀ ԿՐԹՈՒԹՅԱՆ, ԳԻՏՈՒԹՅԱՆ, ՄՇԱԿՈՒՅԹԻ ԵՎ ՍՊՈՐՏԻ ՆԱԽԱՐԱՐՈՒԹՅՈՒՆ | G13: =G14+G33 -> 0 | H13: =H14+H33 -> 479820
A14: 08 | F14: ՀԱՆԳԻՍՏ, ՄՇԱԿՈՒՅԹ ԵՎ ԿՐՈՆ | G14: =G16 -> 196548 | H14: =H16 -> 676368
F15: այդ թվում`
B16: 01 | F16: Հանգստի և սպորտի ծառայություններ | G16: =G18 -> 196548 | H16: =H18 -> 676368
F17: այդ թվում`
C18: 01 | F18: Հանգստի և սպորտի ծառայություններ | G18: =G20 -> 196548 | H18: =H20 -> 676368
F19: այդ թվում`
F20: ՀՀ կրթության, գիտության, մշակույթի և սպորտի նախարարություն | G20: =G22 -> 196548 | H20: =H22 -> 676368
F21: այդ թվում`
D22: 1041 | E22: Մեծ նվաճումների սպորտ | G22: =+G24 -> 196548 | H22: =+H24 -> 676368
F23: այդ թվում`
E24: 11042 | F24: Երևանում կայանալիք սամբոյի մեծահասակների աշխարհի առաջնության անցկացում | G24: =G26 -> 196548 | H24: =H26 -> 676368
F25: այդ թվում` ըստ կատարողների
F26: ՀՀ կրթության, գիտության, մշակույթի և սպորտի նախարարություն | G26: =G28 -> 196548 | H26: =H28 -> 676368
F27: այդ թվում՝ բյուջետային ծախսերի տնտեսագիտական դասակարգման հոդվածներ
F28: ԸՆԴԱՄԵՆԸ ԾԱԽՍԵՐ | G28: =G29 -> 196548 | H28: =H29 -> 676368
F29: ԸՆԹԱՑԻԿ ԾԱԽՍԵՐ | G29: =+G30 -> 196548 | H29: =+H30 -> 676368
F30: ԴՐԱՄԱՇՆՈՐՀՆԵՐ | G30: =G31 -> 196548 | H30: =H31 -> 676368
F31: Ընթացիկ դրամաշնորհներ պետական հատվածի այլ մակարդակներին | G31: =G32 -> 196548 | H31: =H32 -> 676368
F32: - Այլ ընթացիկ դրամաշնորհներ | G32: ='Havelvats 1'!D19 -> 196548 | H32: ='Havelvats 1'!E19 -> 676368
A33: 09 | F33: ԿՐԹՈՒԹՅՈՒՆ | G33: =+G35 -> -196548 | H33: =+H35 -> -196548
F34: այդ թվում`
B35: 05 | F35: Ըստ մակարդակների չդասակարգվող կրթություն | G35: =G37 -> -196548 | H35: =H37 -> -196548
F36: այդ թվում`
C37: 01 | F37: Արտադպրոցական դաստիարակություն | G37: =G39 -> -196548 | H37: =H39 -> -196548
F38: այդ թվում`
F39: ՀՀ կրթության, գիտության, մշակույթի և սպորտի նախարարություն | G39: =G41 -> -196548 | H39: =H41 -> -196548
F40: այդ թվում`
D41: 1148 | E41: Արտադպրոցական դաստիարակության ծրագիր | G41: =+G43 -> -196548 | H41: =+H43 -> -196548
F42: այդ թվում`
E43: 11016 | F43: ՀՀ հանրակրթական ծրագրեր իրականացնող ուսումնական հաստատությունների 11-րդ դասարանների աշակերտների ռազմամարզական ճամբարի կազմակերպում | G43: =G45 -> -196548 | H43: =H45 -> -196548
F44: այդ թվում` ըստ կատարողների
F45: ՀՀ կրթության, գիտության, մշակույթի և սպորտի նախարարություն | G45: =G47 -> -196548 | H45: =H47 -> -196548
F46: այդ թվում՝ բյուջետային ծախսերի տնտեսագիտական դասակարգման հոդվածներ
F47: ԸՆԴԱՄԵՆԸ ԾԱԽՍԵՐ | G47: =G48 -> -196548 | H47: =H48 -> -196548
F48: ԸՆԹԱՑԻԿ ԾԱԽՍԵՐ | G48: =+G49 -> -196548 | H48: =+H49 -> -196548
F49: ԴՐԱՄԱՇՆՈՐՀՆԵՐ | G49: =G50 -> -196548 | H49: =H50 -> -196548
F50: Ընթացիկ դրամաշնորհներ պետական հատվածի այլ մակարդակներին | G50: =G51 -> -196548 | H50: =H51 -> -196548
F51: - Ընթացիկ դրամաշնորհներ պետական և համայնքների ոչ առևտրային կազմակերպություններին | G51: ='Havelvats 1'!D32 -> -196548 | H51: ='Havelvats 1'!E32 -> -196548
F52: ՀՀ ԿԱՌԱՎԱՐՈՒԹՅՈՒՆ | G52: =+G53 -> 0 | H52: =+H53 -> -479820
A53: 11 | F53: ՀԻՄՆԱԿԱՆ ԲԱԺԻՆՆԵՐԻՆ ՉԴԱՍՎՈՂ ՊԱՀՈՒՍՏԱՅԻՆ ՖՈՆԴԵՐ | G53: =+G55 -> 0 | H53: =+H55 -> -479820
F54: այդ թվում`
B55: 01 | F55: ՀՀ կառավարության և համայնքների պահուստային ֆոնդ | G55: =+G57 -> 0 | H55: =+H57 -> -479820
F56: այդ թվում`
C57: 01 | F57: ՀՀ կառավարության պահուստային ֆոնդ | G57: =G59 -> 0 | H57: =H59 -> -479820
F58: այդ թվում`
F59: ՀՀ կառավարություն | G59: =+G61 -> 0 | H59: =+H61 -> -479820
F60: այդ թվում`
D61: 1139 | E61: ՀՀ կառավարության պահուստային ֆոնդ | F61: ՀՀ կառավարության պահուստային ֆոնդ | G61: =+G70+G78 -> 0 | H61: =+H70+H78 -> -479820
F62: այդ թվում`
E63: 11001 | F63: ՀՀ կառավարության պահուստային ֆոնդ | G63: =+G65 -> -196548 | H63: =+H65 -> -676368
F64: այդ թվում` ըստ կատարողների
F65: ՀՀ կառավարություն | G65: =+G67 -> -196548 | H65: =+H67 -> -676368
F66: այդ թվում` բյուջետային ծախսերի տնտեսագիտական դասակարգման հոդվածներ
F67: ԸՆԴԱՄԵՆԸ ԾԱԽՍԵՐ | G67: =+G68 -> -196548 | H67: =+H68 -> -676368
F68: ԸՆԹԱՑԻԿ ԾԱԽՍԵՐ | G68: =+G69 -> -196548 | H68: =+H69 -> -676368
F69: ԱՅԼ ԾԱԽՍԵՐ | G69: =+G70 -> -196548 | H69: =+H70 -> -676368
F70: Պահուստային միջոցներ | G70: ='Havelvats 1'!D45 -> -196548 | H70: ='Havelvats 1'!E45 -> -676368
E71: 11001 | F71: ՀՀ կառավարության պահուստային ֆոնդ | G71: =+G73 -> 196548 | H71: =+H73 -> 196548
F72: այդ թվում` ըստ կատարողների
F73: ՀՀ կառավարություն | G73: =+G75 -> 196548 | H73: =+H75 -> 196548
F74: այդ թվում` բյուջետային ծախսերի տնտեսագիտական դասակարգման հոդվածներ
F75: ԸՆԴԱՄԵՆԸ ԾԱԽՍԵՐ | G75: =+G76 -> 196548 | H75: =+H76 -> 196548
F76: ԸՆԹԱՑԻԿ ԾԱԽՍԵՐ | G76: =+G77 -> 196548 | H76: =+H77 -> 196548
F77: ԱՅԼ ԾԱԽՍԵՐ | G77: =+G78 -> 196548 | H77: =+H78 -> 196548
F78: Պահուստային միջոցներ | G78: ='Havelvats 1'!D51 -> 196548 | H78: ='Havelvats 1'!E51 -> 196548

Sheet Havelvac 3
F1: Հավելված N 3
F2: ՀՀ կառավարության 2023 թվականի
F3: ______________ ի ___Ն որոշման
A6: ՀԱՅԱՍՏԱՆԻ ՀԱՆՐԱՊԵՏՈՒԹՅԱՆ ԿԱՌԱՎԱՐՈՒԹՅԱՆ 2022 ԹՎԱԿԱՆԻ ԴԵԿՏԵՄԲԵՐԻ 29-Ի N 2111-Ն ՈՐՈՇՄԱՆ N 5 ՀԱՎԵԼՎԱԾԻ N 7 ԱՂՅՈՒՍԱԿՈՒՄ ԿԱՏԱՐՎՈՂ ՓՈՓՈԽՈՒԹՅՈՒՆՆԵՐԸ ԵՎ ԼՐԱՑՈՒՄՆԵՐԸ
G7: հազ. դրամներով
A8: Ծրագրային դասիչը | C8: Բյուջետային հատկացումների գլխավոր կարգադրիչների, ծրագրերի, միջոցառումների և միջոցառումները կատարող պետական մարմինների անվանումները | F8: Միջոցառումները կատարող պետական մարմինների և դրամաշնորհ ստացող տնտեսվարող սուբյեկտների անվանումները | G8: Ցուցանիշների փոփոխությունը (ավելացումները նշված են դրական նշանով, իսկ նվազեցումները՝ փակագծերում)
A9: Ծրագիր | B9: Միջոցառում | G9: Տարի
A10: ՀՀ կրթության, գիտության, մշակույթի և սպորտի նախարարություն | G10: =+G11+G14 -> 479820
A11: 1041 | B11: Մեծ նվաճումների սպորտ | G11: =+G12 -> 676368
B12: 11042 | C12: Երևանում կայանալիք սամբոյի մեծահասակների աշխարհի առաջնության անցկացում | F12: ՀՀ կրթության, գիտության, մշակույթի և սպորտի նախարարություն | G12: =SUM(G13:G13) -> 676368
F13: «Հայաստանի սամբոյի ֆեդերացիա» ՀԿ | G13: ='Havelvats 2 '!H32 -> 676368
A14: 1148 | B14: Արտադպրոցական դաստիարակության ծրագիր | G14: =+G15 -> -196548
B15: 11016 | C15: ՀՀ հանրակրթական ծրագրեր իրականացնող ուսումնական հաստատությունների 11-րդ դասարանների աշակերտների ռազմամարզական ճամբարի կազմակերպում | F15: ՀՀ կրթության, գիտության, մշակույթի և սպորտի նախարարություն | G15: =SUM(G16:G16) -> -196548
F16: «Արամ Մանուկյանի անվան մարզառազմական մասնագիտացված դպրոց» ՊՈԱԿ | G16: ='Havelvats 1'!E32 -> -196548

Sheet Havelvats 4
E1: Հավելված N 4
D2: ՀՀ կառավարության 2023 թվականի
D3: ______________ ի ___Ն որոշման
B5: ՀԱՅԱՍՏԱՆԻ ՀԱՆՐԱՊԵՏՈՒԹՅԱՆ ԿԱՌԱՎԱՐՈՒԹՅԱՆ 2022 ԹՎԱԿԱՆԻ ԴԵԿՏԵՄԲԵՐԻ 29-Ի N 2111-Ն ՈՐՈՇՄԱՆ N 9 ՀԱՎԵԼՎԱԾԻ N 9.13 և 9.47 ԱՂՅՈՒՍԱԿՆԵՐՈՒՄ ԿԱՏԱՐՎՈՂ ՓՈՓՈԽՈՒԹՅՈՒՆՆԵՐԸ ԵՎ ԼՐԱՑՈՒՄՆԵՐԸ
A7: Աղյուսակ 9․13
C8: ՀՀ կրթության, գիտության, մշակույթի և սպորտի նախարարություն
B9: ՄԱՍ 2. ՊԵՏԱԿԱՆ ՄԱՐՄՆԻ ԳԾՈՎ ԱՐԴՅՈՒՆՔԱՅԻՆ (ԿԱՏԱՐՈՂԱԿԱՆ) ՑՈՒՑԱՆԻՇՆԵՐԸ
B12: Ծրագրի դասիչը | C12: Ծրագրի անվանումը
B13: 1041 | C13: Մեծ նվաճումների սպորտ
B15: Ծրագրի միջոցառումները
B16: Ծրագրի դասիչը՝ | C16: 1041 | D16: Ցուցանիշների փոփոխությունը (ավելացումները նշված են դրական նշանով)
B17: Միջոցառման դասիչը՝ | C17: 11042 | D17: Ինն ամիս | E17: Տարի
B18: Միջոցառման անվանումը՝ | C18: Երևանում կայանալիք սամբոյի մեծահասակների աշխարհի առաջնության անցկացում
B19: Նկարագրությունը՝ | C19: 2023 թ. Երևանում կայանալիք սամբոյի մեծահասակների աշխարհի առաջնության կազմակերպում և անցկացում
B20: Միջոցառման տեսակը՝ | C20: Ծառայությունների մատուցում
B21: Միջոցառումն իրականացնողի անվանումը | C21: Մասնագիտացված կազմակերպություններ
B22: Արդյունքի չափորոշիչներ
B23: Մասնակիցների ընդհանուր թիվ ՀՀ-ից, մարդ, որից | D23: 0 | E23: 64
B24: Մարզիկների թիվ ՀՀ-ից, մարդ, որից | D24: 0 | E24: 42
B25: իգական սեռի ներկայացուցիչներ, տոկոս | D25: 0 | E25: 50
B26: արական սեռի ներկայացուցիչներ, տոկոս | D26: 0 | E26: 50
B27: Միջոցառման վրա կատարվող ծախսը (հազար դրամ) | D27: ='Havelvats 1'!D19 -> 196548 | E27: ='Havelvats 1'!E19 -> 676368
B30: Ծրագրի դասիչը | C30: Ծրագրի անվանումը
B31: 1148 | C31: Արտադպրոցական դաստիարակության ծրագիր
B33: Ծրագրի միջոցառումները
B34: Ծրագրի դասիչը՝ | C34: 1148 | D34: Ցուցանիշների փոփոխությունը (նվազեցումները նշված են փակագծերում)
B35: Միջոցառման դասիչը՝ | C35: 11016 | D35: Ինն ամիս | E35: Տարի
B36: Միջոցառման անվանումը՝ | C36: ՀՀ հանրակրթական ծրագրեր իրականացնող ուսումնական հաստատությունների 11-րդ դասարանների աշակերտների ռազմամարզական ճամբարի կազմակերպում
B37: Նկարագրությունը՝ | C37: Նպաստել 11-րդ դասարաններում սովորող դպրոցականների մոտ «Նախնական զինվորական պատրաստություն» առարկայից ստացած գիտելիքների հարստացմանը և դրանց համապատասխան կարողությունների և հմտությունների զարգացմանը
B38: Միջոցառման տեսակը՝ | C38: Ծառայությունների մատուցում
B39: Միջոցառումն իրականացնողի անվանումը | C39: Մասնագիտացված կազմակերպություններ
B40: Արդյունքի չափորոշիչներ
B41: 11-րդ դասարանի աշակերտների թիվ, մարդ | D41: -1740 | E41: -1740
B42: Միջոցառման վրա կատարվող ծախսը (հազար դրամ) | D42: ='Havelvats 1'!D32 -> -196548 | E42: ='Havelvats 1'!E32 -> -196548
A45: Աղյուսակ 9․47
C46: ՀՀ կառավարություն
B47: ՄԱՍ 2. ՊԵՏԱԿԱՆ ՄԱՐՄՆԻ ԳԾՈՎ ԱՐԴՅՈՒՆՔԱՅԻՆ (ԿԱՏԱՐՈՂԱԿԱՆ) ՑՈՒՑԱՆԻՇՆԵՐԸ
B50: Ծրագրի դասիչը | C50: Ծրագրի անվանումը
B51: 1139 | C51: ՀՀ կառավարության պահուստային ֆոնդ
B53: Ծրագրի միջոցառումները
B54: Ծրագրի դասիչը՝ | C54: 1139 | D54: Ցուցանիշների փոփոխությունը (նվազեցումները նշված են փակագծերում)
B55: Միջոցառման դասիչը՝ | C55: 11001 | D55: Ինն ամիս | E55: Տարի
B56: Միջոցառման անվանումը՝ | C56: ՀՀ կառավարության պահուստային ֆոնդ
B57: Նկարագրությունը՝ | C57: ՀՀ պետական բյուջեում նախատեսված ելքերի լրացուցիչ ֆինանսավորման՝ պետական բյուջեում չկանխատեսված ելքերի, ինչպես նաև բյուջետային երաշխիքների ապահովման ելքերի ֆինանսավորման ապահովում
B58: Միջոցառման տեսակը՝ | C58: Ծառայությունների մատուցում
B59: Միջոցառումն իրականացնողի անվանումը | C59: ՀՀ կառավարություն
C60: Արդյունքի չափորոշիչներ
B61: Միջոցառման վրա կատարվող ծախսը (հազար դրամ) | D61: ='Havelvats 1'!D45 -> -196548 | E61: ='Havelvats 1'!E45 -> -676368
B63: Ծրագրի միջոցառումները
B64: Ծրագրի դասիչը՝ | C64: 1139 | D64: Ցուցանիշների փոփոխությունը (ավելացումները նշված են դրական նշանով)
B65: Միջոցառման դասիչը՝ | C65: 11001 | D65: Ինն ամիս | E65: Տարի
B66: Միջոցառման անվանումը՝ | C66: ՀՀ կառավարության պահուստային ֆոնդ
B67: Նկարագրությունը՝ | C67: ՀՀ պետական բյուջեում նախատեսված ելքերի լրացուցիչ ֆինանսավորման՝ պետական բյուջեում չկանխատեսված ելքերի, ինչպես նաև բյուջետային երաշխիքների ապահովման ելքերի ֆինանսավորման ապահովում
B68: Միջոցառման տեսակը՝ | C68: Ծառայությունների մատուցում
B69: Միջոցառումն իրականացնողի անվանումը | C69: ՀՀ կառավարություն
C70: Արդյունքի չափորոշիչներ
B71: Միջոցառման վրա կատարվող ծախսը (հազար դրամ) | D71: ='Havelvats 1'!D51 -> 196548 | E71: ='Havelvats 1'!E51 -> 196548

Sheet Havelvats 5
E1: Հավելված N 5
C2: ՀՀ կառավարության 2023 թվականի
C3: ______________ ի ___Ն որոշման
B5: ՀԱՅԱՍՏԱՆԻ ՀԱՆՐԱՊԵՏՈՒԹՅԱՆ ԿԱՌԱՎԱՐՈՒԹՅԱՆ 2022 ԹՎԱԿԱՆԻ ԴԵԿՏԵՄԲԵՐԻ 29-Ի N 2111-Ն ՈՐՈՇՄԱՆ N 9․1 ՀԱՎԵԼՎԱԾԻ N 9.1․13 ԵՎ 9.1.58 ԱՂՅՈՒՍԱԿՆԵՐՈՒՄ ԿԱՏԱՐՎՈՂ ՓՈՓՈԽՈՒԹՅՈՒՆՆԵՐԸ ԵՎ ԼՐԱՑՈՒՄՆԵՐԸ
A7: Աղյուսակ 9․1․13
C9: ՀՀ կրթության, գիտության, մշակույթի և սպորտի նախարարություն
B10: ՄԱՍ 1. ՊԵՏԱԿԱՆ ՄԱՐՄՆԻ ԳԾՈՎ ԱՐԴՅՈՒՆՔԱՅԻՆ (ԿԱՏԱՐՈՂԱԿԱՆ) ՑՈՒՑԱՆԻՇՆԵՐԸ
B12: Ծրագրի դասիչը | C12: Ծրագրի անվանումը
B13: 1041 | C13: Մեծ նվաճումների սպորտ
B15: Ծրագրի միջոցառումները
B16: Ծրագրի դասիչը՝ | C16: 1041 | D16: Ցուցանիշների փոփոխությունը (ավելացումները նշված են դրական նշանով)
B17: Միջոցառման դասիչը՝ | C17: 11042 | D17: Ինն ամիս | E17: Տարի
B18: Միջոցառման անվանումը՝ | C18: Երևանում կայանալիք սամբոյի մեծահասակների աշխարհի առաջնության անցկացում
B19: Նկարագրությունը՝ | C19: 2023 թ. Երևանում կայանալիք սամբոյի մեծահասակների աշխարհի առաջնության կազմակերպում և անցկացում
B20: Միջոցառման տեսակը՝ | C20: Ծառայությունների մատուցում
B21: Միջոցառումն իրականացնողի անվանումը | C21: Մասնագիտացված կազմակերպություններ
B22: Արդյունքի չափորոշիչներ
B23: Մասնակիցների ընդհանուր թիվ ՀՀ-ից, մարդ, որից | D23: 0 | E23: 64
B24: Մարզիկների թիվ ՀՀ-ից, մարդ, որից | D24: 0 | E24: 42
B25: իգական սեռի ներկայացուցիչներ, տոկոս | D25: 0 | E25: 50
B26: արական սեռի ներկայացուցիչներ, տոկոս | D26: 0 | E26: 50
B27: Միջոցառման վրա կատարվող ծախսը (հազար դրամ) | D27: ='Havelvats 1'!D19 -> 196548 | E27: ='Havelvats 1'!E19 -> 676368
B30: Ծրագրի դասիչը | C30: Ծրագրի անվանումը
B31: 1148 | C31: Արտադպրոցական դաստիարակության ծրագիր
B33: Ծրագրի միջոցառումները
B34: Ծրագրի դասիչը՝ | C34: 1148 | D34: Ցուցանիշների փոփոխությունը (նվազեցումները նշված են փակագծերում)
B35: Միջոցառման դասիչը՝ | C35: 11016 | D35: Ինն ամիս | E35: Տարի
B36: Միջոցառման անվանումը՝ | C36: ՀՀ հանրակրթական ծրագրեր իրականացնող ուսումնական հաստատությունների 11-րդ դասարանների աշակերտների ռազմամարզական ճամբարի կազմակերպում
B37: Նկարագրությունը՝ | C37: Նպաստել 11-րդ դասարաններում սովորող դպրոցականների մոտ «Նախնական զինվորական պատրաստություն» առարկայից ստացած գիտելիքների հարստացմանը և դրանց համապատասխան կարողությունների և հմտությունների զարգացմանը
B38: Միջոցառման տեսակը՝ | C38: Ծառայությունների մատուցում
B39: Միջոցառումն իրականացնողի անվանումը | C39: Մասնագիտացված կազմակերպություններ
B40: Արդյունքի չափորոշիչներ
B41: 11-րդ դասարանի աշակերտների թիվ, մարդ | D41: -1740 | E41: -1740
B42: Միջոցառման վրա կատարվող ծախսը (հազար դրամ) | D42: ='Havelvats 1'!D32 -> -196548 | E42: ='Havelvats 1'!E32 -> -196548
A47: Աղյուսակ 9․1.58
C48: ՀՀ կառավարություն
B49: ՄԱՍ 1. ՊԵՏԱԿԱՆ ՄԱՐՄՆԻ ԳԾՈՎ ԱՐԴՅՈՒՆՔԱՅԻՆ (ԿԱՏԱՐՈՂԱԿԱՆ) ՑՈՒՑԱՆԻՇՆԵՐԸ
B52: Ծրագրի դասիչը | C52: Ծրագրի անվանումը
B53: 1139 | C53: ՀՀ կառավարության պահուստային ֆոնդ
B55: Ծրագրի միջոցառումները
B56: Ծրագրի դասիչը՝ | C56: 1139 | D56: Ցուցանիշների փոփոխությունը (նվազեցումները նշված են փակագծերում)
B57: Միջոցառման դասիչը՝ | C57: 11001 | D57: Ինն ամիս | E57: Տարի
B58: Միջոցառման անվանումը՝ | C58: ՀՀ կառավարության պահուստային ֆոնդ
B59: Նկարագրությունը՝ | C59: ՀՀ պետական բյուջեում նախատեսված ելքերի լրացուցիչ ֆինանսավորման՝ պետական բյուջեում չկանխատեսված ելքերի, ինչպես նաև բյուջետային երաշխիքների ապահովման ելքերի ֆինանսավորման ապահովում
B60: Միջոցառման տեսակը՝ | C60: Ծառայությունների մատուցում
B61: Միջոցառումն իրականացնողի անվանումը | C61: ՀՀ կառավարություն
C62: Արդյունքի չափորոշիչներ
B63: Միջոցառման վրա կատարվող ծախսը (հազար դրամ) | D63: ='Havelvats 4'!D61 -> -196548 | E63: ='Havelvats 4'!E61 -> -676368
B65: Ծրագրի միջոցառումները
B66: Ծրագրի դասիչը՝ | C66: 1139 | D66: Ցուցանիշների փոփոխությունը (ավելացումները նշված են դրական նշանով)
B67: Միջոցառման դասիչը՝ | C67: 11001 | D67: Ինն ամիս | E67: Տարի
B68: Միջոցառման անվանումը՝ | C68: ՀՀ կառավարության պահուստային ֆոնդ
B69: Նկարագրությունը՝ | C69: ՀՀ պետական բյուջեում նախատեսված ելքերի լրացուցիչ ֆինանսավորման՝ պետական բյուջեում չկանխատեսված ելքերի, ինչպես նաև բյուջետային երաշխիքների ապահովման ելքերի ֆինանսավորման ապահովում
B70: Միջոցառման տեսակը՝ | C70: Ծառայությունների մատուցում
B71: Միջոցառումն իրականացնողի անվանումը | C71: ՀՀ կառավարություն
C72: Արդյունքի չափորոշիչներ
B73: Միջոցառման վրա կատարվող ծախսը (հազար դրամ) | D73: ='Havelvats 4'!D71 -> 196548 | E73: ='Havelvats 4'!E71 -> 196548

Sheet Havelvats 6
G1: Հավելված N 6
F2: ՀՀ կառավարության 2023 թվականի
F3: ______________ ի ___Ն որոշման
A6: ՀԱՅԱՍՏԱՆԻ ՀԱՆՐԱՊԵՏՈՒԹՅԱՆ 2023 ԹՎԱԿԱՆԻ ՊԵՏԱԿԱՆ ԲՅՈՒՋԵՈՎ ՆԱԽԱՏԵՍՎԱԾ՝ ՀԱՅԱՍՏԱՆԻ ՀԱՆՐԱՊԵՏՈՒԹՅԱՆ ԿԱՌԱՎԱՐՈՒԹՅԱՆ ՊԱՀՈՒՍՏԱՅԻՆ ՖՈՆԴԻՑ ՀԱՏԿԱՑՈՒՄՆԵՐ ԿԱՏԱՐԵԼՈՒ ՎԵՐԱԲԵՐՅԱԼ
G8: հազ. դրամներով
A9: Գործառական դասիչը | D9: Ծրագրային դասիչը | F9: Բյուջետային հատկացումների գլխավոր կարգադրիչների, ծրագրերի, միջոցառումների և միջոցառումները կատարող պետական մարմինների անվանումները | G9: Ցուցանիշների փոփոխությունը (ավելացումները նշված են դրական նշանով, իսկ նվազեցումները՝ փակագծերում)
A10: Բաժին | B10: Խումբ | C10: Դաս | D10: Ծրագիր | E10: Միջոցառում | G10: Ինն ամիս | H10: Տարի
F11: ԸՆԴԱՄԵՆԸ | G11: =G13 -> 0 | H11: =H13 -> 479820
F12: այդ թվում
F13: ՀՀ ԿՐԹՈՒԹՅԱՆ, ԳԻՏՈՒԹՅԱՆ, ՄՇԱԿՈՒՅԹԻ ԵՎ ՍՊՈՐՏԻ ՆԱԽԱՐԱՐՈՒԹՅՈՒՆ | G13: =G14+G33 -> 0 | H13: =H14+H33 -> 479820
A14: 08 | F14: ՀԱՆԳԻՍՏ, ՄՇԱԿՈՒՅԹ ԵՎ ԿՐՈՆ | G14: =G16 -> 196548 | H14: =H16 -> 676368
F15: այդ թվում`
B16: 01 | F16: Հանգստի և սպորտի ծառայություններ | G16: =G18 -> 196548 | H16: =H18 -> 676368
F17: այդ թվում`
C18: 01 | F18: Հանգստի և սպորտի ծառայություններ | G18: =G20 -> 196548 | H18: =H20 -> 676368
F19: այդ թվում`
F20: ՀՀ կրթության, գիտության, մշակույթի և սպորտի նախարարություն | G20: =G22 -> 196548 | H20: =H22 -> 676368
F21: այդ թվում`
D22: 1041 | E22: Մեծ նվաճումների սպորտ | G22: =+G24 -> 196548 | H22: =+H24 -> 676368
F23: այդ թվում`
E24: 11042 | F24: Երևանում կայանալիք սամբոյի մեծահասակների աշխարհի առաջնության անցկացում | G24: =G26 -> 196548 | H24: =H26 -> 676368
F25: այդ թվում` ըստ կատարողների
F26: ՀՀ կրթության, գիտության, մշակույթի և սպորտի նախարարություն | G26: =G28 -> 196548 | H26: =H28 -> 676368
F27: այդ թվում՝ բյուջետային ծախսերի տնտեսագիտական դասակարգման հոդվածներ
F28: ԸՆԴԱՄԵՆԸ ԾԱԽՍԵՐ | G28: =G29 -> 196548 | H28: =H29 -> 676368
F29: ԸՆԹԱՑԻԿ ԾԱԽՍԵՐ | G29: =+G30 -> 196548 | H29: =+H30 -> 676368
F30: ԴՐԱՄԱՇՆՈՐՀՆԵՐ | G30: =G31 -> 196548 | H30: =H31 -> 676368
F31: Ընթացիկ դրամաշնորհներ պետական հատվածի այլ մակարդակներին | G31: =G32 -> 196548 | H31: =H32 -> 676368
F32: - Այլ ընթացիկ դրամաշնորհներ | G32: ='Havelvats 1'!D19 -> 196548 | H32: ='Havelvats 1'!E19 -> 676368
A33: 09 | F33: ԿՐԹՈՒԹՅՈՒՆ | G33: =+G35 -> -196548 | H33: =+H35 -> -196548
F34: այդ թվում`
B35: 05 | F35: Ըստ մակարդակների չդասակարգվող կրթություն | G35: =G37 -> -196548 | H35: =H37 -> -196548
F36: այդ թվում`
C37: 01 | F37: Արտադպրոցական դաստիարակություն | G37: =G39 -> -196548 | H37: =H39 -> -196548
F38: այդ թվում`
F39: ՀՀ կրթության, գիտության, մշակույթի և սպորտի նախարարություն | G39: =G41 -> -196548 | H39: =H41 -> -196548
F40: այդ թվում`
D41: 1148 | E41: Արտադպրոցական դաստիարակության ծրագիր | G41: =+G43 -> -196548 | H41: =+H43 -> -196548
F42: այդ թվում`
E43: 11016 | F43: ՀՀ հանրակրթական ծրագրեր իրականացնող ուսումնական հաստատությունների 11-րդ դասարանների աշակերտների ռազմամարզական ճամբարի կազմակերպում | G43: =G45 -> -196548 | H43: =H45 -> -196548
F44: այդ թվում` ըստ կատարողների
F45: ՀՀ կրթության, գիտության, մշակույթի և սպորտի նախարարություն | G45: =G47 -> -196548 | H45: =H47 -> -196548
F46: այդ թվում՝ բյուջետային ծախսերի տնտեսագիտական դասակարգման հոդվածներ
F47: ԸՆԴԱՄԵՆԸ ԾԱԽՍԵՐ | G47: =G48 -> -196548 | H47: =H48 -> -196548
F48: ԸՆԹԱՑԻԿ ԾԱԽՍԵՐ | G48: =+G49 -> -196548 | H48: =+H49 -> -196548
F49: ԴՐԱՄԱՇՆՈՐՀՆԵՐ | G49: =G50 -> -196548 | H49: =H50 -> -196548
F50: Ընթացիկ դրամաշնորհներ պետական հատվածի այլ մակարդակներին | G50: =G51 -> -196548 | H50: =H51 -> -196548
F51: - Ընթացիկ դրամաշնորհներ պետական և համայնքների ոչ առևտրային կազմակերպություններին | G51: ='Havelvats 1'!D32 -> -196548 | H51: ='Havelvats 1'!E32 -> -196548
F52: ՀՀ ԿԱՌԱՎԱՐՈՒԹՅՈՒՆ | G52: =+G53 -> 0 | H52: =+H53 -> -479820
A53: 11 | F53: ՀԻՄՆԱԿԱՆ ԲԱԺԻՆՆԵՐԻՆ ՉԴԱՍՎՈՂ ՊԱՀՈՒՍՏԱՅԻՆ ՖՈՆԴԵՐ | G53: =+G55 -> 0 | H53: =+H55 -> -479820
F54: այդ թվում`
B55: 01 | F55: ՀՀ կառավարության և համայնքների պահուստային ֆոնդ | G55: =+G57 -> 0 | H55: =+H57 -> -479820
F56: այդ թվում`
C57: 01 | F57: ՀՀ կառավարության պահուստային ֆոնդ | G57: =G59 -> 0 | H57: =H59 -> -479820
F58: այդ թվում`
F59: ՀՀ կառավարություն | G59: =+G61 -> 0 | H59: =+H61 -> -479820
F60: այդ թվում`
D61: 1139 | E61: ՀՀ կառավարության պահուստային ֆոնդ | F61: ՀՀ կառավարության պահուստային ֆոնդ | G61: =+G70+G78 -> 0 | H61: =+H70+H78 -> -479820
F62: այդ թվում`
E63: 11001 | F63: ՀՀ կառավարության պահուստային ֆոնդ | G63: =+G65 -> -196548 | H63: =+H65 -> -676368
F64: այդ թվում` ըստ կատարողների
F65: ՀՀ կառավարություն | G65: =+G67 -> -196548 | H65: =+H67 -> -676368
F66: այդ թվում` բյուջետային ծախսերի տնտեսագիտական դասակարգման հոդվածներ
F67: ԸՆԴԱՄԵՆԸ ԾԱԽՍԵՐ | G67: =+G68 -> -196548 | H67: =+H68 -> -676368
F68: ԸՆԹԱՑԻԿ ԾԱԽՍԵՐ | G68: =+G69 -> -196548 | H68: =+H69 -> -676368
F69: ԱՅԼ ԾԱԽՍԵՐ | G69: =+G70 -> -196548 | H69: =+H70 -> -676368
F70: Պահուստային միջոցներ | G70: ='Havelvats 1'!D45 -> -196548 | H70: ='Havelvats 1'!E45 -> -676368
E71: 11001 | F71: ՀՀ կառավարության պահուստային ֆոնդ | G71: =+G73 -> 196548 | H71: =+H73 -> 196548
F72: այդ թվում` ըստ կատարողների
F73: ՀՀ կառավարություն | G73: =+G75 -> 196548 | H73: =+H75 -> 196548
F74: այդ թվում` բյուջետային ծախսերի տնտեսագիտական դասակարգման հոդվածներ
F75: ԸՆԴԱՄԵՆԸ ԾԱԽՍԵՐ | G75: =+G76 -> 196548 | H75: =+H76 -> 196548
F76: ԸՆԹԱՑԻԿ ԾԱԽՍԵՐ | G76: =+G77 -> 196548 | H76: =+H77 -> 196548
F77: ԱՅԼ ԾԱԽՍԵՐ | G77: =+G78 -> 196548 | H77: =+H78 -> 196548
F78: Պահուստային միջոցներ | G78: ='Havelvats 1'!D51 -> 196548 | H78: ='Havelvats 1'!E51 -> 196548
