Workbook
Name a: #REF!
Name a: #REF!
Name AgencyCode: #REF!
Name AgencyCode: #REF!
Name AgencyCode: #REF!
Name AgencyCode: #REF!
Name AgencyName: #REF!
Name AgencyName: #REF!
Name AgencyName: #REF!
Name AgencyName: #REF!
Name davit: #REF!
Name davit: #REF!
Name davit: #REF!
Name Functional1: #REF!
Name Functional1: #REF!
Name Functional1: #REF!
Name Functional1: #REF!
Name ggg: #REF!
Name ggg: #REF!
Name ggg: #REF!
Name HAVELVAC10: #REF!
Name PANature: #REF!
Name PANature: #REF!
Name PANature: #REF!
Name PANature: #REF!
Name PAType: #REF!
Name PAType: #REF!
Name PAType: #REF!
Name PAType: #REF!
Name Performance2: #REF!
Name Performance2: #REF!
Name Performance2: #REF!
Name Performance2: #REF!
Name PerformanceType: #REF!
Name PerformanceType: #REF!
Name PerformanceType: #REF!
Name PerformanceType: #REF!
Name Հավելված: #REF!
Name Հավելված: #REF!
Name Հավելված: #REF!
Name Մաս: #REF!
Name Մաս: #REF!
Name Մաս: #REF!
Name շախմատիստ: #REF!
Name շախմատիստ: #REF!
Name շախմատիստ: #REF!

Sheet Havelvats 2
D1: Հավելված N 2
D2: ՀՀ կառավարության 2023 թվականի
D3: ______________ ի ___Ն որոշման
A5: «ՀԱՅԱUՏԱՆԻ ՀԱՆՐԱՊԵՏՈՒԹՅԱՆ 2023 ԹՎԱԿԱՆԻ ՊԵՏԱԿԱՆ ԲՅՈՒՋԵԻ ՄԱUԻՆ» ՀԱՅԱUՏԱՆԻ ՀԱՆՐԱՊԵՏՈՒԹՅԱՆ OՐԵՆՔԻ N 1 ՀԱՎԵԼՎԱԾԻ N 2 ԱՂՅՈՒՍԱԿՈՒՄ ԿԱՏԱՐՎՈՂ ՎԵՐԱԲԱՇԽՈՒՄԸ ԵՎ ՀԱՅԱՍՏԱՆԻ ՀԱՆՐԱՊԵՏՈՒԹՅԱՆ ԿԱՌԱՎԱՐՈՒԹՅԱՆ 2022 ԹՎԱԿԱՆԻ ԴԵԿՏԵՄԲԵՐԻ 29-Ի N 2111-Ն ՈՐՈՇՄԱՆ N 5 ՀԱՎԵԼՎԱԾԻ N 1 ԱՂՅՈՒՍԱԿՈՒՄ ԿԱՏԱՐՎՈՂ ՓՈՓՈԽՈՒԹՅՈՒՆՆԵՐԸ ԵՎ ԼՐԱՑՈՒՄՆԵՐԸ
E6: հազ. դրամ
A7: Ծրագրային դասիչը | C7: Բյուջետային հատկացումների գլխավոր կարգադրիչների, ծրագրերի և միջոցառումների անվանումները | D7: Ցուցանիշների փոփոխությունը (ավելացումները նշված են դրական նշանով, իսկ նվազեցումները՝ փակագծերում)
A8: Ծրագիր | B8: Միջոցառում | D8: Ինն ամիս | E8: Տարի
C9: ԸՆԴԱՄԵՆԸ | D9: =D11+D37 -> 0 | E9: =E11+E37 -> 0
C10: այդ թվում
C11: ՀՀ ԿՐԹՈՒԹՅԱՆ, ԳԻՏՈՒԹՅԱՆ, ՄՇԱԿՈՒՅԹԻ ԵՎ ՍՊՈՐՏԻ ՆԱԽԱՐԱՐՈՒԹՅՈՒՆ | D11: =D12+D25 -> 0 | E11: =E12+E25 -> 0
A12: 1168 | C12: Ծրագրի անվանումը` | D12: =D19 -> 233526.8 | E12: =E19 -> 233526.8
C13: Արվեստների ծրագիր
C14: Ծրագրի նպատակը`
C15: Նպաստել ազգային հենքի վրա ժամանակակից թատերարվեստի, երաժշտարվեստի, կերպարվեստի և պարարվեստի զարգացմանը և հանրահռչակմանը
C16: Վերջնական արդյունքի նկարագրությունը`
C17: Մրցունակ արվեստային արտադրանքի ստեղծում, ստեղծագործական գործընթացների խթանում, արվեստի նոր նախագծերի ներդրում և մշակութային կյանքում հասարակության ներգրավում
C18: Ծրագրի միջոցառումներ
B19: 11015 | C19: Միջոցառման անվանումը` | D19: 233526.8 | E19: 233526.8
C20: Թատերահամերգային կազմակերպությունների ֆինանսավորման փորձնական մոդելի ներդրում
C21: Միջոցառման նկարագրությունը`
C22: Կառավարման արդի մոդելների ներդրում, պետական միջոցների նպատակային կառավարում, կազմակերպությունների գործունեության արդյունավետության բարձրացում, ֆինանսական ինքնավարության մակարդակի ապահովում, կառավարչական և կազմակերպչական կարողությունների խթանում, մարդկային ռեսուրսների և կարողությունների կատարելագործում
C23: Միջոցառման տեսակը
C24: Ծառայությունների մատուցում
A25: 1148 | C25: Ծրագրի անվանումը` | D25: =+D31 -> -233526.8 | E25: =+E31 -> -233526.8
C26: Արտադպրոցական դաստիարակության ծրագիր
C27: Ծրագրի նպատակը`
C28: Նպաստել հանրակրթական ուսուցման համակարգում ընդգրկված երեխաների ֆիզիկական, հոգևոր և գեղագիտական զարգացմանը, բնապահպանական և կիրառական գիտելիքների ձեռքբերմանը
C29: Վերջնական արդյունքի նկարագրությունը`
C30: Ստեղծել պայմաններ սովորողների ազատ ժամանացի կազմակերպան միջոցով նրանց հետաքրքրությունների բացահայտման, ձևավորման և զարգացման համար
B31: 11016 | C31: Միջոցառման անվանումը` | D31: -233526.8 | E31: -233526.8
C32: ՀՀ հանրակրթական ծրագրեր իրականացնող ուսումնական հաստատությունների 11-րդ դասարանների աշակերտների ռազմամարզական ճամբարի կազմակերպում
C33: Միջոցառման նկարագրությունը`
C34: Նպաստել 11-րդ դասարաններում սովորող դպրոցականների մոտ «Նախնական զինվորական պատրաստություն» առարկայից ստացած գիտելիքների հարստացմանը և դրանց համապատասխան կարողությունների և հմտությունների զարգացմանը
C35: Միջոցառման տեսակը
C36: Ծառայությունների մատուցում
C37: ՀՀ ԿԱՌԱՎԱՐՈՒԹՅՈՒՆ | D37: =+D38 -> 0 | E37: =E38 -> 0
A38: 1139 | C38: Ծրագրի անվանումը` | D38: =+D44+D50 -> 0 | E38: =+E44+E50 -> 0
C39: ՀՀ կառավարության պահուստային ֆոնդ
C40: Ծրագրի նպատակը`
C41: Պետական բյուջեում չկանխատեսված, ինչպես նաև բյուջետային երաշխիքների ապահովման ծախսերի ֆինանսավորման ապահովում
C42: Վերջնական արդյունքի նկարագրությունը`
C43: Պահուստային ֆոնդի կառավարման արդյունավետության և թափանցիկության ապահովում
B44: 11001 | C44: Միջոցառման անվանումը` | D44: 233526.8 | E44: 233526.8
C45: ՀՀ կառավարության պահուստային ֆոնդ
C46: Միջոցառման նկարագրությունը`
C47: ՀՀ պետական բյուջեում նախատեսված ելքերի լրացուցիչ ֆինանսավորման՝ պետական բյուջեում չկանխատեսված ելքերի, ինչպես նաև բյուջետային երաշխիքների ապահովման ելքերի ֆինանսավորման ապահովում
C48: Միջոցառման տեսակը
C49: Ծառայությունների մատուցում
B50: 11001 | C50: Միջոցառման անվանումը` | D50: -233526.8 | E50: -233526.8
C51: ՀՀ կառավարության պահուստային ֆոնդ
C52: Միջոցառման նկարագրությունը`
C53: ՀՀ պետական բյուջեում նախատեսված ելքերի լրացուցիչ ֆինանսավորման՝ պետական բյուջեում չկանխատեսված ելքերի, ինչպես նաև բյուջետային երաշխիքների ապահովման ելքերի ֆինանսավորման ապահովում
C54: Միջոցառման տեսակը
C55: Ծառայությունների մատուցում

Sheet Havelvats 3
G1: Հավելված N 3
G2: ՀՀ կառավարության 2023 թվականի
G3: ______________ ի ___Ն որոշման
A5: ՀԱՅԱՍՏԱՆԻ ՀԱՆՐԱՊԵՏՈՒԹՅԱՆ ԿԱՌԱՎԱՐՈՒԹՅԱՆ 2022 ԹՎԱԿԱՆԻ ԴԵԿՏԵՄԲԵՐԻ 29-Ի N 2111-Ն ՈՐՈՇՄԱՆ N 3 ԵՎ N 4 ՀԱՎԵԼՎԱԾՆԵՐՈՒՄ ԿԱՏԱՐՎՈՂ ՓՈՓՈԽՈՒԹՅՈՒՆՆԵՐԸ ԵՎ ԼՐԱՑՈՒՄՆԵՐԸ
G8: հազ. դրամ
A9: Գործառական դասիչը | D9: Ծրագրային դասիչը | F9: Բյուջետային հատկացումների գլխավոր կարգադրիչների, ծրագրերի, միջոցառումների և միջոցառումները կատարող պետական մարմինների անվանումները | G9: Ցուցանիշների փոփոխությունը (ավելացումները նշված են դրական նշանով, իսկ նվազեցումները՝ փակագծերում)
A10: Բաժին | B10: Խումբ | C10: Դաս | D10: Ծրագիր | E10: Միջոցառում | G10: Ինն ամիս | H10: Տարի
F11: ԸՆԴԱՄԵՆԸ | G11: =G13+G52 -> 0 | H11: =H13+H52 -> 0
F12: այդ թվում
F13: ՀՀ ԿՐԹՈՒԹՅԱՆ, ԳԻՏՈՒԹՅԱՆ, ՄՇԱԿՈՒՅԹԻ ԵՎ ՍՊՈՐՏԻ ՆԱԽԱՐԱՐՈՒԹՅՈՒՆ | G13: =G14+G33 -> 0 | H13: =H14+H33 -> 0
A14: 08 | F14: ՀԱՆԳԻՍՏ, ՄՇԱԿՈՒՅԹ ԵՎ ԿՐՈՆ | G14: =G16 -> 233526.8 | H14: =H16 -> 233526.8
F15: այդ թվում`
B16: 02 | F16: Հանգստի և սպորտի ծառայություններ | G16: =G18 -> 233526.8 | H16: =H18 -> 233526.8
F17: այդ թվում`
C18: 05 | F18: Հանգստի և սպորտի ծառայություններ | G18: =G20 -> 233526.8 | H18: =H20 -> 233526.8
F19: այդ թվում`
F20: ՀՀ կրթության, գիտության, մշակույթի և սպորտի նախարարություն | G20: =G22 -> 233526.8 | H20: =H22 -> 233526.8
F21: այդ թվում`
D22: 1168 | E22: Արվեստների ծրագիր | G22: =+G24 -> 233526.8 | H22: =+H24 -> 233526.8
F23: այդ թվում`
E24: 11015 | F24: Թատերահամերգային կազմակերպությունների ֆինանսավորման փորձնական մոդելի ներդրում | G24: =G26 -> 233526.8 | H24: =H26 -> 233526.8
F25: այդ թվում` ըստ կատարողների
F26: ՀՀ կրթության, գիտության, մշակույթի և սպորտի նախարարություն | G26: =G28 -> 233526.8 | H26: =H28 -> 233526.8
F27: այդ թվում՝ բյուջետային ծախսերի տնտեսագիտական դասակարգման հոդվածներ
F28: ԸՆԴԱՄԵՆԸ ԾԱԽՍԵՐ | G28: =G29 -> 233526.8 | H28: =H29 -> 233526.8
F29: ԸՆԹԱՑԻԿ ԾԱԽՍԵՐ | G29: =+G30 -> 233526.8 | H29: =+H30 -> 233526.8
F30: ԴՐԱՄԱՇՆՈՐՀՆԵՐ | G30: =G31 -> 233526.8 | H30: =H31 -> 233526.8
F31: Ընթացիկ դրամաշնորհներ պետական հատվածի այլ մակարդակներին | G31: =G32 -> 233526.8 | H31: =H32 -> 233526.8
F32: - Ընթացիկ դրամաշնորհներ պետական և համայնքների ոչ առևտրային կազմակերպություններին | G32: ='Havelvats 2'!D19 -> 233526.8 | H32: ='Havelvats 2'!E19 -> 233526.8
A33: 09 | F33: ԿՐԹՈՒԹՅՈՒՆ | G33: =+G35 -> -233526.8 | H33: =+H35 -> -233526.8
F34: այդ թվում`
B35: 05 | F35: Ըստ մակարդակների չդասակարգվող կրթություն | G35: =+G37 -> -233526.8 | H35: =+H37 -> -233526.8
F36: այդ թվում`
C37: 01 | F37: Արտադպրոցական դաստիարակություն | G37: =G39 -> -233526.8 | H37: =H39 -> -233526.8
F38: այդ թվում`
F39: ՀՀ կրթության , գիտության, մշակույթի և սպորտի նախարարություն | G39: =+G41 -> -233526.8 | H39: =+H41 -> -233526.8
F40: այդ թվում`
D41: 1148 | E41: Արտադպրոցական դաստիարակության ծրագիր | F41: ՀՀ կառավարության պահուստային ֆոնդ | G41: =+G51 -> -233526.8 | H41: =+H51 -> -233526.8
F42: այդ թվում`
E43: 11016 | F43: ՀՀ հանրակրթական ծրագրեր իրականացնող ուսումնական հաստատությունների 11-րդ դասարանների աշակերտների ռազմամարզական ճամբարի կազմակերպում | G43: =+G45 -> -233526.8 | H43: =+H45 -> -233526.8
F44: այդ թվում` ըստ կատարողների
F45: ՀՀ կրթության , գիտության, մշակույթի և սպորտի նախարարություն | G45: =+G47 -> -233526.8 | H45: =+H47 -> -233526.8
F46: այդ թվում` բյուջետային ծախսերի տնտեսագիտական դասակարգման հոդվածներ
F47: ԸՆԴԱՄԵՆԸ ԾԱԽՍԵՐ | G47: =+G48 -> -233526.8 | H47: =+H48 -> -233526.8
F48: ԸՆԹԱՑԻԿ ԾԱԽՍԵՐ | G48: =+G49 -> -233526.8 | H48: =+H49 -> -233526.8
F49: ԴՐԱՄԱՇՆՈՐՀՆԵՐ | G49: =+G51 -> -233526.8 | H49: =+H51 -> -233526.8
F50: Ընթացիկ դրամաշնորհներ պետական հատվածի այլ մակարդակներին
F51: - Ընթացիկ դրամաշնորհներ պետական և համայնքների ոչ առևտրային կազմակերպություններին | G51: ='Havelvats 2'!D31 -> -233526.8 | H51: ='Havelvats 2'!E31 -> -233526.8
F52: ՀՀ ԿԱՌԱՎԱՐՈՒԹՅՈՒՆ | G52: =+G53 -> 0 | H52: =+H53 -> 0
A53: 11 | F53: ՀԻՄՆԱԿԱՆ ԲԱԺԻՆՆԵՐԻՆ ՉԴԱՍՎՈՂ ՊԱՀՈՒՍՏԱՅԻՆ ՖՈՆԴԵՐ | G53: =+G55 -> 0 | H53: =+H55 -> 0
F54: այդ թվում`
B55: 01 | F55: ՀՀ կառավարության և համայնքների պահուստային ֆոնդ | G55: =+G57 -> 0 | H55: =+H57 -> 0
F56: այդ թվում`
C57: 01 | F57: ՀՀ կառավարության պահուստային ֆոնդ | G57: =G59 -> 0 | H57: =H59 -> 0
F58: այդ թվում`
F59: ՀՀ կառավարություն | G59: =+G61 -> 0 | H59: =+H61 -> 0
F60: այդ թվում`
D61: 1139 | E61: ՀՀ կառավարության պահուստային ֆոնդ | F61: ՀՀ կառավարության պահուստային ֆոնդ | G61: =+G70+G78 -> 0 | H61: =+H70+H78 -> 0
F62: այդ թվում`
E63: 11001 | F63: ՀՀ կառավարության պահուստային ֆոնդ | G63: =+G65 -> 233526.8 | H63: =H65 -> 233526.8
F64: այդ թվում` ըստ կատարողների
F65: ՀՀ կառավարություն | G65: =+G67 -> 233526.8 | H65: =H67 -> 233526.8
F66: այդ թվում` բյուջետային ծախսերի տնտեսագիտական դասակարգման հոդվածներ
F67: ԸՆԴԱՄԵՆԸ ԾԱԽՍԵՐ | G67: =+G68 -> 233526.8 | H67: =H68 -> 233526.8
F68: ԸՆԹԱՑԻԿ ԾԱԽՍԵՐ | G68: =+G69 -> 233526.8 | H68: =H69 -> 233526.8
F69: ԱՅԼ ԾԱԽՍԵՐ | G69: =+G70 -> 233526.8 | H69: =H70 -> 233526.8
F70: Պահուստային միջոցներ | G70: 233526.8 | H70: 233526.8
E71: 11001 | F71: ՀՀ կառավարության պահուստային ֆոնդ | G71: =+G73 -> -233526.8 | H71: =H73 -> -233526.8
F72: այդ թվում` ըստ կատարողների
F73: ՀՀ կառավարություն | G73: =+G75 -> -233526.8 | H73: =H75 -> -233526.8
F74: այդ թվում` բյուջետային ծախսերի տնտեսագիտական դասակարգման հոդվածներ
F75: ԸՆԴԱՄԵՆԸ ԾԱԽՍԵՐ | G75: =+G76 -> -233526.8 | H75: =H76 -> -233526.8
F76: ԸՆԹԱՑԻԿ ԾԱԽՍԵՐ | G76: =+G77 -> -233526.8 | H76: =H77 -> -233526.8
F77: ԱՅԼ ԾԱԽՍԵՐ | G77: =+G78 -> -233526.8 | H77: =H78 -> -233526.8
F78: Պահուստային միջոցներ | G78: -233526.8 | H78: -233526.8

Sheet Havelvac 4
F1: Հավելված N 4
F2: ՀՀ կառավարության 2023 թվականի
F3: ______________ ի ___Ն որոշման
A6: ՀԱՅԱՍՏԱՆԻ ՀԱՆՐԱՊԵՏՈՒԹՅԱՆ ԿԱՌԱՎԱՐՈՒԹՅԱՆ 2022 ԹՎԱԿԱՆԻ ԴԵԿՏԵՄԲԵՐԻ 29-Ի N 2111-Ն ՈՐՈՇՄԱՆ N 5 ՀԱՎԵԼՎԱԾԻ N 7 ԱՂՅՈՒՍԱԿՈՒՄ ԿԱՏԱՐՎՈՂ ՓՈՓՈԽՈՒԹՅՈՒՆՆԵՐԸ ԵՎ ԼՐԱՑՈՒՄՆԵՐԸ
G7: հազ. դրամ
A8: Ծրագրային դասիչը | C8: Բյուջետային հատկացումների գլխավոր կարգադրիչների, ծրագրերի, միջոցառումների և միջոցառումները կատարող պետական մարմինների անվանումները | F8: Միջոցառումները կատարող պետական մարմինների և դրամաշնորհ ստացող տնտեսվարող սուբյեկտների անվանումները | G8: Ցուցանիշների փոփոխությունը (ավելացումները նշված են դրական նշանով, իսկ նվազեցումները՝ փակագծերում)
A9: Ծրագիր | B9: Միջոցառում | G9: Տարի
A10: ՀՀ կրթության, գիտության, մշակույթի և սպորտի նախարարություն | G10: =G11+G14 -> 0
A11: 1168 | B11: Արվեստների ծրագիր | G11: =G12 -> 233526.8
B12: 11015 | C12: Թատերահամերգային կազմակերպությունների ֆինանսավորման փորձնական մոդելի ներդրում | F12: ՀՀ կրթության, գիտության, մշակույթի և սպորտի նախարարություն | G12: =G13 -> 233526.8
F13: «Ա. Սպենդիարյանի անվան օպերայի և բալետի ազգային ակադեմիական թատրոն» ՊՈԱԿ | G13: 233526.8
A14: 1148 | B14: Արտադպրոցական դաստիարակության ծրագիր | G14: =G15 -> -233526.8
B15: 11016 | C15: ՀՀ հանրակրթական ծրագրեր իրականացնող ուսումնական հաստատությունների 11-րդ դասարանների աշակերտների ռազմամարզական ճամբարի կազմակերպում | F15: ՀՀ կրթության, գիտության, մշակույթի և սպորտի նախարարություն | G15: =G16 -> -233526.8
F16: «Արամ Մանուկյանի անվան մարզառազմական մասնագիտացված դպրոց» ՊՈԱԿ | G16: -233526.8

Sheet Havelvats 5
A1: Հավելված N 5
A2: ՀՀ կառավարության 2023 թվականի
A3: ______________ ի ___Ն որոշման
B5: ՀԱՅԱՍՏԱՆԻ ՀԱՆՐԱՊԵՏՈՒԹՅԱՆ ԿԱՌԱՎԱՐՈՒԹՅԱՆ 2022 ԹՎԱԿԱՆԻ ԴԵԿՏԵՄԲԵՐԻ 29-Ի N 2111-Ն ՈՐՈՇՄԱՆ N 9 ՀԱՎԵԼՎԱԾԻ N 9.13 և 9.47 ԱՂՅՈՒՍԱԿՆԵՐՈՒՄ ԿԱՏԱՐՎՈՂ ՓՈՓՈԽՈՒԹՅՈՒՆՆԵՐԸ ԵՎ ԼՐԱՑՈՒՄՆԵՐԸ
A7: Աղյուսակ 9․13
C8: ՀՀ կրթության, գիտության, մշակույթի և սպորտի նախարարություն
B9: ՄԱՍ 2. ՊԵՏԱԿԱՆ ՄԱՐՄՆԻ ԳԾՈՎ ԱՐԴՅՈՒՆՔԱՅԻՆ (ԿԱՏԱՐՈՂԱԿԱՆ) ՑՈՒՑԱՆԻՇՆԵՐԸ
B12: Ծրագրի դասիչը | C12: Ծրագրի անվանումը
B13: 1168 | C13: Արվեստների ծրագիր
E14: հազ. դրամ
B15: Ծրագրի միջոցառումները
B16: Ծրագրի դասիչը՝ | C16: 1168 | D16: Ցուցանիշների փոփոխությունը (ավելացումները նշված են դրական նշանով)
B17: Միջոցառման դասիչը՝ | C17: 11015 | D17: Ինն ամիս | E17: Տարի
B18: Միջոցառման անվանումը՝ | C18: Թատերահամերգային կազմակերպությունների ֆինանսավորման փորձնական մոդելի ներդրում
B19: Նկարագրությունը՝ | C19: Կառավարման արդի մոդելների ներդրում, պետական միջոցների նպատակային կառավարում, կազմակերպությունների գործունեության արդյունավետության բարձրացում, ֆինանսական ինքնավարության մակարդակի ապահովում, կառավարչական և կազմակերպչական կարողությունների խթանում, մարդկային ռեսուրսների և կարողությունների կատարելագործում
B20: Միջոցառման տեսակը՝ | C20: Ծառայությունների մատուցում
B21: Միջոցառումն իրականացնողի անվանումը | C21: Մասնագիտացված կազմակերպություններ
B22: Արդյունքի չափորոշիչներ
B23: Հանդիսատեսի թվաքանակ | D23: 720 | E23: 1440
B24: Նոր ներկայացումների քանակ | D24: 1 | E24: 2
B25: Նոր ներկայացումների բեմադրությունների ստեղծագործական կազմում ընդգրկված ստեղծագործողների թիվը, մարդ, այդ թվում՝ | D25: =SUM(D26:D27) -> 351 | E25: =SUM(E26:E27) -> 351
B26: իգական սեռի | D26: 164 | E26: 164
B27: արական սեռի | D27: 187 | E27: 187
B28: Դահլիճի միջին բեռնվածություն, % | D28: 68 | E28: 68
B29: Միջոցառման վրա կատարվող ծախսը (հազար դրամ) | D29: ='Havelvats 2'!D19 -> 233526.8 | E29: ='Havelvats 2'!E19 -> 233526.8
B32: Ծրագրի միջոցառումները
B33: Ծրագրի դասիչը՝ | C33: 1148 | D33: Ցուցանիշների փոփոխությունը (նվազեցումները նշված են փակագծերում)
B34: Միջոցառման դասիչը՝ | C34: 11016 | D34: Ինն ամիս | E34: Տարի
B35: Միջոցառման անվանումը՝ | C35: ՀՀ հանրակրթական ծրագրեր իրականացնող ուսումնական հաստատությունների 11-րդ դասարանների աշակերտների ռազմամարզական ճամբարի կազմակերպում
B36: Նկարագրությունը՝ | C36: Նպաստել 11-րդ դասարաններում սովորող դպրոցականների մոտ «Նախնական զինվորական պատրաստություն» առարկայից ստացած գիտելիքների հարստացմանը և դրանց համապատասխան կարողությունների և հմտությունների զարգացմանը
B37: Միջոցառման տեսակը՝ | C37: Ծառայությունների մատուցում
B38: Միջոցառումն իրականացնողի անվանումը | C38: Մասնագիտացված կազմակերպություն
C39: Արդյունքի չափորոշիչներ
B40: 11-րդ դասարանի աշակերտների թիվ, մարդ | D40: -2076 | E40: -2076
B41: Միջոցառման վրա կատարվող ծախսը (հազար դրամ) | D41: ='Havelvats 2'!D31 -> -233526.8 | E41: ='Havelvats 2'!E31 -> -233526.8
B43: Աղյուսակ 9․47
C45: ՀՀ կառավարություն
B46: ՄԱՍ 2. ՊԵՏԱԿԱՆ ՄԱՐՄՆԻ ԳԾՈՎ ԱՐԴՅՈՒՆՔԱՅԻՆ (ԿԱՏԱՐՈՂԱԿԱՆ) ՑՈՒՑԱՆԻՇՆԵՐԸ
B49: Ծրագրի դասիչը | C49: Ծրագրի անվանումը
B50: 1139 | C50: ՀՀ կառավարության պահուստային ֆոնդ
B52: Ծրագրի միջոցառումները
B53: Ծրագրի դասիչը՝ | C53: 1139 | D53: Ցուցանիշների փոփոխությունը (ավելացումները նշված են դրական նշանով)
B54: Միջոցառման դասիչը՝ | C54: 11001 | D54: Ինն ամիս | E54: Տարի
B55: Միջոցառման անվանումը՝ | C55: ՀՀ կառավարության պահուստային ֆոնդ
B56: Նկարագրությունը՝ | C56: ՀՀ պետական բյուջեում նախատեսված ելքերի լրացուցիչ ֆինանսավորման՝ պետական բյուջեում չկանխատեսված ելքերի, ինչպես նաև բյուջետային երաշխիքների ապահովման ելքերի ֆինանսավորման ապահովում
B57: Միջոցառման տեսակը՝ | C57: Ծառայությունների մատուցում
B58: Միջոցառումն իրականացնողի անվանումը | C58: ՀՀ կառավարություն
C59: Արդյունքի չափորոշիչներ
B60: Միջոցառման վրա կատարվող ծախսը (հազար դրամ) | D60: 233526.8 | E60: 233526.8
B62: Ծրագրի միջոցառումները
B63: Ծրագրի դասիչը՝ | C63: 1139 | D63: Ցուցանիշների փոփոխությունը (նվազեցումները նշված են փակագծերում)
B64: Միջոցառման դասիչը՝ | C64: 11001 | D64: Ինն ամիս | E64: Տարի
B65: Միջոցառման անվանումը՝ | C65: ՀՀ կառավարության պահուստային ֆոնդ
B66: Նկարագրությունը՝ | C66: ՀՀ պետական բյուջեում նախատեսված ելքերի լրացուցիչ ֆինանսավորման՝ պետական բյուջեում չկանխատեսված ելքերի, ինչպես նաև բյուջետային երաշխիքների ապահովման ելքերի ֆինանսավորման ապահովում
B67: Միջոցառման տեսակը՝ | C67: Ծառայությունների մատուցում
B68: Միջոցառումն իրականացնողի անվանումը | C68: ՀՀ կառավարություն
C69: Արդյունքի չափորոշիչներ
B70: Միջոցառման վրա կատարվող ծախսը (հազար դրամ) | D70: -233526.8 | E70: -233526.8

Sheet Havelvats 6
D1: Հավելված N 6
C2: ՀՀ կառավարության 2023 թվականի
C3: ______________ ի ___Ն որոշման
B5: ՀԱՅԱՍՏԱՆԻ ՀԱՆՐԱՊԵՏՈՒԹՅԱՆ ԿԱՌԱՎԱՐՈՒԹՅԱՆ 2022 ԹՎԱԿԱՆԻ ԴԵԿՏԵՄԲԵՐԻ 29-Ի N 2111-Ն ՈՐՈՇՄԱՆ N 9․1 ՀԱՎԵԼՎԱԾԻ N 9.1․13 ԵՎ 9․1․58 ԱՂՅՈՒՍԱԿՆԵՐՈՒՄ ԿԱՏԱՐՎՈՂ ՓՈՓՈԽՈՒԹՅՈՒՆՆԵՐԸ ԵՎ ԼՐԱՑՈՒՄՆԵՐԸ
A7: Աղյուսակ 9․1․13
C9: ՀՀ կրթության, գիտության, մշակույթի և սպորտի նախարարություն
B10: ՄԱՍ 1. ՊԵՏԱԿԱՆ ՄԱՐՄՆԻ ԳԾՈՎ ԱՐԴՅՈՒՆՔԱՅԻՆ (ԿԱՏԱՐՈՂԱԿԱՆ) ՑՈՒՑԱՆԻՇՆԵՐԸ
B12: Ծրագրի դասիչը | C12: Ծրագրի անվանումը
B13: 1168 | C13: Արվեստների ծրագիր
B15: Ծրագրի միջոցառումները
B16: Ծրագրի դասիչը՝ | C16: 1168 | D16: Ցուցանիշների փոփոխությունը (ավելացումները նշված են դրական նշանով)
B17: Միջոցառման դասիչը՝ | C17: 11015 | D17: Ինն ամիս | E17: Տարի
B18: Միջոցառման անվանումը՝ | C18: Թատերահամերգային կազմակերպությունների ֆինանսավորման փորձնական մոդելի ներդրում
B19: Նկարագրությունը՝ | C19: Կառավարման արդի մոդելների ներդրում, պետական միջոցների նպատակային կառավարում, կազմակերպությունների գործունեության արդյունավետության բարձրացում, ֆինանսական ինքնավարության մակարդակի ապահովում, կառավարչական և կազմակերպչական կարողությունների խթանում, մարդկային ռեսուրսների և կարողությունների կատարելագործում
B20: Միջոցառման տեսակը՝ | C20: Ծառայությունների մատուցում
B21: Միջոցառումն իրականացնողի անվանումը | C21: Մասնագիտացված կազմակերպություններ
B22: Արդյունքի չափորոշիչներ
B23: Հանդիսատեսի թվաքանակ | D23: 720 | E23: 1440
B24: Նոր ներկայացումների քանակ | D24: 1 | E24: 2
B25: Նոր ներկայացումների բեմադրությունների ստեղծագործական կազմում ընդգրկված ստեղծագործողների թիվը, մարդ, այդ թվում՝ | D25: =SUM(D26:D28) -> 351 | E25: =SUM(E26:E28) -> 351
B26: իգական սեռի | D26: 164 | E26: 164
B27: արական սեռի
B28: արական սեռի | D28: 187 | E28: 187
B29: Դահլիճի միջին բեռնվածություն, % | D29: 68 | E29: 68
B30: Միջոցառման վրա կատարվող ծախսը (հազար դրամ) | D30: ='Havelvats 2'!D19 -> 233526.8 | E30: ='Havelvats 2'!E19 -> 233526.8
B33: Ծրագրի միջոցառումները
B34: Ծրագրի դասիչը՝ | C34: 1148 | D34: Ցուցանիշների փոփոխությունը (նվազեցումները նշված են փակագծերում)
B35: Միջոցառման դասիչը՝ | C35: 11016 | D35: Ինն ամիս | E35: Տարի
B36: Միջոցառման անվանումը՝ | C36: ՀՀ հանրակրթական ծրագրեր իրականացնող ուսումնական հաստատությունների 11-րդ դասարանների աշակերտների ռազմամարզական ճամբարի կազմակերպում
B37: Նկարագրությունը՝ | C37: Նպաստել 11-րդ դասարաններում սովորող դպրոցականների մոտ «Նախնական զինվորական պատրաստություն» առարկայից ստացած գիտելիքների հարստացմանը և դրանց համապատասխան կարողությունների և հմտությունների զարգացմանը
B38: Միջոցառման տեսակը՝ | C38: Ծառայությունների մատուցում
B39: Միջոցառումն իրականացնողի անվանումը | C39: Մասնագիտացված կազմակերպություն
C40: Արդյունքի չափորոշիչներ
B41: 11-րդ դասարանի աշակերտների թիվ, մարդ | D41: -2076 | E41: -2076
B42: Միջոցառման վրա կատարվող ծախսը (հազար դրամ) | D42: ='Havelvats 5'!D41 -> -233526.8 | E42: ='Havelvats 5'!E41 -> -233526.8
B44: Աղյուսակ 9․1․58
C46: ՀՀ կառավարություն
B47: ՄԱՍ 1. ՊԵՏԱԿԱՆ ՄԱՐՄՆԻ ԳԾՈՎ ԱՐԴՅՈՒՆՔԱՅԻՆ (ԿԱՏԱՐՈՂԱԿԱՆ) ՑՈՒՑԱՆԻՇՆԵՐԸ
B50: Ծրագրի դասիչը | C50: Ծրագրի անվանումը
B51: 1139 | C51: ՀՀ կառավարության պահուստային ֆոնդ
B53: Ծրագրի միջոցառումները
B54: Ծրագրի դասիչը՝ | C54: 1139 | D54: Ցուցանիշների փոփոխությունը (ավելացումները նշված են դրական նշանով)
B55: Միջոցառման դասիչը՝ | C55: 11001 | D55: Ինն ամիս | E55: Տարի
B56: Միջոցառման անվանումը՝ | C56: ՀՀ կառավարության պահուստային ֆոնդ
B57: Նկարագրությունը՝ | C57: ՀՀ պետական բյուջեում նախատեսված ելքերի լրացուցիչ ֆինանսավորման՝ պետական բյուջեում չկանխատեսված ելքերի, ինչպես նաև բյուջետային երաշխիքների ապահովման ելքերի ֆինանսավորման ապահովում
B58: Միջոցառման տեսակը՝ | C58: Ծառայությունների մատուցում
B59: Միջոցառումն իրականացնողի անվանումը | C59: ՀՀ կառավարություն
C60: Արդյունքի չափորոշիչներ
B61: Միջոցառման վրա կատարվող ծախսը (հազար դրամ) | D61: 233526.8 | E61: 233526.8
B63: Ծրագրի միջոցառումները
B64: Ծրագրի դասիչը՝ | C64: 1139 | D64: Ցուցանիշների փոփոխությունը (նվազեցումները նշված են փակագծերում)
B65: Միջոցառման դասիչը՝ | C65: 11001 | D65: Ինն ամիս | E65: Տարի
B66: Միջոցառման անվանումը՝ | C66: ՀՀ կառավարության պահուստային ֆոնդ
B67: Նկարագրությունը՝ | C67: ՀՀ պետական բյուջեում նախատեսված ելքերի լրացուցիչ ֆինանսավորման՝ պետական բյուջեում չկանխատեսված ելքերի, ինչպես նաև բյուջետային երաշխիքների ապահովման ելքերի ֆինանսավորման ապահովում
B68: Միջոցառման տեսակը՝ | C68: Ծառայությունների մատուցում
B69: Միջոցառումն իրականացնողի անվանումը | C69: ՀՀ կառավարություն
C70: Արդյունքի չափորոշիչներ
B71: Միջոցառման վրա կատարվող ծախսը (հազար դրամ) | D71: -233526.8 | E71: -233526.8
