Workbook
Name շախմատիստ: #REF!

Sheet Հավելված N 1
D1: Հավելված N 1
D2: ՀՀ կառավարության 2023 թվականի
D3: ______________ ի ___Ն որոշման
A4: «ՀԱՅԱՍՏԱՆԻ ՀԱՆՐԱՊԵՏՈՒԹՅԱՆ 2023 ԹՎԱԿԱՆԻ ՊԵՏԱԿԱՆ ԲՅՈՒՋԵԻ ՄԱՍԻՆ» ՕՐԵՆՔԻ N 1 ՀԱՎԵԼՎԱԾԻ N 2 ԱՂՅՈՒՍԱԿՈՒՄ ԿԱՏԱՐՎՈՂ ՎԵՐԱԲԱՇԽՈՒՄԸ ԵՎ ՀԱՅԱՍՏԱՆԻ ՀԱՆՐԱՊԵՏՈՒԹՅԱՆ ԿԱՌԱՎԱՐՈՒԹՅԱՆ 2022 ԹՎԱԿԱՆԻ ԴԵԿՏԵՄԲԵՐԻ 29-Ի N 2111-Ն ՈՐՈՇՄԱՆ N 5 ՀԱՎԵԼՎԱԾԻ N 1 ԱՂՅՈՒՍԱԿՈՒՄ ԿԱՏԱՐՎՈՂ ՓՈՓՈԽՈՒԹՅՈՒՆՆԵՐԸ ԵՎ ԼՐԱՑՈՒՄՆԵՐԸ
A6: Ծրագրային դասիչը | C6: Բյուջետային հատկացումների գլխավոր կարգադրիչների, ծրագրերի և միջոցառումների անվանումները | D6: Ցուցանիշների փոփոխությունը (ավելացումները նշված են դրական նշանով, իսկ նվազեցումները՝ փակագծերում)
A7: ծրագիր | B7: միջոցառում | D7: Ինն ամիս | E7: Տարի
C8: ԸՆԴԱՄԵՆԸ | D8: =+D9+D42 -> 0 | E8: =+E9+E42 -> 0
A9: ՀՀ Կրթության, գիտության, մշակույթի և սպորտի նախարարություն | D9: =D11+D30 -> 0 | E9: =E11+E30 -> 0
A10: 1148 | C10: Ծրագրի անվանումը`
C11: Արտադպրոցական դաստիարակության ծրագիր | D11: =+D18+D24 -> -1372.8 | E11: =+E18+E24 -> -1372.8
C12: Ծրագրի նպատակը`
C13: Նպաստել հանրակրթական ուսուցման համակարգում ընդգրկված երեխաների ֆիզիկական, հոգևոր և գեղագիտական զարգացմանը, բնապահպանական և կիրառական գիտելիքների ձեռքբերմանը
C14: Վերջնական արդյունքի նկարագրությունը`
C15: Ստեղծել պայմաններ սովորողների ազատ ժամանացի կազմակերպման միջոցով նրանց հետաքրքրությունների բացահայտման, ձևավորման և զարգացման համար
A16: Ծրագրի միջոցառումներ
B17: 11016 | C17: Միջոցառման անվանումը`
C18: ՀՀ հանրակրթական ծրագրեր իրականացնող ուսումնական հաստատությունների 11-րդ դասարանների աշակերտների ռազմամարզական ճամբարի կազմակերպում | D18: =-(D24+D30) -> -29376.4 | E18: =-(E24+E30) -> -29376.4
C19: Միջոցառման նկարագրությունը`
C20: Նպաստել 11-րդ դասարաններում սովորող դպրոցականների մոտ «Նախնական զինվորական պատրաստություն» առարկայից ստացած գիտելիքների հարստացմանը և դրանց համապատասխան կարողությունների և հմտությունների զարգացմանը
C21: Միջոցառման տեսակը
C22: Ծառայությունների մատուցում
B23: 12002 | C23: Միջոցառման անվանումը`
C24: Կամավոր ատեստավորման նոր համակարգի ներդրում՝ ուղղված արտադպրոցական ուսումնական հաստատությունների մանկավարժական աշխատողների որակի բարձրացմանը | D24: 28003.6 | E24: 28003.6
C25: Միջոցառման նկարագրությունը`
C26: Արտադպրոցական հաստատություններում դասվանդող մանկավարժական աշխատողների կամավոր ատեստավորման համակարգի մշակում և ներդրում
C27: Միջոցառման տեսակը
C28: Տրանսֆերտների տրամադրում
A29: 1192 | C29: Ծրագրի անվանումը`
C30: Կրթության որակի ապահովում | D30: =D37 -> 1372.8 | E30: =E37 -> 1372.8
C31: Ծրագրի նպատակը`
C32: Ընթացիկ աշխատանքների, բարեփոխումների և նոր նախաձեռնությունների միջոցով ֆորմալ և ոչ-ֆորմալ կրթության ոլորտում իրականացվող միջոցառումների, մատուցվող ծառայությունների բովանդակության և կազմակերպման որակի շարունակական բարելավում
C33: Վերջնական արդյունքի նկարագրությունը`
C34: Նախադպրոցականից մինչև հետբուհական կրթության որակի, այն է սովորողների, միջավայրի, ծրագրերի և ուսումնական նյութերի բովանդակության, գործընթացների, ինչպես նաև վերջնարդյունքների որակի բարելավում ըստ ներպետական և միջազգային ցուցիչների
A35: Ծրագրի միջոցառումներ
B36: 12004 | C36: Միջոցառման անվանումը`
C37: Մասնագիտական զարգացման և վարձատրության փոխկապակցված համակարգի ներդրում՝ նախադպրոցական հաստատությունների մանկավարժներին տարակարգի շնորհման գործընթացի միջոցով | D37: 1372.8 | E37: 1372.8
C38: Միջոցառման նկարագրությունը`
C39: Նախադպրոցական ծառայությունների որակի շարունակական բարձրացման նախադրյալների ապահովում
C40: Միջոցառման տեսակը
C41: Տրանսֆերտների տրամադրում
A42: ՀՀ կառավարություն | D42: =+D44 -> 0 | E42: =+E44 -> 0
A43: 1139 | C43: Ծրագրի անվանումը`
C44: ՀՀ կառավարության պահուստային ֆոնդ | D44: =+D51+D57 -> 0 | E44: =+E51+E57 -> 0
C45: Ծրագրի նպատակը`
C46: Պետական բյուջեում չկանխատեսված, ինչպես նաև բյուջետային երաշխիքների ապահովման ծախսերի ֆինանսավորման ապահովում
C47: Վերջնական արդյունքի նկարագրությունը`
C48: Պահուստային ֆոնդի կառավարման արդյունավետության և թափանցիկության ապահովում
A49: Ծրագրի միջոցառումներ
B50: 11001 | C50: Միջոցառման անվանումը`
C51: ՀՀ կառավարության պահուստային ֆոնդ | D51: =-D18 -> 29376.4 | E51: =-E18 -> 29376.4
C52: Միջոցառման նկարագրությունը`
C53: ՀՀ պետական բյուջեում նախատեսված ելքերի լրացուցիչ ֆինանսավորման՝ պետական բյուջեում չկանխատեսված ելքերի, ինչպես նաև բյուջետային երաշխիքների ապահովման ելքերի ֆինանսավորման ապահովում
C54: Միջոցառման տեսակը`
C55: Ծառայությունների մատուցում
B56: 11001 | C56: Միջոցառման անվանումը`
C57: ՀՀ կառավարության պահուստային ֆոնդ | D57: =-D51 -> -29376.4 | E57: =-E51 -> -29376.4
C58: Միջոցառման նկարագրությունը`
C59: ՀՀ պետական բյուջեում նախատեսված ելքերի լրացուցիչ ֆինանսավորման՝ պետական բյուջեում չկանխատեսված ելքերի, ինչպես նաև բյուջետային երաշխիքների ապահովման ելքերի ֆինանսավորման ապահովում
C60: Միջոցառման տեսակը
C61: Ծառայությունների մատուցում

Sheet Հավելված N 2
G1: Հավելված N 2
G2: ՀՀ կառավարության 2023 թվականի
G3: ______________ ի ___Ն որոշման
A4: ՀԱՅԱՍՏԱՆԻ ՀԱՆՐԱՊԵՏՈՒԹՅԱՆ ԿԱՌԱՎԱՐՈՒԹՅԱՆ 2022 ԹՎԱԿԱՆԻ ԴԵԿՏԵՄԲԵՐԻ 29-Ի N 2111-Ն ՈՐՈՇՄԱՆ N 3 ԵՎ N 4 ՀԱՎԵԼՎԱԾՆԵՐՈՒՄ ԿԱՏԱՐՎՈՂ ՓՈՓՈԽՈՒԹՅՈՒՆՆԵՐԸ ԵՎ ԼՐԱՑՈՒՄՆԵՐ
A6: Գործառական դասիչը | D6: Ծրագրային դասիչը | F6: Բյուջետային ծախսերի գործառական դասակարգման բաժինների, խմբերի և դասերի, բյուջետային ծրագրերի միջոցառումների, բյուջետային հատկացումների գլխավոր կարգադրիչների անվանումները | G6: Ցուցանիշների փոփոխություն (ավելացումները նշված են դրական նշանով, իսկ նվազեցումները՝ փակագծերում)
A7: Բաժին | B7: Խումբ | C7: Դաս | D7: Ծրագիր | E7: Միջոցառում | G7: Ինն ամիս | H7: Տարի
F8: ԸՆԴԱՄԵՆԸ | G8: =+G10+G137 -> 0 | H8: =+H10+H137 -> 0
F9: այդ թվում`
F10: ՀՀ Կրթության, գիտության, մշակույթի և սպորտի նախարարություն | G10: =G12 -> 0 | H10: =H12 -> 0
F11: այդ թվում`
A12: 09 | E12: 11010 | F12: ԿՐԹՈՒԹՅՈՒՆ | G12: =G14+G101 -> 0 | H12: =H14+H101 -> 0
F13: այդ թվում`
B14: 05 | F14: Ըստ մակարդակների չդասակարգվող կրթություն | G14: =G16 -> -1372.8 | H14: =H16 -> -1372.8
F15: այդ թվում`
C16: 01 | F16: Արտադպրոցական դաստիարակություն | G16: =G18 -> -1372.8 | H16: =H18 -> -1372.8
F17: այդ թվում`
D18: 1148 | F18: Արտադպրոցական դաստիարակություն | G18: =+G20+G29 -> -1372.8 | H18: =+H20+H29 -> -1372.8
F19: այդ թվում`
E20: 11016 | F20: ՀՀ հանրակրթական ծրագրեր իրականացնող ուսումնական հաստատությունների 11-րդ դասարանների աշակերտների ռազմամարզական ճամբարի կազմակերպում | G20: =+G22 -> -29376.4 | H20: =+H22 -> -29376.4
F21: այդ թվում` ըստ կատարողների
F22: ՀՀ կրթության, գիտության, մշակույթի և սպորտի նախարարություն | G22: =G24 -> -29376.4 | H22: =H24 -> -29376.4
F23: այդ թվում` բյուջետային ծախսերի տնտեսագիտական դասակարգման հոդվածներ
F24: ԸՆԴԱՄԵՆԸ ԾԱԽՍԵՐ | G24: =+G25 -> -29376.4 | H24: =+H25 -> -29376.4
F25: ԸՆԹԱՑԻԿ ԾԱԽՍԵՐ | G25: =+G26 -> -29376.4 | H25: =+H26 -> -29376.4
F26: ԴՐԱՄԱՇՆՈՐՀՆԵՐ | G26: =+G27 -> -29376.4 | H26: =+H27 -> -29376.4
F27: Ընթացիկ դրամաշնորհներ պետական հատվածի այլ մակարդակներին | G27: =G28 -> -29376.4 | H27: =H28 -> -29376.4
F28: - Ընթացիկ դրամաշնորհներ պետական և համայնքների ոչ առևտրային կազմակերպություններին | G28: ='Հավելված N 1'!D18 -> -29376.4 | H28: ='Հավելված N 1'!E18 -> -29376.4
E29: 12002 | F29: Կամավոր ատեստավորման նոր համակարգի ներդրում՝ ուղղված արտադպրոցական ուսումնական հաստատությունների մանկավարժական աշխատողների որակի բարձրացմանը | G29: =G94+G87+G80+G73+G66+G59+G52+G45+G38+G31 -> 28003.6 | H29: =H94+H87+H80+H73+H66+H59+H52+H45+H38+H31 -> 28003.6
F30: այդ թվում` ըստ կատարողների
F31: ՀՀ տարածքային կառավարման և ենթակառուցվածքների նախարարություն | G31: =G33 -> 6165.4 | H31: =H33 -> 6165.4
F32: այդ թվում` բյուջետային ծախսերի տնտեսագիտական դասակարգման հոդվածներ
F33: ԸՆԴԱՄԵՆԸ ԾԱԽՍԵՐ | G33: =+G34 -> 6165.4 | H33: =+H34 -> 6165.4
F34: ԸՆԹԱՑԻԿ ԾԱԽՍԵՐ | G34: =+G35 -> 6165.4 | H34: =+H35 -> 6165.4
F35: ՍՈՑԻԱԼԱԿԱՆ ՆՊԱՍՏՆԵՐ ԵՎ ԿԵՆՍԱԹՈՇԱԿՆԵՐ | G35: =+G36 -> 6165.4 | H35: =+H36 -> 6165.4
F36: Սոցիալական օգնության դրամական արտահայտությամբ նպաստներ (բյուջեից) | G36: =G37 -> 6165.4 | H36: =H37 -> 6165.4
F37: - Այլ նպաստներ բյուջեից | G37: 6165.4 | H37: 6165.4
F38: ՀՀ կրթության, գիտության, մշակույթի և սպորտի նախարարություն | G38: =G40 -> 2095.6 | H38: =H40 -> 2095.6
F39: այդ թվում` բյուջետային ծախսերի տնտեսագիտական դասակարգման հոդվածներ
F40: ԸՆԴԱՄԵՆԸ ԾԱԽՍԵՐ | G40: =+G41 -> 2095.6 | H40: =+H41 -> 2095.6
F41: ԸՆԹԱՑԻԿ ԾԱԽՍԵՐ | G41: =+G42 -> 2095.6 | H41: =+H42 -> 2095.6
F42: ՍՈՑԻԱԼԱԿԱՆ ՆՊԱՍՏՆԵՐ ԵՎ ԿԵՆՍԱԹՈՇԱԿՆԵՐ | G42: =+G43 -> 2095.6 | H42: =+H43 -> 2095.6
F43: Սոցիալական օգնության դրամական արտահայտությամբ նպաստներ (բյուջեից) | G43: =G44 -> 2095.6 | H43: =H44 -> 2095.6
F44: - Այլ նպաստներ բյուջեից | G44: 2095.6 | H44: 2095.6
F45: ՀՀ Արարատի մարզպետարան | G45: =G47 -> 1128.4 | H45: =H47 -> 1128.4
F46: այդ թվում` բյուջետային ծախսերի տնտեսագիտական դասակարգման հոդվածներ
F47: ԸՆԴԱՄԵՆԸ ԾԱԽՍԵՐ | G47: =+G48 -> 1128.4 | H47: =+H48 -> 1128.4
F48: ԸՆԹԱՑԻԿ ԾԱԽՍԵՐ | G48: =+G49 -> 1128.4 | H48: =+H49 -> 1128.4
F49: ՍՈՑԻԱԼԱԿԱՆ ՆՊԱՍՏՆԵՐ ԵՎ ԿԵՆՍԱԹՈՇԱԿՆԵՐ | G49: =+G50 -> 1128.4 | H49: =+H50 -> 1128.4
F50: Սոցիալական օգնության դրամական արտահայտությամբ նպաստներ (բյուջեից) | G50: =G51 -> 1128.4 | H50: =H51 -> 1128.4
F51: - Այլ նպաստներ բյուջեից | G51: 1128.4 | H51: 1128.4
F52: ՀՀ Արմավիրի մարզպետարան | G52: =G54 -> 1985.5 | H52: =H54 -> 1985.5
F53: այդ թվում` բյուջետային ծախսերի տնտեսագիտական դասակարգման հոդվածներ
F54: ԸՆԴԱՄԵՆԸ ԾԱԽՍԵՐ | G54: =+G55 -> 1985.5 | H54: =+H55 -> 1985.5
F55: ԸՆԹԱՑԻԿ ԾԱԽՍԵՐ | G55: =+G56 -> 1985.5 | H55: =+H56 -> 1985.5
F56: ՍՈՑԻԱԼԱԿԱՆ ՆՊԱՍՏՆԵՐ ԵՎ ԿԵՆՍԱԹՈՇԱԿՆԵՐ | G56: =+G57 -> 1985.5 | H56: =+H57 -> 1985.5
F57: Սոցիալական օգնության դրամական արտահայտությամբ նպաստներ (բյուջեից) | G57: =G58 -> 1985.5 | H57: =H58 -> 1985.5
F58: - Այլ նպաստներ բյուջեից | G58: 1985.5 | H58: 1985.5
F59: ՀՀ Գեղարքունիքի մարզպետարան | G59: =G61 -> 913.5 | H59: =H61 -> 913.5
F60: այդ թվում` բյուջետային ծախսերի տնտեսագիտական դասակարգման հոդվածներ
F61: ԸՆԴԱՄԵՆԸ ԾԱԽՍԵՐ | G61: =+G62 -> 913.5 | H61: =+H62 -> 913.5
F62: ԸՆԹԱՑԻԿ ԾԱԽՍԵՐ | G62: =+G63 -> 913.5 | H62: =+H63 -> 913.5
F63: ՍՈՑԻԱԼԱԿԱՆ ՆՊԱՍՏՆԵՐ ԵՎ ԿԵՆՍԱԹՈՇԱԿՆԵՐ | G63: =+G64 -> 913.5 | H63: =+H64 -> 913.5
F64: Սոցիալական օգնության դրամական արտահայտությամբ նպաստներ (բյուջեից) | G64: =G65 -> 913.5 | H64: =H65 -> 913.5
F65: - Այլ նպաստներ բյուջեից | G65: 913.5 | H65: 913.5
F66: ՀՀ Լոռու մարզպետարան | G66: =G68 -> 4160.6 | H66: =H68 -> 4160.6
F67: այդ թվում` բյուջետային ծախսերի տնտեսագիտական դասակարգման հոդվածներ
F68: ԸՆԴԱՄԵՆԸ ԾԱԽՍԵՐ | G68: =+G69 -> 4160.6 | H68: =+H69 -> 4160.6
F69: ԸՆԹԱՑԻԿ ԾԱԽՍԵՐ | G69: =+G70 -> 4160.6 | H69: =+H70 -> 4160.6
F70: ՍՈՑԻԱԼԱԿԱՆ ՆՊԱՍՏՆԵՐ ԵՎ ԿԵՆՍԱԹՈՇԱԿՆԵՐ | G70: =+G71 -> 4160.6 | H70: =+H71 -> 4160.6
F71: Սոցիալական օգնության դրամական արտահայտությամբ նպաստներ (բյուջեից) | G71: =G72 -> 4160.6 | H71: =H72 -> 4160.6
F72: - Այլ նպաստներ բյուջեից | G72: 4160.6 | H72: 4160.6
F73: ՀՀ Կոտայքի մարզպետարան | G73: =G75 -> 4260.03 | H73: =H75 -> 4260.03
F74: այդ թվում` բյուջետային ծախսերի տնտեսագիտական դասակարգման հոդվածներ
F75: ԸՆԴԱՄԵՆԸ ԾԱԽՍԵՐ | G75: =+G76 -> 4260.03 | H75: =+H76 -> 4260.03
F76: ԸՆԹԱՑԻԿ ԾԱԽՍԵՐ | G76: =+G77 -> 4260.03 | H76: =+H77 -> 4260.03
F77: ՍՈՑԻԱԼԱԿԱՆ ՆՊԱՍՏՆԵՐ ԵՎ ԿԵՆՍԱԹՈՇԱԿՆԵՐ | G77: =+G78 -> 4260.03 | H77: =+H78 -> 4260.03
F78: Սոցիալական օգնության դրամական արտահայտությամբ նպաստներ (բյուջեից) | G78: =G79 -> 4260.03 | H78: =H79 -> 4260.03
F79: - Այլ նպաստներ բյուջեից | G79: 4260.03 | H79: 4260.03
F80: ՀՀ Շիրակի մարզպետարան | G80: =G82 -> 3783.1 | H80: =H82 -> 3783.1
F81: այդ թվում` բյուջետային ծախսերի տնտեսագիտական դասակարգման հոդվածներ
F82: ԸՆԴԱՄԵՆԸ ԾԱԽՍԵՐ | G82: =+G83 -> 3783.1 | H82: =+H83 -> 3783.1
F83: ԸՆԹԱՑԻԿ ԾԱԽՍԵՐ | G83: =+G84 -> 3783.1 | H83: =+H84 -> 3783.1
F84: ՍՈՑԻԱԼԱԿԱՆ ՆՊԱՍՏՆԵՐ ԵՎ ԿԵՆՍԱԹՈՇԱԿՆԵՐ | G84: =+G85 -> 3783.1 | H84: =+H85 -> 3783.1
F85: Սոցիալական օգնության դրամական արտահայտությամբ նպաստներ (բյուջեից) | G85: =G86 -> 3783.1 | H85: =H86 -> 3783.1
F86: - Այլ նպաստներ բյուջեից | G86: 3783.1 | H86: 3783.1
F87: ՀՀ Սյունիքի մարզպետարան | G87: =G89 -> 1805.44 | H87: =H89 -> 1805.44
F88: այդ թվում` բյուջետային ծախսերի տնտեսագիտական դասակարգման հոդվածներ
F89: ԸՆԴԱՄԵՆԸ ԾԱԽՍԵՐ | G89: =+G90 -> 1805.44 | H89: =+H90 -> 1805.44
F90: ԸՆԹԱՑԻԿ ԾԱԽՍԵՐ | G90: =+G91 -> 1805.44 | H90: =+H91 -> 1805.44
F91: ՍՈՑԻԱԼԱԿԱՆ ՆՊԱՍՏՆԵՐ ԵՎ ԿԵՆՍԱԹՈՇԱԿՆԵՐ | G91: =+G92 -> 1805.44 | H91: =+H92 -> 1805.44
F92: Սոցիալական օգնության դրամական արտահայտությամբ նպաստներ (բյուջեից) | G92: =G93 -> 1805.44 | H92: =H93 -> 1805.44
F93: - Այլ նպաստներ բյուջեից | G93: 1805.44 | H93: 1805.44
F94: ՀՀ Տավուշի մարզպետարան | G94: =G96 -> 1706.03 | H94: =H96 -> 1706.03
F95: այդ թվում` բյուջետային ծախսերի տնտեսագիտական դասակարգման հոդվածներ
F96: ԸՆԴԱՄԵՆԸ ԾԱԽՍԵՐ | G96: =+G97 -> 1706.03 | H96: =+H97 -> 1706.03
F97: ԸՆԹԱՑԻԿ ԾԱԽՍԵՐ | G97: =+G98 -> 1706.03 | H97: =+H98 -> 1706.03
F98: ՍՈՑԻԱԼԱԿԱՆ ՆՊԱՍՏՆԵՐ ԵՎ ԿԵՆՍԱԹՈՇԱԿՆԵՐ | G98: =+G99 -> 1706.03 | H98: =+H99 -> 1706.03
F99: Սոցիալական օգնության դրամական արտահայտությամբ նպաստներ (բյուջեից) | G99: =G100 -> 1706.03 | H99: =H100 -> 1706.03
F100: - Այլ նպաստներ բյուջեից | G100: 1706.03 | H100: 1706.03
B101: 01 | F101: Նախադպրոցական և տարրական ընդհանուր կրթություն | G101: =G103 -> 1372.8 | H101: =H103 -> 1372.8
...

Sheet Հավելված N 3
F1: Հավելված 3
F2: ՀՀ կառավարության 2023 թվականի
F3: ______________ ի ___Ն որոշման
A6: ՀԱՅԱՍՏԱՆԻ ՀԱՆՐԱՊԵՏՈՒԹՅԱՆ ԿԱՌԱՎԱՐՈՒԹՅԱՆ 2022 ԹՎԱԿԱՆԻ ԴԵԿՏԵՄԲԵՐԻ 29-Ի N 2111-Ն ՈՐՈՇՄԱՆ N 5 ՀԱՎԵԼՎԱԾԻ N 7 ԱՂՅՈՒՍԱԿՈՒՄ ԿԱՏԱՐՎՈՂ ՓՈՓՈԽՈՒԹՅՈՒՆԸ
G7: հազար դրամ
A8: Ծրագրային դասիչ | C8: Բյուջետային հատկացումների գլխավոր կարգադրիչների, ծրագրերի, միջոցառումների, ծախսային ուղղությունների անվանումները | F8: Միջոցառումները կատարող պետական մարմինների և դրամաշնորհ ստացող տնտեսվարող սուբյեկտների անվանումները | G8: Ցուցանիշների փոփոխությունը (նվազեցումները նշված են փակագծերում)
A9: Ծրագիր | B9: Միջոցառում | G9: Տարի
A10: ՀՀ կրթության, գիտության, մշակույթի և սպորտի նախարարություն | G10: =G11 -> -29376.4
A11: 1148 | B11: Արտադպրոցական դաստիարակության ծրագիր | G11: =G12 -> -29376.4
B12: 11016 | C12: ՀՀ հանրակրթական ծրագրեր իրականացնող ուսումնական հաստատությունների 11-րդ դասարանների աշակերտների ռազմամարզական ճամբարի կազմակերպում | F12: ՀՀ կրթության, գիտության, մշակույթի և սպորտի նախարարություն | G12: =+G13 -> -29376.4
F13: «Արամ Մանուկյանի անվան մարզառազմական մասնագիտացված դպրոց» ՊՈԱԿ | G13: ='Հավելված N 2'!H28 -> -29376.4

Sheet Հավելված N 4
C1: Հավելված N 4
C2: ՀՀ կառավարության 2023 թվականի
C3: ______________ ի ___Ն որոշման
A5: ՀԱՅԱՍՏԱՆԻ ՀԱՆՐԱՊԵՏՈՒԹՅԱՆ ԿԱՌԱՎԱՐՈՒԹՅԱՆ 2022 ԹՎԱԿԱՆԻ ԴԵԿՏԵՄԲԵՐԻ 29-Ի N 2111-Ն ՈՐՈՇՄԱՆ N 9 ՀԱՎԵԼՎԱԾԻ NN 9.13 ԵՎ 9.47 ԱՂՅՈՒՍԱԿՆԵՐՈՒՄ ԿԱՏԱՐՎՈՂ ՓՈՓՈԽՈՒԹՅՈՒՆՆԵՐԸ ԵՎ ԼՐԱՑՈՒՄՆԵՐԸ
A6: ՀՀ կրթության, գիտության, մշակույթի և սպորտի նախարարություն
A7: ՄԱՍ 2. ՊԵՏԱԿԱՆ ՄԱՐՄՆԻ ԳԾՈՎ ԱՐԴՅՈՒՆՔԱՅԻՆ (ԿԱՏԱՐՈՂԱԿԱՆ) ՑՈՒՑԱՆԻՇՆԵՐԸ
A9: Ծրագրի դասիչը | B9: Ծրագրի անվանումը
A10: 1148 | B10: Արտադպրոցական դաստիարակության ծրագիր
A12: Ծրագրի միջոցառումները
A14: Ծրագրի դասիչը՝ | B14: 1148 | C14: Ցուցանիշների փոփոխությունը (նվազեցումները նշված են փակագծերում)
A15: Միջոցառման դասիչը՝ | B15: 11016 | C15: Ինն ամիս | D15: Տարի
A16: Միջոցառման անվանումը՝ | B16: ՀՀ հանրակրթական ծրագրեր իրականացնող ուսումնական հաստատությունների 11-րդ դասարանների աշակերտների ռազմամարզական ճամբարի կազմակերպում
A17: Նկարագրությունը՝ | B17: Նպաստել 11-րդ դասարաններում սովորող դպրոցականների մոտ «Նախնական զինվորական պատրաստություն» առարկայից ստացած գիտելիքների հարստացմանը և դրանց համապատասխան կարողությունների և հմտությունների զարգացմանը
A18: Միջոցառման տեսակը՝ | B18: Ծառայությունների մատուցում
A19: Ծառայությունը մատուցող կազմակերպության(ների) անվանում(ներ)ը՛ | B19: Մասնագիտացված կազմակերպություն
A20: Արդյունքի չափորոշիչներ
A21: 11-րդ դասարանի աշակերտների թիվ, մարդ | C21: -262 | D21: -262
A22: Միջոցառման վրա կատարվող ծախսը (հազար դրամ) | C22: ='Հավելված N 2'!G28 -> -29376.4 | D22: ='Հավելված N 2'!H28 -> -29376.4
A23: Ծրագրի դասիչը | B23: Ծրագրի անվանումը
A24: 1148 | B24: Արտադպրոցական դաստիարակություն
A26: Ծրագրի միջոցառումները
A28: Ծրագրի դասիչը` | B28: 1148
A29: Միջոցառման դասիչը` | B29: 12002 | C29: Ինն ամիս | D29: Տարի
A30: Միջոցառման անվանումը` | B30: Կամավոր ատեստավորման նոր համակարգի ներդրում՝ ուղղված արտադպրոցական ուսումնական հաստատությունների մանկավարժական աշխատողների որակի բարձրացմանը
A31: Նկարագրությունը` | B31: Արտադպրոցական հաստատություններում դասվանդող մանկավարժական աշխատողների կամավոր ատեստավորման համակարգի մշակում և ներդրում
A32: Միջոցառման տեսակը` | B32: Տրանսֆերտների տրամադրում
A33: Շահառուների ընտրության չափորոշիչները՝ | B33: Շահառուների ընտրության չափորոշիչները սահմանված են ԿԳՄՍ նախարարի հրամանով
A34: Արդյունքի չափորոշիչներ
A35: Կամավոր ատեստավորման արդյունքում ընթացիկ տարում ատեստավորված մանկավարժական աշխատողների թիվը, մարդ | C35: 44 | D35: 44
A36: Կամավոր ատեստավորման արդյունքում ընթացիկ տարում հավելավճար ստացած մանկավարժական աշխատողների թիվը, մարդ | C36: 40 | D36: 40
A37: Միջոցառման վրա կատարվող ծախսը (հազար դրամ) | C37: ='Հավելված N 2'!G29 -> 28003.6 | D37: ='Հավելված N 2'!H29 -> 28003.6
A38: Ծրագրի դասիչը | B38: Ծրագրի անվանումը
A39: 1192 | B39: Կրթության որակի ապահովում
A41: Ծրագրի միջոցառումները
A43: Ծրագրի դասիչը` | B43: 1192
A44: Միջոցառման դասիչը` | B44: 12004 | C44: Ինն ամիս | D44: Տարի
A45: Միջոցառման անվանումը` | B45: Մասնագիտական զարգացման և վարձատրության փոխկապակցված համակարգի ներդրում՝ նախադպրոցական հաստատությունների մանկավարժներին տարակարգի շնորհման գործընթացի միջոցով
A46: Նկարագրությունը` | B46: Նախադպրոցական ծառայությունների որակի շարունակական բարձրացման նախադրյալների ապահովում
A47: Միջոցառման տեսակը` | B47: Տրանսֆերտների տրամադրում
A48: Շահառուների ընտրության չափորոշիչները՝ | B48: Շահառուների ընտրության չափորոշիչները սահմանված են ԿԳՄՍ նախարարի հրամանով
A49: Արդյունքի չափորոշիչներ
A50: ՆՈՒՀ-երի տարակարգ ստացած մանկավարժական աշխատողների թվաքանակ, մարդ | C50: 7 | D50: 7
A51: Միջոցառման վրա կատարվող ծախսը (հազար դրամ) | C51: ='Հավելված N 2'!G107 -> 1372.8 | D51: ='Հավելված N 2'!H107 -> 1372.8
A52: ՀՀ կառավարություն
A53: ՄԱՍ 2. ՊԵՏԱԿԱՆ ՄԱՐՄՆԻ ԳԾՈՎ ԱՐԴՅՈՒՆՔԱՅԻՆ (ԿԱՏԱՐՈՂԱԿԱՆ) ՑՈՒՑԱՆԻՇՆԵՐԸ
A55: Ծրագրի դասիչը | B55: Ծրագրի անվանումը
A56: 1139 | B56: ՀՀ կառավարության պահուստային ֆոնդ
A58: Ծրագրի միջոցառումները
A60: Ծրագրի դասիչը՝ | B60: 1139
A61: Միջոցառման դասիչը՝ | B61: 11001 | C61: Ինն ամիս | D61: Տարի
A62: Միջոցառման անվանումը՝ | B62: ՀՀ կառավարության պահուստային ֆոնդ
A63: Նկարագրությունը՝ | B63: ՀՀ պետական բյուջեում նախատեսված ելքերի լրացուցիչ ֆինանսավորման՝ պետական բյուջեում չկանխատեսված ելքերի, ինչպես նաև բյուջետային երաշխիքների ապահովման ելքերի ֆինանսավորման ապահովում
A64: Միջոցառման տեսակը՝ | B64: Ծառայությունների մատուցում
A65: Միջոցառումն իրականացնողի անվանումը | B65: ՀՀ կառավարություն
A66: Արդյունքի չափորոշիչներ
A67: Միջոցառման վրա կատարվող ծախսը (հազար դրամ) | C67: ='Հավելված N 2'!G154 -> 29376.4 | D67: ='Հավելված N 2'!H154 -> 29376.4
A69: Ծրագրի դասիչը՝ | B69: 1139
A70: Միջոցառման դասիչը՝ | B70: 11001 | C70: Ինն ամիս | D70: Տարի
A71: Միջոցառման անվանումը՝ | B71: ՀՀ կառավարության պահուստային ֆոնդ
A72: Նկարագրությունը՝ | B72: ՀՀ պետական բյուջեում նախատեսված ելքերի լրացուցիչ ֆինանսավորման՝ պետական բյուջեում չկանխատեսված ելքերի, ինչպես նաև բյուջետային երաշխիքների ապահովման ելքերի ֆինանսավորման ապահովում
A73: Միջոցառման տեսակը՝ | B73: Ծառայությունների մատուցում
A74: Միջոցառումն իրականացնողի անվանումը | B74: ՀՀ կառավարություն
A75: Արդյունքի չափորոշիչներ
A76: Միջոցառման վրա կատարվող ծախսը (հազար դրամ) | C76: ='Հավելված N 2'!G162 -> -29376.4 | D76: ='Հավելված N 2'!H162 -> -29376.4

Sheet Հավելված N 5
A2: Հավելված N 5
A3: ՀՀ կառավարության 2023 թվականի
A4: ______________ ի ___Ն որոշման
B6: ՀԱՅԱՍՏԱՆԻ ՀԱՆՐԱՊԵՏՈՒԹՅԱՆ ԿԱՌԱՎԱՐՈՒԹՅԱՆ 2022 ԹՎԱԿԱՆԻ ԴԵԿՏԵՄԲԵՐԻ 29-Ի N 2111-Ն ՈՐՈՇՄԱՆ N 9.1 ՀԱՎԵԼՎԱԾԻ NN 9.1.7, 9.1.13, 9.1.49, 9.1.50, 9.1.51, 9.1.52, 9.1.53, 9.1.54, 9.1.55, 9.1.57 ԵՎ 9.1.58 ԱՂՅՈՒՍԱԿՆԵՐՈՒՄ ԿԱՏԱՐՎՈՂ ՓՈՓՈԽՈՒԹՅՈՒՆՆԵՐԸ ԵՎ ԼՐԱՑՈՒՄՆԵՐԸ
B8: ՀՀ կրթության, գիտության, մշակույթի և սպորտի նախարարություն
B10: ՄԱՍ 1. ՊԵՏԱԿԱՆ ՄԱՐՄՆԻ ԳԾՈՎ ԱՐԴՅՈՒՆՔԱՅԻՆ (ԿԱՏԱՐՈՂԱԿԱՆ) ՑՈՒՑԱՆԻՇՆԵՐԸ
B13: Ծրագրի դասիչը | C13: Ծրագրի անվանումը
B14: 1148 | C14: Արտադպրոցական դաստիարակության ծրագիր
B16: Ծրագրի միջոցառումները
B17: Ծրագրի դասիչը՝ | C17: 1148 | D17: Ցուցանիշների փոփոխությունը (նվազեցումները նշված են փակագծերում)
B18: Միջոցառման դասիչը՝ | C18: 11016 | D18: Ինն ամիս | E18: Տարի
B19: Միջոցառման անվանումը՝ | C19: ՀՀ հանրակրթական ծրագրեր իրականացնող ուսումնական հաստատությունների 11-րդ դասարանների աշակերտների ռազմամարզական ճամբարի կազմակերպում
B20: Նկարագրությունը՝ | C20: Նպաստել 11-րդ դասարաններում սովորող դպրոցականների մոտ «Նախնական զինվորական պատրաստություն» առարկայից ստացած գիտելիքների հարստացմանը և դրանց համապատասխան կարողությունների և հմտությունների զարգացմանը
B21: Միջոցառման տեսակը` | C21: Ծառայությունների մատուցում
B22: Ծառայությունը մատուցող կազմակերպության(ների) անվանում(ներ)ը՛ | C22: Մասնագիտացված կազմակերպություն
B23: Արդյունքի չափորոշիչներ
B24: 11-րդ դասարանի աշակերտների թիվ, մարդ | D24: ='Հավելված N 4'!C21 -> -262 | E24: ='Հավելված N 4'!D21 -> -262
B25: Միջոցառման վրա կատարվող ծախսը (հազար դրամ) | D25: ='Հավելված N 2'!G20 -> -29376.4 | E25: ='Հավելված N 2'!H20 -> -29376.4
B27: ='Հավելված N 2'!F31 -> ՀՀ տարածքային կառավարման և ենթակառուցվածքների նախարարություն
B29: Ծրագրի դասիչը | C29: Ծրագրի անվանումը
B30: 1148 | C30: Արտադպրոցական դաստիարակության ծրագիր
B32: Ծրագրի միջոցառումները
B33: Ծրագրի դասիչը՝ | C33: 1148 | D33: Ցուցանիշների փոփոխությունը (նվազեցումները նշված են փակագծերում)
B34: Միջոցառման դասիչը՝ | C34: 12002 | D34: Ինն ամիս | E34: Տարի
B35: Միջոցառման անվանումը՝ | C35: Կամավոր ատեստավորման նոր համակարգի ներդրում՝ ուղղված արտադպրոցական ուսումնական հաստատությունների մանկավարժական աշխատողների որակի բարձրացմանը
B36: Նկարագրությունը՝ | C36: Արտադպրոցական հաստատություններում դասվանդող մանկավարժական աշխատողների կամավոր ատեստավորման համակարգի մշակում և ներդրում
B37: Միջոցառման տեսակը՝ | C37: Տրանսֆերտների տրամադրում
B38: Շահառուների ընտրության չափորոշիչները՝ | C38: Շահառուների ընտրության չափորոշիչները սահմանված են ԿԳՄՍ նախարարի հրամանով
B39: Արդյունքի չափորոշիչներ
B40: Կամավոր ատեստավորման արդյունքում ընթացիկ տարում ատեստավորված մանկավարժների թիվը, մարդ | D40: 10 | E40: 10
B41: Կամավոր ատեստավորման արդյունքում ընթացիկ տարում հավելավճար ստացած մանկավարժների թիվը, մարդ | D41: 9 | E41: 9
B42: Միջոցառման վրա կատարվող ծախսը (հազար դրամ) | D42: ='Հավելված N 2'!G31 -> 6165.4 | E42: ='Հավելված N 2'!H31 -> 6165.4
B44: ='Հավելված N 2'!F38 -> ՀՀ կրթության, գիտության, մշակույթի և սպորտի նախարարություն
B46: Ծրագրի դասիչը | C46: Ծրագրի անվանումը
B47: 1148 | C47: Արտադպրոցական դաստիարակության ծրագիր
B49: Ծրագրի միջոցառումները
B50: Ծրագրի դասիչը՝ | C50: 1148 | D50: Ցուցանիշների փոփոխությունը (նվազեցումները նշված են փակագծերում)
B51: Միջոցառման դասիչը՝ | C51: 12002 | D51: Ինն ամիս | E51: Տարի
B52: Միջոցառման անվանումը՝ | C52: Կամավոր ատեստավորման նոր համակարգի ներդրում՝ ուղղված արտադպրոցական ուսումնական հաստատությունների մանկավարժական աշխատողների որակի բարձրացմանը
B53: Նկարագրությունը՝ | C53: Արտադպրոցական հաստատություններում դասվանդող մանկավարժական աշխատողների կամավոր ատեստավորման համակարգի մշակում և ներդրում
B54: Միջոցառման տեսակը՝ | C54: Տրանսֆերտների տրամադրում
B55: Շահառուների ընտրության չափորոշիչները՝ | C55: Շահառուների ընտրության չափորոշիչները սահմանված են ԿԳՄՍ նախարարի հրամանով
B56: Արդյունքի չափորոշիչներ
B57: Կամավոր ատեստավորման արդյունքում ընթացիկ տարում ատեստավորված մանկավարժների թիվը, մարդ | D57: 5 | E57: 5
B58: Կամավոր ատեստավորման արդյունքում ընթացիկ տարում հավելավճար ստացած մանկավարժների թիվը, մարդ | D58: 3 | E58: 3
B59: Միջոցառման վրա կատարվող ծախսը (հազար դրամ) | D59: ='Հավելված N 2'!G38 -> 2095.6 | E59: ='Հավելված N 2'!H38 -> 2095.6
B61: ='Հավելված N 2'!F45 -> ՀՀ Արարատի մարզպետարան
B63: Ծրագրի դասիչը | C63: Ծրագրի անվանումը
B64: 1148 | C64: Արտադպրոցական դաստիարակության ծրագիր
B66: Ծրագրի միջոցառումները
B67: Ծրագրի դասիչը՝ | C67: 1148 | D67: Ցուցանիշների փոփոխությունը (նվազեցումները նշված են փակագծերում)
B68: Միջոցառման դասիչը՝ | C68: 12002 | D68: Ինն ամիս | E68: Տարի
B69: Միջոցառման անվանումը՝ | C69: Կամավոր ատեստավորման նոր համակարգի ներդրում՝ ուղղված արտադպրոցական ուսումնական հաստատությունների մանկավարժական աշխատողների որակի բարձրացմանը
B70: Նկարագրությունը՝ | C70: Արտադպրոցական հաստատություններում դասվանդող մանկավարժական աշխատողների կամավոր ատեստավորման համակարգի մշակում և ներդրում
B71: Միջոցառման տեսակը՝ | C71: Տրանսֆերտների տրամադրում
B72: Շահառուների ընտրության չափորոշիչները՝ | C72: Շահառուների ընտրության չափորոշիչները սահմանված են ԿԳՄՍ նախարարի հրամանով
B73: Արդյունքի չափորոշիչներ
B74: Կամավոր ատեստավորման արդյունքում ընթացիկ տարում ատեստավորված մանկավարժների թիվը, մարդ | D74: 2 | E74: 2
B75: Կամավոր ատեստավորման արդյունքում ընթացիկ տարում հավելավճար ստացած մանկավարժների թիվը, մարդ | D75: 2 | E75: 2
B76: Միջոցառման վրա կատարվող ծախսը (հազար դրամ) | D76: ='Հավելված N 2'!G45 -> 1128.4 | E76: ='Հավելված N 2'!H45 -> 1128.4
B78: ='Հավելված N 2'!F52 -> ՀՀ Արմավիրի մարզպետարան
B80: Ծրագրի դասիչը | C80: Ծրագրի անվանումը
B81: 1148 | C81: Արտադպրոցական դաստիարակության ծրագիր
B83: Ծրագրի միջոցառումները
B84: Ծրագրի դասիչը՝ | C84: 1148 | D84: Ցուցանիշների փոփոխությունը (նվազեցումները նշված են փակագծերում)
B85: Միջոցառման դասիչը՝ | C85: 12002 | D85: Ինն ամիս | E85: Տարի
B86: Միջոցառման անվանումը՝ | C86: Կամավոր ատեստավորման նոր համակարգի ներդրում՝ ուղղված արտադպրոցական ուսումնական հաստատությունների մանկավարժական աշխատողների որակի բարձրացմանը
B87: Նկարագրությունը՝ | C87: Արտադպրոցական հաստատություններում դասվանդող մանկավարժական աշխատողների կամավոր ատեստավորման համակարգի մշակում և ներդրում
B88: Միջոցառման տեսակը՝ | C88: Տրանսֆերտների տրամադրում
B89: Շահառուների ընտրության չափորոշիչները՝ | C89: Շահառուների ընտրության չափորոշիչները սահմանված են ԿԳՄՍ նախարարի հրամանով
B90: Արդյունքի չափորոշիչներ
B91: Կամավոր ատեստավորման արդյունքում ընթացիկ տարում ատեստավորված մանկավարժների թիվը, մարդ | D91: 3 | E91: 3
B92: Կամավոր ատեստավորման արդյունքում ընթացիկ տարում հավելավճար ստացած մանկավարժների թիվը, մարդ | D92: 3 | E92: 3
B93: Միջոցառման վրա կատարվող ծախսը (հազար դրամ) | D93: ='Հավելված N 2'!G52 -> 1985.5 | E93: ='Հավելված N 2'!H52 -> 1985.5
B95: ='Հավելված N 2'!F59 -> ՀՀ Գեղարքունիքի մարզպետարան
B97: Ծրագրի դասիչը | C97: Ծրագրի անվանումը
B98: 1148 | C98: Արտադպրոցական դաստիարակության ծրագիր
B100: Ծրագրի միջոցառումները
B101: Ծրագրի դասիչը՝ | C101: 1148 | D101: Ցուցանիշների փոփոխությունը (նվազեցումները նշված են փակագծերում)
B102: Միջոցառման դասիչը՝ | C102: 12002 | D102: Ինն ամիս | E102: Տարի
B103: Միջոցառման անվանումը՝ | C103: Կամավոր ատեստավորման նոր համակարգի ներդրում՝ ուղղված արտադպրոցական ուսումնական հաստատությունների մանկավարժական աշխատողների որակի բարձրացմանը
B104: Նկարագրությունը՝ | C104: Արտադպրոցական հաստատություններում դասվանդող մանկավարժական աշխատողների կամավոր ատեստավորման համակարգի մշակում և ներդրում
B105: Միջոցառման տեսակը՝ | C105: Տրանսֆերտների տրամադրում
B106: Շահառուների ընտրության չափորոշիչները՝ | C106: Շահառուների ընտրության չափորոշիչները սահմանված են ԿԳՄՍ նախարարի հրամանով
B107: Արդյունքի չափորոշիչներ
B108: Կամավոր ատեստավորման արդյունքում ընթացիկ տարում ատեստավորված մանկավարժների թիվը, մարդ | D108: 1 | E108: 1
B109: Կամավոր ատեստավորման արդյունքում ընթացիկ տարում հավելավճար ստացած մանկավարժների թիվը, մարդ | D109: 1 | E109: 1
B110: Միջոցառման վրա կատարվող ծախսը (հազար դրամ) | D110: ='Հավելված N 2'!G59 -> 913.5 | E110: ='Հավելված N 2'!H59 -> 913.5
B112: ='Հավելված N 2'!F66 -> ՀՀ Լոռու մարզպետարան
B114: Ծրագրի դասիչը | C114: Ծրագրի անվանումը
B115: 1148 | C115: Արտադպրոցական դաստիարակության ծրագիր
B117: Ծրագրի միջոցառումները
B118: Ծրագրի դասիչը՝ | C118: 1148 | D118: Ցուցանիշների փոփոխությունը (նվազեցումները նշված են փակագծերում)
B119: Միջոցառման դասիչը՝ | C119: 12002 | D119: Ինն ամիս | E119: Տարի
B120: Միջոցառման անվանումը՝ | C120: Կամավոր ատեստավորման նոր համակարգի ներդրում՝ ուղղված արտադպրոցական ուսումնական հաստատությունների մանկավարժական աշխատողների որակի բարձրացմանը
B121: Նկարագրությունը՝ | C121: Արտադպրոցական հաստատություններում դասվանդող մանկավարժական աշխատողների կամավոր ատեստավորման համակարգի մշակում և ներդրում
B122: Միջոցառման տեսակը՝ | C122: Տրանսֆերտների տրամադրում
B123: Շահառուների ընտրության չափորոշիչները՝ | C123: Շահառուների ընտրության չափորոշիչները սահմանված են ԿԳՄՍ նախարարի հրամանով
B124: Արդյունքի չափորոշիչներ
B125: Կամավոր ատեստավորման արդյունքում ընթացիկ տարում ատեստավորված մանկավարժների թիվը, մարդ | D125: 6 | E125: 6
...
