Workbook
Name շախմատիստ: #REF!

Sheet Հավելված N 1
D1: Հավելված N 1
D2: ՀՀ կառավարության 2023 թվականի
D3: ______________ ի ___Ն որոշման
A4: «ՀԱՅԱՍՏԱՆԻ ՀԱՆՐԱՊԵՏՈՒԹՅԱՆ 2023 ԹՎԱԿԱՆԻ ՊԵՏԱԿԱՆ ԲՅՈՒՋԵԻ ՄԱՍԻՆ» ՕՐԵՆՔԻ N 1 ՀԱՎԵԼՎԱԾԻ N 2 ԱՂՅՈՒՍԱԿՈՒՄ ԿԱՏԱՐՎՈՂ ՎԵՐԱԲԱՇԽՈՒՄԸ ԵՎ ՀԱՅԱՍՏԱՆԻ ՀԱՆՐԱՊԵՏՈՒԹՅԱՆ ԿԱՌԱՎԱՐՈՒԹՅԱՆ 2022 ԹՎԱԿԱՆԻ ԴԵԿՏԵՄԲԵՐԻ 29-Ի N 2111-Ն ՈՐՈՇՄԱՆ N 5 ՀԱՎԵԼՎԱԾԻ N 1 ԱՂՅՈՒՍԱԿՈՒՄ ԿԱՏԱՐՎՈՂ ՓՈՓՈԽՈՒԹՅՈՒՆՆԵՐԸ ԵՎ ԼՐԱՑՈՒՄՆԵՐԸ
A6: Ծրագրային դասիչը | C6: Բյուջետային հատկացումների գլխավոր կարգադրիչների, ծրագրերի և միջոցառումների անվանումները | D6: Ցուցանիշների փոփոխությունը (ավելացումները նշված են դրական նշանով, իսկ նվազեցումները՝ փակագծերում)
A7: ծրագիր | B7: միջոցառում | D7: Ինն ամիս | E7: Տարի
C8: ԸՆԴԱՄԵՆԸ | D8: =+D9+D42 -> 0 | E8: =+E9+E42 -> 0
A9: ՀՀ Կրթության, գիտության, մշակույթի և սպորտի նախարարություն | D9: =D11+D30 -> 0 | E9: =E11+E30 -> 0
A10: 1148 | C10: Ծրագրի անվանումը`
C11: Արտադպրոցական դաստիարակության ծրագիր | D11: =+D18+D24 -> -1372.8 | E11: =+E18+E24 -> -1372.8
C12: Ծրագրի նպատակը`
C13: Նպաստել հանրակրթական ուսուցման համակարգում ընդգրկված երեխաների ֆիզիկական, հոգևոր և գեղագիտական զարգացմանը, բնապահպանական և կիրառական գիտելիքների ձեռքբերմանը
C14: Վերջնական արդյունքի նկարագրությունը`
C15: Ստեղծել պայմաններ սովորողների ազատ ժամանացի կազմակերպման միջոցով նրանց հետաքրքրությունների բացահայտման, ձևավորման և զարգացման համար
A16: Ծրագրի միջոցառումներ
B17: 11016 | C17: Միջոցառման անվանումը`
C18: ՀՀ հանրակրթական ծրագրեր իրականացնող ուսումնական հաստատությունների 11-րդ դասարանների աշակերտների ռազմամարզական ճամբարի կազմակերպում | D18: =-(D24+D30) -> -29376.4 | E18: =-(E24+E30) -> -29376.4
C19: Միջոցառման նկարագրությունը`
C20: Նպաստել 11-րդ դասարաններում սովորող դպրոցականների մոտ «Նախնական զինվորական պատրաստություն» առարկայից ստացած գիտելիքների հարստացմանը և դրանց համապատասխան կարողությունների և հմտությունների զարգացմանը
C21: Միջոցառման տեսակը
C22: Ծառայությունների մատուցում
B23: 12002 | C23: Միջոցառման անվանումը`
C24: Կամավոր ատեստավորման նոր համակարգի ներդրում՝ ուղղված արտադպրոցական ուսումնական հաստատությունների մանկավարժական աշխատողների որակի բարձրացմանը | D24: 28003.6 | E24: 28003.6
C25: Միջոցառման նկարագրությունը`
C26: Արտադպրոցական հաստատություններում դասվանդող մանկավարժական աշխատողների կամավոր ատեստավորման համակարգի մշակում և ներդրում
C27: Միջոցառման տեսակը
C28: Տրանսֆերտների տրամադրում
A29: 1192 | C29: Ծրագրի անվանումը`
C30: Կրթության որակի ապահովում | D30: =D37 -> 1372.8 | E30: =E37 -> 1372.8
C31: Ծրագրի նպատակը`
C32: Ընթացիկ աշխատանքների, բարեփոխումների և նոր նախաձեռնությունների միջոցով ֆորմալ և ոչ-ֆորմալ կրթության ոլորտում իրականացվող միջոցառումների, մատուցվող ծառայությունների բովանդակության և կազմակերպման որակի շարունակական բարելավում
C33: Վերջնական արդյունքի նկարագրությունը`
C34: Նախադպրոցականից մինչև հետբուհական կրթության որակի, այն է սովորողների, միջավայրի, ծրագրերի և ուսումնական նյութերի բովանդակության, գործընթացների, ինչպես նաև վերջնարդյունքների որակի բարելավում ըստ ներպետական և միջազգային ցուցիչների
A35: Ծրագրի միջոցառումներ
B36: 12004 | C36: Միջոցառման անվանումը`
C37: Մասնագիտական զարգացման և վարձատրության փոխկապակցված համակարգի ներդրում՝ նախադպրոցական հաստատությունների մանկավարժներին տարակարգի շնորհման գործընթացի միջոցով | D37: 1372.8 | E37: 1372.8
C38: Միջոցառման նկարագրությունը`
C39: Նախադպրոցական ծառայությունների որակի շարունակական բարձրացման նախադրյալների ապահովում
C40: Միջոցառման տեսակը
C41: Տրանսֆերտների տրամադրում
...

Sheet Հավելված N 2
G1: Հավելված N 2
G2: ՀՀ կառավարության 2023 թվականի
G3: ______________ ի ___Ն որոշման
A4: ՀԱՅԱՍՏԱՆԻ ՀԱՆՐԱՊԵՏՈՒԹՅԱՆ ԿԱՌԱՎԱՐՈՒԹՅԱՆ 2022 ԹՎԱԿԱՆԻ ԴԵԿՏԵՄԲԵՐԻ 29-Ի N 2111-Ն ՈՐՈՇՄԱՆ N 3 ԵՎ N 4 ՀԱՎԵԼՎԱԾՆԵՐՈՒՄ ԿԱՏԱՐՎՈՂ ՓՈՓՈԽՈՒԹՅՈՒՆՆԵՐԸ ԵՎ ԼՐԱՑՈՒՄՆԵՐ
A6: Գործառական դասիչը | D6: Ծրագրային դասիչը | F6: Բյուջետային ծախսերի գործառական դասակարգման բաժինների, խմբերի և դասերի, բյուջետային ծրագրերի միջոցառումների, բյուջետային հատկացումների գլխավոր կարգադրիչների անվանումները | G6: Ցուցանիշների փոփոխություն (ավելացումները նշված են դրական նշանով, իսկ նվազեցումները՝ փակագծերում)
A7: Բաժին | B7: Խումբ | C7: Դաս | D7: Ծրագիր | E7: Միջոցառում | G7: Ինն ամիս | H7: Տարի
F8: ԸՆԴԱՄԵՆԸ | G8: =+G10+G137 -> 0 | H8: =+H10+H137 -> 0
F9: այդ թվում`
F10: ՀՀ Կրթության, գիտության, մշակույթի և սպորտի նախարարություն | G10: =G12 -> 0 | H10: =H12 -> 0
F11: այդ թվում`
A12: 09 | E12: 11010 | F12: ԿՐԹՈՒԹՅՈՒՆ | G12: =G14+G101 -> 0 | H12: =H14+H101 -> 0
F13: այդ թվում`
B14: 05 | F14: Ըստ մակարդակների չդասակարգվող կրթություն | G14: =G16 -> -1372.8 | H14: =H16 -> -1372.8
F15: այդ թվում`
C16: 01 | F16: Արտադպրոցական դաստիարակություն | G16: =G18 -> -1372.8 | H16: =H18 -> -1372.8
F17: այդ թվում`
D18: 1148 | F18: Արտադպրոցական դաստիարակություն | G18: =+G20+G29 -> -1372.8 | H18: =+H20+H29 -> -1372.8
F19: այդ թվում`
E20: 11016 | F20: ՀՀ հանրակրթական ծրագրեր իրականացնող ուսումնական հաստատությունների 11-րդ դասարանների աշակերտների ռազմամարզական ճամբարի կազմակերպում | G20: =+G22 -> -29376.4 | H20: =+H22 -> -29376.4
F21: այդ թվում` ըստ կատարողների
F22: ՀՀ կրթության, գիտության, մշակույթի և սպորտի նախարարություն | G22: =G24 -> -29376.4 | H22: =H24 -> -29376.4
F23: այդ թվում` բյուջետային ծախսերի տնտեսագիտական դասակարգման հոդվածներ
F24: ԸՆԴԱՄԵՆԸ ԾԱԽՍԵՐ | G24: =+G25 -> -29376.4 | H24: =+H25 -> -29376.4
F25: ԸՆԹԱՑԻԿ ԾԱԽՍԵՐ | G25: =+G26 -> -29376.4 | H25: =+H26 -> -29376.4
F26: ԴՐԱՄԱՇՆՈՐՀՆԵՐ | G26: =+G27 -> -29376.4 | H26: =+H27 -> -29376.4
F27: Ընթացիկ դրամաշնորհներ պետական հատվածի այլ մակարդակներին | G27: =G28 -> -29376.4 | H27: =H28 -> -29376.4
F28: - Ընթացիկ դրամաշնորհներ պետական և համայնքների ոչ առևտրային կազմակերպություններին | G28: ='Հավելված N 1'!D18 -> -29376.4 | H28: ='Հավելված N 1'!E18 -> -29376.4
E29: 12002 | F29: Կամավոր ատեստավորման նոր համակարգի ներդրում՝ ուղղված արտադպրոցական ուսումնական հաստատությունների մանկավարժական աշխատողների որակի բարձրացմանը | G29: =G94+G87+G80+G73+G66+G59+G52+G45+G38+G31 -> 28003.6 | H29: =H94+H87+H80+H73+H66+H59+H52+H45+H38+H31 -> 28003.6
F30: այդ թվում` ըստ կատարողների
F31: ՀՀ տարածքային կառավարման և ենթակառուցվածքների նախարարություն | G31: =G33 -> 6165.4 | H31: =H33 -> 6165.4
F32: այդ թվում` բյուջետային ծախսերի տնտեսագիտական դասակարգման հոդվածներ
F33: ԸՆԴԱՄԵՆԸ ԾԱԽՍԵՐ | G33: =+G34 -> 6165.4 | H33: =+H34 -> 6165.4
F34: ԸՆԹԱՑԻԿ ԾԱԽՍԵՐ | G34: =+G35 -> 6165.4 | H34: =+H35 -> 6165.4
F35: ՍՈՑԻԱԼԱԿԱՆ ՆՊԱՍՏՆԵՐ ԵՎ ԿԵՆՍԱԹՈՇԱԿՆԵՐ | G35: =+G36 -> 6165.4 | H35: =+H36 -> 6165.4
F36: Սոցիալական օգնության դրամական արտահայտությամբ նպաստներ (բյուջեից) | G36: =G37 -> 6165.4 | H36: =H37 -> 6165.4
F37: - Այլ նպաստներ բյուջեից | G37: 6165.4 | H37: 6165.4
F38: ՀՀ կրթության, գիտության, մշակույթի և սպորտի նախարարություն | G38: =G40 -> 2095.6 | H38: =H40 -> 2095.6
F39: այդ թվում` բյուջետային ծախսերի տնտեսագիտական դասակարգման հոդվածներ
F40: ԸՆԴԱՄԵՆԸ ԾԱԽՍԵՐ | G40: =+G41 -> 2095.6 | H40: =+H41 -> 2095.6
F41: ԸՆԹԱՑԻԿ ԾԱԽՍԵՐ | G41: =+G42 -> 2095.6 | H41: =+H42 -> 2095.6
...

Sheet Հավելված N 3
F1: Հավելված 3
F2: ՀՀ կառավարության 2023 թվականի
F3: ______________ ի ___Ն որոշման
A6: ՀԱՅԱՍՏԱՆԻ ՀԱՆՐԱՊԵՏՈՒԹՅԱՆ ԿԱՌԱՎԱՐՈՒԹՅԱՆ 2022 ԹՎԱԿԱՆԻ ԴԵԿՏԵՄԲԵՐԻ 29-Ի N 2111-Ն ՈՐՈՇՄԱՆ N 5 ՀԱՎԵԼՎԱԾԻ N 7 ԱՂՅՈՒՍԱԿՈՒՄ ԿԱՏԱՐՎՈՂ ՓՈՓՈԽՈՒԹՅՈՒՆԸ
G7: հազար դրամ
A8: Ծրագրային դասիչ | C8: Բյուջետային հատկացումների գլխավոր կարգադրիչների, ծրագրերի, միջոցառումների, ծախսային ուղղությունների անվանումները | F8: Միջոցառումները կատարող պետական մարմինների և դրամաշնորհ ստացող տնտեսվարող սուբյեկտների անվանումները | G8: Ցուցանիշների փոփոխությունը (նվազեցումները նշված են փակագծերում)
A9: Ծրագիր | B9: Միջոցառում | G9: Տարի
A10: ՀՀ կրթության, գիտության, մշակույթի և սպորտի նախարարություն | G10: =G11 -> -29376.4
A11: 1148 | B11: Արտադպրոցական դաստիարակության ծրագիր | G11: =G12 -> -29376.4
B12: 11016 | C12: ՀՀ հանրակրթական ծրագրեր իրականացնող ուսումնական հաստատությունների 11-րդ դասարանների աշակերտների ռազմամարզական ճամբարի կազմակերպում | F12: ՀՀ կրթության, գիտության, մշակույթի և սպորտի նախարարություն | G12: =+G13 -> -29376.4
F13: «Արամ Մանուկյանի անվան մարզառազմական մասնագիտացված դպրոց» ՊՈԱԿ | G13: ='Հավելված N 2'!H28 -> -29376.4

Sheet Հավելված N 4
C1: Հավելված N 4
C2: ՀՀ կառավարության 2023 թվականի
C3: ______________ ի ___Ն որոշման
A5: ՀԱՅԱՍՏԱՆԻ ՀԱՆՐԱՊԵՏՈՒԹՅԱՆ ԿԱՌԱՎԱՐՈՒԹՅԱՆ 2022 ԹՎԱԿԱՆԻ ԴԵԿՏԵՄԲԵՐԻ 29-Ի N 2111-Ն ՈՐՈՇՄԱՆ N 9 ՀԱՎԵԼՎԱԾԻ NN 9.13 ԵՎ 9.47 ԱՂՅՈՒՍԱԿՆԵՐՈՒՄ ԿԱՏԱՐՎՈՂ ՓՈՓՈԽՈՒԹՅՈՒՆՆԵՐԸ ԵՎ ԼՐԱՑՈՒՄՆԵՐԸ
A6: ՀՀ կրթության, գիտության, մշակույթի և սպորտի նախարարություն
A7: ՄԱՍ 2. ՊԵՏԱԿԱՆ ՄԱՐՄՆԻ ԳԾՈՎ ԱՐԴՅՈՒՆՔԱՅԻՆ (ԿԱՏԱՐՈՂԱԿԱՆ) ՑՈՒՑԱՆԻՇՆԵՐԸ
A9: Ծրագրի դասիչը | B9: Ծրագրի անվանումը
A10: 1148 | B10: Արտադպրոցական դաստիարակության ծրագիր
A12: Ծրագրի միջոցառումները
A14: Ծրագրի դասիչը՝ | B14: 1148 | C14: Ցուցանիշների փոփոխությունը (նվազեցումները նշված են փակագծերում)
A15: Միջոցառման դասիչը՝ | B15: 11016 | C15: Ինն ամիս | D15: Տարի
A16: Միջոցառման անվանումը՝ | B16: ՀՀ հանրակրթական ծրագրեր իրականացնող ուսումնական հաստատությունների 11-րդ դասարանների աշակերտների ռազմամարզական ճամբարի կազմակերպում
A17: Նկարագրությունը՝ | B17: Նպաստել 11-րդ դասարաններում սովորող դպրոցականների մոտ «Նախնական զինվորական պատրաստություն» առարկայից ստացած գիտելիքների հարստացմանը և դրանց համապատասխան կարողությունների և հմտությունների զարգացմանը
A18: Միջոցառման տեսակը՝ | B18: Ծառայությունների մատուցում
A19: Ծառայությունը մատուցող կազմակերպության(ների) անվանում(ներ)ը՛ | B19: Մասնագիտացված կազմակերպություն
A20: Արդյունքի չափորոշիչներ
A21: 11-րդ դասարանի աշակերտների թիվ, մարդ | C21: -262 | D21: -262
A22: Միջոցառման վրա կատարվող ծախսը (հազար դրամ) | C22: ='Հավելված N 2'!G28 -> -29376.4 | D22: ='Հավելված N 2'!H28 -> -29376.4
A23: Ծրագրի դասիչը | B23: Ծրագրի անվանումը
A24: 1148 | B24: Արտադպրոցական դաստիարակություն
A26: Ծրագրի միջոցառումները
A28: Ծրագրի դասիչը` | B28: 1148
A29: Միջոցառման դասիչը` | B29: 12002 | C29: Ինն ամիս | D29: Տարի
A30: Միջոցառման անվանումը` | B30: Կամավոր ատեստավորման նոր համակարգի ներդրում՝ ուղղված արտադպրոցական ուսումնական հաստատությունների մանկավարժական աշխատողների որակի բարձրացմանը
A31: Նկարագրությունը` | B31: Արտադպրոցական հաստատություններում դասվանդող մանկավարժական աշխատողների կամավոր ատեստավորման համակարգի մշակում և ներդրում
A32: Միջոցառման տեսակը` | B32: Տրանսֆերտների տրամադրում
A33: Շահառուների ընտրության չափորոշիչները՝ | B33: Շահառուների ընտրության չափորոշիչները սահմանված են ԿԳՄՍ նախարարի հրամանով
A34: Արդյունքի չափորոշիչներ
A35: Կամավոր ատեստավորման արդյունքում ընթացիկ տարում ատեստավորված մանկավարժական աշխատողների թիվը, մարդ | C35: 44 | D35: 44
A36: Կամավոր ատեստավորման արդյունքում ընթացիկ տարում հավելավճար ստացած մանկավարժական աշխատողների թիվը, մարդ | C36: 40 | D36: 40
A37: Միջոցառման վրա կատարվող ծախսը (հազար դրամ) | C37: ='Հավելված N 2'!G29 -> 28003.6 | D37: ='Հավելված N 2'!H29 -> 28003.6
A38: Ծրագրի դասիչը | B38: Ծրագրի անվանումը
A39: 1192 | B39: Կրթության որակի ապահովում
A41: Ծրագրի միջոցառումները
A43: Ծրագրի դասիչը` | B43: 1192
A44: Միջոցառման դասիչը` | B44: 12004 | C44: Ինն ամիս | D44: Տարի
A45: Միջոցառման անվանումը` | B45: Մասնագիտական զարգացման և վարձատրության փոխկապակցված համակարգի ներդրում՝ նախադպրոցական հաստատությունների մանկավարժներին տարակարգի շնորհման գործընթացի միջոցով
A46: Նկարագրությունը` | B46: Նախադպրոցական ծառայությունների որակի շարունակական բարձրացման նախադրյալների ապահովում
A47: Միջոցառման տեսակը` | B47: Տրանսֆերտների տրամադրում
A48: Շահառուների ընտրության չափորոշիչները՝ | B48: Շահառուների ընտրության չափորոշիչները սահմանված են ԿԳՄՍ նախարարի հրամանով
...

Sheet Հավելված N 5
A2: Հավելված N 5
A3: ՀՀ կառավարության 2023 թվականի
A4: ______________ ի ___Ն որոշման
B6: ՀԱՅԱՍՏԱՆԻ ՀԱՆՐԱՊԵՏՈՒԹՅԱՆ ԿԱՌԱՎԱՐՈՒԹՅԱՆ 2022 ԹՎԱԿԱՆԻ ԴԵԿՏԵՄԲԵՐԻ 29-Ի N 2111-Ն ՈՐՈՇՄԱՆ N 9.1 ՀԱՎԵԼՎԱԾԻ NN 9.1.7, 9.1.13, 9.1.49, 9.1.50, 9.1.51, 9.1.52, 9.1.53, 9.1.54, 9.1.55, 9.1.57 ԵՎ 9.1.58 ԱՂՅՈՒՍԱԿՆԵՐՈՒՄ ԿԱՏԱՐՎՈՂ ՓՈՓՈԽՈՒԹՅՈՒՆՆԵՐԸ ԵՎ ԼՐԱՑՈՒՄՆԵՐԸ
B8: ՀՀ կրթության, գիտության, մշակույթի և սպորտի նախարարություն
B10: ՄԱՍ 1. ՊԵՏԱԿԱՆ ՄԱՐՄՆԻ ԳԾՈՎ ԱՐԴՅՈՒՆՔԱՅԻՆ (ԿԱՏԱՐՈՂԱԿԱՆ) ՑՈՒՑԱՆԻՇՆԵՐԸ
B13: Ծրագրի դասիչը | C13: Ծրագրի անվանումը
B14: 1148 | C14: Արտադպրոցական դաստիարակության ծրագիր
B16: Ծրագրի միջոցառումները
B17: Ծրագրի դասիչը՝ | C17: 1148 | D17: Ցուցանիշների փոփոխությունը (նվազեցումները նշված են փակագծերում)
B18: Միջոցառման դասիչը՝ | C18: 11016 | D18: Ինն ամիս | E18: Տարի
B19: Միջոցառման անվանումը՝ | C19: ՀՀ հանրակրթական ծրագրեր իրականացնող ուսումնական հաստատությունների 11-րդ դասարանների աշակերտների ռազմամարզական ճամբարի կազմակերպում
B20: Նկարագրությունը՝ | C20: Նպաստել 11-րդ դասարաններում սովորող դպրոցականների մոտ «Նախնական զինվորական պատրաստություն» առարկայից ստացած գիտելիքների հարստացմանը և դրանց համապատասխան կարողությունների և հմտությունների զարգացմանը
B21: Միջոցառման տեսակը` | C21: Ծառայությունների մատուցում
B22: Ծառայությունը մատուցող կազմակերպության(ների) անվանում(ներ)ը՛ | C22: Մասնագիտացված կազմակերպություն
B23: Արդյունքի չափորոշիչներ
B24: 11-րդ դասարանի աշակերտների թիվ, մարդ | D24: ='Հավելված N 4'!C21 -> -262 | E24: ='Հավելված N 4'!D21 -> -262
B25: Միջոցառման վրա կատարվող ծախսը (հազար դրամ) | D25: ='Հավելված N 2'!G20 -> -29376.4 | E25: ='Հավելված N 2'!H20 -> -29376.4
B27: ='Հավելված N 2'!F31 -> ՀՀ տարածքային կառավարման և ենթակառուցվածքների նախարարություն
B29: Ծրագրի դասիչը | C29: Ծրագրի անվանումը
B30: 1148 | C30: Արտադպրոցական դաստիարակության ծրագիր
B32: Ծրագրի միջոցառումները
B33: Ծրագրի դասիչը՝ | C33: 1148 | D33: Ցուցանիշների փոփոխությունը (նվազեցումները նշված են փակագծերում)
B34: Միջոցառման դասիչը՝ | C34: 12002 | D34: Ինն ամիս | E34: Տարի
B35: Միջոցառման անվանումը՝ | C35: Կամավոր ատեստավորման նոր համակարգի ներդրում՝ ուղղված արտադպրոցական ուսումնական հաստատությունների մանկավարժական աշխատողների որակի բարձրացմանը
B36: Նկարագրությունը՝ | C36: Արտադպրոցական հաստատություններում դասվանդող մանկավարժական աշխատողների կամավոր ատեստավորման համակարգի մշակում և ներդրում
B37: Միջոցառման տեսակը՝ | C37: Տրանսֆերտների տրամադրում
B38: Շահառուների ընտրության չափորոշիչները՝ | C38: Շահառուների ընտրության չափորոշիչները սահմանված են ԿԳՄՍ նախարարի հրամանով
B39: Արդյունքի չափորոշիչներ
B40: Կամավոր ատեստավորման արդյունքում ընթացիկ տարում ատեստավորված մանկավարժների թիվը, մարդ | D40: 10 | E40: 10
B41: Կամավոր ատեստավորման արդյունքում ընթացիկ տարում հավելավճար ստացած մանկավարժների թիվը, մարդ | D41: 9 | E41: 9
B42: Միջոցառման վրա կատարվող ծախսը (հազար դրամ) | D42: ='Հավելված N 2'!G31 -> 6165.4 | E42: ='Հավելված N 2'!H31 -> 6165.4
B44: ='Հավելված N 2'!F38 -> ՀՀ կրթության, գիտության, մշակույթի և սպորտի նախարարություն
B46: Ծրագրի դասիչը | C46: Ծրագրի անվանումը
B47: 1148 | C47: Արտադպրոցական դաստիարակության ծրագիր
B49: Ծրագրի միջոցառումները
B50: Ծրագրի դասիչը՝ | C50: 1148 | D50: Ցուցանիշների փոփոխությունը (նվազեցումները նշված են փակագծերում)
B51: Միջոցառման դասիչը՝ | C51: 12002 | D51: Ինն ամիս | E51: Տարի
B52: Միջոցառման անվանումը՝ | C52: Կամավոր ատեստավորման նոր համակարգի ներդրում՝ ուղղված արտադպրոցական ուսումնական հաստատությունների մանկավարժական աշխատողների որակի բարձրացմանը
B53: Նկարագրությունը՝ | C53: Արտադպրոցական հաստատություններում դասվանդող մանկավարժական աշխատողների կամավոր ատեստավորման համակարգի մշակում և ներդրում
...
