Workbook

Sheet Հավելված 1(3)
H1: Ð³í»Éí³Í N1 ÐÐ Ï³é³í³ñáõÃÛ³Ý 2019 Ãí³Ï³ÝÇ __________-Ç ____-Ç N _____-Ü áñáßÙ³Ý
A3: Ð²Ú²êî²ÜÆ Ð²Üð²äºîàôÂÚ²Ü Î²è²ì²ðàôÂÚ²Ü 2018 Âì²Î²ÜÆ ¸ºÎîºØ´ºðÆ 27-Æ N1515-Ü àðàÞØ²Ü N3 Ð²ìºÈì²ÌàôØ Î²î²ðìàÔ öàöàÊàôÂÚàôÜÜºðÀ
A5: ¶áñÍ³é³Ï³Ý ¹³ëÇãÁ | D5: Ìñ³·ñ³ÛÇÝ ¹³ëÇãÁ | F5: ´Ûáõç»ï³ÛÇÝ Í³Ëë»ñÇ ·áñÍ³é³Ï³Ý ¹³ë³Ï³ñ·Ù³Ý µ³ÅÇÝÝ»ñÇ, ËÙµ»ñÇ ¨ ¹³ë»ñÇ, µÛáõç»ï³ÛÇÝ Íñ³·ñ»ñÇ ÙÇçáó³éáõÙÝ»ñÇ, µÛáõç»ï³ÛÇÝ Ñ³ïÏ³óáõÙÝ»ñÇ ·ÉË³íáñ Ï³ñ·³¹ñÇãÝ»ñÇ ³Ýí³ÝáõÙÝ»ñÁ | G5: Ցուցանիշների փոփոխությունը (ավելացումները նշված են դրական նշանով, իսկ նվազեցումները` փակագծերում)
G6: ²é³çÇÝ »é³ÙëÛ³Ï | H6: ²é³çÇÝ ÏÇë³ÙÛ³Ï | I6: ÆÝÝ ³ÙÇë | J6: î³ñÇ
A7: ´³ÅÇÝ | B7: ÊáõÙµ | C7: ¸³ë | D7: Ìñ³·Çñ | E7: ØÇçáó³ éáõÙ
A8: 03 | B8: 03 | C8: 01 | F8: ¸³ï³ñ³ÝÝ»ñ, ³Û¹ ÃíáõÙ՝ | G8: =+G9+G11+G13+G15+G17+G19+G21+G23++G25+G27+G29+G31+G33+G35+G37+G39+G41 -> 0 | H8: =+H9+H11+H13+H15+H17+H19+H21+H23++H25+H27+H29+H31+H33+H35+H37+H39+H41 -> 0 | I8: =+I9+I11+I13+I15+I17+I19+I21+I23++I25+I27+I29+I31+I33+I35+I37+I39+I41 -> 0 | J8: =+J9+J11+J13+J15+J17+J19+J21+J23++J25+J27+J29+J31+J33+J35+J37+J39+J41 -> -2.5465852e-11
D9: 1080 | E9: 11001 | F9: ´³ñÓñ³·áõÛÝ ¹³ï³Ï³Ý ËáñÑñ¹Ç µÝ³Ï³ÝáÝ ·áñÍáõÝ»áõÃÛ³Ý ³å³ÑáíáõÙ ¨ ´³ñÓñ³·áõÛÝ ¹³ï³Ï³Ý ËáñÑñ¹Ç ÏáÕÙÇó ¹³ï³Ï³Ý ÇßË³ÝáõÃÛ³Ý ³ÝÏ³ËáõÃÛ³Ý »ñ³ßË³íáñÙ³ÝÝ áõÕÕí³Í ÙÇçáó³éáõÙÝ»ñÇ Çñ³Ï³Ý³óáõÙ | G9: 19399 | H9: 60612.8 | I9: 101909 | J9: 165365.4
F10: ´³ñÓñ³·áõÛÝ ¹³ï³Ï³Ý ËáñÑáõñ¹ | G10: 19399 | H10: 60612.8 | I10: 101909 | J10: 165365.4
D11: 1080 | E11: 11002 | F11: ÐÐ ì×é³µ»Ï ¹³ï³ñ³ÝÇ µÝ³Ï³ÝáÝ ·áñÍáõÝ»áõÃÛ³Ý ¨ ÐÐ ì×é³µ»Ï ¹³ï³ñ³ÝÇ ÏáÕÙÇó ¹³ï³Ï³Ý å³ßïå³ÝáõÃÛ³Ý Çñ³íáõÝùÇ ³å³ÑáíáõÙ | G11: -1400.2 | H11: -3785.4 | I11: -6170.4 | J11: -9572.1
F12: ´³ñÓñ³·áõÛÝ ¹³ï³Ï³Ý ËáñÑáõñ¹ | G12: -1400.2 | H12: -3785.4 | I12: -6170.4 | J12: -9572.1
D13: 1080 | E13: 11003 | F13: ÐÐ í»ñ³ùÝÝÇã ù³Õ³ù³óÇ³Ï³Ý ¹³ï³ñ³ÝÇ µÝ³Ï³ÝáÝ ·áñÍáõÝ»áõÃÛ³Ý ¨ ÐÐ ì»ñ³ùÝÝÇã ù³Õ³ù³óÇ³Ï³Ý ¹³ï³ñ³ÝÇ ÏÕ¹ÙÇó ¹³ï³Ï³Ý å³ßïå³ÝáõÃÛ³Ý Çñ³íáõÝùÇ ³å³ÑáíáõÙ | G13: -920.9 | H13: -2914.5 | I13: -4907.9 | J13: -8014.1
F14: ´³ñÓñ³·áõÛÝ ¹³ï³Ï³Ý ËáñÑáõñ¹ | G14: -920.9 | H14: -2914.5 | I14: -4907.9 | J14: -8014.1
D15: 1080 | E15: 11004 | F15: ÐÐ í»ñ³ùÝÝÇã ùñ»³Ï³Ý ¹³ï³ñ³ÝÇ µÝ³Ï³ÝáÝ ·áñÍáõÝ»áõÃÛ³Ý ¨ ÐÐ ì»ñ³ùÝÝÇã ùñ»³Ï³Ý ¹³ï³ñ³ÝÇ ÏáÕÙÇó ¹³ï³Ï³Ý å³ßïå³ÝáõÃÛ³Ý Çñ³íáõÝùÇ ³å³ÑáíáõÙ | G15: -1096.8 | H15: -3331.5 | I15: -5566 | J15: -8978.5
F16: ´³ñÓñ³·áõÛÝ ¹³ï³Ï³Ý ËáñÑáõñ¹ | G16: -1096.8 | H16: -3331.5 | I16: -5566 | J16: -8978.5
D17: 1080 | E17: 11005 | F17: ÐÐ í»ñ³ùÝÝÇã í³ñã³Ï³Ý ¹³ï³ñ³ÝÇ µÝ³Ï³ÝáÝ ·áñÍáõÝ»áõÃÛ³Ý ¨ ÐÐ ì»ñ³ùÝÝÇã í³ñã³Ï³Ý ¹³ï³ñ³ÝÇ ÏáÕÙÇó ¹³ï³Ï³Ý å³ßïå³ÝáõÃÛ³Ý Çñ³íáõÝùÇ ³å³ÑáíáõÙ | G17: -578.5 | H17: -1664.6 | I17: -2750.6 | J17: -4384.2
F18: ´³ñÓñ³·áõÛÝ ¹³ï³Ï³Ý ËáñÑáõñ¹ | G18: -578.5 | H18: -1664.6 | I18: -2750.6 | J18: -4384.2
D19: 1080 | E19: 11006 | F19: ÐÐ í³ñã³Ï³Ý ¹³ï³ñ³ÝÇ µÝ³Ï³ÝáÝ ·áñÍáõÝ»áõÃÛ³Ý ¨ ÐÐ ì³ñã³Ï³Ý ¹³ï³ñ³ÝÇ ÏáÕÙÇó ¹³ï³Ï³Ý å³ßïå³ÝáõÃÛ³Ý Çñ³íáõÝùÇ ³å³ÑáíáõÙ | G19: -1415.3 | H19: -4581.3 | I19: -7747.3 | J19: -12703.9
F20: ´³ñÓñ³·áõÛÝ ¹³ï³Ï³Ý ËáñÑáõñ¹ | G20: -1415.3 | H20: -4581.3 | I20: -7747.3 | J20: -12703.9
D21: 1080 | E21: 11007 | F21: ºñ¨³Ý ù³Õ³ùÇ ÁÝ¹Ñ³Ýáõñ Çñ³í³ëáõÃÛ³Ý ¹³ï³ñ³ÝÇ µÝ³Ï³ÝáÝ ·áñÍáõÝ»áõÃÛ³Ý ¨ ºñ¨³Ý ù³Õ³ùÇ ÁÝ¹Ñ³Ýáõñ Çñ³í³ëáõÃÛ³Ý ¹³ï³ñ³ÝÇ ÏáÕÙÇó ¹³ï³Ï³Ý å³ßïå³ÝáõÃÛ³Ý Çñ³íáõÝùÇ ³å³ÑáíáõÙ | G21: -4135.3 | H21: -13851.5 | I21: -23567.7 | J21: -38753.3
F22: ´³ñÓñ³·áõÛÝ ¹³ï³Ï³Ý ËáñÑáõñ¹ | G22: -4135.3 | H22: -13851.5 | I22: -23567.7 | J22: -38753.3
D23: 1080 | E23: 11008 | F23: ÐÐ ²ñ³·³ÍáïÝÇ Ù³ñ½Ç ÁÝ¹Ñ³Ýáõñ Çñ³í³ëáõÃÛ³Ý ¹³ï³ñ³ÝÇ µÝ³Ï³ÝáÝ ·áñÍáõÝ»áõÃÛ³Ý ¨ ÐÐ ²ñ³·³ÍáïÝÇ Ù³ñ½Ç ÁÝ¹Ñ³Ýáõñ Çñ³í³ëáõÃÛ³Ý ¹³ï³ñ³ÝÇ ÏáÕÙÇó ¹³ï³Ï³Ý å³ßïå³ÝáõÃÛ³Ý Çñ³íáõÝùÇ ³å³ÑáíáõÙ | G23: -821.1 | H23: -2435.2 | I23: -4049.1 | J23: -6495.8
F24: ´³ñÓñ³·áõÛÝ ¹³ï³Ï³Ý ËáñÑáõñ¹ | G24: -821.1 | H24: -2435.2 | I24: -4049.1 | J24: -6495.8
D25: 1080 | E25: 11009 | F25: ÐÐ ²ñ³ñ³ïÇ ¨ ì³Ûáó ÓáñÇ Ù³ñ½»ñÇ ÁÝ¹Ñ³Ýáõñ Çñ³í³ëáõÃÛ³Ý ¹³ï³ñ³ÝÇ µÝ³Ï³ÝáÝ ·áñÍáõÝ»áõÃÛ³Ý ¨ ÐÐ ²ñ³ñ³ïÇ ¨ ì³Ûáó ÓáñÇ Ù³ñ½»ñÇ ÁÝ¹Ñ³Ýáõñ Çñ³í³ëáõÃÛ³Ý ¹³ï³ñ³ÝÇ ÏáÕÙÇó ¹³ï³Ï³Ý å³ßïå³ÝáõÃÛ³Ý Çñ³íáõÝùÇ ³å³ÑáíáõÙ | G25: -1193.4 | H25: -3820.1 | I25: -6530.7 | J25: -10666
F26: ´³ñÓñ³·áõÛÝ ¹³ï³Ï³Ý ËáñÑáõñ¹ | G26: -1193.4 | H26: -3820.1 | I26: -6530.7 | J26: -10666
D27: 1080 | E27: 11010 | F27: ÐÐ ²ñÙ³íÇñÇ Ù³ñ½Ç ÁÝ¹Ñ³Ýáõñ Çñ³í³ëáõÃÛ³Ý ¹³ï³ñ³ÝÇ µÝ³Ï³ÝáÝ ·áñÍáõÝ»áõÃÛ³Ý ¨ ÐÐ ²ñÙ³íÇñÇ Ù³ñ½Ç ÁÝ¹Ñ³Ýáõñ Çñ³í³ëáõÃÛ³Ý ¹³ï³ñ³ÝÇ ÏáÕÙÇó ¹³ï³Ï³Ý å³ßïå³ÝáõÃÛ³Ý Çñ³íáõÝùÇ ³å³ÑáíáõÙ | G27: -1007.8 | H27: -3091 | I27: -5174.4 | J27: -8384.4
F28: ´³ñÓñ³·áõÛÝ ¹³ï³Ï³Ý ËáñÑáõñ¹ | G28: -1007.8 | H28: -3091 | I28: -5174.4 | J28: -8384.4
D29: 1080 | E29: 11011 | F29: ÐÐ ¶»Õ³ñùáõÝÇùÇ Ù³ñ½Ç ÁÝ¹Ñ³Ýáõñ Çñ³í³ëáõÃÛ³Ý ¹³ï³ñ³ÝÇ µÝ³Ï³ÝáÝ ·áñÍáõÝ»áõÃÛ³Ý ¨ ÐÐ ¶»Õ³ñùáõÝÇùÇ Ù³ñ½Ç ÁÝ¹Ñ³Ýáõñ Çñ³í³ëáõÃÛ³Ý ¹³ï³ñ³ÝÇ ÏáÕÙÇó ¹³ï³Ï³Ý å³ßïå³ÝáõÃÛ³Ý Çñ³íáõÝùÇ ³å³ÑáíáõÙ | G29: -873.3 | H29: -2596.9 | I29: -4320.2 | J29: -6934.1
F30: ´³ñÓñ³·áõÛÝ ¹³ï³Ï³Ý ËáñÑáõñ¹ | G30: -873.3 | H30: -2596.9 | I30: -4320.2 | J30: -6934.1
D31: 1080 | E31: 11012 | F31: ÐÐ Èáéáõ Ù³ñ½Ç ÁÝ¹Ñ³Ýáõñ Çñ³í³ëáõÃÛ³Ý ¹³ï³ñ³ÝÇ µÝ³Ï³ÝáÝ ·áñÍáõÝ»áõÃÛ³Ý ¨ ÐÐ Èáéáõ Ù³ñ½Ç ÁÝ¹Ñ³Ýáõñ Çñ³í³ëáõÃÛ³Ý ¹³ï³ñ³ÝÇ ÏáÕÙÇó ¹³ï³Ï³Ý å³ßïå³ÝáõÃÛ³Ý Çñ³íáõÝùÇ ³å³ÑáíáõÙ | G31: -1088.9 | H31: -3359.1 | I31: -5629 | J31: -9169.2
F32: ´³ñÓñ³·áõÛÝ ¹³ï³Ï³Ý ËáñÑáõñ¹ | G32: -1088.9 | H32: -3359.1 | I32: -5629 | J32: -9169.2
D33: 1080 | E33: 11013 | F33: ÐÐ Îáï³ÛùÇ Ù³ñ½Ç ÁÝ¹Ñ³Ýáõñ Çñ³í³ëáõÃÛ³Ý ¹³ï³ñ³ÝÇ µÝ³Ï³ÝáÝ ·áñÍáõÝ»áõÃÛ³Ý ¨ ÐÐ Îáï³ÛùÇ Ù³ñ½Ç ÁÝ¹Ñ³Ýáõñ Çñ³í³ëáõÃÛ³Ý ¹³ï³ñ³ÝÇ ÏáÕÙÇó ¹³ï³Ï³Ý å³ßïå³ÝáõÃÛ³Ý Çñ³íáõÝùÇ ³å³ÑáíáõÙ | G33: -892 | H33: -2690.3 | I33: -4488.5 | J33: -7232.9
F34: ´³ñÓñ³·áõÛÝ ¹³ï³Ï³Ý ËáñÑáõñ¹ | G34: -892 | H34: -2690.3 | I34: -4488.5 | J34: -7232.9
D35: 1080 | E35: 11014 | F35: ÐÐ ÞÇñ³ÏÇ Ù³ñ½Ç ÁÝ¹Ñ³Ýáõñ Çñ³í³ëáõÃÛ³Ý ¹³ï³ñ³ÝÇ µÝ³Ï³ÝáÝ ·áñÍáõÝ»áõÃÛ³Ý ¨ ÐÐ ÞÇñ³ÏÇ Ù³ñ½Ç ÁÝ¹Ñ³Ýáõñ Çñ³í³ëáõÃÛ³Ý ¹³ï³ñ³ÝÇ Ïá¹ÙÇó ¹³ï³Ï³Ý å³ßïå³ÝáõÃÛ³Ý Çñ³íáõÝùÇ ³å³ÑáíáõÙ | G35: -1233.9 | H35: -3887.5 | I35: -6541.3 | J35: -10654.1
F36: ´³ñÓñ³·áõÛÝ ¹³ï³Ï³Ý ËáñÑáõñ¹ | G36: -1233.9 | H36: -3887.5 | I36: -6541.3 | J36: -10654.1
D37: 1080 | E37: 11015 | F37: ÐÐ êÛáõÝÇùÇ Ù³ñ½Ç ÁÝ¹Ñ³Ýáõñ Çñ³í³ëáõÃÛ³Ý ¹³ï³ñ³ÝÇ µÝ³Ï³ÝáÝ ·áñÍáõÝ»áõÃÛ³Ý ¨ ÐÐ êÛáõÝÇùÇ Ù³ñ½Ç ÁÝ¹Ñ³Ýáõñ Çñ³í³ëáõÃÛ³Ý ¹³ï³ñ³ÝÇ ÏáÕÙÇó ¹³ï³Ï³Ý å³ßïå³ÝáõÃÛ³Ý Çñ³íáõÝùÇ ³å³ÑáíáõÙ | G37: -902.5 | H37: -2735.8 | I37: -4568.9 | J37: -7226.6
F38: ´³ñÓñ³·áõÛÝ ¹³ï³Ï³Ý ËáñÑáõñ¹ | G38: -902.5 | H38: -2735.8 | I38: -4568.9 | J38: -7226.6
D39: 1080 | E39: 11016 | F39: ÐÐ î³íáõßÇ Ù³ñ½Ç ÁÝ¹Ñ³Ýáõñ Çñ³í³ëáõÃÛ³Ý ¹³ï³ñ³ÝÇ µÝ³Ï³ÝáÝ ·áñÍáõÝ»áõÃÛ³Ý ¨ ÐÐ î³íáõßÇ Ù³ñ½Ç ÁÝ¹Ñ³Ýáõñ Çñ³í³ëáõÃÛ³Ý ¹³ï³ñ³ÝÇ Ïá¹ÙÇó ¹³ï³Ï³Ý å³ßïå³ÝáõÃÛ³Ý Çñ³íáõÝùÇ ³å³ÑáíáõÙ | G39: -913.5 | H39: -2784.7 | I39: -4655.9 | J39: -7524.7
F40: ´³ñÓñ³·áõÛÝ ¹³ï³Ï³Ý ËáñÑáõñ¹ | G40: -913.5 | H40: -2784.7 | I40: -4655.9 | J40: -7524.7
D41: 1080 | E41: 11017 | F41: ÐÐ êÝ³ÝÏáõÃÛ³Ý ¹³ï³ñ³ÝÇ µÝ³Ï³ÝáÝ ·áñÍáõÝ»áõÃÛ³Ý ¨ ÐÐ êÝ³ÝÏáõÃÛ³Ý ¹³ï³ñ³ÝÇ Ïá¹ÙÇó ¹³ï³Ï³Ý å³ßïå³ÝáõÃÛ³Ý Çñ³íáõÝùÇ ³å³ÑáíáõÙ | G41: -925.6 | H41: -3083.4 | I41: -5241.1 | J41: -8671.5
F42: ´³ñÓñ³·áõÛÝ ¹³ï³Ï³Ý ËáñÑáõñ¹ | G42: -925.6 | H42: -3083.4 | I42: -5241.1 | J42: -8671.5

Sheet Հավելված 1(5)
D1: Հավելված N 1 ՀՀ կառավարության 2023 թվականի __________-ի ____-ի N _____-Ն որոշման
A3: <<ՀԱՅԱUՏԱՆԻ ՀԱՆՐԱՊԵՏՈՒԹՅԱՆ 2023 ԹՎԱԿԱՆԻ ՊԵՏԱԿԱՆ ԲՅՈՒՋԵԻ ՄԱUԻՆ>> ՀԱՅԱUՏԱՆԻ ՀԱՆՐԱՊԵՏՈՒԹՅԱՆ OՐԵՆՔԻ N 1 ՀԱՎԵԼՎԱԾԻ N 2 ԱՂՅՈՒՍԱԿՈՒՄ ԿԱՏԱՐՎՈՂ ՎԵՐԱԲԱՇԽՈՒՄԸ ՈՒ ՓՈՓՈԽՈՒԹՅՈՒՆՆԵՐԸ ԵՎ ՀԱՅԱՍՏԱՆԻ ՀԱՆՐԱՊԵՏՈՒԹՅԱՆ ԿԱՌԱՎԱՐՈՒԹՅԱՆ 2022 ԹՎԱԿԱՆԻ ԴԵԿՏԵՄԲԵՐԻ 29-Ի N 2111-Ն ՈՐՈՇՄԱՆ N5 ՀԱՎԵԼՎԱԾԻ N1 ԱՂՅՈՒՍԱԿՈՒՄ ԿԱՏԱՐՎՈՂ ՓՈՓՈԽՈՒԹՅՈՒՆՆԵՐԸ ԵՎ ԼՐԱՑՈՒՄՆԵՐԸ
D5: հազար դրամով
A6: Ծրագրային դասիչը | C6: Բյուջետային հատկացումների գլխավոր կարգադրիչների, ծրագրերի և միջոցառումների անվանումները | D6: Ցուցանիշների փոփոխությունը (ավելացումները նշված են դրական նշանով, իսկ նվազեցումները` փակագծերում)
A7: Ծրագիր | B7: Միջոցառում | D7: Ինն ամիս | E7: Տարի
C8: ԸՆԴԱՄԵՆԸ | D8: =+D9+D101+D115 -> -1.7462298e-10 | E8: =+E9+E101+E115 -> -4.6566129e-10
C9: Բարձրագույն դատական խորհուրդ | D9: =+D10 -> 231686.7 | E9: =+E10 -> 338308.4
A10: 1080 | C10: Ծրագրի անվանումը` | D10: =+D17+D23+D29+D35+D41+D47+D53+D59+D65+D71+D77+D83+D89+D95 -> 231686.7 | E10: =+E17+E23+E29+E35+E41+E47+E53+E59+E65+E71+E77+E83+E89+E95 -> 338308.4
C11: Դատական իշխանության գործունեության ապահովում և իրականացում
C12: Ծրագրի նպատակը`
C13: Դատական իշխանության անկախության երաշխավորում, բնականոն գործունեության և դատական պաշտպանության իրավունքի ապահովում
C14: Վերջնական արդյունքի նկարագրությունը`
C15: Դատական իշխանության գուծունեության և դատական պաշտպանության իրավունքի ապահովման արդյունավետության բարձրացում
A16: Ծրագրի միջոցառումներ
B17: 11007 | C17: Միջոցառման անվանումը` | D17: =+'Հավելված 4(3,4)'!G18 -> -763271.7 | E17: =+'Հավելված 4(3,4)'!H18 -> -1605405.5
C18: Երևան քաղաքի ընդհանուր իրավասության դատարանի բնականոն գործունեության և Երևան քաղաքի ընդհանուր իրավասության դատարանի կողմից դատական պաշտպանության իրավունքի ապահովում
C19: Միջոցառման նկարագրությունը`
C20: Դատավարական գործունեության իրականացում, դատական ակտերի կազմում և հրապարակում, արխիվային փաստաթղթերի տրամադրում, դատական ծառայության իրականացում
C21: Միջոցառման տեսակը
C22: Ծառայությունների մատուցում
B23: 11008 | C23: Միջոցառման անվանումը` | D23: =+'Հավելված 4(3,4)'!G44 -> 17903.3 | E23: =+'Հավելված 4(3,4)'!H44 -> 26854.9
C24: ՀՀ Արագածոտնի մարզի ընդհանուր իրավասության դատարանի բնականոն գործունեության և ՀՀ Արագածոտնի մարզի ընդհանուր իրավասության դատարանի կողմից դատական պաշտպանության իրավունքի ապահովում
C25: Միջոցառման նկարագրությունը`
C26: Դատավարական գործունեության իրականացում, դատական ակտերի կազմում և հրապարակում, արխիվային փաստաթղթերի տրամադրում, դատական ծառայության իրականացում
C27: Միջոցառման տեսակը
C28: Ծառայությունների մատուցում
B29: 11010 | C29: Միջոցառման անվանումը` | D29: =+'Հավելված 4(3,4)'!G53 -> 17741.7 | E29: =+'Հավելված 4(3,4)'!H53 -> 26612.6
C30: ՀՀ Արմավիրի մարզի ընդհանուր իրավասության դատարանի բնականոն գործունեության և ՀՀ Արմավիրի մարզի ընդհանուր իրավասության դատարանի կողմից դատական պաշտպանության իրավունքի ապահովում
C31: Միջոցառման նկարագրությունը`
C32: Դատավարական գործունեության իրականացում, դատական ակտերի կազմում և հրապարակում, արխիվային փաստաթղթերի տրամադրում, դատական ծառայության իրականացում
C33: Միջոցառման տեսակը
C34: Ծառայությունների մատուցում
B35: 11011 | C35: Միջոցառման անվանումը` | D35: =+'Հավելված 4(3,4)'!G62 -> 5454 | E35: =+'Հավելված 4(3,4)'!H62 -> 8180.9
C36: ՀՀ Գեղարքունիքի մարզի ընդհանուր իրավասության դատարանի բնականոն գործունեության և ՀՀ Գեղարքունիքի մարզի ընդհանուր իրավասության դատարանի կողմից դատական պաշտպանության իրավունքի ապահովում
C37: Միջոցառման նկարագրությունը`
C38: Դատավարական գործունեության իրականացում, դատական ակտերի կազմում և հրապարակում, արխիվային փաստաթղթերի տրամադրում, դատական ծառայության իրականացում
C39: Միջոցառման տեսակը
C40: Ծառայությունների մատուցում
B41: 11012 | C41: Միջոցառման անվանումը` | D41: =+'Հավելված 4(3,4)'!G71 -> 17766.7 | E41: =+'Հավելված 4(3,4)'!H71 -> 26650
C42: ՀՀ Լոռու մարզի ընդհանուր իրավասության դատարանի բնականոն գործունեության և ՀՀ Լոռու մարզի ընդհանուր իրավասության դատարանի կողմից դատական պաշտպանության իրավունքի ապահովում
...

Sheet Հավելված 2
F1: Հավելված N2 ՀՀ կառավարության 2023 թվականի __________-ի ____-ի N _____-Ն որոշման
A4: ՀԱՅԱՍՏԱՆԻ ՀԱՆՐԱՊԵՏՈՒԹՅԱՆ 2023 ԹՎԱԿԱՆԻ ՊԵՏԱԿԱՆ ԲՅՈՒՋԵԻ ՄԱՍԻՆ ՕՐԵՆՔԻ N 1 ՀԱՎԵԼՎԱԾԻ N 3 ԱՂՅՈՒՍԱԿՈՒՄ ԿԱՏԱՐՎՈՂ ՎԵՐԱԲԱՇԽՈՒՄԸ ԵՎ ՓՈՓՈԽՈՒԹՅՈՒՆՆԵՐԸ
G5: հազար դրամ
A6: Ծրագրային դասիչը | C6: Բյուջետային գլխավոր կարգադրիչների, ծրագրերի և միջոցառումների և ուղղությունների անվանումները | D6: Ընդամենը | E6: Ցուցանիշների փոփոխությունը (նվազեցումները նշված են փակագծերում)
E7: այդ թվում
A8: Ծրագիր | B8: Միջոցառում | E8: Կառուցման աշխատանքներ | F8: Վերակառուցման, վերանորոգման և վերականգնման աշխատանքներ | G8: Նախագծահե- տազոտական, գեոդեզիա- քարտեզագրա- կան աշխա- տանքներ | H8: Ոչ ֆինանսական այլ ակտիվների ձեռքբերում
C9: Ընդամենը | D9: =+D11+D14 -> -352329.4 | E9: =+E11+E14 -> -338308.4 | F9: =+F11+F14 -> 0 | G9: =+G11+G14 -> 0 | H9: =+H11+H14 -> -14021
C10: այդ թվում`
C11: ԲԱՐՁՐԱԳՈՒՅՆ ԴԱՏԱԿԱՆ ԽՈՐՀՈՒՐԴ | D11: =+D13 -> -14021 | E11: =+E13 -> 0 | F11: =+F13 -> 0 | G11: =+G13 -> 0 | H11: =+H13 -> -14021
C12: այդ թվում`
A13: 1080 | B13: 31001 | C13: Բարձրագույն դատական խորհրդի տեխնիկական հագեցվածության բարելավում | D13: =SUM(E13:H13) -> -14021 | E13: 0 | F13: 0 | G13: 0 | H13: -14021
C14: ՀՀ արդարադատության նախարարություն | D14: =D16 -> -338308.4 | E14: =E16 -> -338308.4 | F14: =F16 -> 0 | G14: =G16 -> 0 | H14: =H16 -> 0
C15: այդ թվում՝
A16: 1228 | B16: 31001 | C16: Հակակոռուպցիոն կոմիտեի շենքային պայմանների ապահովում | D16: =SUM(E16:H16) -> -338308.4 | E16: -338308.4 | F16: 0 | G16: 0 | H16: 0

Sheet Հավելված 3
D1: Հավելված N3 ՀՀ կառավարության 2023 թվականի __________-ի ____-ի N _____-Ն որոշման
A3: ՀԱՅԱՍՏԱՆԻ ՀԱՆՐԱՊԵՏՈՒԹՅԱՆ ԿԱՌԱՎԱՐՈՒԹՅԱՆ 2022 ԹՎԱԿԱՆԻ ԴԵԿՏԵՄԲԵՐԻ 29-Ի N 2111-Ն ՈՐՈՇՄԱՆ N5 ՀԱՎԵԼՎԱԾԻ N2 ԱՂՅՈՒՍԱԿՈՒՄ ԿԱՏԱՐՎՈՂ ՓՈՓՈԽՈՒԹՅՈՒՆՆԵՐԸ
E5: հազար դրամ
A6: Ծրագրային դասիչ | C6: Բյուջետային գլխավոր կարգադրիչների, ծրագրերի, միջոցառումների, միջոցառումները կատարող պետական մարմինների և ուղղությունների անվանումները | D6: Ցուցանիշների փոփոխությունը (նվազեցումները նշված են փակագծերում)
A7: Ծրագիր | B7: Միջոցառում | D7: Ինն ամիս | E7: Տարի
C8: ԸՆԴԱՄԵՆԸ | D8: =+D9+D14 -> -245707.7 | E8: =+E9+E14 -> -352329.4
C9: ԲԱՐՁՐԱԳՈՒՅՆ ԴԱՏԱԿԱՆ ԽՈՐՀՈՒՐԴ | D9: =+D11 -> -14021 | E9: =+E11 -> -14021
C10: այդ թվում`
A11: 1080 | B11: 31001 | C11: Բարձրագույն դատական խորհրդի տեխնիկական հագեցվածության բարելավում | D11: =+D13 -> -14021 | E11: =+E13 -> -14021
C12: այդ թվում` ըստ կատարողների
C13: ՀՀ դատական դեպարտամենտ | D13: -14021 | E13: -14021
C14: ՀՀ ԱՐԴԱՐԱԴԱՏՈՒԹՅԱՆ ՆԱԽԱՐԱՐՈՒԹՅՈՒՆ | D14: =D16 -> -231686.7 | E14: =E16 -> -338308.4
C15: այդ թվում`
A16: 1228 | B16: 31001 | C16: Հակակոռուպցիոն կոմիտեի շենքային պայմանների ապահովում | D16: =D18 -> -231686.7 | E16: =E18 -> -338308.4
C17: այդ թվում` ըստ կատարողների
C18: ՀՀ քաղաքաշինության կոմիտե | D18: -231686.7 | E18: -338308.4

Sheet Հավելված 4(3,4)
G1: Հավելված N 4 ՀՀ կառավարության 2023 թվականի __________-ի ____-ի N _____-Ն որոշման
A3: ՀԱՅԱՍՏԱՆԻ ՀԱՆՐԱՊԵՏՈՒԹՅԱՆ ԿԱՌԱՎԱՐՈՒԹՅԱՆ 2022 ԹՎԱԿԱՆԻ ԴԵԿՏԵՄԲԵՐԻ 29-Ի N2111-Ն ՈՐՈՇՄԱՆ NN 3 և 4 ՀԱՎԵԼՎԱԾՆԵՐՈՒՄ ԿԱՏԱՐՎՈՂ ՓՈՓՈԽՈՒԹՅՈՒՆՆԵՐԸ ԵՎ ԼՐԱՑՈՒՄՆԵՐԸ
G4: հազար դրամով
A5: Գործառական դասիչը | D5: Ծրագրային դասիչը | F5: Բյուջետային հատկացումների գլխավոր կարգադրիչների, ծրագրերի, միջոցառումների և միջոցառումները կատարող պետական մարմինների անվանումները | G5: Ցուցանիշների փոփոխությունը (ավելացումները նշված են դրական նշանով, իսկ նվազեցումները` փակագծերում)
A6: Բաժին | B6: Խումբ | C6: Դաս | D6: Ծրագիր | E6: Միջոց առում | G6: Ինն ամիս | H6: Տարի
F7: ԸՆԴԱՄԵՆԸ՝ ԾԱԽՍԵՐ, այդ թվում | G7: =+G8+G210+G191 -> 0 | H7: =+H8+H210+H191 -> -4.6566129e-10
A8: 03 | F8: ՀԱՍԱՐԱԿԱԿԱՆ ԿԱՐԳ, ԱՆՎՏԱՆԳՈՒԹՅՈՒՆ ԵՎ ԴԱՏԱԿԱՆ ԳՈՐԾՈՒՆԵՈՒԹՅՈՒՆ | G8: =+G10 -> 231686.7 | H8: =+H10 -> 338308.4
F9: այդ թվում`
B10: 03 | F10: Դատական գործունեություն և իրավական պաշտպանություն | G10: =+G12 -> 231686.7 | H10: =+H12 -> 338308.4
F11: այդ թվում`
C12: 01 | F12: Դատարաններ | G12: =+G16 -> 231686.7 | H12: =+H16 -> 338308.4
F13: այդ թվում`
F14: Բարձրագույն դատական խորհուրդ | G14: =G16 -> 231686.7 | H14: =H16 -> 338308.4
F15: այդ թվում՝
D16: 1080 | F16: Դատական իշխանության գործունեության ապահովում և իրականացում | G16: =+G18+G44+G53+G62+G71+G80+G89+G98+G107+G116+G125+G134+G158+G184 -> 231686.7 | H16: =+H18+H44+H53+H62+H71+H80+H89+H98+H107+H116+H125+H134+H158+H184 -> 338308.4
F17: այդ թվում`
E18: 11007 | F18: Երևան քաղաքի ընդհանուր իրավասության դատարանի բնականոն գործունեության և Երևան քաղաքի ընդհանուր իրավասության դատարանի կողմից դատական պաշտպանության իրավունքի ապահովում | G18: =+G22 -> -763271.7 | H18: =+H22 -> -1605405.5
F19: այդ թվում` ըստ կատարողների
F20: ՀՀ դատական դեպարտամենտ | G20: =G22 -> -763271.7 | H20: =H22 -> -1605405.5
F21: այդ թվում` բյուջետային ծախսերի տնտեսագիտական դասակարգման հոդվածներ
F22: ԸՆԴԱՄԵՆԸ ԾԱԽՍԵՐ | G22: =+G23 -> -763271.7 | H22: =+H23 -> -1605405.5
F23: ԸՆԹԱՑԻԿ ԾԱԽՍԵՐ | G23: =+G24+G29+G39+G42 -> -763271.7 | H23: =+H24+H29+H39+H42 -> -1605405.5
F24: ԱՇԽԱՏԱՆՔԻ ՎԱՐՁԱՏՐՈՒԹՅՈՒՆ | G24: =+G25 -> -579254.8 | H24: =+H25 -> -1310954.3
F25: Դրամով վճարվող աշխատավարձեր և հավելավճարներ | G25: =+G26+G27+G28 -> -579254.8 | H25: =+H26+H27+H28 -> -1310954.3
F26: -Աշխատողների աշխատավարձեր և հավելավճարներ | G26: -497256.4 | H26: -1148265
F27: -Պարգևատրումներ, դրամական խրախուսումներ և հատուկ վճարներ | G27: -60518.1 | H27: -141209
F28: -Քաղաքացիական, դատական և պետական ծառայողների պարգևատրում | G28: -21480.3 | H28: -21480.3
F29: ԾԱՌԱՅՈՒԹՅՈՒՆՆԵՐԻ ԵՎ ԱՊՐԱՆՔՆԵՐԻ ՁԵՌՔԲԵՐՈՒՄ | G29: =+G30+G34+G37 -> -178213.3 | H29: =+H30+H34+H37 -> -285419.6
F30: Շարունակական ծախսեր | G30: =+G31+G32+G33 -> -165044.8 | H30: =+H31+H32+H33 -> -260834.7
F31: -Էներգետիկ ծառայություններ | G31: -26237.8 | H31: -53028.1
F32: -Կոմունալ ծառայություններ | G32: -2738.4 | H32: -4496
F33: -Կապի ծառայություններ | G33: -136068.6 | H33: -203310.6
F34: Պայմանագրային այլ ծառայությունների ձեռքբերում | G34: =+G35+G36 -> -12844 | H34: =+H35+H36 -> -24044
F35: -Վարչական ծառայություններ | G35: -11944 | H35: -22544
F36: -Կառավարչական ծառայություններ | G36: -900 | H36: -1500
F37: Այլ մասնագիտական ծառայությունների ձեռքբերում | G37: =+G38 -> -324.5 | H37: =+H38 -> -540.9
F38: -Մասնագիտական ծառայություններ | G38: -324.5 | H38: -540.9
F39: ՍՈՑԻԱԼԱԿԱՆ ՆՊԱՍՏՆԵՐ ԵՎ ԿԵՆՍԱԹՈՇԱԿՆԵՐ | G39: =+G40 -> -2973 | H39: =+H40 -> -4773
F40: Սոցիալական օգնության դրամական արտահայտությամբ նպաստներ (բյուջեից) | G40: =+G41 -> -2973 | H40: =+H41 -> -4773
F41: -Այլ նպաստներ բյուջեից | G41: -2973 | H41: -4773
...

Sheet Հավելված 5(9)
C1: Հավելված N 5 ՀՀ կառավարության 2023 թվականի __________-ի ____-ի N _____-Ն որոշման
A2: ՀԱՅԱՍՏԱՆԻ ՀԱՆՐԱՊԵՏՈՒԹՅԱՆ ԿԱՌԱՎԱՐՈՒԹՅԱՆ 2022 ԹՎԱԿԱՆԻ ԴԵԿՏԵՄԲԵՐԻ 29-Ի N2111-Ն ՈՐՈՇՄԱՆ N9 ՀԱՎԵԼՎԱԾԻ N9.5 ԱՂՅՈՒՍԱԿՈՒՄ ԿԱՏԱՐՎՈՂ ՓՈՓՈԽՈՒԹՅՈՒՆՆԵՐԸ ԵՎ ԼՐԱՑՈՒՄՆԵՐԸ
A5: Բարձրագույն դատական խորհուրդ
A7: ՄԱՍ 2. ՊԵՏԱԿԱՆ ՄԱՐՄՆԻ ԳԾՈՎ ԱՐԴՅՈՒՆՔԱՅԻՆ (ԿԱՏԱՐՈՂԱԿԱՆ) ՑՈՒՑԱՆԻՇՆԵՐԸ
A8: Ծրագրի դասիչը | B8: Ծրագրի անվանումը
A9: 1080 | B9: Դատական իշխանության գործունեության ապահովում և իրականացում
A11: Ծրագրի միջոցառումները
A13: Ծրագրի դասիչը՝ | B13: 1080
A14: Միջոցառման դասիչը՝ | B14: 11007 | C14: Ցուցանիշների փոփոխությունը (ավելացումները նշված են դրական նշանով, իսկ նվազեցումները` փակագծերում)
A15: Միջոցառման անվանումը՝ | B15: Երևան քաղաքի առաջին ատյանի ընդհանուր իրավասության դատարանի բնականոն գործունեության և Երևան քաղաքի առաջին ատյանի ընդհանուր իրավասության դատարանի կողմից դատական պաշտպանության իրավունքի ապահովում | C15: Ինն ամիս | D15: Տարի
A16: Նկարագրությունը՝ | B16: Դատավարական գործունեության իրականացում, դատական ակտերի կազմում և հրապարակում, արխիվային փաստաթղթերի տրամադրում, անվտանգության երաշխիքների ապահովում, դատական ծառայության իրականացում
A17: Միջոցառման տեսակը՝ | B17: Ծառայությունների մատուցում
A18: Միջոցառումն իրականացնողի անվանումը` | B18: Երևան քաղաքի առաջին ատյանի ընդհանուր իրավասության դատարան
A19: Արդյունքի չափորոշիչներ
A20: Ստացված հայցադիմումների, դիմումների և քրեական գործերի քանակը, գործ/հատ | C20: -59499 | D20: -118998
A21: Վարույթ ընդունված գործերի քանակը, գործ/հատ | C21: -50744 | D21: -101488
A22: Ավարտված գործերի քանակը, գործ/հատ | C22: -44446 | D22: -88892
A23: Տարեվերջին անավարտ գործերի քանակը, գործ/հատ | C23: -15053 | D23: -30106
A24: Միջոցառման վրա կատարվող ծախսը (հազար դրամ) | C24: =+'Հավելված 4(3,4)'!G18 -> -763271.7 | D24: =+'Հավելված 4(3,4)'!H18 -> -1605405.5
A26: Ծրագրի դասիչը՝ | B26: 1080
A27: Միջոցառման դասիչը՝ | B27: 11008 | C27: Ցուցանիշների փոփոխությունը (ավելացումները նշված են դրական նշանով, իսկ նվազեցումները` փակագծերում)
A28: Միջոցառման անվանումը՝ | B28: ՀՀ Արագածոտնի մարզի առաջին ատյանի ընդհանուր իրավասության դատարանի բնականոն գործունեության և ՀՀ Արագածոտնի մարզի առաջին ատյանի ընդհանուր իրավասության դատարանի կողմից դատական պաշտպանության իրավունքի ապահովում | C28: Ինն ամիս | D28: Տարի
A29: Նկարագրությունը՝ | B29: Դատավարական գործունեության իրականացում, դատական ակտերի կազմում և հրապարակում, արխիվային փաստաթղթերի տրամադրում, անվտանգության երաշխիքների ապահովում, դատական ծառայության իրականացում
A30: Միջոցառման տեսակը՝ | B30: Ծառայությունների մատուցում
A31: Միջոցառումն իրականացնողի անվանումը` | B31: ՀՀ Արագածոտնի մարզի առաջին ատյանի ընդհանուր իրավասության դատարան
A32: Արդյունքի չափորոշիչներ
A33: êï³óí³Í í»ñ³ùÝÝÇã µáÕáùÝ»ñÇ ù³Ý³ÏÁ, ·áñÍ/Ñ³ï
A34: ì³ñáõÛÃ ÁÝ¹áõÝí³Í í»ñ³ùÝÝÇã µáÕáùÝ»ñÇ ù³Ý³ÏÁ, ·áñÍ/Ñ³ï
A35: ²í³ñïí³Í ·áñÍ»ñÇ ù³Ý³ÏÁ, ·áñÍ/Ñ³ï
A36: î³ñ»í»ñçÇÝ ³Ý³í³ñï ·áñÍ»ñÇ ù³Ý³ÏÁ, ·áñÍ/Ñ³ï
A37: ²í³ñïí³Í ·áñÍ»ñÇ ÃÇíÁ ëï³óí³Í ·áñÍ»ñÇ ÃíáõÙ, ïáÏáë
A38: ´»Ï³Ýí³Í ¹³ï³Ï³Ý ³Ïï»ñÇ ÃÇíÁ Ï³Û³óí³Í ¹³ï³Ï³Ý ³Ïï»ñÇ ÃíáõÙ, ïáÏáë
A39: Միջոցառման վրա կատարվող ծախսը (հազար դրամ) | C39: =+'Հավելված 4(3,4)'!G44 -> 17903.3 | D39: =+'Հավելված 4(3,4)'!H44 -> 26854.9
A42: Ծրագրի դասիչը՝ | B42: 1080
A43: Միջոցառման դասիչը՝ | B43: 11010 | C43: Ցուցանիշների փոփոխությունը (ավելացումները նշված են դրական նշանով, իսկ նվազեցումները` փակագծերում)
A44: Միջոցառման անվանումը՝ | B44: ՀՀ Արմավիրի մարզի առաջին ատյանի ընդհանուր իրավասության դատարանի բնականոն գործունեության և ՀՀ Արմավիրի մարզի ընդհանուր իրավասության դատարանի կողմից դատական պաշտպանության իրավունքի ապահովում | C44: Ինն ամիս | D44: Տարի
A45: Նկարագրությունը՝ | B45: Դատավարական գործունեության իրականացում, դատական ակտերի կազմում և հրապարակում, արխիվային փաստաթղթերի տրամադրում, անվտանգության երաշխիքների ապահովում, դատական ծառայության իրականացում
A46: Միջոցառման տեսակը՝ | B46: Ծառայությունների մատուցում
A47: Միջոցառումն իրականացնողի անվանումը` | B47: ՀՀ Արմավիրի մարզի առաջին ատյանի ընդհանուր իրավասության դատարան
A48: Արդյունքի չափորոշիչներ
...

Sheet Հավելված 6(9.1)
C1: Հավելված N 6 ՀՀ կառավարության 2023 թվականի __________-ի ____-ի N _____-Ն որոշման
A3: ՀԱՅԱՍՏԱՆԻ ՀԱՆՐԱՊԵՏՈՒԹՅԱՆ ԿԱՌԱՎԱՐՈՒԹՅԱՆ 2022 ԹՎԱԿԱՆԻ ԴԵԿՏԵՄԲԵՐԻ 29-Ի N2111-Ն ՈՐՈՇՄԱՆ N9.1 ՀԱՎԵԼՎԱԾԻ N9.1.5 ԱՂՅՈՒՍԱԿՈՒՄ ԿԱՏԱՐՎՈՂ ՓՈՓՈԽՈՒԹՅՈՒՆՆԵՐԸ ԵՎ ԼՐԱՑՈՒՄՆԵՐԸ
A5: ՀՀ դատական դեպարտամենտ
A8: ՄԱՍ 1. ՊԵՏԱԿԱՆ ՄԱՐՄՆԻ ԳԾՈՎ ԱՐԴՅՈՒՆՔԱՅԻՆ (ԿԱՏԱՐՈՂԱԿԱՆ) ՑՈՒՑԱՆԻՇՆԵՐԸ
A9: Ծրագրի դասիչը | B9: Ծրագրի անվանումը
A10: 1080 | B10: Դատական իշխանության գործունեության ապահովում և իրականացում
A12: Ծրագրի միջոցառումները
A14: Ծրագրի դասիչը՝ | B14: 1080
A15: Միջոցառման դասիչը՝ | B15: 11007 | C15: Ցուցանիշների փոփոխությունը (ավելացումները նշված են դրական նշանով, իսկ նվազեցումները` փակագծերում)
A16: Միջոցառման անվանումը՝ | B16: Երևան քաղաքի առաջին ատյանի ընդհանուր իրավասության դատարանի բնականոն գործունեության և Երևան քաղաքի առաջին ատյանի ընդհանուր իրավասության դատարանի կողմից դատական պաշտպանության իրավունքի ապահովում | C16: Ինն ամիս | D16: Տարի
A17: Նկարագրությունը՝ | B17: Դատավարական գործունեության իրականացում, դատական ակտերի կազմում և հրապարակում, արխիվային փաստաթղթերի տրամադրում, անվտանգության երաշխիքների ապահովում, դատական ծառայության իրականացում
A18: Միջոցառման տեսակը՝ | B18: Ծառայությունների մատուցում
A19: Միջոցառումն իրականացնողի անվանումը՝ | B19: Երևան քաղաքի առաջին ատյանի ընդհանուր իրավասության դատարան
A20: Արդյունքի չափորոշիչներ
A21: Ստացված հայցադիմումների, դիմումների և քրեական գործերի քանակը, գործ/հատ | C21: =+'Հավելված 5(9)'!C20 -> -59499 | D21: =+'Հավելված 5(9)'!D20 -> -118998
A22: Վարույթ ընդունված գործերի քանակը, գործ/հատ | C22: =+'Հավելված 5(9)'!C21 -> -50744 | D22: =+'Հավելված 5(9)'!D21 -> -101488
A23: Ավարտված գործերի քանակը, գործ/հատ | C23: =+'Հավելված 5(9)'!C22 -> -44446 | D23: =+'Հավելված 5(9)'!D22 -> -88892
A24: Տարեվերջին անավարտ գործերի քանակը, գործ/հատ | C24: =+'Հավելված 5(9)'!C23 -> -15053 | D24: =+'Հավելված 5(9)'!D23 -> -30106
A25: Միջոցառման վրա կատարվող ծախսը (հազար դրամ) | C25: =+'Հավելված 4(3,4)'!G18 -> -763271.7 | D25: =+'Հավելված 4(3,4)'!H18 -> -1605405.5
A27: Ծրագրի դասիչը՝ | B27: 1080
A28: Միջոցառման դասիչը՝ | B28: 11008 | C28: Ցուցանիշների փոփոխությունը (ավելացումները նշված են դրական նշանով, իսկ նվազեցումները` փակագծերում)
A29: Միջոցառման անվանումը՝ | B29: ՀՀ Արագածոտնի մարզի առաջին ատյանի ընդհանուր իրավասության դատարանի բնականոն գործունեության և ՀՀ Արագածոտնի մարզի առաջին ատյանի ընդհանուր իրավասության դատարանի կողմից դատական պաշտպանության իրավունքի ապահովում | C29: Ինն ամիս | D29: Տարի
A30: Նկարագրությունը՝ | B30: Դատավարական գործունեության իրականացում, դատական ակտերի կազմում և հրապարակում, արխիվային փաստաթղթերի տրամադրում, անվտանգության երաշխիքների ապահովում, դատական ծառայության իրականացում
A31: Միջոցառման տեսակը՝ | B31: Ծառայությունների մատուցում
A32: Միջոցառումն իրականացնողի անվանումը՝ | B32: ՀՀ Արագածոտնի մարզի առաջին ատյանի ընդհանուր իրավասության դատարան
A33: Արդյունքի չափորոշիչներ
A34: êï³óí³Í í»ñ³ùÝÝÇã µáÕáùÝ»ñÇ ù³Ý³ÏÁ, ·áñÍ/Ñ³ï
A35: ì³ñáõÛÃ ÁÝ¹áõÝí³Í í»ñ³ùÝÝÇã µáÕáùÝ»ñÇ ù³Ý³ÏÁ, ·áñÍ/Ñ³ï
A36: ²í³ñïí³Í ·áñÍ»ñÇ ù³Ý³ÏÁ, ·áñÍ/Ñ³ï
A37: î³ñ»í»ñçÇÝ ³Ý³í³ñï ·áñÍ»ñÇ ù³Ý³ÏÁ, ·áñÍ/Ñ³ï
A38: ²í³ñïí³Í ·áñÍ»ñÇ ÃÇíÁ ëï³óí³Í ·áñÍ»ñÇ ÃíáõÙ, ïáÏáë
A39: ´»Ï³Ýí³Í ¹³ï³Ï³Ý ³Ïï»ñÇ ÃÇíÁ Ï³Û³óí³Í ¹³ï³Ï³Ý ³Ïï»ñÇ ÃíáõÙ, ïáÏáë
A40: Միջոցառման վրա կատարվող ծախսը (հազար դրամ) | C40: =+'Հավելված 4(3,4)'!G44 -> 17903.3 | D40: =+'Հավելված 4(3,4)'!H44 -> 26854.9
A42: Ծրագրի դասիչը՝ | B42: 1080
A43: Միջոցառման դասիչը՝ | B43: 11010 | C43: Ցուցանիշների փոփոխությունը (ավելացումները նշված են դրական նշանով, իսկ նվազեցումները` փակագծերում)
A44: Միջոցառման անվանումը՝ | B44: ՀՀ Արմավիրի մարզի առաջին ատյանի ընդհանուր իրավասության դատարանի բնականոն գործունեության և ՀՀ Արմավիրի մարզի ընդհանուր իրավասության դատարանի կողմից դատական պաշտպանության իրավունքի ապահովում | C44: Ինն ամիս | D44: Տարի
A45: Նկարագրությունը՝ | B45: Դատավարական գործունեության իրականացում, դատական ակտերի կազմում և հրապարակում, արխիվային փաստաթղթերի տրամադրում, անվտանգության երաշխիքների ապահովում, դատական ծառայության իրականացում
A46: Միջոցառման տեսակը՝ | B46: Ծառայությունների մատուցում
A47: Միջոցառումն իրականացնողի անվանումը՝ | B47: ՀՀ Արմավիրի մարզի առաջին ատյանի ընդհանուր իրավասության դատարան
A48: Արդյունքի չափորոշիչներ
...

Sheet Հավելված 7(10)
F1: Հավելված N 7 ՀՀ կառավարության 2023 թվականի __________-ի ____-ի N _____-Ն որոշման
A3: ՀԱՅԱՍՏԱՆԻ ՀԱՆՐԱՊԵՏՈՒԹՅԱՆ ԿԱՌԱՎԱՐՈՒԹՅԱՆ 2022 ԹՎԱԿԱՆԻ ԴԵԿՏԵՄԲԵՐԻ 29-Ի N2111-Ն ՈՐՈՇՄԱՆ N10 ՀԱՎԵԼՎԱԾՈՒՄ ԿԱՏԱՐՎՈՂ ՓՈՓՈԽՈՒԹՅՈՒՆՆԵՐԸ ԵՎ ԼՐԱՑՈՒՄՆԵՐԸ
A5: Կոդը | B5: Անվանումը | D5: Գնման ձևը | E5: Չափման միավորը | F5: Միավորի գինը | G5: Ցուցանիշների փոփոխությունը (ավելացումները նշված են դրական նշանով, իսկ նվազեցումները` փակագծերում)
G6: Քանակը | H6: Գումարը (հազար դրամով)
A7: ՀՀ Դատական դեպարտամենտ | H7: =H8 -> -14021.004
A8: Բաժին N 03 | B8: Խումբ N 03 | C8: Դաս N 01 | H8: =+H9+H17+H20+H28 -> -14021.004
A9: 1080 11007 | B9: Երևան քաղաքի առաջին ատյանի ընդհանուր իրավասության դատարանի բնականոն գործունեության և Երևան քաղաքի ընդհանուր իրավասության դատարանի կողմից դատական պաշտպանության իրավունքի ապահովում | H9: =+H10 -> -261375.8
B10: ՄԱՍ III. ԾԱՌԱՅՈՒԹՅՈՒՆՆԵՐ | H10: =SUM(H11:H16) -> -261375.8
A11: 64211100-1 | B11: հանրային հեռախոսային ծառայություններ | D11: ՄԱ | E11: դրամ | H11: -5985.47
A12: 65111100-1 | B12: խմելու ջրի բաշխում | D12: ՄԱ | E12: դրամ | H12: -4496.04
A13: 65211100-1 | B13: գազի բաշխում | D13: ՄԱ | E13: դրամ | H13: -6615.794
A14: 65311100-1 | B14: էլեկտրականության բաշխում | D14: ՄԱ | E14: դրամ | H14: -46412.379
A15: 76131100-1 | B15: գազասպառման համակարգի տեխնիկական սպասարկման ծառայություններ | D15: ՄԱ | E15: դրամ | F15: 540899 | G15: -1 | H15: -540.899
A16: 79571100-1 | B16: փոստային առաքման ծառայություններ | D16: ՄԱ | E16: դրամ | H16: -197325.21
A17: 1080 11022 | B17: Երևան քաղաքի առաջին ատյանի ընդհանուր իրավասության քաղաքացիական դատարանի բնականոն գործունեության և Երևան քաղաքի առաջին ատյանի ընդհանուր իրավասության քաղաքացիական դատարանի կողմից դատական պաշտպանության իրավունքի ապահովում | H17: =+H18 -> 58890.1
B18: ՄԱՍ III. ԾԱՌԱՅՈՒԹՅՈՒՆՆԵՐ | H18: =SUM(H19) -> 58890.1
A19: 79571100-1 | B19: փոստային առաքման ծառայություններ | D19: ՄԱ | E19: դրամ | F19: 58890100 | G19: 1 | H19: 58890.1
A20: 1080 11023 | B20: Երևան քաղաքի առաջին ատյանի ընդհանուր իրավասության քրեական դատարանի բնականոն գործունեության և Երևան քաղաքի առաջին ատյանի ընդհանուր իրավասության քրեական դատարանի կողմից դատական պաշտպանության իրավունքի ապահովում | H20: =+H21 -> 202485.7
B21: ՄԱՍ III. ԾԱՌԱՅՈՒԹՅՈՒՆՆԵՐ | H21: =SUM(H22:H27) -> 202485.7
A22: 64211100-1 | B22: հանրային հեռախոսային ծառայություններ | D22: ՄԱ | E22: դրամ | F22: =+H22*1000 -> 5985470 | G22: 1 | H22: 5985.47
A23: 65111100-1 | B23: խմելու ջրի բաշխում | D23: ՄԱ | E23: դրամ | F23: =+H23*1000 -> 4496040 | G23: 1 | H23: 4496.04
A24: 65211100-1 | B24: գազի բաշխում | D24: ՄԱ | E24: դրամ | F24: =+H24*1000 -> 6615794 | G24: 1 | H24: 6615.794
A25: 65311100-1 | B25: էլեկտրականության բաշխում | D25: ՄԱ | E25: դրամ | F25: =+H25*1000 -> 46412379 | G25: 1 | H25: 46412.379
A26: 76131100-1 | B26: գազասպառման համակարգի տեխնիկական սպասարկման ծառայություններ | D26: ՄԱ | E26: դրամ | F26: =+H26*1000 -> 540899 | G26: 1 | H26: 540.899
A27: 79571100-1 | B27: փոստային առաքման ծառայություններ | D27: ՄԱ | E27: դրամ | F27: 138435115 | G27: 1 | H27: 138435.11
A28: 1080 31001 | B28: Բարձրագույն դատական խորհրդի տեխնիկական հագեցվածության բարելավում | H28: =+H29 -> -14021.004
B29: ՄԱՍ I. ԱՊՐԱՆՔՆԵՐ | H29: =SUM(H30:H36) -> -14021.004
A30: 39121520/1 | B30: գրապահարաններ | D30: ԷԱՃ | E30: հատ | H30: -1999.224
A31: 32324900/1 | B31: հեռուստացույցներ | D31: ՄԱ | E31: հատ | H31: -2
A32: 39132100/1 | B32: փաստաթղթերի պահման պահարաններ | D32: ԷԱՃ | E32: հատ | H32: -2160
A33: 39141260/1 | B33: զգեստապահարաններ | D33: ԷԱՃ | E33: հատ | H33: -2085
A34: 39121100/2 | B34: գրասեղաններ | D34: ԷԱՃ | E34: հատ | H34: -1028.3184
A35: 44421300/1 | B35: չհրկիզվող պահարաններ | D35: ԷԱՃ | E35: հատ | H35: -6086.4612
A36: 39121100/1 | B36: գրասեղաններ | D36: ԷԱՃ | E36: հատ | H36: -660
A37: ՀՀ քաղաքաշինության կոմիտե | H37: =+H41 -> -338308.4
A38: Բաժին N 03 Խումբ N 07 Դաս N 01 Նախաքննություն
A39: 1228 31001 | B39: Հակակոռուպցիոն կոմիտեի շենքային պայմանների ապահովում
B40: ՄԱՍ II. ԱՇԽԱՏԱՆՔՆԵՐ
A41: 45221142-1 | B41: ընդհանուր շինարարական աշխատանքներ | D41: ԲՄ | E41: դրամ | H41: -338308.4
