Workbook
Name AgencyCode: #REF!
Name AgencyCode: #REF!
Name AgencyCode: #REF!
Name AgencyCode: #REF!
Name AgencyName: #REF!
Name AgencyName: #REF!
Name AgencyName: #REF!
Name davit: #REF!
Name davit: #REF!
Name Functional1: #REF!
Name Functional1: #REF!
Name Functional1: #REF!
Name ggg: #REF!
Name ggg: #REF!
Name PANature: #REF!
Name PANature: #REF!
Name PANature: #REF!
Name PAType: #REF!
Name PAType: #REF!
Name PAType: #REF!
Name Performance2: #REF!
Name Performance2: #REF!
Name Performance2: #REF!
Name PerformanceType: #REF!
Name PerformanceType: #REF!
Name PerformanceType: #REF!
Name Հավելված: #REF!
Name Հավելված: #REF!
Name Մաս: #REF!
Name Մաս: #REF!
Name շախմատիստ: #REF!
Name շախմատիստ: #REF!

Sheet Havelvats N1
D1: Հավելված N 1
D2: ՀՀ կառավարության 2023 թվականի
D3: ______________ ի ___Ն որոշման
A5: «ՀԱՅԱUՏԱՆԻ ՀԱՆՐԱՊԵՏՈՒԹՅԱՆ 2023 ԹՎԱԿԱՆԻ ՊԵՏԱԿԱՆ ԲՅՈՒՋԵԻ ՄԱUԻՆ» ՀԱՅԱUՏԱՆԻ ՀԱՆՐԱՊԵՏՈՒԹՅԱՆ OՐԵՆՔԻ N 1 ՀԱՎԵԼՎԱԾԻ N 2 ԱՂՅՈՒՍԱԿՈՒՄ ԿԱՏԱՐՎՈՂ ՎԵՐԱԲԱՇԽՈՒՄԸ ԵՎ ՀԱՅԱՍՏԱՆԻ ՀԱՆՐԱՊԵՏՈՒԹՅԱՆ ԿԱՌԱՎԱՐՈՒԹՅԱՆ 2022 ԹՎԱԿԱՆԻ ԴԵԿՏԵՄԲԵՐԻ 29-Ի N 2111-Ն ՈՐՈՇՄԱՆ N 5 ՀԱՎԵԼՎԱԾԻ N 1 ԱՂՅՈՒՍԱԿՈՒՄ ԿԱՏԱՐՎՈՂ ՓՈՓՈԽՈՒԹՅՈՒՆՆԵՐԸ
D6: հազ. դրամներով
A7: Ծրագրային դասիչը | C7: Բյուջետային հատկացումների գլխավոր կարգադրիչների, ծրագրերի և միջոցառումների անվանումները | D7: Ցուցանիշների փոփոխությունը (ավելացումները նշված են դրական նշանով, իսկ նվազեցումները՝ փակագծերում)
A8: Ծրագիր | B8: Միջոցառում | D8: Ինն ամիս | E8: Տարի
C9: ԸՆԴԱՄԵՆԸ | D9: =+D11+D31 -> 0 | E9: =+E11+E31 -> 0
C10: այդ թվում
C11: ՀՀ ԿՐԹՈՒԹՅԱՆ, ԳԻՏՈՒԹՅԱՆ, ՄՇԱԿՈՒՅԹԻ ԵՎ ՍՊՈՐՏԻ ՆԱԽԱՐԱՐՈՒԹՅՈՒՆ | D11: =D12 -> 0 | E11: =E12 -> -3601800
A12: 1146 | C12: Ծրագրի անվանումը` | D12: =D19+D25 -> 0 | E12: =E19+E25 -> -3601800
C13: Հանրակրթության ծրագիր
C14: Ծրագրի նպատակը`
C15: Ապահովել անվճար և որակյալ հանրակրթություն
C16: Վերջնական արդյունքի նկարագրությունը`
C17: Մտավոր, հոգևոր, ֆիզիկական և սոցիալական ունակությունների համակողմանի ու ներդաշնակ զարգացմամբ, հայրենասիրության, պետականության և մարդասիրության ոգով դաստիրակված, պատշաճ վարքով և վարվելակերպով անձի ձևավորում
C18: Ծրագրի միջոցառումներ
B19: 12015 | C19: Միջոցառման անվանումը` | D19: 0 | E19: -2405160
C20: ՀՀ պետական հանրակրթական բոլոր ուսումնական հաստատություններում ԲՏՃՄ ոլորտի (բացառությամբ մաթեմատիկայի) դասավանդող ուսուցիչների համար վարձատրության բարձրացված հստակ չափաքանակի սահմանում
C21: Միջոցառման նկարագրությունը`
C22: ՀՀ պետական հանրակրթական բոլոր ուսումնական հաստատություններում ԲՏՃՄ ոլորտի (բացառությամբ մաթեմատիկայի) դասավանդող ուսուցիչներին հավելավճարի տրամադրում
C23: Միջոցառման տեսակը
C24: Տրանսֆերտների տրամադրում
B25: 12016 | C25: Միջոցառման անվանումը` | D25: 0 | E25: -1196640
C26: ՀՀ գյուղական բնակավայրերում մինչև 100 աշակերտ ունեցող պետական ուսումնական հաստատություններում դասավանդող ուսուցիչներին հավելավճարի սահմանում
C27: Միջոցառման նկարագրությունը`
C28: ՀՀ գյուղական բնակավայրերում մինչև 100 աշակերտ ունեցող պետական ուսումնական հաստատություններում դասավանդող ուսուցիչներին հավելավճարի տրամադրում
C29: Միջոցառման տեսակը
C30: Տրանսֆերտների տրամադրում
C31: ՀՀ ԿԱՌԱՎԱՐՈՒԹՅՈՒՆ | D31: =D32 -> 0 | E31: =E32 -> 3601800
A32: 1139 | C32: Ծրագրի անվանումը` | D32: =D38 -> 0 | E32: =E38 -> 3601800
C33: ՀՀ կառավարության պահուստային ֆոնդ
C34: Ծրագրի նպատակը`
C35: Պետական բյուջեում չկանխատեսված, ինչպես նաև բյուջետային երաշխիքների ապահովման ծախսերի ֆինանսավորման ապահովում
C36: Վերջնական արդյունքի նկարագրությունը`
C37: Պահուստային ֆոնդի կառավարման արդյունավետության և թափանցիկության ապահովում
B38: 11001 | C38: Միջոցառման անվանումը` | D38: 0 | E38: =-E11 -> 3601800
C39: ՀՀ կառավարության պահուստային ֆոնդ
C40: Միջոցառման նկարագրությունը`
C41: ՀՀ պետական բյուջեում նախատեսված ելքերի լրացուցիչ ֆինանսավորման, պետական բյուջեում չկանխատեսված ելքերի, ինչպես նաև բյուջետային երաշխիքների ապահովման ելքերի ֆինանսավորման ապահովում
...

Sheet Havelvats N2 
F1: Հավելված N 2
F2: ՀՀ կառավարության 2023 թվականի
F3: ______________ ի ___Ն որոշման
A5: ՀԱՅԱՍՏԱՆԻ ՀԱՆՐԱՊԵՏՈՒԹՅԱՆ ԿԱՌԱՎԱՐՈՒԹՅԱՆ 2022 ԹՎԱԿԱՆԻ ԴԵԿՏԵՄԲԵՐԻ 29-Ի N 2111-Ն ՈՐՈՇՄԱՆ N 3 ԵՎ N 4 ՀԱՎԵԼՎԱԾՆԵՐՈՒՄ ԿԱՏԱՐՎՈՂ ՓՈՓՈԽՈՒԹՅՈՒՆՆԵՐԸ
G8: հազ. դրամներով
A9: Գործառական դասիչը | D9: Ծրագրային դասիչը | F9: Բյուջետային հատկացումների գլխավոր կարգադրիչների, ծրագրերի, միջոցառումների և միջոցառումները կատարող պետական մարմինների անվանումները | G9: Ցուցանիշների փոփոխությունը (ավելացումները նշված են դրական նշանով, իսկ նվազեցումները՝ փակագծերում)
A10: Բաժին | B10: Խումբ | C10: Դաս | D10: Ծրագիր | E10: Միջոցառում | G10: Ինն ամիս | H10: Տարի
F11: ԸՆԴԱՄԵՆԸ | G11: =G13+G40 -> 0 | H11: =H13+H40 -> 0
F12: այդ թվում
F13: ՀՀ ԿՐԹՈՒԹՅԱՆ, ԳԻՏՈՒԹՅԱՆ, ՄՇԱԿՈՒՅԹԻ ԵՎ ՍՊՈՐՏԻ ՆԱԽԱՐԱՐՈՒԹՅՈՒՆ | G13: =+G14 -> 0 | H13: =+H14 -> -3601800
A14: 09 | F14: ԿՐԹՈՒԹՅՈՒՆ | G14: =+G16 -> 0 | H14: =+H16 -> -3601800
F15: այդ թվում`
B16: 02 | F16: Միջնակարգ ընդհանուր կրթություն | G16: =+G18 -> 0 | H16: =+H18 -> -3601800
F17: այդ թվում`
C18: 01 | F18: Հիմնական ընդհանուր կրթություն | G18: =+G20 -> 0 | H18: =+H20 -> -3601800
F19: այդ թվում`
D20: 1146 | F20: Հանրակրթության ծրագիր | G20: =G22+G31 -> 0 | H20: =H22+H31 -> -3601800
F21: այդ թվում`
E22: 12015 | F22: ՀՀ պետական հանրակրթական բոլոր ուսումնական հաստատություններում ԲՏՃՄ ոլորտի (բացառությամբ մաթեմատիկայի) դասավանդող ուսուցիչների համար վարձատրության բարձրացված հստակ չափաքանակի սահմանում | G22: =G24 -> 0 | H22: =H24 -> -2405160
F23: այդ թվում` ըստ կատարողների
F24: ՀՀ կրթության, գիտության, մշակույթի և սպորտի նախարարություն | G24: =G26 -> 0 | H24: =H26 -> -2405160
F25: այդ թվում` բյուջետային ծախսերի տնտեսագիտական դասակարգման հոդվածներ
F26: ԸՆԴԱՄԵՆԸ ԾԱԽՍԵՐ | G26: =+G27 -> 0 | H26: =+H27 -> -2405160
F27: ԸՆԹԱՑԻԿ ԾԱԽՍԵՐ | G27: =+G28 -> 0 | H27: =+H28 -> -2405160
F28: ՍՈՑԻԱԼԱԿԱՆ ՆՊԱՍՏՆԵՐ ԵՎ ԿԵՆՍԱԹՈՇԱԿՆԵՐ | G28: =+G29 -> 0 | H28: =+H29 -> -2405160
F29: Սոցիալական օգնության դրամական արտահայտությամբ նպաստներ (բյուջեից) | G29: =G30 -> 0 | H29: =H30 -> -2405160
F30: - Այլ նպաստներ բյուջեից | H30: ='Havelvats N1'!E19 -> -2405160
E31: 12016 | F31: ՀՀ գյուղական բնակավայրերում մինչև 100 աշակերտ ունեցող պետական ուսումնական հաստատություններում դասավանդող ուսուցիչներին հավելավճարի սահմանում | G31: =G33 -> 0 | H31: =H33 -> -1196640
F32: այդ թվում` ըստ կատարողների
F33: ՀՀ կրթության, գիտության, մշակույթի և սպորտի նախարարություն | G33: =G35 -> 0 | H33: =H35 -> -1196640
F34: այդ թվում` բյուջետային ծախսերի տնտեսագիտական դասակարգման հոդվածներ
F35: ԸՆԴԱՄԵՆԸ ԾԱԽՍԵՐ | G35: =+G36 -> 0 | H35: =+H36 -> -1196640
F36: ԸՆԹԱՑԻԿ ԾԱԽՍԵՐ | G36: =+G37 -> 0 | H36: =+H37 -> -1196640
F37: ՍՈՑԻԱԼԱԿԱՆ ՆՊԱՍՏՆԵՐ ԵՎ ԿԵՆՍԱԹՈՇԱԿՆԵՐ | G37: =+G38 -> 0 | H37: =+H38 -> -1196640
F38: Սոցիալական օգնության դրամական արտահայտությամբ նպաստներ (բյուջեից) | G38: =G39 -> 0 | H38: =H39 -> -1196640
F39: - Այլ նպաստներ բյուջեից | H39: ='Havelvats N1'!E25 -> -1196640
F40: ՀՀ ԿԱՌԱՎԱՐՈՒԹՅՈՒՆ | G40: =+G41 -> 0 | H40: =+H41 -> 3601800
A41: 11 | F41: ՀԻՄՆԱԿԱՆ ԲԱԺԻՆՆԵՐԻՆ ՉԴԱՍՎՈՂ ՊԱՀՈՒՍՏԱՅԻՆ ՖՈՆԴԵՐ | G41: =+G43 -> 0 | H41: =+H43 -> 3601800
F42: այդ թվում`
B43: 01 | F43: ՀՀ կառավարության և համայնքների պահուստային ֆոնդ | G43: =+G45 -> 0 | H43: =+H45 -> 3601800
...

Sheet Havelvats 3
D1: Հավելված 3
D2: ՀՀ կառավարության 2023 թվականի
D3: ______________ ի ___Ն որոշման
A6: ՀԱՅԱՍՏԱՆԻ ՀԱՆՐԱՊԵՏՈՒԹՅԱՆ ԿԱՌԱՎԱՐՈՒԹՅԱՆ 2022 ԹՎԱԿԱՆԻ ԴԵԿՏԵՄԲԵՐԻ 29-Ի N 2111-Ն ՈՐՈՇՄԱՆ N 5 ՀԱՎԵԼՎԱԾԻ N 7 ԱՂՅՈՒՍԱԿՈՒՄ ԿԱՏԱՐՎՈՂ ՓՈՓՈԽՈՒԹՅՈՒՆԸ ԵՎ ԼՐԱՑՈՒՄՆԵՐԸ
E7: հազար դրամ
A8: Ծրագրային դասիչը | D8: Միջոցառումները կատարող պետական մարմինների և դրամաշնորհ ստացող տնտեսվարող սուբյեկտների անվանումները | E8: Ցուցանիշների փոփոխությունը (ավելացումները նշված դրական նշանով)
A9: Ծրագիր | B9: Միջոցառում | E9: Տարի
A10: ՀՀ կրթության, գիտության, մշակույթի և սպորտի նախարարություն | E10: =E11 -> 210542.9
A11: 1168 | B11: Արվեստների ծրագիր | E11: =E12 -> 210542.9
B12: 11013 | C12: Հայ կինոյի հիմնադրման 100-ամյա հոբելյանական միջոցառումների իրականացում | D12: ՀՀ կրթության, գիտության, մշակույթի և սպորտի նախարարություն | E12: =SUM(E14:E29) -> 210542.9
C13: այդ թվում՝ ըստ ուղղությունների և միջոցառումների անվանումների
C14: «Հայկական կինո» 1924-2022 լրամշակված երկլեզու կատալոգի հրատարակում | D14: «Կինոգետների և կինոլրագրողների հայկական ասոցիացիա» ՀԿ | E14: 15626.4
C15: «Հայկական կինո՝ նյութեր և փաստաթղթեր 1909-1936 թթ» գրքի հրատարակում | D15: «Ֆիլմադարան» կինոմշակույթի զարգացման» ՀԿ | E15: =5872.8+9000 -> 14872.8
C16: «Աշխարհի ողջ հիշողությունը» ցուցադրություն | D16: «Հայաստանի ազգային կինոկենտրոն» ՊՈԱԿ | E16: 21659.6
C17: Կաննի միջազգային կինոփառատոնին և կինոշուկային մասնակցություն | D17: «Հայաստանի ազգային կինոկենտրոն» ՊՈԱԿ | E17: 16049.5
C18: «Հայկական Կինոդար» ֆիլմերի ծրագիր | D18: «Հայաստանի ազգային կինոկենտրոն» ՊՈԱԿ | E18: 31700
C19: Հանդիսավոր երեկո | D19: «Հայաստանի ազգային կինոկենտրոն» ՊՈԱԿ | E19: 57520.8
C20: «Մարդը բարձրագույն արժեք է» կինոաշխատարաններ | D20: «Արվեստի բաց հարթակ» ՀԿ | E20: 9249.6
C21: Մուլտիպլիկացիոն և անիմացիոն կինոյի շաբաթ | D21: «Հայաստանի կինոգործիչների միություն» ՀԿ | E21: 3696
C22: Հայկական ֆիլմերից GIF ձևաչափով տեսողական հատվածների ցուցահանդես | D22: Կինոյի զարգացման «Ոսկե ծիրան» ՀԿ | E22: 2880
C23: «Սամուել Խաչիկիան 100» ֆիլմերի հետահայաց ցուցադրություն | D23: Կինոյի զարգացման «Ոսկե ծիրան» ՀԿ | E23: 3600
C24: «Արտավազդ Փելեշյան 85» հոբելյանական երեկո | D24: «Հայաստանի ազգային կինոկենտրոն» ՊՈԱԿ | E24: 6068.4
C25: Դանիել Դզնունու հոբելյանական աստղի տեղադրում | D25: «Կինոգետների և կինոլրագրողների հայկական ասոցիացիա» ՀԿ | E25: 674.4
C26: «Եվ լողում է նավը» հեռուստահաղորդում | D26: «Բուն» գիտամշակութային հիմնադրամ | E26: 15840
C27: «Ժամանակակից երիտասարդական ֆիլմերի դրամատուրգիական հիմքը» գրքի հրատարակում | D27: «Երևանի թատրոնի և կինոյի պետական ինստիտուտ» ՊՈԱԿ | E27: 348
... C29: Կինոդպրոց Դեբետ համայնքում | D29: «Ֆիլմադարան» կինոմշակույթի զարգացման ՀԿ | E29: 5616
B30: 32005 | C30: Հայ կինոյի 100-ամյակը խորհրդանշող «Աստղային պուրակի» կառուցում | D30: ՀՀ կրթության, գիտության, մշակույթի և սպորտի նախարարություն | E30: =SUM(E32:E47) -> 30000
C31: այդ թվում՝ ըստ ուղղությունների և միջոցառումների անվանումների
C32: Հայ կինոյի 100-ամյակը խորհրդանշող «Աստղային պուրակի» կառուցում | D32: «Հայաստանի կինոգործիչների միություն» ՀԿ | E32: 30000

Sheet Havelvats N3
A1: Հավելված N 3
A2: ՀՀ կառավարության 2023 թվականի
A3: ______________ ի ___Ն որոշման
B5: ՀԱՅԱՍՏԱՆԻ ՀԱՆՐԱՊԵՏՈՒԹՅԱՆ ԿԱՌԱՎԱՐՈՒԹՅԱՆ 2022 ԹՎԱԿԱՆԻ ԴԵԿՏԵՄԲԵՐԻ 29-Ի N 2111-Ն ՈՐՈՇՄԱՆ N 9 ՀԱՎԵԼՎԱԾԻ N 9.13 ԵՎ 9․47 ԱՂՅՈՒՍԱԿՆԵՐՈՒՄ ԿԱՏԱՐՎՈՂ ՓՈՓՈԽՈՒԹՅՈՒՆՆԵՐԸ
A7: Աղյուսակ 9․13
C8: ՀՀ կրթության, գիտության, մշակույթի և սպորտի նախարարություն
B9: ՄԱՍ 2. ՊԵՏԱԿԱՆ ՄԱՐՄՆԻ ԳԾՈՎ ԱՐԴՅՈՒՆՔԱՅԻՆ (ԿԱՏԱՐՈՂԱԿԱՆ) ՑՈՒՑԱՆԻՇՆԵՐԸ
B12: Ծրագրի դասիչը | C12: Ծրագրի անվանումը
B13: 1146 | C13: Հանրակրթության ծրագիր
B15: Ծրագրի միջոցառումները
B16: Ծրագրի դասիչը՝ | C16: 1146 | D16: Ցուցանիշների փոփոխությունը (նվազեցումները նշված են փակագծերում)
B17: Միջոցառման դասիչը՝ | C17: 12015 | D17: Ինն ամիս | E17: Տարի
B18: Միջոցառման անվանումը՝ | C18: ՀՀ պետական հանրակրթական բոլոր ուսումնական հաստատություններում ԲՏՃՄ ոլորտի (բացառությամբ մաթեմատիկայի) դասավանդող ուսուցիչների համար վարձատրության բարձրացված հստակ չափաքանակի սահմանում
B19: Նկարագրությունը՝ | C19: ՀՀ պետական հանրակրթական բոլոր ուսումնական հաստատություններում ԲՏՃՄ ոլորտի (բացառությամբ մաթեմատիկայի) դասավանդող ուսուցիչներին հավելավճարի տրամադրում
B20: Միջոցառման տեսակը՝ | C20: Տրանսֆերտների տրամադրում
B21: Շահառուների ընտրության չափորոշիչները՛ | C21: ԲՏՃՄ ոլորտի (բացառությամբ մաթեմատիկայի) դասավանդող ուսուցիչներ
B22: Արդյունքի չափորոշիչներ
B23: ՀՀ բոլոր ուսումնական հաստատություններում ԲՏՃՄ առարկաներ դասավանդող ուսուցիչների թիվը | E23: -3773
B24: Միջոցառման վրա կատարվող ծախսը (հազար դրամ) | E24: =+'Havelvats N1'!E19 -> -2405160
B26: Ծրագրի միջոցառումները
B27: Ծրագրի դասիչը՝ | C27: 1146 | D27: Ցուցանիշների փոփոխությունը (նվազեցումները նշված են փակագծերում)
B28: Միջոցառման դասիչը՝ | C28: 12016 | D28: Ինն ամիս | E28: Տարի
B29: Միջոցառման անվանումը՝ | C29: ՀՀ գյուղական բնակավայրերում մինչև 100 աշակերտ ունեցող պետական ուսումնական հաստատություններում դասավանդող ուսուցիչներին հավելավճարի սահմանում
B30: Նկարագրությունը՝ | C30: ՀՀ գյուղական բնակավայրերում մինչև 100 աշակերտ ունեցող պետական ուսումնական հաստատություններում դասավանդող ուսուցիչներին հավելավճարի տրամադրում
B31: Միջոցառման տեսակը՝ | C31: Տրանսֆերտների տրամադրում
B32: Շահառուների ընտրության չափորոշիչները՛ | C32: ՀՀ գյուղական բնակավայրերում մինչև 100 աշակերտ ունեցող պետական ուսումնական հաստատություններում դասավանդող ուսուցիչներ
B33: Արդյունքի չափորոշիչներ
B34: Մինչև 100 աշակերտ ունեցող դպրոցներում ուսուցիչների թիվը | E34: -1136
B35: Միջոցառման վրա կատարվող ծախսը (հազար դրամ) | E35: ='Havelvats N1'!E25 -> -1196640
E37: Աղյուսակ 9․47
C38: ՀՀ կառավարություն
B39: ՄԱՍ 2. ՊԵՏԱԿԱՆ ՄԱՐՄՆԻ ԳԾՈՎ ԱՐԴՅՈՒՆՔԱՅԻՆ (ԿԱՏԱՐՈՂԱԿԱՆ) ՑՈՒՑԱՆԻՇՆԵՐԸ
B42: Ծրագրի դասիչը | C42: Ծրագրի անվանումը
B43: 1139 | C43: ՀՀ կառավարության պահուստային ֆոնդ
B45: Ծրագրի միջոցառումները
B46: Ծրագրի դասիչը՝ | C46: 1139 | D46: Ցուցանիշների փոփոխությունը (ավելացումները նշված են դրական նշանով)
B47: Միջոցառման դասիչը՝ | C47: 11001 | D47: Ինն ամիս | E47: Տարի
B48: Միջոցառման անվանումը՝ | C48: ՀՀ կառավարության պահուստային ֆոնդ
B49: Նկարագրությունը՝ | C49: ՀՀ պետական բյուջեում նախատեսված ելքերի լրացուցիչ ֆինանսավորման՝ պետական բյուջեում չկանխատեսված ելքերի, ինչպես նաև բյուջետային երաշխիքների ապահովման ելքերի ֆինանսավորման ապահովում
B50: Միջոցառման տեսակը՝ | C50: Ծառայությունների մատուցում
...

Sheet Havelvats N4
E1: Հավելված N 4
C2: ՀՀ կառավարության 2023 թվականի
C3: ______________ ի ___Ն որոշման
B5: ՀԱՅԱՍՏԱՆԻ ՀԱՆՐԱՊԵՏՈՒԹՅԱՆ ԿԱՌԱՎԱՐՈՒԹՅԱՆ 2022 ԹՎԱԿԱՆԻ ԴԵԿՏԵՄԲԵՐԻ 29-Ի N 2111-Ն ՈՐՈՇՄԱՆ N 9․1 ՀԱՎԵԼՎԱԾԻ N 9.1․13 ԵՎ 9․1․58 ԱՂՅՈՒՍԱԿՆԵՐՈՒՄ ԿԱՏԱՐՎՈՂ ՓՈՓՈԽՈՒԹՅՈՒՆՆԵՐԸ
A7: Աղյուսակ 9․1․13
C8: ՀՀ կրթության, գիտության, մշակույթի և սպորտի նախարարություն
B9: ՄԱՍ 1. ՊԵՏԱԿԱՆ ՄԱՐՄՆԻ ԳԾՈՎ ԱՐԴՅՈՒՆՔԱՅԻՆ (ԿԱՏԱՐՈՂԱԿԱՆ) ՑՈՒՑԱՆԻՇՆԵՐԸ
B11: Ծրագրի դասիչը | C11: Ծրագրի անվանումը
B12: 1146 | C12: Հանրակրթության ծրագիր
B14: Ծրագրի միջոցառումները
B15: Ծրագրի դասիչը՝ | C15: 1146 | D15: Ցուցանիշների փոփոխությունը (նվազեցումները նշված են փակագծերում)
B16: Միջոցառման դասիչը՝ | C16: 12015 | D16: Ինն ամիս | E16: Տարի
B17: Միջոցառման անվանումը՝ | C17: ՀՀ պետական հանրակրթական բոլոր ուսումնական հաստատություններում ԲՏՃՄ ոլորտի (բացառությամբ մաթեմատիկայի) դասավանդող ուսուցիչների համար վարձատրության բարձրացված հստակ չափաքանակի սահմանում
B18: Նկարագրությունը՝ | C18: ՀՀ պետական հանրակրթական բոլոր ուսումնական հաստատություններում ԲՏՃՄ ոլորտի (բացառությամբ մաթեմատիկայի) դասավանդող ուսուցիչներին հավելավճարի տրամադրում
B19: Միջոցառման տեսակը՝ | C19: Տրանսֆերտների տրամադրում
B20: Շահառուների ընտրության չափորոշիչները՛ | C20: ԲՏՃՄ ոլորտի (բացառությամբ մաթեմատիկայի) դասավանդող ուսուցիչներ
B21: Արդյունքի չափորոշիչներ
B22: ՀՀ բոլոր ուսումնական հաստատություններում ԲՏՃՄ առարկաներ դասավանդող ուսուցիչների թիվը | E22: -3773
B23: Միջոցառման վրա կատարվող ծախսը (հազար դրամ) | E23: ='Havelvats N1'!E19 -> -2405160
B25: Ծրագրի միջոցառումները
B26: Ծրագրի դասիչը՝ | C26: 1146 | D26: Ցուցանիշների փոփոխությունը (նվազեցումները նշված են փակագծերում)
B27: Միջոցառման դասիչը՝ | C27: 12016 | D27: Ինն ամիս | E27: Տարի
B28: Միջոցառման անվանումը՝ | C28: ՀՀ գյուղական բնակավայրերում մինչև 100 աշակերտ ունեցող պետական ուսումնական հաստատություններում դասավանդող ուսուցիչներին հավելավճարի սահմանում
B29: Նկարագրությունը՝ | C29: ՀՀ գյուղական բնակավայրերում մինչև 100 աշակերտ ունեցող պետական ուսումնական հաստատություններում դասավանդող ուսուցիչներին հավելավճարի տրամադրում
B30: Միջոցառման տեսակը՝ | C30: Տրանսֆերտների տրամադրում
B31: Շահառուների ընտրության չափորոշիչները՛ | C31: ՀՀ գյուղական բնակավայրերում մինչև 100 աշակերտ ունեցող պետական ուսումնական հաստատություններում դասավանդող ուսուցիչներ
B32: Արդյունքի չափորոշիչներ
B33: Մինչև 100 աշակերտ ունեցող դպրոցներում ուսուցիչների թիվը | E33: -1136
B34: Միջոցառման վրա կատարվող ծախսը (հազար դրամ) | E34: ='Havelvats N1'!E25 -> -1196640
A36: Աղյուսակ 9․1․58
C37: ՀՀ կառավարություն
B38: ՄԱՍ 2. ՊԵՏԱԿԱՆ ՄԱՐՄՆԻ ԳԾՈՎ ԱՐԴՅՈՒՆՔԱՅԻՆ (ԿԱՏԱՐՈՂԱԿԱՆ) ՑՈՒՑԱՆԻՇՆԵՐԸ
B40: Ծրագրի դասիչը | C40: Ծրագրի անվանումը
B41: 1139 | C41: ՀՀ կառավարության պահուստային ֆոնդ
B43: Ծրագրի միջոցառումները
B44: Ծրագրի դասիչը՝ | C44: 1139 | D44: Ցուցանիշների փոփոխությունը (ավելացումները նշված են դրական նշանով)
B45: Միջոցառման դասիչը՝ | C45: 11001 | D45: Ինն ամիս | E45: Տարի
B46: Միջոցառման անվանումը՝ | C46: ՀՀ կառավարության պահուստային ֆոնդ
B47: Նկարագրությունը՝ | C47: ՀՀ պետական բյուջեում նախատեսված ելքերի լրացուցիչ ֆինանսավորման՝ պետական բյուջեում չկանխատեսված ելքերի, ինչպես նաև բյուջետային երաշխիքների ապահովման ելքերի ֆինանսավորման ապահովում
B48: Միջոցառման տեսակը՝ | C48: Ծառայությունների մատուցում
...
