Workbook
Name aaa: #REF!
Name AgencyCode: #REF!
Name AgencyCode: #REF!
Name AgencyName: #REF!
Name AgencyName: #REF!
Name alis: #REF!
Name alisa: #REF!
Name als: #REF!
Name davit: #REF!
Name Functional1: #REF!
Name Functional1: #REF!
Name ggg: #REF!
Name ggg: #REF!
Name PANature: #REF!
Name PANature: #REF!
Name PAType: #REF!
Name PAType: #REF!
Name Performance2: #REF!
Name Performance2: #REF!
Name PerformanceType: #REF!
Name PerformanceType: #REF!
Name Հավելված: #REF!
Name Մաս: #REF!
Name շախմատիստ: #REF!
Name շախմատիստ: #REF!

Sheet հավելված 1
D1: Հավելված N 1 ՀՀ կառավարության 2023 թվականի ––-----------–––––––– N –––––– որոշման
A3: «ՀԱՅԱUՏԱՆԻ ՀԱՆՐԱՊԵՏՈՒԹՅԱՆ 2023 ԹՎԱԿԱՆԻ ՊԵՏԱԿԱՆ ԲՅՈՒՋԵԻ ՄԱUԻՆ» OՐԵՆՔԻ N 1 ՀԱՎԵԼՎԱԾԻ N 2 ԱՂՅՈՒՍԱԿՈՒՄ ԿԱՏԱՐՎՈՂ ՎԵՐԱԲԱՇԽՈՒՄԸ, ՓՈՓՈԽՈՒԹՅՈՒՆՆԵՐԸ ԵՎ ՀԱՅԱՍՏԱՆԻ ՀԱՆՐԱՊԵՏՈՒԹՅԱՆ ԿԱՌԱՎԱՐՈՒԹՅԱՆ 2022 ԹՎԱԿԱՆԻ ԴԵԿՏԵՄԲԵՐԻ 29-Ի N 2111-Ն ՈՐՈՇՄԱՆ N 5 ՀԱՎԵԼՎԱԾԻ N 1 ԱՂՅՈՒՍԱԿՈՒՄ ԿԱՏԱՐՎՈՂ ՓՈՓՈԽՈՒԹՅՈՒՆՆԵՐԸ
E5: հազ. դրամ
A6: Ծրագրային դասիչը | C6: Բյուջետային հատկացումների գլխավոր կարգադրիչների, ծրագրերի և միջոցառումների անվանումները | D6: Ցուցանիշների փոփոխությունը (ավելացումները նշված են դրական նշանով, իսկ նվազեցումները` փակագծերում)
A7: Ծրագիր | B7: Միջոցառում | D7: Ինն ամիս | E7: Տարի
B8: ԸՆԴԱՄԵՆԸ | D8: =+D9+D29 -> 0 | E8: =+E9+E29 -> 0
A9: ՀՀ էկոնոմիկայի նախարարություն | D9: =+D10 -> 1806411.6 | E9: =+E10 -> 1806411.6
A10: 1059 | C10: Ծրագրի անվանումը` | D10: =+D17+D23 -> 1806411.6 | E10: =+E17+E23 -> 1806411.6
C11: Բուսաբուծության խթանում և բույսերի պաշտպանություն
C12: Ծրագրի նպատակը`
C13: Հողագործությունից ստացվող արդյունքի բարելավում
C14: Վերջնական արդյունքի նկարագրությունը`
C15: Մշակաբույսերի միջին բերքատվության բարձրացում:ՀՀ գյուղատնտեսական նշանակության ողջ հողատարածքի համար կազմված ագրոքիմիական քարտեզներով ապահովվածություն: Հացահատիկի և հատիկաընդեղենի արտադրության ծավալների ավելացում:
C16: Ծրագրի միջոցառումներ
B17: 12002 | C17: Միջոցառման անվանումը` | D17: 1754335.4 | E17: 1754335.4
C18: Հայաստանի Հանրապետությունում աշնանացան ցորենի արտադրության խթանման նպատակով փոխհատուցման տրամադրում
C19: Միջոցառման նկարագրությունը`
C20: Աշնանացան ցորենի ցանքատարածությունների ընդլայնմանը և ցորենի համախառն բերքի ծավալների ավելացմանը նպաստելու նպատակով կատարված մշակության ծախսերի մասնակի փոխհատուցում
C21: Միջոցառման տեսակը
C22: Տրանսֆերտների տրամադրում
B23: 11009 | C23: Միջոցառման անվանումը` | D23: 52076.2 | E23: 52076.2
C24: Հայաստանի Հանրապետությունում աշնանացան ցորենի ցանքատարածությունների մոնիթորինգի իրականացմանն աջակցություն
C25: Միջոցառման նկարագրությունը`
C26: Համայնքների կողմից աշնանացան ցորենի ցանքատարածությունների մոնիթորինգի իրականացում, արդյունքների ամփոփում և համապատասխան տեղեկատվության ներկայացում
C27: Միջոցառման տեսակը
C28: Ծառայությունների մատուցում
A29: ՀՀ կառավարություն | D29: =+D30 -> -1806411.6 | E29: =+E30 -> -1806411.6
A30: 1139 | C30: Ծրագրի անվանումը` | D30: =+D37 -> -1806411.6 | E30: =+E37 -> -1806411.6
C31: ՀՀ կառավարության պահուստային ֆոնդ
C32: Ծրագրի նպատակը`
C33: Պետական բյուջեում չկանխատեսված՝ ինչպես նաև բյուջետային երաշխիքների ապահովման ծախսերի ֆինանսավորման ապահովում
C34: Վերջնական արդյունքի նկարագրությունը`
C35: Պահուստային ֆոնդի կառավարման արդյունավետություն և թափանցիկություն
C36: Ծրագրի միջոցառումներ
B37: 11001 | C37: Միջոցառման անվանումը` | D37: =+D10*-1 -> -1806411.6 | E37: =+E10*-1 -> -1806411.6
C38: ՀՀ կառավարության պահուստային ֆոնդ
C39: Միջոցառման նկարագրությունը`
C40: ՀՀ պետական բյուջեում նախատեսված ելքերի լրացուցիչ ֆինանսավորման՝ պետական բյուջեում չկանխատեսված ելքերի՝ ինչպես նաև բյուջետային երաշխիքների ապահովման ելքերի ֆինանսավորման ապահովում
C41: Միջոցառման տեսակը
C42: Ծառայությունների մատուցում

Sheet հավելված2
F1: Հավելված N 2 ՀՀ կառավարության 2023 թվականի ––-----------–––––––– N –––––– որոշման
A3: ՀԱՅԱՍՏԱՆԻ ՀԱՆՐԱՊԵՏՈՒԹՅԱՆ ԿԱՌԱՎԱՐՈՒԹՅԱՆ 2022 ԹՎԱԿԱՆԻ ԴԵԿՏԵՄԲԵՐԻ 29-Ի N 2111-Ն ՈՐՈՇՄԱՆ N 3 և N 4 ՀԱՎԵԼՎԱԾՆԵՐՈՒՄ ԿԱՏԱՐՎՈՂ ՓՈՓՈԽՈՒԹՅՈՒՆՆԵՐԸ
H4: հազ. դրամ
A5: Գործառական դասիչը | D5: Ծրագրային դասիչը | F5: Բյուջետային ծախսերի գործառական դասակարգման բաժինների, խմբերի և դասերի, բյուջետային ծրագրերի, միջոցառումների բյուջետային հատկացումնեյի գլխավոր կարկադրիչների անվանումները | G5: Ցուցանիշների փոփոխությունը (ավելացումները նշված են դրական նշանով, իսկ նվազեցումները` փակագծերում)
A6: Բաժին | B6: Խումբ | C6: Դաս | D6: Ծրագիր | E6: Միջոցառում | G6: Ինն ամիս | H6: Տարի
F7: ԸՆԴԱՄԵՆԸ | G7: =+G11+G41 -> 0 | H7: =+H11+H41 -> 0
F8: այդ թվում`
F9: ՀՀ էկոնոմիկայի նախարարություն | G9: =+G11 -> 1806411.6 | H9: =+H11 -> 1806411.6
F10: այդ թվում`
A11: 04 | F11: ՏՆՏԵՍԱԿԱՆ ՀԱՐԱԲԵՐՈՒԹՅՈՒՆՆԵՐ | G11: =G13 -> 1806411.6 | H11: =H13 -> 1806411.6
F12: այդ թվում`
B13: 02 | F13: Գյուղատնտեսություն, անտառային տնտեսություն, ձկնորսություն և որսորդություն | G13: =+G15 -> 1806411.6 | H13: =+H15 -> 1806411.6
F14: այդ թվում`
C15: 01 | F15: Գյուղատնտեսություն | G15: =+G17 -> 1806411.6 | H15: =+H17 -> 1806411.6
F16: այդ թվում`
F17: ՀՀ էկոնոմիկայի նախարարություն | G17: =+G19 -> 1806411.6 | H17: =+H19 -> 1806411.6
F18: այդ թվում`
D19: 1059 | F19: Բուսաբուծության խթանում և բույսերի պաշտպանություն | G19: =+G21+G30 -> 1806411.6 | H19: =+H21+H30 -> 1806411.6
F20: այդ թվում`
E21: 12002 | F21: Հայաստանի Հանրապետությունում աշնանացան ցորենի արտադրության խթանման նպատակով փոխհատուցման տրամադրում | G21: =+G23 -> 1754335.4 | H21: =+H23 -> 1754335.4
F22: այդ թվում` ըստ կատարողների
F23: ՀՀ էկոնոմիկայի նախարարություն | G23: =+G25 -> 1754335.4 | H23: =+H25 -> 1754335.4
F24: այդ թվում` բյուջետային ծախսերի տնտեսագիտական դասակարգման հոդվածներ
F25: ԸՆԴԱՄԵՆԸ ԾԱԽՍԵՐ | G25: =+G26 -> 1754335.4 | H25: =+H26 -> 1754335.4
F26: ԸՆԹԱՑԻԿ ԾԱԽՍԵՐ | G26: =+G27 -> 1754335.4 | H26: =+H27 -> 1754335.4
F27: ՍՈՑԻԱԼԱԿԱՆ ՆՊԱՍՏՆԵՐ ԵՎ ԿԵՆՍԱԹՈՇԱԿՆԵՐ | G27: =+G28 -> 1754335.4 | H27: =+H28 -> 1754335.4
F28: Սոցիալական օգնության դրամական արտահայտությամբ նպաստներ (բյուջեից) | G28: =+G29 -> 1754335.4 | H28: =+H29 -> 1754335.4
F29: - Այլ նպաստներ բյուջեից | G29: =+'հավելված 1'!D17 -> 1754335.4 | H29: =+'հավելված 1'!E17 -> 1754335.4
E30: 11009 | F30: Հայաստանի Հանրապետությունում աշնանացան ցորենի ցանքատարածությունների մոնիթորինգի իրականացմանն աջակցություն | G30: =+G32 -> 52076.2 | H30: =+H32 -> 52076.2
F31: այդ թվում` ըստ կատարողների
F32: ՀՀ էկոնոմիկայի նախարարություն | G32: =+G34 -> 52076.2 | H32: =+H34 -> 52076.2
F33: այդ թվում` բյուջետային ծախսերի տնտեսագիտական դասակարգման հոդվածներ
F34: ԸՆԴԱՄԵՆԸ ԾԱԽՍԵՐ | G34: =+G35 -> 52076.2 | H34: =+H35 -> 52076.2
F35: ԸՆԹԱՑԻԿ ԾԱԽՍԵՐ | G35: =+G36 -> 52076.2 | H35: =+H36 -> 52076.2
F36: ԴՐԱՄԱՇՆՈՐՀՆԵՐ | G36: =+G37 -> 52076.2 | H36: =+H37 -> 52076.2
F37: Ընթացիկ դրամաշնորհներ պետական հատվածի այլ մակարդակներին | G37: =+G38 -> 52076.2 | H37: =+H38 -> 52076.2
F38: - Այլ ընթացիկ դրամաշնորհներ համայնքներին | G38: =+'հավելված 1'!D23 -> 52076.2 | H38: =+'հավելված 1'!E23 -> 52076.2
F39: ՀՀ կառավարություն | G39: =+G41 -> -1806411.6 | H39: =+H41 -> -1806411.6
F40: այդ թվում`
A41: 11 | F41: Հիմնական բաժիններին չդասվող պահուստային ֆոնդեր | G41: =+G43 -> -1806411.6 | H41: =+H43 -> -1806411.6
F42: այդ թվում`
B43: 01 | F43: ՀՀ կառավարության և համայնքների պահուստային ֆոնդ | G43: =+G45 -> -1806411.6 | H43: =+H45 -> -1806411.6
F44: այդ թվում`
C45: 01 | F45: ՀՀ կառավարության պահուստային ֆոնդ | G45: =+G47 -> -1806411.6 | H45: =+H47 -> -1806411.6
F46: այդ թվում`
D47: 1139 | F47: ՀՀ կառավարության պահուստային ֆոնդ | G47: =+G49 -> -1806411.6 | H47: =+H49 -> -1806411.6
F48: այդ թվում`
E49: 11001 | F49: ՀՀ կառավարության պահուստային ֆոնդ | G49: =+G51 -> -1806411.6 | H49: =+H51 -> -1806411.6
F50: այդ թվում` ըստ կատարողների
F51: ՀՀ կառավարություն | G51: =+G53 -> -1806411.6 | H51: =+H53 -> -1806411.6
F52: այդ թվում` բյուջետային ծախսերի տնտեսագիտական դասակարգման հոդվածներ
F53: ԸՆԴԱՄԵՆԸ ԾԱԽՍԵՐ | G53: =+G54 -> -1806411.6 | H53: =+H54 -> -1806411.6
F54: ԸՆԹԱՑԻԿ ԾԱԽՍԵՐ | G54: =G55 -> -1806411.6 | H54: =H55 -> -1806411.6
F55: ԱՅԼ ԾԱԽՍԵՐ | G55: =+G56 -> -1806411.6 | H55: =+H56 -> -1806411.6
F56: Պահուստային միջոցներ | G56: =+G11*-1 -> -1806411.6 | H56: =+H11*-1 -> -1806411.6

Sheet հավելված 3 
G1: Հավելված № 3
F2: ՀՀ կառավարության 2023 թվականի
G3: № ------------ -Ն որոշման
B5: ՀԱՅԱՍՏԱՆԻ ՀԱՆՐԱՊԵՏՈՒԹՅԱՆ ԿԱՌԱՎԱՐՈՒԹՅԱՆ 2022 ԹՎԱԿԱՆԻ ԴԵԿՏԵՄԲԵՐԻ 29-Ի N 2111-Ն ՈՐՈՇՄԱՆ N 5 ՀԱՎԵԼՎԱԾԻ 7 ԱՂՅՈՒՍԱԿՈՒՄ ԿԱՏԱՐՎՈՂ ՓՈՓՈԽՈՒԹՅՈՒՆՆԵՐԸ
H6: հազար դրամներով
B7: Ծրագրային դասիչ | D7: Բյուջետային հատկացումների գլխավոր կարգադրիչների, ծրագրերի, միջոցառումների, ծախսային ուղղությունների անվանումները | G7: Միջոցառումները կատարող պետական մարմինների և դրամաշնորհ ստացող տնտեսվարող սուբյեկտների անվանումները | H7: Տարի
B8: Ծրագիր | C8: Միջոցառում | H8: Ցուցանիշների փոփոխությունը (ավելացումները նշված են դրական նշանով)
B9: 1 | C9: 2 | D9: 3 | G9: 4 | H9: 5
B10: ԸՆԴԱՄԵՆԸ | H10: =+H11 -> 52076.2
B11: ՀՀ էկոնոմիկայի նախարարություն | H11: =+H12 -> 52076.2
B12: 1059 | C12: Բուսաբուծության խթանում և բույսերի պաշտպանություն | H12: =+H13 -> 52076.2
C13: 11009 | D13: Հայաստանի Հանրապետությունում աշնանացան ցորենի ցանքատարածությունների մոնիթորինգի իրականացմանն աջակցություն | E13: Հայաստանի Հանրապետությունում աշնանացան ցորենի ցանքատարածությունների մոնիթորինգի իրականացմանն աջակցություն | F13: Հայաստանի Հանրապետությունում աշնանացան ցորենի ցանքատարածությունների մոնիթորինգի իրականացմանն աջակցություն | G13: ՀՀ էկոնոմիկայի նախարարություն | H13: =+H14 -> 52076.2
G14: ՀՀ կառավարության կողմից հաստատված համապատասխան ծրագրի չափանիշները բավարարող համայնքներ | H14: =+'հավելված 1'!E23 -> 52076.2

Sheet հավելված 4
E1: Հավելված N 4
C2: ՀՀ կառավարության 2023 թվականի
E3: № ------------ -Ն որոշման
B5: ՀԱՅԱՍՏԱՆԻ ՀԱՆՐԱՊԵՏՈՒԹՅԱՆ ԿԱՌԱՎԱՐՈՒԹՅԱՆ 2022 ԹՎԱԿԱՆԻ ԴԵԿՏԵՄԲԵՐԻ 29-Ի N 2111-Ն ՈՐՈՇՄԱՆ N 9 ՀԱՎԵԼՎԱԾԻ 9.10 ԱՂՅՈՒՍԱԿՈՒՄ ԵՎ N 9.1 ՀԱՎԵԼՎԱԾԻ 9.1.10 ԱՂՅՈՒՍԱԿՈՒՄ ԿԱՏԱՐՎՈՂ ՓՈՓՈԽՈՒԹՅՈՒՆՆԵՐԸ
B7: ՀՀ Էկոնոմիկայի նախարարություն
B8: ՄԱՍ 1. 2. ՊԵՏԱԿԱՆ ՄԱՐՄՆԻ ԳԾՈՎ ԱՐԴՅՈՒՆՔԱՅԻՆ (ԿԱՏԱՐՈՂԱԿԱՆ) ՑՈՒՑԱՆԻՇՆԵՐԸ
B11: Ծրագրի դասիչը | C11: Ծրագրի անվանումը
B12: 1059 | C12: Բուսաբուծության խթանում և բույսերի պաշտպանություն
B14: Ծրագրի միջոցառումները
B17: Ծրագրի դասիչը` | C17: 1059 | D17: Ցուցանիշների փոփոխությունը (ավելացումները նշված են դրական նշանով)
B18: Միջոցառման դասիչը` | C18: 12002 | D18: Ինն ամիս | E18: Տարի
B19: Միջոցառման անվանումը` | C19: Հայաստանի Հանրապետությունում աշնանացան ցորենի արտադրության խթանման նպատակով փոխհատուցման տրամադրում
B20: Նկարագրությունը` | C20: Աշնանացան ցորենի ցանքատարածությունների ընդլայնմանը և ցորենի համախառն բերքի ծավալների ավելացմանը նպաստելու նպատակով կատարված մշակության ծախսերի մասնակի փոխհատուցում
B21: Միջոցառման տեսակը` | C21: Տրանսֆերտների տրամադրում
B22: Շահառուների ընտրության չափանիշները | C22: ՀՀ գյուղատնտեսական տնտեսավարողներ` ընտրված համաձայն ՀՀ կառավարության 11.08.2022թ. թիվ 1313-Լ որոշմամբ հաստատված ծրագրի չափանիշներ
B23: Արդյունքի չափորոշիչներ
B24: Ծրագրի շրջանակներում աշնանացան ցորենի հավաստագրված սերմով ապահովված ցանքատարածություններ, հա | D24: 3310 | E24: 3310
B25: Ծրագրի շրջանակներում աշնանացան ցորենի չհավաստագրված սերմով ապահովված ցանքատարածություններ, հա | D25: 19388 | E25: 19388
B26: Միջոցառման վրա կատարվող ծախսը (հազար դրամ) | D26: =+հավելված2!G29 -> 1754335.4 | E26: =+հավելված2!H29 -> 1754335.4
B29: Ծրագրի դասիչը` | C29: 1059 | D29: Ցուցանիշների փոփոխությունը (ավելացումները նշված են դրական նշանով)
B30: Միջոցառման դասիչը` | C30: 11009 | D30: Ինն ամիս | E30: Տարի
B31: Միջոցառման անվանումը` | C31: Հայաստանի Հանրապետությունում աշնանացան ցորենի ցանքատարածությունների մոնիթորինգի իրականացմանն աջակցություն
B32: Նկարագրությունը` | C32: Համայնքների կողմից աշնանացան ցորենի ցանքատարածությունների մոնիթորինգի իրականացում, արդյունքների ամփոփում և համապատասխան տեղեկատվության ներկայացում
B33: Միջոցառման տեսակը` | C33: Ծառայությունների մատուցում
B34: Միջոցառումն իրականացնողի անվանումը՛ | C34: ՀՀ համայնքներ՛ ընտրված համաձայն ՀՀ կառավարության 11.08.2022թ. թիվ 1313-Լ որոշմամբ հաստատված ծրագրի չափանիշների
B35: Արդյունքի չափորոշիչներ
B36: Մոնիթորինգի ենթարկված ցանքատարածություններ, հա | D36: 22698 | E36: 22698
B37: Միջոցառման վրա կատարվող ծախսը (հազար դրամ) | D37: =+'հավելված 1'!D23 -> 52076.2 | E37: =+'հավելված 1'!E23 -> 52076.2
B40: ՀԱՅԱՍՏԱՆԻ ՀԱՆՐԱՊԵՏՈՒԹՅԱՆ ԿԱՌԱՎԱՐՈՒԹՅԱՆ 2022 ԹՎԱԿԱՆԻ ԴԵԿՏԵՄԲԵՐԻ 29-Ի N 2111-Ն ՈՐՈՇՄԱՆ N 9 ՀԱՎԵԼՎԱԾԻ N 9.47 և N 9.1 ՀԱՎԵԼՎԱԾԻ N 9.1.58 ԱՂՅՈՒՍԱԿՆԵՐՈՒՄ ԿԱՏԱՐՎՈՂ ՓՈՓՈԽՈՒԹՅՈՒՆՆԵՐԸ
A43: ՀՀ կառավարություն
A45: ՄԱՍ 1. 2. ՊԵՏԱԿԱՆ ՄԱՐՄՆԻ ԳԾՈՎ ԱՐԴՅՈՒՆՔԱՅԻՆ (ԿԱՏԱՐՈՂԱԿԱՆ) ՑՈՒՑԱՆԻՇՆԵՐԸ
B48: Ծրագրի դասիչը՝ | C48: 1139 | D48: Ցուցանիշների փոփոխությունը (նվազեցումները նշված են փակագծերում)
B49: Միջոցառման դասիչը՝ | C49: 11001 | D49: Ինն ամիս | E49: Տարի
B50: Միջոցառման անվանումը՝ | C50: ՀՀ կառավարության պահուստային ֆոնդ
B51: Նկարագրությունը՝ | C51: ՀՀ պետական բյուջեում նախատեսված ելքերի լրացուցիչ ֆինանսավորման՝ պետական բյուջեում չկանխատեսված ելքերի, ինչպես նաև բյուջետային երաշխիքների ապահովման ելքերի ֆինանսավորման ապահովում
B52: Միջոցառման տեսակը՝ | C52: Ծառայությունների մատուցում
B53: Միջոցառումն իրականացնողի անվանումը | C53: ՀՀ կառավարություն
C54: Արդյունքի չափորոշիչներ
B55: Միջոցառման վրա կատարվող ծախսը (հազար դրամ) | D55: =+'հավելված 1'!D37 -> -1806411.6 | E55: =+'հավելված 1'!E37 -> -1806411.6
