Workbook
Name a: #REF!
Name a: #REF!
Name AgencyCode: #REF!
Name AgencyCode: #REF!
Name AgencyCode: #REF!
Name AgencyName: #REF!
Name AgencyName: #REF!
Name AgencyName: #REF!
Name davit: #REF!
Name davit: #REF!
Name Functional1: #REF!
Name Functional1: #REF!
Name Functional1: #REF!
Name ggg: #REF!
Name ggg: #REF!
Name PANature: #REF!
Name PANature: #REF!
Name PANature: #REF!
Name PAType: #REF!
Name PAType: #REF!
Name PAType: #REF!
Name Performance2: #REF!
Name Performance2: #REF!
Name Performance2: #REF!
Name PerformanceType: #REF!
Name PerformanceType: #REF!
Name PerformanceType: #REF!
Name Հավելված: #REF!
Name Հավելված: #REF!
Name Մաս: #REF!
Name Մաս: #REF!
Name շախմատիստ: #REF!
Name շախմատիստ: #REF!

Sheet Հավելված N 1
C1: Հավելված N 1
C2: ՀՀ կառավարության 2023 թվականի
C3: ______________ ի ___Ն որոշման
A6: «ՀԱՅԱUՏԱՆԻ ՀԱՆՐԱՊԵՏՈՒԹՅԱՆ 2023 ԹՎԱԿԱՆԻ ՊԵՏԱԿԱՆ ԲՅՈՒՋԵԻ ՄԱUԻՆ» ՀԱՅԱUՏԱՆԻ ՀԱՆՐԱՊԵՏՈՒԹՅԱՆ OՐԵՆՔԻ N 1 ՀԱՎԵԼՎԱԾԻ N 2 ԱՂՅՈՒՍԱԿՈՒՄ ԿԱՏԱՐՎՈՂ ՎԵՐԱԲԱՇԽՈՒՄԸ ԵՎ ՀԱՅԱՍՏԱՆԻ ՀԱՆՐԱՊԵՏՈՒԹՅԱՆ ԿԱՌԱՎԱՐՈՒԹՅԱՆ 2022 ԹՎԱԿԱՆԻ ԴԵԿՏԵՄԲԵՐԻ 29-Ի N 2111-Ն ՈՐՈՇՄԱՆ N 5 ՀԱՎԵԼՎԱԾԻ N 1 ԱՂՅՈՒՍԱԿՈՒՄ ԿԱՏԱՐՎՈՂ ՓՈՓՈԽՈՒԹՅՈՒՆՆԵՐԸ ԵՎ ԼՐԱՑՈՒՄՆԵՐԸ
F9: հազ. դրամներով
A10: Ծրագրային դասիչը | C10: Բյուջետային հատկացումների գլխավոր կարգադրիչների, ծրագրերի և միջոցառումների անվանումները | D10: Ցուցանիշների փոփոխությունը (ավելացումները նշված են դրական նշանով, իսկ նվազեցումները՝ փակագծերում)
A11: Ծրագիր | B11: Միջոցառում | D11: Առաջին կիսամյակ | E11: Ինն ամիս | F11: Տարի
A12: 1192 | C12: ԸՆԴԱՄԵՆԸ | D12: =+D14 -> 0 | E12: =+E14 -> 0 | F12: =+F14 -> 0
C13: այդ թվում
C14: ՀՀ ԿՐԹՈՒԹՅԱՆ, ԳԻՏՈՒԹՅԱՆ, ՄՇԱԿՈՒՅԹԻ ԵՎ ՍՊՈՐՏԻ ՆԱԽԱՐԱՐՈՒԹՅՈՒՆ | D14: =+D16+D29+D42+D55 -> 0 | E14: =+E16+E29+E42+E55 -> 0 | F14: =+F16+F29+F42+F55 -> 0
A15: 1041 | C15: Ծրագրի անվանումը`
C16: Մեծ նվաճումների սպորտ | D16: =+D23 -> 59524 | E16: =+E23 -> 0 | F16: =+F23 -> 0
C17: Ծրագրի նպատակը`
C18: Նպաստել Հայաստանում մեծ սպորտի շարունակական զարգացմանը և միջազգային հարթակներում ՀՀ դիրքի բարելավմանը
C19: Վերջնական արդյունքի նկարագրությունը`
C20: ՀՀ առաջնությունների ընդլայնում, միջազգային սպորտային միջոցառումներին մասնակցության և նվաճումների ապահովում
C21: Ծրագրի միջոցառումներ
B22: 32001 | C22: Միջոցառման անվանումը`
C23: Մանկապատանեկան մարզադպրոցներին, մարզաձևերի ազգային ֆեդերացիաներին և այլ մարզական հասարակական կազմակերպություններին գույքով ապահովում | D23: =+'Հավելված N 2'!G24 -> 59524 | E23: =+'Հավելված N 2'!H24 -> 0 | F23: =+'Հավելված N 2'!I24 -> 0
C24: Միջոցառման նկարագրությունը`
C25: Սպորտի զարգացման նպատակով մարզադպրոցներին, ազգային ֆեդերացիաներին և այլ մարզական հասարակական կազմակերպություններին մարզական և այլ անհրաժեշտ գույքի տրամադրում
C26: Միջոցառման տեսակը
C27: Այլ պետական կազմակերպությունների կողմից օգտագործվող ոչ ֆինանսական ակտիվների հետ գործառնություններ
A28: 1146 | C28: Ծրագրի անվանումը`
C29: Հանրակրթության ծրագիր | D29: =+D36 -> 0 | E29: =+E36 -> -109057.7 | F29: =+F36 -> -109057.7
C30: Ծրագրի նպատակը`
C31: Ապահովել անվճար և որակյալ հանրակրթություն
C32: Վերջնական արդյունքի նկարագրությունը`
C33: Մտավոր, հոգևոր, ֆիզիկական և սոցիալական ունակությունների համակողմանի ու ներդաշնակ զարգացմամբ, հայրենասիրության, պետականության և մարդասիրության ոգով դաստիրակված, պատշաճ վարքով և վարվելակերպով անձի ձևավորում
C34: Ծրագրի միջոցառումներ
B35: 11002 | C35: Միջոցառման անվանումը`
C36: Հիմնական ընդհանուր հանրակրթություն | D36: =+'Հավելված N 2'!G43 -> 0 | E36: =+'Հավելված N 2'!H43 -> -109057.7 | F36: =+'Հավելված N 2'!I43 -> -109057.7
C37: Միջոցառման նկարագրությունը`
C38: Պարտադիր կրթության երկրորդ մակարդակում սովորողների ընդգրկվածության, գրագիտության և համակողմանի զարգացման բարձր մակարդակի ապահովում
C39: Միջոցառման տեսակը
C40: Ծառայությունների մատուցում
A41: 1148 | C41: Ծրագրի անվանումը`
C42: Արտադպրոցական դաստիարակության ծրագիր | D42: =+D49 -> -59524 | E42: =+E49 -> 0 | F42: =+F49 -> 0
C43: Ծրագրի նպատակը`
C44: Նպաստել հանրակրթական ուսուցման համակարգում ընդգրկված երեխաների ֆիզիկական, հոգևոր և գեղագիտական զարգացմանը, բնապահպանական և կիրառական գիտելիքների ձեռքբերմանը
C45: Վերջնական արդյունքի նկարագրությունը`
C46: Ստեղծել պայմաններ սովորողների ազատ ժամանացի կազմակերպան միջոցով նրանց հետաքրքրությունների բացահայտման, ձևավորման և զարգացման համար
C47: Ծրագրի միջոցառումներ
B48: 11016 | C48: Միջոցառման անվանումը`
C49: ՀՀ հանրակրթական ծրագրեր իրականացնող ուսումնական հաստատությունների 11-րդ դասարանների աշակերտների ռազմամարզական ճամբարի կազմակերպում | D49: =+'Հավելված N 2'!G67 -> -59524 | E49: =+'Հավելված N 2'!H67 -> 0 | F49: =+'Հավելված N 2'!I67 -> 0
C50: Միջոցառման նկարագրությունը`
C51: Նպաստել 11-րդ դասարաններում սովորող դպրոցականների մոտ «Նախնական զինվորական պատրաստություն» առարկայից ստացած գիտելիքների հարստացմանը և դրանց համապատասխան կարողությունների և հմտությունների զարգացմանը
C52: Միջոցառման տեսակը
C53: Ծառայությունների մատուցում
A54: 1183 | C54: Ծրագրի անվանումը`
C55: Ապահով դպրոց | D55: =+D62+D68 -> 0 | E55: =+E62+E68 -> 109057.7 | F55: =+F62+F68 -> 109057.7
C56: Ծրագրի նպատակը`
C57: Դպրոցներին սպառնացող աղետների ռիսկի կառավարման կարողությունների հզորացում, դպրոցի անձնակազմի և աշակերտների անվտանգության ապահովման մակարդակի բարձրացում՛ կիրառելով ներառական և երեխայակենտրոն մոտեցում
C58: Վերջնական արդյունքի նկարագրությունը`
C59: Դպրոցական միջավայրի բարելավում
C60: Ծրագրի միջոցառումներ
B61: 32001 | C61: Միջոցառման անվանումը`
C62: Կրթական օբյեկտների շենքային պայմանների բարելավում | D62: =+'Հավելված N 2'!G84 -> 0 | E62: =+'Հավելված N 2'!H84 -> 101783.7 | F62: =+'Հավելված N 2'!I84 -> 101783.7
C63: Միջոցառման նկարագրությունը`
C64: Կրթական օբյեկտների շենքերի (մասնաշենքերի) հիմնանորոգում (համաշինարարական աշխատանքներ, ջեռուցման համակարգի իրականացում, ներքին հարդարում, տարածքի բարեկարգում) և նախագծում
C65: Միջոցառման տեսակը
C66: Այլ պետական կազմակերպությունների կողմից օգտագործվող ոչ ֆինանսական ակտիվների հետ գործառնություններ
B67: 32012 | C67: Միջոցառման անվանումը`
C68: Հանրակրթական դպրոցների գույքով և տեխնիկայով ապահովում | D68: =+'Հավելված N 2'!G100 -> 0 | E68: =+'Հավելված N 2'!H100 -> 7274 | F68: =+'Հավելված N 2'!I100 -> 7274
C69: Միջոցառման նկարագրությունը`
C70: Կրթական ժամանակակից նորմերին համապատասխանող գույքի ձեռքբերում
C71: Միջոցառման տեսակը
C72: Այլ պետական կազմակերպությունների կողմից օգտագործվող ոչ ֆինանսական ակտիվների հետ գործառնություններ

Sheet Հավելված N 2
F1: Հավելված N 2
F2: ՀՀ կառավարության 2023 թվականի
F3: ______________ ի ___Ն որոշման
A5: ՀԱՅԱՍՏԱՆԻ ՀԱՆՐԱՊԵՏՈՒԹՅԱՆ ԿԱՌԱՎԱՐՈՒԹՅԱՆ 2022 ԹՎԱԿԱՆԻ ԴԵԿՏԵՄԲԵՐԻ 29-Ի N2111-Ն ՈՐՈՇՄԱՆ N 3 ԵՎ N 4 ՀԱՎԵԼՎԱԾՆԵՐՈՒՄ ԿԱՏԱՐՎՈՂ ՓՈՓՈԽՈՒԹՅՈՒՆՆԵՐԸ ԵՎ ԼՐԱՑՈՒՄՆԵՐԸ
I8: հազ. դրամներով
A9: Գործառական դասիչը | D9: Ծրագրային դասիչը | F9: Բյուջետային հատկացումների գլխավոր կարգադրիչների, ծրագրերի, միջոցառումների և միջոցառումները կատարող պետական մարմինների անվանումները | G9: Ցուցանիշների փոփոխությունը (ավելացումները նշված են դրական նշանով, իսկ նվազեցումները՝ փակագծերում)
A10: Բաժին | B10: Խումբ | C10: Դաս | D10: Ծրագիր | E10: Միջոցառում | G10: Առաջին կիսամյակ | H10: Ինն ամիս | I10: Տարի
F11: ԸՆԴԱՄԵՆԸ | G11: =+G13 -> 0 | H11: =+H13 -> 0 | I11: =+I13 -> 0
F12: այդ թվում՝
F13: ՀՀ ԿՐԹՈՒԹՅԱՆ, ԳԻՏՈՒԹՅԱՆ, ՄՇԱԿՈՒՅԹԻ ԵՎ ՍՊՈՐՏԻ ՆԱԽԱՐԱՐՈՒԹՅՈՒՆ | G13: =+G14+G33 -> 0 | H13: =+H14+H33 -> 0 | I13: =+I14+I33 -> 0
A14: 08 | F14: ՀԱՆԳԻՍՏ, ՄՇԱԿՈՒՅԹ ԵՎ ԿՐՈՆ | G14: =+G16 -> 59524 | H14: =+H16 -> 0 | I14: =+I16 -> 0
F15: այդ թվում`
B16: 01 | F16: Հանգստի և սպորտի ծառայություններ | G16: =+G18 -> 59524 | H16: =+H18 -> 0 | I16: =+I18 -> 0
F17: այդ թվում`
C18: 01 | F18: Հանգստի և սպորտի ծառայություններ | G18: =+G20 -> 59524 | H18: =+H20 -> 0 | I18: =+I20 -> 0
F19: այդ թվում`
F20: ՀՀ կրթության, գիտության, մշակույթի և սպորտի նախարարություն | G20: =+G22 -> 59524 | H20: =+H22 -> 0 | I20: =+I22 -> 0
F21: այդ թվում`
D22: 1041 | E22: Մեծ նվաճումների սպորտ | G22: =+G24 -> 59524 | H22: =+H24 -> 0 | I22: =+I24 -> 0
F23: այդ թվում`
E24: 32001 | F24: Մանկապատանեկան մարզադպրոցներին, մարզաձևերի ազգային ֆեդերացիաներին և այլ մարզական հասարակական կազմակերպություններին գույքով ապահովում | G24: =+G26 -> 59524 | H24: =+H26 -> 0 | I24: =+I26 -> 0
F25: այդ թվում` ըստ կատարողների
F26: ՀՀ կրթության, գիտության, մշակույթի և սպորտի նախարարություն | G26: =+G28 -> 59524 | H26: =+H28 -> 0 | I26: =+I28 -> 0
F27: այդ թվում՝ բյուջետային ծախսերի տնտեսագիտական դասակարգման հոդվածներ
F28: ԸՆԴԱՄԵՆԸ ԾԱԽՍԵՐ | G28: =+G29 -> 59524 | H28: =+H29 -> 0 | I28: =+I29 -> 0
F29: ՈՉ ՖԻՆԱՆՍԱԿԱՆ ԱԿՏԻՎՆԵՐԻ ԳԾՈՎ ԾԱԽՍԵՐ | G29: =+G30 -> 59524 | H29: =+H30 -> 0 | I29: =+I30 -> 0
F30: ՀԻՄՆԱԿԱՆ ՄԻՋՈՑՆԵՐ | G30: =+G31 -> 59524 | H30: =+H31 -> 0 | I30: =+I31 -> 0
F31: ՄԵՔԵՆԱՆԵՐ ԵՎ ՍԱՐՔԱՎՈՐՈՒՄՆԵՐ | G31: =+G32 -> 59524 | H31: =+H32 -> 0 | I31: =+I32 -> 0
F32: - Վարչական սարքավորումներ | G32: =+'Հավելված N 4'!E16 -> 59524 | H32: =+'Հավելված N 4'!F16 -> 0 | I32: =+'Հավելված N 4'!G16 -> 0
A33: 09 | F33: ԿՐԹՈՒԹՅՈՒՆ | G33: =+G35+G59+G76 -> -59524 | H33: =+H35+H59+H76 -> 0 | I33: =+I35+I59+I76 -> 0
F34: այդ թվում`
B35: 02 | F35: Միջնակարգ ընդհանուր կրթություն | G35: =+G37 -> 0 | H35: =+H37 -> -109057.7 | I35: =+I37 -> -109057.7
F36: այդ թվում`
C37: 01 | F37: Հիմնական ընդհանուր կրթություն | G37: =+G39 -> 0 | H37: =+H39 -> -109057.7 | I37: =+I39 -> -109057.7
F38: այդ թվում`
F39: ՀՀ կրթության, գիտության, մշակույթի և սպորտի նախարարություն | G39: =+G41 -> 0 | H39: =+H41 -> -109057.7 | I39: =+I41 -> -109057.7
F40: այդ թվում՝
D41: 1146 | E41: Հանրակրթության ծրագիր | G41: =+G43 -> 0 | H41: =+H43 -> -109057.7 | I41: =+I43 -> -109057.7
F42: այդ թվում`
E43: 11002 | F43: Հիմնական ընդհանուր հանրակրթություն | G43: =+G45+G52 -> 0 | H43: =+H45+H52 -> -109057.7 | I43: =+I45+I52 -> -109057.7
F44: այդ թվում` ըստ կատարողների
F45: ՀՀ Արագածոտնի մարզպետարան | G45: =G47 -> 0 | H45: =H47 -> -78771.4 | I45: =I47 -> -78771.4
F46: այդ թվում՝ բյուջետային ծախսերի տնտեսագիտական դասակարգման հոդվածներ
F47: ԸՆԴԱՄԵՆԸ ԾԱԽՍԵՐ | G47: =G48 -> 0 | H47: =H48 -> -78771.4 | I47: =I48 -> -78771.4
F48: ԸՆԹԱՑԻԿ ԾԱԽՍԵՐ | G48: =G49 -> 0 | H48: =H49 -> -78771.4 | I48: =I49 -> -78771.4
F49: ՍՈՒԲՍԻԴԻԱՆԵՐ | G49: =+G50 -> 0 | H49: =+H50 -> -78771.4 | I49: =+I50 -> -78771.4
F50: Սուբսիդիաներ պետական կազմակերպություններին | G50: =+G51 -> 0 | H50: =+H51 -> -78771.4 | I50: =+I51 -> -78771.4
F51: - Սուբսիդիաներ ոչ ֆինանսական պետական կազմակերպություններին | G51: =-G86 -> 0 | H51: =-H86 -> -78771.4 | I51: =-I86 -> -78771.4
F52: ՀՀ Գեղարքունիքի մարզպետարան | G52: =G54 -> 0 | H52: =H54 -> -30286.3 | I52: =I54 -> -30286.3
F53: այդ թվում՝ բյուջետային ծախսերի տնտեսագիտական դասակարգման հոդվածներ
F54: ԸՆԴԱՄԵՆԸ ԾԱԽՍԵՐ | G54: =G55 -> 0 | H54: =H55 -> -30286.3 | I54: =I55 -> -30286.3
F55: ԸՆԹԱՑԻԿ ԾԱԽՍԵՐ | G55: =G56 -> 0 | H55: =H56 -> -30286.3 | I55: =I56 -> -30286.3
F56: ՍՈՒԲՍԻԴԻԱՆԵՐ | G56: =+G57 -> 0 | H56: =+H57 -> -30286.3 | I56: =+I57 -> -30286.3
F57: Սուբսիդիաներ պետական կազմակերպություններին | G57: =+G58 -> 0 | H57: =+H58 -> -30286.3 | I57: =+I58 -> -30286.3
F58: - Սուբսիդիաներ ոչ ֆինանսական պետական կազմակերպություններին | G58: =-G93-G102 -> 0 | H58: =-H93-H102 -> -30286.3 | I58: =-I93-I102 -> -30286.3
B59: 05 | F59: Ըստ մակարդակների չդասակարգվող կրթություն | G59: =+G61 -> -59524 | H59: =+H61 -> 0 | I59: =+I61 -> 0
F60: այդ թվում`
C61: 01 | F61: Արտադպրոցական դաստիարակություն | G61: =+G63 -> -59524 | H61: =+H63 -> 0 | I61: =+I63 -> 0
F62: այդ թվում`
F63: ՀՀ կրթության, գիտության, մշակույթի և սպորտի նախարարություն | G63: =+G65 -> -59524 | H63: =+H65 -> 0 | I63: =+I65 -> 0
F64: այդ թվում՝
D65: 1148 | E65: Արտադպրոցական դաստիարակության ծրագիր | G65: =+G67 -> -59524 | H65: =+H67 -> 0 | I65: =+I67 -> 0
F66: այդ թվում`
E67: 11016 | F67: ՀՀ հանրակրթական ծրագրեր իրականացնող ուսումնական հաստատությունների 11-րդ դասարանների աշակերտների ռազմամարզական ճամբարի կազմակերպում | G67: =+G69 -> -59524 | H67: =+H69 -> 0 | I67: =+I69 -> 0
F68: այդ թվում` ըստ կատարողների
F69: ՀՀ կրթության, գիտության, մշակույթի և սպորտի նախարարություն | G69: =G71 -> -59524 | H69: =H71 -> 0 | I69: =I71 -> 0
F70: այդ թվում՝ բյուջետային ծախսերի տնտեսագիտական դասակարգման հոդվածներ
F71: ԸՆԴԱՄԵՆԸ ԾԱԽՍԵՐ | G71: =G72 -> -59524 | H71: =H72 -> 0 | I71: =I72 -> 0
F72: ԸՆԹԱՑԻԿ ԾԱԽՍԵՐ | G72: =G73 -> -59524 | H72: =H73 -> 0 | I72: =I73 -> 0
F73: ԴՐԱՄԱՇՆՈՐՀՆԵՐ | G73: =+G74 -> -59524 | H73: =+H74 -> 0 | I73: =+I74 -> 0
F74: Ընթացիկ դրամաշնորհներ պետական հատվածի այլ մակարդակներին | G74: =+G75 -> -59524 | H74: =+H75 -> 0 | I74: =+I75 -> 0
F75: - Ընթացիկ դրամաշնորհներ պետական և համայնքների ոչ առևտրային կազմակերպություններին | G75: =-'Հավելված N 4'!E14 -> -59524 | H75: =-'Հավելված N 4'!F14 -> 0 | I75: =-'Հավելված N 4'!G14 -> 0
B76: 06 | F76: Կրթությանը տրամադրվող օժանդակ ծառայություններ | G76: =+G78 -> 0 | H76: =+H78 -> 109057.7 | I76: =+I78 -> 109057.7
F77: այդ թվում`
C78: 01 | F78: Կրթությանը տրամադրվող օժանդակ ծառայություններ | G78: =+G80 -> 0 | H78: =+H80 -> 109057.7 | I78: =+I80 -> 109057.7
F79: այդ թվում`
F80: ՀՀ կրթության, գիտության, մշակույթի և սպորտի նախարարություն | G80: =+G82 -> 0 | H80: =+H82 -> 109057.7 | I80: =+I82 -> 109057.7
F81: այդ թվում՝
D82: 1183 | E82: Ապահով դպրոց | G82: =+G84+G100 -> 0 | H82: =+H84+H100 -> 109057.7 | I82: =+I84+I100 -> 109057.7
F83: այդ թվում`
E84: 32001 | F84: Կրթական օբյեկտների շենքային պայմանների բարելավում | G84: =+G86+G93 -> 0 | H84: =+H86+H93 -> 101783.7 | I84: =+I86+I93 -> 101783.7
F85: այդ թվում` ըստ կատարողների
F86: ՀՀ Արագածոտնի մարզպետարան | G86: =G88 -> 0 | H86: =H88 -> 78771.4 | I86: =I88 -> 78771.4
F87: այդ թվում՝ բյուջետային ծախսերի տնտեսագիտական դասակարգման հոդվածներ
F88: ԸՆԴԱՄԵՆԸ ԾԱԽՍԵՐ | G88: =G89 -> 0 | H88: =H89 -> 78771.4 | I88: =I89 -> 78771.4
F89: ՈՉ ՖԻՆԱՆՍԱԿԱՆ ԱԿՏԻՎՆԵՐԻ ԳԾՈՎ ԾԱԽՍԵՐ | G89: =G90 -> 0 | H89: =H90 -> 78771.4 | I89: =I90 -> 78771.4
F90: ՀԻՄՆԱԿԱՆ ՄԻՋՈՑՆԵՐ | G90: =+G91 -> 0 | H90: =+H91 -> 78771.4 | I90: =+I91 -> 78771.4
F91: ՇԵՆՔԵՐ ԵՎ ՇԻՆՈՒԹՅՈՒՆՆԵՐ | G91: =+G92 -> 0 | H91: =+H92 -> 78771.4 | I91: =+I92 -> 78771.4
F92: - Շենքերի և շինությունների կապիտալ վերանորոգում | G92: =+'Հավելված N 4'!E22 -> 0 | H92: =+'Հավելված N 4'!F23 -> 78771.4 | I92: =+'Հավելված N 4'!G23 -> 78771.4
F93: ՀՀ Գեղարքունիքի մարզպետարան | G93: =G95 -> 0 | H93: =H95 -> 23012.3 | I93: =I95 -> 23012.3
F94: այդ թվում՝ բյուջետային ծախսերի տնտեսագիտական դասակարգման հոդվածներ
F95: ԸՆԴԱՄԵՆԸ ԾԱԽՍԵՐ | G95: =G96 -> 0 | H95: =H96 -> 23012.3 | I95: =I96 -> 23012.3
F96: ՈՉ ՖԻՆԱՆՍԱԿԱՆ ԱԿՏԻՎՆԵՐԻ ԳԾՈՎ ԾԱԽՍԵՐ | G96: =G97 -> 0 | H96: =H97 -> 23012.3 | I96: =I97 -> 23012.3
F97: ՀԻՄՆԱԿԱՆ ՄԻՋՈՑՆԵՐ | G97: =+G98 -> 0 | H97: =+H98 -> 23012.3 | I97: =+I98 -> 23012.3
F98: ՇԵՆՔԵՐ ԵՎ ՇԻՆՈՒԹՅՈՒՆՆԵՐ | G98: =+G99 -> 0 | H98: =+H99 -> 23012.3 | I98: =+I99 -> 23012.3
F99: - Շենքերի և շինությունների կապիտալ վերանորոգում | G99: =+'Հավելված N 4'!E33 -> 0 | H99: =+'Հավելված N 4'!F33 -> 23012.3 | I99: =+'Հավելված N 4'!G33 -> 23012.3
E100: 32012 | F100: Հանրակրթական դպրոցների գույքով և տեխնիկայով ապահովում | G100: =+G102 -> 0 | H100: =+H102 -> 7274 | I100: =+I102 -> 7274
F101: այդ թվում` ըստ կատարողների
F102: ՀՀ Գեղարքունիքի մարզպետարան | G102: =G104 -> 0 | H102: =H104 -> 7274 | I102: =I104 -> 7274
F103: այդ թվում՝ բյուջետային ծախսերի տնտեսագիտական դասակարգման հոդվածներ
...

Sheet Հավելված N 3
F1: Հավելված N 3
F2: ՀՀ կառավարության 2023 թվականի
F3: ______________ ի ___Ն որոշման
A5: «ՀԱՅԱUՏԱՆԻ ՀԱՆՐԱՊԵՏՈՒԹՅԱՆ 2023 ԹՎԱԿԱՆԻ ՊԵՏԱԿԱՆ ԲՅՈՒՋԵԻ ՄԱUԻՆ» ՀԱՅԱUՏԱՆԻ ՀԱՆՐԱՊԵՏՈՒԹՅԱՆ OՐԵՆՔԻ N 1 ՀԱՎԵԼՎԱԾԻ N 3 ԱՂՅՈՒՍԱԿՈՒՄ ԿԱՏԱՐՎՈՂ ԼՐԱՑՈՒՄՆԵՐԸ
H8: հազ. դրամներով
A9: Ծրագրային դասիչ | C9: Բյուջետային գլխավոր կարգադրիչների, ծրագրերի, միջոցառումների և ուղղությունների անվանումները | D9: Ընդամենը | E9: Ցուցանիշների փոփոխությունը (ավելացումները նշված են դրական նշանով)
A10: Ծրագիր | B10: Միջոցառում | E10: Կառուցման աշխատանքներ | F10: Վերակառուցման, վերանորոգման և վերականգնման աշխատանքներ | G10: Նախագծահե- տազոտական, գեոդեզիա- քարտեզագրա- կան աշխա- տանքներ | H10: Ոչ ֆինանսական այլ ակտիվների ձեռքբերում
C11: ԸՆԴԱՄԵՆԸ | D11: =SUM(E11:H11) -> 109057.7 | E11: =+E13 -> 0 | F11: =+F13 -> 101783.7 | G11: =+G13 -> 0 | H11: =+H13 -> 7274
C12: այդ թվում՝
C13: ՀՀ ԿՐԹՈՒԹՅԱՆ, ԳԻՏՈՒԹՅԱՆ, ՄՇԱԿՈՒՅԹԻ ԵՎ ՍՊՈՐՏԻ ՆԱԽԱՐԱՐՈՒԹՅՈՒՆ | D13: =SUM(E13:H13) -> 109057.7 | E13: =+E15+E30 -> 0 | F13: =+F15+F30 -> 101783.7 | G13: =+G15+G30 -> 0 | H13: =+H15+H30 -> 7274
C14: այդ թվում`
A15: 1183 | B15: 32001 | C15: Կրթական օբյեկտների շենքային պայմանների բարելավում | D15: =+E15+F15+G15+H15 -> 101783.7 | E15: =+E17+E27 -> 0 | F15: =+F17+F27 -> 101783.7 | G15: =+G17+G27 -> 0 | H15: =+H17+H27 -> 0
C16: այդ թվում`
C17: ՀՀ Արագածոտնի մարզ | D17: =SUM(E17:H17) -> 78771.4 | E17: =SUM(E18:E26) -> 0 | F17: =SUM(F18:F26) -> 78771.4 | G17: =SUM(G18:G26) -> 0 | H17: =SUM(H18:H26) -> 0
C18: «Ապարան քաղաքի Վ.Եղիազարյանի անվան թիվ 1 հիմնական դպրոց» ՊՈԱԿ | D18: =+E18+F18+G18+H18 -> 6323.1 | F18: =+'Հավելված N 7'!I14+'Հավելված N 7'!I25+'Հավելված N 7'!I34 -> 6323.1
C19: «Ապարանի Հ. Ոսկանյանի անվան թիվ 2 հիմնական դպրոց» ՊՈԱԿ | D19: =+E19+F19+G19+H19 -> 23742.7 | F19: =+'Հավելված N 7'!I15+'Հավելված N 7'!I23+'Հավելված N 7'!I32+'Հավելված N 7'!I16+'Հավելված N 7'!I22+'Հավելված N 7'!I31 -> 23742.7
C20: «Ներքին Սասնաշենի Հ.Հովհաննիսյանի անվան միջնակարգ դպրոց» ՊՈԱԿ | D20: =+E20+F20+G20+H20 -> 6468.9 | F20: ='Հավելված N 7'!I18+'Հավելված N 7'!I24+'Հավելված N 7'!I33 -> 6468.9
C21: «Ափնայի միջնակարգ դպրոց» ՊՈԱԿ | D21: =+E21+F21+G21+H21 -> 203 | F21: ='Հավելված N 7'!I26+'Հավելված N 7'!I35 -> 203
C22: «Եղիպատրուշի միջնակարգ դպրոց» ՊՈԱԿ | D22: =+E22+F22+G22+H22 -> 10222.4 | F22: =+'Հավելված N 7'!I17+'Հավելված N 7'!I27+'Հավելված N 7'!I36 -> 10222.4
C23: «Գեղադիրի Ռ.Խաչատրյանի անվան միջնակարգ դպրոց» ՊՈԱԿ | D23: =+E23+F23+G23+H23 -> 3422 | F23: =+'Հավելված N 7'!I19+'Հավելված N 7'!I28+'Հավելված N 7'!I37 -> 3422
C24: «Նորաշենի Ռ. Հարությունյանի անվան միջնակարգ դպրոց» ՊՈԱԿ | D24: =+E24+F24+G24+H24 -> 234 | F24: ='Հավելված N 7'!I29+'Հավելված N 7'!I38 -> 234
C25: «Ուջանի Զորավար Անդրանիկի անվան միջնակարգ դպրոց» ՊՈԱԿ | D25: =+E25+F25+G25+H25 -> 28095.3 | F25: =+'Հավելված N 7'!I20+'Հավելված N 7'!I30+'Հավելված N 7'!I39 -> 28095.3
C26: «Ծիլքարի միջնակարգ դպրոց» ՊՈԱԿ | D26: =+E26+F26+G26+H26 -> 60 | F26: ='Հավելված N 7'!I40 -> 60
C27: ՀՀ Գեղարքունիքի մարզ | D27: =SUM(E27:H27) -> 23012.3 | E27: =SUM(E28:E29) -> 0 | F27: =SUM(F28:F29) -> 23012.3 | G27: =SUM(G28:G29) -> 0 | H27: =SUM(H28:H29) -> 0
C28: «Վարդենիս քաղաքի Էդ. Պողոսյանի անվան N 2 հիմնական դպրոց» ՊՈԱԿ | D28: =+E28+F28+G28+H28 -> 6061.8 | F28: =+'Հավելված N 7'!I46+'Հավելված N 7'!I49+'Հավելված N 7'!I51 -> 6061.8
C29: «Ծովինար գյուղի Ա. Խաչատրյանի անվան միջնակարգ դպրոց» ՊՈԱԿ | D29: =+E29+F29+G29+H29 -> 16950.5 | F29: =+'Հավելված N 7'!I47+'Հավելված N 7'!I50+'Հավելված N 7'!I52 -> 16950.5
A30: 1183 | B30: 32012 | C30: Հանրակրթական դպրոցների գույքով և տեխնիկայով ապահովում | D30: =SUM(E30:H30) -> 7274 | E30: =+E32+E36+E38+E41+E44 -> 0 | F30: =+F32+F36+F38+F41+F44 -> 0 | G30: =+G32+G36+G38+G41+G44 -> 0 | H30: =+H32+H36+H38+H41+H44 -> 7274
C31: այդ թվում`
C32: ՀՀ Գեղարքունիքի մարզ | D32: =SUM(E32:H32) -> 7274 | E32: 0 | F32: 0 | G32: 0 | H32: =+'Հավելված N 7'!I54 -> 7274

Sheet Հավելված N 4
D1: Հավելված N 4
D2: ՀՀ կառավարության 2023 թվականի
D3: ______________ ի ___Ն որոշման
B5: ՀԱՅԱՍՏԱՆԻ ՀԱՆՐԱՊԵՏՈՒԹՅԱՆ ԿԱՌԱՎԱՐՈՒԹՅԱՆ 2022 ԹՎԱԿԱՆԻ ԴԵԿՏԵՄԲԵՐԻ 29-Ի N 2111-Ն ՈՐՈՇՄԱՆ N 5 ՀԱՎԵԼՎԱԾԻ N 2 ԱՂՅՈՒՍԱԿՈՒՄ ԿԱՏԱՐՎՈՂ ԼՐԱՑՈՒՄՆԵՐԸ
G8: հազ. դրամներով
B9: Ծրագրային դասիչ | D9: Բյուջետային գլխավոր կարգադրիչների, ծրագրերի, միջոցառումների, միջոցառումները կատարող պետական մարմինների և ուղղությունների անվանումները | E9: Ցուցանիշների փոփոխությունը (ավելացումները նշված են դրական նշանով)
B10: Ծրագիր | C10: Միջոցառում | E10: Առաջին կիսամյակ | F10: Ինն ամիս | G10: Տարի
D12: ՀՀ ԿՐԹՈՒԹՅԱՆ, ԳԻՏՈՒԹՅԱՆ, ՄՇԱԿՈՒՅԹԻ ԵՎ ՍՊՈՐՏԻ ՆԱԽԱՐԱՐՈՒԹՅՈՒՆ | E12: =+E14+E20+E38 -> 59524 | F12: =+F14+F20+F38 -> 109057.7 | G12: =+G14+G20+G38 -> 109057.7
D13: այդ թվում՝
B14: 1041 | C14: 32001 | D14: Մանկապատանեկան մարզադպրոցներին, մարզաձևերի ազգային ֆեդերացիաներին և այլ մարզական հասարակական կազմակերպություններին գույքով ապահովում | E14: =+E16 -> 59524 | F14: =+F16 -> 0 | G14: =+G16 -> 0
D15: այդ թվում` ըստ կատարողների
D16: ՀՀ կրթության, գիտության, մշակույթի և սպորտի նախարարություն | E16: =+E18 -> 59524 | F16: =+F18 -> 0 | G16: =+G18 -> 0
D17: այդ թվում՝ ըստ ուղղությունների
D18: ՀՀ Արմավիրի մարզ | E18: =+E19 -> 59524 | F18: =+F19 -> 0 | G18: =+G19 -> 0
D19: Արմավիրի մարզի Ջրառատ համայնքի ծանրամարտի մարզադահլիճ | E19: 59524 | F19: 0 | G19: =+F19 -> 0
B20: 1183 | C20: 32001 | D20: Կրթական օբյեկտների շենքային պայմանների բարելավում | E20: =+E22+E33 -> 0 | F20: =+F22+F33 -> 101783.7 | G20: =+G22+G33 -> 101783.7
D21: այդ թվում` ըստ կատարողների
D22: ՀՀ Արագածոտնի մարզպետարան | E22: =+E23 -> 0 | F22: =+F23 -> 78771.4 | G22: =+G23 -> 78771.4
D23: ՀՀ Արագածոտնի մարզ | E23: =SUM(E24:E32) -> 0 | F23: =SUM(F24:F32) -> 78771.4 | G23: =SUM(G24:G32) -> 78771.4
D24: «Ապարան քաղաքի Վ.Եղիազարյանի անվան թիվ 1 հիմնական դպրոց» ՊՈԱԿ | E24: 0 | F24: =+'Հավելված N 3'!D18 -> 6323.1 | G24: =+F24 -> 6323.1
D25: «Ապարանի Հ. Ոսկանյանի անվան թիվ 2 հիմնական դպրոց» ՊՈԱԿ | E25: 0 | F25: =+'Հավելված N 3'!D19 -> 23742.7 | G25: =+F25 -> 23742.7
D26: «Ներքին Սասնաշենի Հ.Հովհաննիսյանի անվան միջնակարգ դպրոց» ՊՈԱԿ | E26: 0 | F26: =+'Հավելված N 3'!D20 -> 6468.9 | G26: =+F26 -> 6468.9
D27: «Ափնայի միջնակարգ դպրոց» ՊՈԱԿ | E27: 0 | F27: =+'Հավելված N 3'!D21 -> 203 | G27: =+F27 -> 203
D28: «Եղիպատրուշի միջնակարգ դպրոց» ՊՈԱԿ | E28: 0 | F28: =+'Հավելված N 3'!D22 -> 10222.4 | G28: =+F28 -> 10222.4
D29: «Գեղադիրի Ռ.Խաչատրյանի անվան միջնակարգ դպրոց» ՊՈԱԿ | E29: 0 | F29: =+'Հավելված N 3'!D23 -> 3422 | G29: =+F29 -> 3422
D30: «Նորաշենի Ռ. Հարությունյանի անվան միջնակարգ դպրոց» ՊՈԱԿ | E30: 0 | F30: =+'Հավելված N 3'!D24 -> 234 | G30: =+F30 -> 234
D31: «Ուջանի Զորավար Անդրանիկի անվան միջնակարգ դպրոց» ՊՈԱԿ | E31: 0 | F31: =+'Հավելված N 3'!D25 -> 28095.3 | G31: =+F31 -> 28095.3
D32: «Ծիլքարի միջնակարգ դպրոց» ՊՈԱԿ | E32: 0 | F32: =+'Հավելված N 3'!D26 -> 60 | G32: =+F32 -> 60
D33: ՀՀ Գեղարքունիքի մարզպետարան | E33: =+E35 -> 0 | F33: =+F35 -> 23012.3 | G33: =+G35 -> 23012.3
D34: այդ թվում` ըստ ուղղությունների
D35: ՀՀ Գեղարքունիքի մարզ | E35: =SUM(E36:E37) -> 0 | F35: =SUM(F36:F37) -> 23012.3 | G35: =SUM(G36:G37) -> 23012.3
D36: «Վարդենիս քաղաքի Էդ. Պողոսյանի անվան N 2 հիմնական դպրոց» ՊՈԱԿ | E36: 0 | F36: =+'Հավելված N 3'!D28 -> 6061.8 | G36: =+F36 -> 6061.8
D37: «Ծովինար գյուղի Ա. Խաչատրյանի անվան միջնակարգ դպրոց» ՊՈԱԿ | E37: 0 | F37: =+'Հավելված N 3'!D29 -> 16950.5 | G37: =+F37 -> 16950.5
B38: 1183 | C38: 32012 | D38: Հանրակրթական դպրոցների գույքով և տեխնիկայով ապահովում | E38: =+E40 -> 0 | F38: =+F40 -> 7274 | G38: =+G40 -> 7274
D39: այդ թվում` ըստ կատարողների
D40: ՀՀ Գեղարքունիքի մարզպետարան | E40: =+E42+E47+E49+E52+E55 -> 0 | F40: =+F42+F47+F49+F52+F55 -> 7274 | G40: =+G42+G47+G49+G52+G55 -> 7274
D41: այդ թվում` ըստ ուղղությունների
D42: ՀՀ Գեղարքունիքի մարզ | E42: =+'Հավելված N 3'!B32 -> 0 | F42: =+'Հավելված N 3'!D32 -> 7274 | G42: =+F42 -> 7274

Sheet Հավելված N 5
C1: Հավելված N 5
C2: ՀՀ կառավարության 2023 թվականի
C3: ______________ ի ___Ն որոշման
B5: ՀԱՅԱՍՏԱՆԻ ՀԱՆՐԱՊԵՏՈՒԹՅԱՆ ԿԱՌԱՎԱՐՈՒԹՅԱՆ 2022 ԹՎԱԿԱՆԻ ԴԵԿՏԵՄԲԵՐԻ 29-Ի N 2111-Ն ՈՐՈՇՄԱՆ N 9 ՀԱՎԵԼՎԱԾԻ N 9.13 ԱՂՅՈՒՍԱԿՈՒՄ ԿԱՏԱՐՎՈՂ ՓՈՓՈԽՈՒԹՅՈՒՆՆԵՐԸ ԵՎ ԼՐԱՑՈՒՄՆԵՐԸ
A7: Աղյուսակ 9․13
C8: ՀՀ կրթության, գիտության, մշակույթի և սպորտի նախարարություն
B9: ՄԱՍ 2. ՊԵՏԱԿԱՆ ՄԱՐՄՆԻ ԳԾՈՎ ԱՐԴՅՈՒՆՔԱՅԻՆ (ԿԱՏԱՐՈՂԱԿԱՆ) ՑՈՒՑԱՆԻՇՆԵՐԸ
B12: Ծրագրի դասիչը | C12: Ծրագրի անվանումը
B13: 1041 | C13: Մեծ նվաճումների սպորտ
B15: Ծրագրի միջոցառումները
B16: Ծրագրի դասիչը՝ | C16: 1041 | D16: Ցուցանիշների փոփոխությունը (ավելացումները նշված են դրական նշանով)
B17: Միջոցառման դասիչը՝ | C17: 32001 | D17: Առաջին կիսամյակ | E17: Ինն ամիս | F17: Տարի
B18: Միջոցառման անվանումը՝ | C18: Մանկապատանեկան մարզադպրոցներին, մարզաձևերի ազգային ֆեդերացիաներին և այլ մարզական հասարակական կազմակերպություններին գույքով ապահովում
B19: Նկարագրությունը՝ | C19: Սպորտի զարգացման նպատակով մարզադպրոցներին, ազգային ֆեդերացիաներին և այլ մարզական հասարակական կազմակերպություններին մարզական և այլ անհրաժեշտ գույքի տրամադրում
B20: Միջոցառման տեսակը՝ | C20: Այլ պետական կազմակերպությունների կողմից օգտագործվող ոչ ֆինանսական ակտիվների հետ գործառնություններ
B21: Ակտիվն օգտագործող կազմակերպությունների անվանում | C21: Մարզական հաստատություններ
B22: Արդյունքի չափորոշիչներ
B23: Կազմակերպությունների թիվը, որտեղ կատարվում են ներդրումները | D23: 1 | E23: 0 | F23: 0
B24: Միջոցառման վրա կատարվող ծախսը (հազար դրամ) | D24: =+'Հավելված N 1'!D23 -> 59524 | E24: =+'Հավելված N 1'!E23 -> 0 | F24: =+'Հավելված N 1'!F23 -> 0
B26: Ծրագրի դասիչը | C26: Ծրագրի անվանումը
B27: 1146 | C27: Հանրակրթության ծրագիր
B29: Ծրագրի միջոցառումները
B30: Ծրագրի դասիչը՝ | C30: 1146 | D30: Ցուցանիշների փոփոխությունը (նվազեցումները նշված են փակագծերում)
B31: Միջոցառման դասիչը՝ | C31: 11002 | D31: Առաջին կիսամյակ | E31: Ինն ամիս | F31: Տարի
B32: Միջոցառման անվանումը` | C32: Հիմնական ընդհանուր հանրակրթություն
B33: Նկարագրությունը` | C33: Պարտադիր կրթության երկրորդ մակարդակում սովորողների ընդգրկվածության, գրագիտության և համակողմանի զարգացման բարձր մակարդակի ապահովում
B34: Միջոցառման տեսակը` | C34: Ծառայությունների մատուցում
B35: Ծառայությունը մատուցող կազմակերպության(ների) անվանում(ներ)ը՛ | C35: ՀՀ կրթության, գիտության,մշակույթի և սպորտի նախարարության, ՀՀ մարզպետարանների, Երևանի քաղաքապետարանի ենթակայության ուսումնական հաստատություններ
B36: Արդյունքի չափորոշիչներ
B37: Միջոցառման վրա կատարվող ծախսը (հազար դրամ) | D37: =+'Հավելված N 1'!D36 -> 0 | E37: =+'Հավելված N 1'!E36 -> -109057.7 | F37: =+'Հավելված N 1'!F36 -> -109057.7
B39: Ծրագրի դասիչը | C39: Ծրագրի անվանումը
B40: 1148 | C40: Արտադպրոցական դաստիարակության ծրագիր
B42: Ծրագրի միջոցառումները
B43: Ծրագրի դասիչը՝ | C43: 1148 | D43: Ցուցանիշների փոփոխությունը (նվազեցումները նշված են փակագծերում)
B44: Միջոցառման դասիչը՝ | C44: 11016 | D44: Առաջին կիսամյակ | E44: Ինն ամիս | F44: Տարի
B45: Միջոցառման անվանումը՝ | C45: ՀՀ հանրակրթական ծրագրեր իրականացնող ուսումնական հաստատությունների 11-րդ դասարանների աշակերտների ռազմամարզական ճամբարի կազմակերպում
B46: Նկարագրությունը՝ | C46: Նպաստել 11-րդ դասարաններում սովորող դպրոցականների մոտ «Նախնական զինվորական պատրաստություն» առարկայից ստացած գիտելիքների հարստացմանը և դրանց համապատասխան կարողությունների և հմտությունների զարգացմանը
B47: Միջոցառման տեսակը՝ | C47: Ծառայությունների մատուցում
B48: Ծառայությունը մատուցող կազմակերպության(ների) անվանում(ներ)ը՛ | C48: Մասնագիտացված կազմակերպություն
B49: Արդյունքի չափորոշիչներ
B50: 11-րդ դասարանի աշակերտների թիվ, մարդ | D50: -529 | E50: 0 | F50: 0
B51: Միջոցառման վրա կատարվող ծախսը (հազար դրամ) | D51: =+'Հավելված N 1'!D49 -> -59524 | E51: =+'Հավելված N 1'!E49 -> 0 | F51: =+'Հավելված N 1'!F49 -> 0
B53: Ծրագրի դասիչը | C53: Ծրագրի անվանումը
B54: 1183 | C54: Ապահով դպրոց
B56: Ծրագրի միջոցառումները
B57: Ծրագրի դասիչը` | C57: 1183 | D57: Ցուցանիշների փոփոխությունը (ավելացումները նշված են դրական նշանով)
B58: Միջոցառման դասիչը` | C58: 32001 | D58: Առաջին կիսամյակ | E58: Ինն ամիս | F58: Տարի
B59: Միջոցառման անվանումը` | C59: Կրթական օբյեկտների շենքային պայմանների բարելավում
B60: Նկարագրությունը` | C60: Կրթական օբյեկտների շենքերի (մասնաշենքերի) հիմնանորոգում (համաշինարարական աշխատանքներ, ջեռուցման համակարգի իրականացում, ներքին հարդարում, տարածքի բարեկարգում) և նախագծում
B61: Միջոցառման տեսակը` | C61: Այլ պետական կազմակերպությունների կողմից օգտագործվող ոչ ֆինանսական ակտիվների հետ գործառնություններ
B62: Ակտիվն օգտագործող կազմակերպությունների անվանումները | C62: Հանրակրթական դպրոցներ
B63: Արդյունքի չափորոշիչներ
B64: Կազմակերպությունների թիվը, որտեղ կատարվում են ներդրումները, հատ | E64: 11 | F64: 11
B65: Հաստատությունների քանակ, որոնց շինարարական աշխատանքների ավարտվածության աստիճանը 100% է, հատ | E65: 11 | F65: 11
B66: Միջոցառման վրա կատարվող ծախսը (հազար դրամ) | D66: =+'Հավելված N 1'!D62 -> 0 | E66: =+'Հավելված N 1'!E62 -> 101783.7 | F66: =+'Հավելված N 1'!F62 -> 101783.7
B68: Ծրագրի միջոցառումները
B69: Ծրագրի դասիչը` | C69: 1183 | D69: Ցուցանիշների փոփոխությունը (ավելացումները նշված են դրական նշանով)
B70: Միջոցառման դասիչը` | C70: 32012 | D70: Առաջին կիսամյակ | E70: Ինն ամիս | F70: Տարի
B71: Միջոցառման անվանումը` | C71: Հանրակրթական դպրոցների գույքով և տեխնիկայով ապահովում
B72: Նկարագրությունը` | C72: Կրթական ժամանակակից նորմերին համապատասխանող գույքի ձեռքբերում
B73: Միջոցառման տեսակը` | C73: Այլ պետական կազմակերպությունների կողմից օգտագործվող ոչ ֆինանսական ակտիվների հետ գործառնություններ
B74: Ակտիվն օգտագործող կազմակերպությունների անվանումները | C74: Հանրակրթական դպրոցներ
B75: Արդյունքի չափորոշիչներ
B76: Ոչ մոդուլային դպրոցների թիվը, որոնք ապահովվում են գույքով, հատ | E76: 100 | F76: 100
B77: Միջոցառման վրա կատարվող ծախսը (հազար դրամ) | D77: =+'Հավելված N 1'!D68 -> 0 | E77: =+'Հավելված N 1'!E68 -> 7274 | F77: =+'Հավելված N 1'!F68 -> 7274

Sheet Հավելված N 6
C1: Հավելված N 6
C2: ՀՀ կառավարության 2023 թվականի
C3: ______________ ի ___Ն որոշման
B5: ՀԱՅԱՍՏԱՆԻ ՀԱՆՐԱՊԵՏՈՒԹՅԱՆ ԿԱՌԱՎԱՐՈՒԹՅԱՆ 2022 ԹՎԱԿԱՆԻ ԴԵԿՏԵՄԲԵՐԻ 29-Ի N 2111-Ն ՈՐՈՇՄԱՆ N 9.1 ՀԱՎԵԼՎԱԾԻ N 9.1.13, 9.1.48 ԵՎ 9.1.51 ԱՂՅՈՒՍԱԿՆԵՐՈՒՄ ԿԱՏԱՐՎՈՂ ՓՈՓՈԽՈՒԹՅՈՒՆՆԵՐԸ ԵՎ ԼՐԱՑՈՒՄՆԵՐԸ
A7: Աղյուսակ 9․1.13
C8: ՀՀ կրթության, գիտության, մշակույթի և սպորտի նախարարություն
B9: ՄԱՍ 1. ՊԵՏԱԿԱՆ ՄԱՐՄՆԻ ԳԾՈՎ ԱՐԴՅՈՒՆՔԱՅԻՆ (ԿԱՏԱՐՈՂԱԿԱՆ) ՑՈՒՑԱՆԻՇՆԵՐԸ
B12: Ծրագրի դասիչը | C12: Ծրագրի անվանումը
B13: 1041 | C13: Մեծ նվաճումների սպորտ
B15: Ծրագրի միջոցառումները
B16: Ծրագրի դասիչը՝ | C16: 1041 | D16: Ցուցանիշների փոփոխությունը (ավելացումները նշված են դրական նշանով)
B17: Միջոցառման դասիչը՝ | C17: 32001 | D17: Առաջին կիսամյակ | E17: Ինն ամիս | F17: Տարի
B18: Միջոցառման անվանումը՝ | C18: Մանկապատանեկան մարզադպրոցներին, մարզաձևերի ազգային ֆեդերացիաներին և այլ մարզական հասարակական կազմակերպություններին գույքով ապահովում
B19: Նկարագրությունը՝ | C19: Սպորտի զարգացման նպատակով մարզադպրոցներին, ազգային ֆեդերացիաներին և այլ մարզական հասարակական կազմակերպություններին մարզական և այլ անհրաժեշտ գույքի տրամադրում
B20: Միջոցառման տեսակը՝ | C20: Այլ պետական կազմակերպությունների կողմից օգտագործվող ոչ ֆինանսական ակտիվների հետ գործառնություններ
B21: Ակտիվն օգտագործող կազմակերպությունների անվանում | C21: Մարզական հաստատություններ
B22: Արդյունքի չափորոշիչներ
B23: Կազմակերպությունների թիվը, որտեղ կատարվում են ներդրումները | D23: 1 | E23: 0 | F23: 0
B24: Միջոցառման վրա կատարվող ծախսը (հազար դրամ) | D24: =+'Հավելված N 2'!G26 -> 59524 | E24: =+'Հավելված N 2'!H26 -> 0 | F24: =+'Հավելված N 2'!I26 -> 0
B26: Ծրագրի դասիչը | C26: Ծրագրի անվանումը
B27: 1148 | C27: Արտադպրոցական դաստիարակության ծրագիր
B29: Ծրագրի միջոցառումները
B30: Ծրագրի դասիչը՝ | C30: 1148 | D30: Ցուցանիշների փոփոխությունը (նվազեցումները նշված են փակագծերում)
B31: Միջոցառման դասիչը՝ | C31: 11016 | D31: Առաջին կիսամյակ | E31: Ինն ամիս | F31: Տարի
B32: Միջոցառման անվանումը՝ | C32: ՀՀ հանրակրթական ծրագրեր իրականացնող ուսումնական հաստատությունների 11-րդ դասարանների աշակերտների ռազմամարզական ճամբարի կազմակերպում
B33: Նկարագրությունը՝ | C33: Նպաստել 11-րդ դասարաններում սովորող դպրոցականների մոտ «Նախնական զինվորական պատրաստություն» առարկայից ստացած գիտելիքների հարստացմանը և դրանց համապատասխան կարողությունների և հմտությունների զարգացմանը
B34: Միջոցառման տեսակը՝ | C34: Ծառայությունների մատուցում
B35: Ծառայությունը մատուցող կազմակերպության(ների) անվանում(ներ)ը՛ | C35: Մասնագիտացված կազմակերպություն
B36: Արդյունքի չափորոշիչներ
B37: 11-րդ դասարանի աշակերտների թիվ, մարդ | D37: -529 | E37: 0 | F37: 0
B38: Միջոցառման վրա կատարվող ծախսը (հազար դրամ) | D38: =+'Հավելված N 2'!G69 -> -59524 | E38: =+'Հավելված N 2'!H69 -> 0 | F38: =+'Հավելված N 2'!I69 -> 0
A43: Աղյուսակ 9․1.48
C44: ՀՀ Արագածոտնի մարզպետարան
B45: ՄԱՍ 1. ՊԵՏԱԿԱՆ ՄԱՐՄՆԻ ԳԾՈՎ ԱՐԴՅՈՒՆՔԱՅԻՆ (ԿԱՏԱՐՈՂԱԿԱՆ) ՑՈՒՑԱՆԻՇՆԵՐԸ
B48: Ծրագրի դասիչը | C48: Ծրագրի անվանումը
B49: 1146 | C49: Հանրակրթության ծրագիր
B51: Ծրագրի միջոցառումները
B52: Ծրագրի դասիչը՝ | C52: 1146 | D52: Ցուցանիշների փոփոխությունը (նվազեցումները նշված են փակագծերում)
B53: Միջոցառման դասիչը՝ | C53: 11002 | D53: Առաջին կիսամյակ | E53: Ինն ամիս | F53: Տարի
B54: Միջոցառման անվանումը` | C54: Հիմնական ընդհանուր հանրակրթություն
B55: Նկարագրությունը` | C55: Պարտադիր կրթության երկրորդ մակարդակում սովորողների ընդգրկվածության, գրագիտության և համակողմանի զարգացման բարձր մակարդակի ապահովում
B56: Միջոցառման տեսակը` | C56: Ծառայությունների մատուցում
B57: Ծառայությունը մատուցող կազմակերպության(ների) անվանում(ներ)ը՛ | C57: Մարզպետարանի ենթակայության հանրակրթական ուսումնական հաստատություններ
B58: Արդյունքի չափորոշիչներ
B59: Միջոցառման վրա կատարվող ծախսը (հազար դրամ) | D59: =+'Հավելված N 2'!G45 -> 0 | E59: =+'Հավելված N 2'!H45 -> -78771.4 | F59: =+'Հավելված N 2'!I45 -> -78771.4
B61: Ծրագրի դասիչը | C61: Ծրագրի անվանումը
B62: 1183 | C62: Ապահով դպրոց
B64: Ծրագրի միջոցառումները
B65: Ծրագրի դասիչը` | C65: 1183 | D65: Ցուցանիշների փոփոխությունը (ավելացումները նշված են դրական նշանով)
B66: Միջոցառման դասիչը` | C66: 32001 | D66: Առաջին կիսամյակ | E66: Ինն ամիս | F66: Տարի
B67: Միջոցառման անվանումը` | C67: Կրթական օբյեկտների շենքային պայմանների բարելավում
B68: Նկարագրությունը` | C68: Կրթական օբյեկտների շենքերի (մասնաշենքերի) հիմնանորոգում (համաշինարարական աշխատանքներ, ջեռուցման համակարգի իրականացում, ներքին հարդարում, տարածքի բարեկարգում) և նախագծում
B69: Միջոցառման տեսակը` | C69: Այլ պետական կազմակերպությունների կողմից օգտագործվող ոչ ֆինանսական ակտիվների հետ գործառնություններ
B70: Ակտիվն օգտագործող կազմակերպությունների անվանումները | C70: Հանրակրթական դպրոցներ
B71: Արդյունքի չափորոշիչներ
B72: Կազմակերպությունների թիվը, որտեղ կատարվում են ներդրումները, հատ | D72: 0 | E72: 9 | F72: 9
B73: Հաստատությունների քանակ, որոնց շինարարական աշխատանքների ավարտվածության աստիճանը 100% է, հատ | D73: 0 | E73: 9 | F73: 9
B74: Միջոցառման վրա կատարվող ծախսը (հազար դրամ) | D74: =+'Հավելված N 2'!G86 -> 0 | E74: =+'Հավելված N 2'!H86 -> 78771.4 | F74: =+'Հավելված N 2'!I86 -> 78771.4
A79: Աղյուսակ 9․1.51
C80: ՀՀ Գեղարքունիքի մարզպետարան
B81: ՄԱՍ 1. ՊԵՏԱԿԱՆ ՄԱՐՄՆԻ ԳԾՈՎ ԱՐԴՅՈՒՆՔԱՅԻՆ (ԿԱՏԱՐՈՂԱԿԱՆ) ՑՈՒՑԱՆԻՇՆԵՐԸ
B84: Ծրագրի դասիչը | C84: Ծրագրի անվանումը
B85: 1146 | C85: Հանրակրթության ծրագիր
B87: Ծրագրի միջոցառումները
B88: Ծրագրի դասիչը՝ | C88: 1146 | D88: Ցուցանիշների փոփոխությունը (նվազեցումները նշված են փակագծերում)
B89: Միջոցառման դասիչը՝ | C89: 11002 | D89: Առաջին կիսամյակ | E89: Ինն ամիս | F89: Տարի
B90: Միջոցառման անվանումը` | C90: Հիմնական ընդհանուր հանրակրթություն
B91: Նկարագրությունը` | C91: Պարտադիր կրթության երկրորդ մակարդակում սովորողների ընդգրկվածության, գրագիտության և համակողմանի զարգացման բարձր մակարդակի ապահովում
B92: Միջոցառման տեսակը` | C92: Ծառայությունների մատուցում
B93: Ծառայությունը մատուցող կազմակերպության(ների) անվանում(ներ)ը՛ | C93: Մարզպետարանի ենթակայության հանրակրթական ուսումնական հաստատություններ
B94: Արդյունքի չափորոշիչներ
B95: Միջոցառման վրա կատարվող ծախսը (հազար դրամ) | D95: =+'Հավելված N 2'!G52 -> 0 | E95: =+'Հավելված N 2'!H52 -> -30286.3 | F95: =+'Հավելված N 2'!I52 -> -30286.3
B97: Ծրագրի դասիչը | C97: Ծրագրի անվանումը
B98: 1183 | C98: Ապահով դպրոց
B100: Ծրագրի միջոցառումները
B101: Ծրագրի դասիչը` | C101: 1183 | D101: Ցուցանիշների փոփոխությունը (ավելացումները նշված են դրական նշանով)
B102: Միջոցառման դասիչը` | C102: 32001 | D102: Առաջին կիսամյակ | E102: Ինն ամիս | F102: Տարի
B103: Միջոցառման անվանումը` | C103: Կրթական օբյեկտների շենքային պայմանների բարելավում
B104: Նկարագրությունը` | C104: Կրթական օբյեկտների շենքերի (մասնաշենքերի) հիմնանորոգում (համաշինարարական աշխատանքներ, ջեռուցման համակարգի իրականացում, ներքին հարդարում, տարածքի բարեկարգում) և նախագծում
B105: Միջոցառման տեսակը` | C105: Այլ պետական կազմակերպությունների կողմից օգտագործվող ոչ ֆինանսական ակտիվների հետ գործառնություններ
B106: Ակտիվն օգտագործող կազմակերպությունների անվանումները | C106: Հանրակրթական դպրոցներ
B107: Արդյունքի չափորոշիչներ
B108: Կազմակերպությունների թիվը, որտեղ կատարվում են ներդրումները, հատ | D108: 0 | E108: 2 | F108: 2
B109: Հաստատությունների քանակ, որոնց շինարարական աշխատանքների ավարտվածության աստիճանը 100% է, հատ | D109: 0 | E109: 2 | F109: 2
B110: Միջոցառման վրա կատարվող ծախսը (հազար դրամ) | D110: =+'Հավելված N 2'!G93 -> 0 | E110: =+'Հավելված N 2'!H93 -> 23012.3 | F110: =+'Հավելված N 2'!I93 -> 23012.3
B112: Ծրագրի միջոցառումները
B113: Ծրագրի դասիչը` | C113: 1183 | D113: Ցուցանիշների փոփոխությունը (ավելացումները նշված են դրական նշանով)
B114: Միջոցառման դասիչը` | C114: 32012 | D114: Առաջին կիսամյակ | E114: Ինն ամիս | F114: Տարի
B115: Միջոցառման անվանումը` | C115: Հանրակրթական դպրոցների գույքով և տեխնիկայով ապահովում
B116: Նկարագրությունը` | C116: Կրթական ժամանակակից նորմերին համապատասխանող գույքի ձեռքբերում
B117: Միջոցառման տեսակը` | C117: Այլ պետական կազմակերպությունների կողմից օգտագործվող ոչ ֆինանսական ակտիվների հետ գործառնություններ
B118: Ակտիվն օգտագործող կազմակերպությունների անվանումները | C118: Հանրակրթական դպրոցներ
B119: Արդյունքի չափորոշիչներ
B120: Ոչ մոդուլային դպրոցների թիվը, որոնք ապահովվում են գույքով, հատ | E120: 100 | F120: 100
B121: Միջոցառման վրա կատարվող ծախսը (հազար դրամ) | D121: =+'Հավելված N 2'!G102 -> 0 | E121: =+'Հավելված N 2'!H102 -> 7274 | F121: =+'Հավելված N 2'!I102 -> 7274

Sheet Հավելված N 7
H1: Հավելված N 7
H2: ՀՀ կառավարության 2022 թվականի
H3: ______________ ի ___Ն որոշման
A5: ՀԱՅԱՍՏԱՆԻ ՀԱՆՐԱՊԵՏՈՒԹՅԱՆ ԿԱՌԱՎԱՐՈՒԹՅԱՆ 2022 ԹՎԱԿԱՆԻ ԴԵԿՏԵՄԲԵՐԻ 29-Ի N 2111-Ն ՈՐՈՇՄԱՆ N 10 ՀԱՎԵԼՎԱԾՈՒՄ ԿԱՏԱՐՎՈՂ ԼՐԱՑՈՒՄՆԵՐԸ
A7: Կոդը | B7: Անվանումը | E7: Գնման ձևը | F7: Չափման միավորը | G7: Միավորի գինը | H7: Ցուցանիշների փոփոխությունը (ավելացումները նշված են դրական նշանով)
H8: Քանակը | I8: Գումարը (հազար դրամ)
A9: 1 | B9: 2 | E9: 3 | F9: 4 | G9: 5 | H9: 6 | I9: 7
A10: ՀՀ Արագածոտնի մարզպետարան | I10: =+I11 -> 78771.4
A11: Բաժին N 09 | B11: Խումբ N 06 | C11: Դաս N 01 | D11: Կրթությանը տրամադրվող օժանդակ ծառայություններ | I11: =+I12 -> 78771.4
A12: 1183-32001 | B12: Կրթական օբյեկտների շենքային պայմանների բարելավում | I12: =+I13+I21 -> 78771.4
B13: ՄԱՍ II. ԱՇԽԱՏԱՆՔՆԵՐ | I13: =SUM(I14:I20) -> 75587.3
A14: 45611100 | B14: կրթական օբյեկտների հիմնանորոգում | E14: ԳՀ | F14: դրամ | G14: 6162000 | H14: 1 | I14: =+ROUND(H14*G14/1000,1) -> 6162
A15: 45611100 | B15: կրթական օբյեկտների հիմնանորոգում | E15: ԳՀ | F15: դրամ | G15: 6186600 | H15: 1 | I15: =+ROUND(H15*G15/1000,1) -> 6186.6
A16: 45611100 | B16: կրթական օբյեկտների հիմնանորոգում | E16: ԳՀ | F16: դրամ | G16: 16932100 | H16: 1 | I16: =+ROUND(H16*G16/1000,1) -> 16932.1
A17: 45611100 | B17: կրթական օբյեկտների հիմնանորոգում | E17: ԳՀ | F17: դրամ | G17: 9900900 | H17: 1 | I17: =+ROUND(H17*G17/1000,1) -> 9900.9
A18: 45611100 | B18: կրթական օբյեկտների հիմնանորոգում | E18: ԳՀ | F18: դրամ | G18: 6305420 | H18: 1 | I18: =+ROUND(H18*G18/1000,1) -> 6305.4
A19: 45611100 | B19: կրթական օբյեկտների հիմնանորոգում | E19: ԳՀ | F19: դրամ | G19: 3300000 | H19: 1 | I19: =+ROUND(H19*G19/1000,1) -> 3300
A20: 45611100 | B20: կրթական օբյեկտների հիմնանորոգում | E20: ԳՀ | F20: դրամ | G20: 26800300 | H20: 1 | I20: =+ROUND(H20*G20/1000,1) -> 26800.3
B21: ՄԱՍ III. ԾԱՌԱՅՈՒԹՅՈՒՆՆԵՐ | I21: =SUM(I22:I40) -> 3184.1
A22: 71351540 | B22: տեխնիկական հսկողության ծառայություններ | E22: ԳՀ | F22: դրամ | G22: 355000 | H22: 1 | I22: =+ROUND(H22*G22/1000,1) -> 355
A23: 71351540 | B23: տեխնիկական հսկողության ծառայություններ | E23: ԳՀ | F23: դրամ | G23: 125000 | H23: 1 | I23: =+ROUND(H23*G23/1000,1) -> 125
A24: 71351540 | B24: տեխնիկական հսկողության ծառայություններ | E24: ԳՀ | F24: դրամ | G24: 125750 | H24: 1 | I24: =+ROUND(H24*G24/1000,1) -> 125.8
A25: 71351540 | B25: տեխնիկական հսկողության ծառայություններ | E25: ԳՀ | F25: դրամ | G25: 124040 | H25: 1 | I25: =+ROUND(H25*G25/1000,1) -> 124
A26: 71351540 | B26: տեխնիկական հսկողության ծառայություններ | E26: ԳՀ | F26: դրամ | G26: 156000 | H26: 1 | I26: =+ROUND(H26*G26/1000,1) -> 156
A27: 71351540 | B27: տեխնիկական հսկողության ծառայություններ | E27: ԳՀ | F27: դրամ | G27: 247500 | H27: 1 | I27: =+ROUND(H27*G27/1000,1) -> 247.5
A28: 71351540 | B28: տեխնիկական հսկողության ծառայություններ | E28: ԳՀ | F28: դրամ | G28: 94000 | H28: 1 | I28: =+ROUND(H28*G28/1000,1) -> 94
A29: 71351540 | B29: տեխնիկական հսկողության ծառայություններ | E29: ԳՀ | F29: դրամ | G29: 180000 | H29: 1 | I29: =+ROUND(H29*G29/1000,1) -> 180
A30: 71351540 | B30: տեխնիկական հսկողության ծառայություններ | E30: ԳՀ | F30: դրամ | G30: 996000 | H30: 1 | I30: =+ROUND(H30*G30/1000,1) -> 996
A31: 98111140 | B31: հեղինակային հսկողության ծառայություններ | E31: ՄԱ | F31: դրամ | G31: 106800 | H31: 1 | I31: =+ROUND(H31*G31/1000,1) -> 106.8
A32: 98111140 | B32: հեղինակային հսկողության ծառայություններ | E32: ՄԱ | F32: դրամ | G32: 37200 | H32: 1 | I32: =+ROUND(H32*G32/1000,1) -> 37.2
A33: 98111140 | B33: հեղինակային հսկողության ծառայություններ | E33: ՄԱ | F33: դրամ | G33: 37730 | H33: 1 | I33: =+ROUND(H33*G33/1000,1) -> 37.7
... A40: 98111140 | B40: հեղինակային հսկողության ծառայություններ | E40: ՄԱ | F40: դրամ | G40: 60000 | H40: 1 | I40: =+ROUND(H40*G40/1000,1) -> 60
A42: ՀՀ Գեղարքունիքի մարզպետարան | I42: =+I43 -> 30286.3
A43: Բաժին N 09 | B43: Խումբ N 06 | C43: Դաս N 01 | D43: Կրթությանը տրամադրվող օժանդակ ծառայություններ | I43: =+I44+I53 -> 30286.3
A44: 1183-32001 | B44: Կրթական օբյեկտների շենքային պայմանների բարելավում | I44: =+I45+I48 -> 23012.3
B45: ՄԱՍ II. ԱՇԽԱՏԱՆՔՆԵՐ | I45: =SUM(I46:I47) -> 22364.3
A46: 45211229 | B46: շինարարական աշխատանքներ դպրոցների համար | E46: ԳՀ | F46: դրամ | G46: 5771800 | H46: 1 | I46: =+ROUND(H46*G46/1000,1) -> 5771.8
A47: 45211229 | B47: շինարարական աշխատանքներ դպրոցների համար | E47: ԳՀ | F47: դրամ | G47: 16592500 | H47: 1 | I47: =+ROUND(H47*G47/1000,1) -> 16592.5
B48: ՄԱՍ III. ԾԱՌԱՅՈՒԹՅՈՒՆՆԵՐ | I48: =SUM(I49:I52) -> 648
A49: 71351540 | B49: տեխնիկական հսկողության ծառայություններ | E49: ՀՄԱ | F49: դրամ | G49: 220000 | H49: 1 | I49: =+ROUND(H49*G49/1000,1) -> 220
A50: 71351540 | B50: տեխնիկական հսկողության ծառայություններ | E50: ՀՄԱ | F50: դրամ | G50: 258000 | H50: 1 | I50: =+ROUND(H50*G50/1000,1) -> 258
A51: 98111140 | B51: հեղինակային հսկողության ծառայություններ | E51: ՄԱ | F51: դրամ | G51: 70000 | H51: 1 | I51: =+ROUND(H51*G51/1000,1) -> 70
A52: 98111140 | B52: հեղինակային հսկողության ծառայություններ | E52: ՄԱ | F52: դրամ | G52: 100000 | H52: 1 | I52: =+ROUND(H52*G52/1000,1) -> 100
A53: 1183-32012 | B53: Հանրակրթական դպրոցների գույքով և տեխնիկայով ապահովում | I53: =+I54 -> 7274
B54: ՄԱՍ I. ԱՊՐԱՆՔՆԵՐ | I54: =SUM(I55:I63) -> 7274
A55: 30195931 | B55: Գրատախտակ մարկերով գրելու համար, կախովի | E55: ԷԱՃ | F55: հատ | G55: 15000 | H55: 206 | I55: =+ROUND(H55*G55/1000,1) -> 3090
A56: 39121200 | B56: սեղաններ | E56: ԷԱՃ | F56: հատ | G56: 47000 | H56: 15 | I56: =+H56*G56/1000 -> 705
A57: 39121200 | B57: սեղաններ | E57: ԷԱՃ | F57: հատ | G57: 45600 | H57: 15 | I57: =+H57*G57/1000 -> 684
A58: 39121200 | B58: սեղաններ | E58: ԷԱՃ | F58: հատ | G58: 47000 | H58: 30 | I58: =+H58*G58/1000 -> 1410
A59: 38651200 | B59: պրոյեկտորներ | E59: ԷԱՃ | F59: հատ | G59: 288000 | H59: 2 | I59: =+H59*G59/1000 -> 576
A60: 38651200 | B60: պրոյեկտորներ | E60: ԷԱՃ | F60: հատ | G60: 433000 | H60: 1 | I60: =+H60*G60/1000 -> 433
A61: 35111130 | B61: կրակմարիչներ | E61: ԷԱՃ | F61: հատ | G61: 16300 | H61: 10 | I61: =+H61*G61/1000 -> 163
A62: 37421240 | B62: սպորտային մարմնամարզության նժույգ թափեր (մարզումային) | E62: ԳՀ | F62: հատ | G62: 93000 | H62: 1 | I62: =+H62*G62/1000 -> 93
A63: 37451411 | B63: բասկետբոլի ցանց | E63: ԷԱՃ | F63: հատ | G63: 60000 | H63: 2 | I63: =+H63*G63/1000 -> 120
