Workbook
Name AgencyCode: #REF!
Name AgencyCode: #REF!
Name AgencyName: #REF!
Name AgencyName: #REF!
Name alisa: #REF!
Name alisa: #REF!
Name Functional1: #REF!
Name Functional1: #REF!
Name havelvac: #REF!
Name havelvac: #REF!
Name havelvac50: #REF!
Name havelvac7: #REF!
Name havelvac7: #REF!
Name PANature: #REF!
Name PANature: #REF!
Name PAType: #REF!
Name PAType: #REF!
Name Performance2: #REF!
Name Performance2: #REF!
Name PerformanceType: #REF!
Name PerformanceType: #REF!
Name sheet1: #REF!
Name sheet1: #REF!
Name sheet4: #REF!
Name sheet4: #REF!
Name sheet7: #REF!
Name sheet7: #REF!
Name գնումներ: #REF!
Name գնումներ: #REF!
Name հավ5: #REF!
Name հավ5: #REF!
Name շախմատիստ: #REF!

Sheet 1
D1: Հավելված N 1
D2: ՀՀ կառավարության 2023 թվականի
D3: ___________ ___-ի N _______ -Ն որոշման
A6: «ՀԱՅԱUՏԱՆԻ ՀԱՆՐԱՊԵՏՈՒԹՅԱՆ 2023 ԹՎԱԿԱՆԻ ՊԵՏԱԿԱՆ ԲՅՈՒՋԵԻ ՄԱUԻՆ» ՀԱՅԱUՏԱՆԻ ՀԱՆՐԱՊԵՏՈՒԹՅԱՆ OՐԵՆՔԻ N 1 ՀԱՎԵԼՎԱԾԻ N 2 ԱՂՅՈՒՍԱԿՈՒՄ ԿԱՏԱՐՎՈՂ ՎԵՐԱԲԱՇԽՈՒՄԸ ԵՎ ՀԱՅԱՍՏԱՆԻ ՀԱՆՐԱՊԵՏՈՒԹՅԱՆ ԿԱՌԱՎԱՐՈՒԹՅԱՆ 2022 ԹՎԱԿԱՆԻ ԴԵԿՏԵՄԲԵՐԻ 29-Ի N2111-Ն ՈՐՈՇՄԱՆ N5 ՀԱՎԵԼՎԱԾԻ N1 ԱՂՅՈՒՍԱԿՈՒՄ ԿԱՏԱՐՎՈՂ ՓՈՓՈԽՈՒԹՅՈՒՆՆԵՐԸ ԵՎ ԼՐԱՑՈՒՄՆԵՐԸ
A7: Ծրագրային դասիչը | C7: Բյուջետային գլխավոր կարգադրիչների, ծրագրերի և միջոցառումների անվանումները | D7: Ցուցանիշների փոփոխությունները (Ավելացումները նշված են դրական նշանով, իսկ նվազեցումները՝ փակագծերում)
A8: Ծրագիր | B8: Միջոցառում | D8: Առաջին կիսամյակ | E8: Ինն ամիս | F8: Տարի
C9: Ընդամենը | D9: =D10+D24 -> 0 | E9: =E10+E24 -> 0 | F9: =F10+F24 -> 0
C10: ՀՀ արտակարգ իրավիճակների նախարարություն | D10: =+D11 -> 0 | E10: =+E11 -> 0 | F10: =+F11 -> 19787.9
A11: 1112 | C11: Ծրագրի անվանումը` | D11: =+D18 -> 0 | E11: =+E18 -> 0 | F11: =+F18 -> 19787.9
C12: Արտակարգ իրավիճակների բնագավառի պետական քաղաքականության մշակում, ծրագրերի համակարգում և մոնիտորինգ
C14: Արտակարգ իրավիճակների բնագավառում պետական արդյունավետ քաղաքականության մշակման և իրականացման ապահովում
C15: Վերջնական արդյունքի նկարագրությունը`
C16: Արտակարգ իրավիճակների քաղաքականության իրագործմանն ուղղված ծրագրերի ազդեցության և արդյունավետության բարելավում
A17: Ծրագրի միջոցառումներ
B18: 31003 | C18: Միջոցառման անվանումը` | D18: ='2'!G22 -> 0 | E18: ='2'!H22 -> 0 | F18: ='2'!I22 -> 19787.9
C19: ՀՀ արտակարգ իրավիճակների նախարարության Կոտայքի մարզի Գետարգել գյուղի տարածքում անգարի կառուցում
C20: Միջոցառման նկարագրությունը`
C21: ՀՀ արտակարգ իրավիճակների նախարարությանԿոտայքի մարզի Գետարգել գյուղի տարածքում անգարի կառուցուման աշխատանքներ
C22: Միջոցառման տեսակը
C23: Պետական մարմինների կողմից օգտագործվող ոչ ֆինանասական ակտիվների հետ գործառույթներ
C24: ՀՀ կառավարություն | D24: =D25 -> 0 | E24: =E25 -> 0 | F24: =F25 -> -19787.9
A25: 1139 | C25: Ծրագրի անվանումը` | D25: =D32 -> 0 | E25: =E32 -> 0 | F25: =F32 -> -19787.9
C26: ՀՀ կառավարության պահուստային ֆոնդ
C27: Ծրագրի նպատակը`
C28: Պետական բյուջեում չկանխատեսված, ինչպես նաեւ բյուջետային երաշխիքների ապահովման ծախսերի ֆինանսավորման ապահովում
C29: Վերջնական արդյունքի նկարագրությունը`
C30: Պահուստային ֆոնդի կառավարման արդյունավետության և թափանցիկության ապահովում
A31: Ծրագրի միջոցառումներ
B32: 11001 | C32: Միջոցառման անվանումը` | D32: ='2'!G47 -> 0 | E32: ='2'!H47 -> 0 | F32: ='2'!I47 -> -19787.9
C33: ՀՀ կառավարության պահուստային ֆոնդ
C34: Միջոցառման նկարագրությունը`
C35: ՀՀ պետական բյուջեում նախատեսված ելքերի լրացուցիչ ֆինանսավորման, պետական բյուջեում չկանխատեսված ելքերի, ինչպես նաև բյուջետային երաշխիքների ապահովման ելքերի ֆինանսավորման ապահովում
C36: Միջոցառման տեսակը
C37: Ծառայությունների մատուցում
A40: ՀԱՅԱՍՏԱՆԻ ՀԱՆՐԱՊԵՏՈՒԹՅԱՆ ՎԱՐՉԱՊԵՏԻ ԱՇԽԱՏԱԿԱԶՄԻ
A41: ՂԵԿԱՎԱՐ Ա. ՀԱՐՈՒԹՅՈՒՆՅԱՆ

Sheet 2
H1: Հավելված N 2
G2: ՀՀ կառավարության 2023 թվականի
G3: ___________ ___-ի N _______ -Ն որոշման
A5: ՀԱՅԱՍՏԱՆԻ ՀԱՆՐԱՊԵՏՈՒԹՅԱՆ ԿԱՌԱՎԱՐՈՒԹՅԱՆ 2022 ԹՎԱԿԱՆԻ ԴԵԿՏԵՄԲԵՐԻ 29-Ի N 2111-Ն ՈՐՈՇՄԱՆ N 3 ԵՎ N 4 ՀԱՎԵԼՎԱԾՆԵՐՈՒՄ ԿԱՏԱՐՎՈՂ ՓՈՓՈԽՈՒԹՅՈՒՆՆԵՐԸ ԵՎ ԼՐԱՑՈՒՄՆԵՐԸ
A7: Գործառական դասիչը | D7: Ծրագրային դասիչը | F7: Բյուջետային ծախսերի գործառական դասակարգման բաժինների, խմբերի և դասերի, բյուջետային ծրագրերի միջոցառումների, բյուջետային հատկացումների գլխավոր կարգադրիչների անվանումները | G7: Ցուցանիշների փոփոխությունները (Ավելացումները նշված են դրական նշանով, իսկ նվազեցումները՝ փակագծերում)
G8: Առաջին կիսամյակ | H8: Ինն ամիս | I8: Տարի
A9: Բաժին | B9: Խումբ | C9: Դաս | D9: Ծրագիր | E9: Միջոցա ռում
F10: ԸՆԴԱՄԵՆԸ ԾԱԽՍԵՐ | G10: =G11+G29 -> 0 | H10: =H11+H29 -> 0 | I10: =I11+I29 -> 0
A11: 03 | F11: ՀԱՍԱՐԱԿԱԿԱՆ ԿԱՐԳ, ԱՆՎՏԱՆԳՈՒԹՅՈՒՆ ԵՎ ԴԱՏԱԿԱՆ ԳՈՐԾՈՒՆԵՈՒԹՅՈՒՆ | G11: =+G13 -> 0 | H11: =+H13 -> 0 | I11: =+I13 -> 19787.9
F12: այդ թվում`
B13: 02 | F13: Փրկարար ծառայություն | G13: =+G15 -> 0 | H13: =+H15 -> 0 | I13: =+I15 -> 19787.9
F14: այդ թվում`
C15: 01 | F15: Փրկարար ծառայություն | G15: =G18 -> 0 | H15: =H18 -> 0 | I15: =I18 -> 19787.9
F16: այդ թվում`
F17: ՀՀ արտակարգ իրավիճակների նախարարություն | G17: =G18 -> 0 | H17: =H18 -> 0 | I17: =I18 -> 19787.9
D18: 1112 | F18: Արտակարգ իրավիճակների բնագավառի պետական քաղաքականության մշակում, ծրագրերի համակարգում և մոնիտորինգ | G18: =G22 -> 0 | H18: =H22 -> 0 | I18: =I22 -> 19787.9
F19: այդ թվում`
E20: 31003 | F20: ՀՀ արտակարգ իրավիճակների նախարարության Կոտայքի մարզի Գետարգել գյուղի տարածքում անգարի կառուցում | G20: =G22 -> 0 | H20: =H22 -> 0 | I20: =I22 -> 19787.9
F21: այդ թվում` ըստ կատարողների
F22: ՀՀ արտակարգ իրավիճակների նախարարություն | G22: =+G24 -> 0 | H22: =+H24 -> 0 | I22: =+I24 -> 19787.9
F23: այդ թվում` բյուջետային ծախսերի տնտեսագիտական դասակարգման հոդվածներ
F24: ԸՆԴԱՄԵՆԸ ԾԱԽՍԵՐ | G24: =G25 -> 0 | H24: =H25 -> 0 | I24: =I25 -> 19787.9
F25: ՈՉ ՖԻՆԱՆՍԱԿԱՆ ԱԿՏԻՎՆԵՐԻ ԳԾՈՎ ԾԱԽՍԵՐ | G25: =G26 -> 0 | H25: =H26 -> 0 | I25: =I26 -> 19787.9
F26: ՀԻՄՆԱԿԱՆ ՄԻՋՈՑՆԵՐ | G26: =G27 -> 0 | H26: =H27 -> 0 | I26: =I27 -> 19787.9
F27: ՇԵՆՔԵՐ ԵՎ ՇԻՆՈՒԹՅՈՒՆՆԵՐ | G27: =G28 -> 0 | H27: =H28 -> 0 | I27: =I28 -> 19787.9
F28: - Շենքերի և շինությունների շինարարություն | G28: 0 | H28: 0 | I28: 19787.9
A29: 11 | F29: ՀԻՄՆԱԿԱՆ ԲԱԺԻՆՆԵՐԻՆ ՉԴԱՍՎՈՂ ՊԱՀՈՒՍՏԱՅԻՆ ՖՈՆԴԵՐ | G29: =+G35 -> 0 | H29: =+H35 -> 0 | I29: =+I35 -> -19787.9
F30: այդ թվում`
B31: 01 | F31: ՀՀ կառավարության և համայնքների պահուստային ֆոնդ | G31: =+G33 -> 0 | H31: =+H33 -> 0 | I31: =+I33 -> -19787.9
F32: այդ թվում`
C33: 01 | F33: ՀՀ կառավարության պահուստային ֆոնդ | G33: =+G35 -> 0 | H33: =+H35 -> 0 | I33: =+I35 -> -19787.9
F34: այդ թվում
F35: ՀՀ կառավարություն | G35: =+G37 -> 0 | H35: =+H37 -> 0 | I35: =+I37 -> -19787.9
F36: այդ թվում
D37: 1139 | F37: ՀՀ կառավարության պահուստային ֆոնդ | G37: =G39 -> 0 | H37: =H39 -> 0 | I37: =I39 -> -19787.9
F38: այդ թվում
E39: 11001 | F39: ՀՀ կառավարության պահուստային ֆոնդ | G39: =G41 -> 0 | H39: =H41 -> 0 | I39: =I41 -> -19787.9
F40: այդ թվում` ըստ կատարողների
F41: ՀՀ կառավարություն | G41: =G43 -> 0 | H41: =H43 -> 0 | I41: =I43 -> -19787.9
F42: այդ թվում` բյուջետային ծախսերի տնտեսագիտական դասակարգման հոդվածներ
...

Sheet 3
A1: Հավելված N 3
F2: ՀՀ կառավարության 2023 թվականի -ի N -Ն որոշման
C3: «ՀԱՅԱՍՏԱՆԻ ՀԱՆՐԱՊԵՏՈՒԹՅԱՆ 2023 ԹՎԱԿԱՆԻ ՊԵՏԱԿԱՆ ԲՅՈՒՋԵԻ ՄԱՍԻՆ» ՀԱՅԱՍՏԱՆԻ ՀԱՆՐԱՊԵՏՈՒԹՅԱՆ ՕՐԵՆՔԻ N 1 ՀԱՎԵԼՎԱԾԻ N3 ԱՂՅՈՒՍԱԿՈՒՄ ԿԱՏԱՐՎՈՂ ՓՈՓՈԽՈՒԹՅՈՒՆՆԵՐԸ ԵՎ ԼՐԱՑՈՒՄՆԵՐԸ
G4: հազար դրամներով
A5: Ծրագրային դասիչ | C5: Բյուջետային գլխավոր կարգադրիչների, ծրագրերի, միջոցառումների և ուղղությունների անվանումները | D5: Ընդամենը, | E5: Ցուցանիշների փոփոխությունը (ավելացումները նշված են դրական նշանով)
A6: Ծրագիր | B6: Միջոցառում | E6: Կառուցման աշխատանքներ | F6: Վերակառուցման, վերանորոգման և վերականգնման աշխատանքներ | G6: Նախագծահե- տազոտական, գեոդեզիա- քարտեզագրա- կան աշխա- տանքներ | H6: Ոչ ֆինանսական այլ ակտիվների ձեռքբերում
C7: ԸՆԴԱՄԵՆԸ | D7: =+F7+G7+H7+E7 -> 0 | E7: =+E9+E12 -> 0 | F7: =+F9 -> 0 | G7: =+G9 -> 0 | H7: =+H9 -> 0
C8: այդ թվում`
C9: ՀՀ ԱՐՏԱԿԱՐԳ ԻՐԱՎԻՃԱԿՆԵՐԻ ՆԱԽԱՐԱՐՈՒԹՅՈՒՆ | D9: =+F9+G9+H9+E9 -> 19787.9 | E9: =E11 -> 19787.9 | F9: =F11 -> 0 | G9: =G11 -> 0 | H9: =H11 -> 0
C10: այդ թվում`
A11: 1112 | B11: 31003 | C11: ՀՀ արտակարգ իրավիճակների նախարարության Կոտայքի մարզի Գետարգել գյուղի տարածքում անգարի կառուցում | D11: =+F11+G11+H11+E11 -> 19787.9 | E11: 19787.9 | F11: 0 | G11: 0 | H11: 0
C12: ՀՀ ԿԱՌԱՎԱՐՈՒԹՅՈՒՆ | D12: =D14 -> -19787.9 | E12: =E14 -> -19787.9
C13: այդ թվում`
A14: 1139 | B14: 11001 | C14: Պահուստային ֆոնդ | D14: =+F14+G14+H14+E14 -> -19787.9 | E14: -19787.9 | F14: 0 | G14: 0 | H14: 0
A18: ՀԱՅԱՍՏԱՆԻ ՀԱՆՐԱՊԵՏՈՒԹՅԱՆ ՎԱՐՉԱՊԵՏԻ ԱՇԽԱՏԱԿԱԶՄԻ
A19: ՂԵԿԱՎԱՐ Ա. ՀԱՐՈՒԹՅՈՒՆՅԱՆ

Sheet 4
B1: Հավելված N 4 ՀՀ կառավարության 2023 թվականի __________-ի ____-ի N _____-Ն որոշման
A3: ՀԱՅԱՍՏԱՆԻ ՀԱՆՐԱՊԵՏՈՒԹՅԱՆ ԿԱՌԱՎԱՐՈՒԹՅԱՆ 2022 ԹՎԱԿԱՆԻ ԴԵԿՏԵՄԲԵՐԻ 29-Ի N 2111-Ն ՈՐՈՇՄԱՆ N 5 ՀԱՎԵԼՎԱԾԻ N 2 ԱՂՅՈՒՍԱԿՈՒՄ ԿԱՏԱՐՎՈՂ ՓՈՓՈԽՈՒԹՅՈՒՆՆԵՐԸ ԵՎ ԼՐԱՑՈՒՄՆԵՐԸ
A5: Ծրագրային դասիչ | C5: Բյուջետային գլխավոր կարգադրիչների, ծրագրերի, միջոցառումների, միջոցառումները կատարող պետական մարմինների և ուղղությունների անվանումները | D5: Ցուցանիշների փոփոխությունը (ավելացումները նշված են դրական նշանով)
A6: Ծրագիր | B6: Միջոցառում | D6: Առաջին կիսամյակ | E6: Ինն ամիս | F6: Տարի
C7: ԸՆԴԱՄԵՆԸ | D7: =+D9+D18 -> 0 | E7: =+E9+E20 -> 0 | F7: =+F9+F20 -> 0
C8: այդ թվում՝
C9: ՀՀ ԱՐՏԱԿԱՐԳ ԻՐԱՎԻՃԱԿՆԵՐԻ ՆԱԽԱՐԱՐՈՒԹՅՈՒՆ | D9: =+D13 -> 0 | E9: =+E13 -> 0 | F9: =+F13 -> 19787.9
C10: այդ թվում`
C11: ՀՀ արտակարգ իրավիճակների նախարարություն
A12: 1112 | C12: Արտակարգ իրավիճակների բնագավառի պետական քաղաքականության մշակում, ծրագրերի համակարգում և մոնիտորինգ
B13: 31003 | C13: ՀՀ արտակարգ իրավիճակների նախարարության Կոտայքի մարզի Գետարգել գյուղի տարածքում անգարի կառուցում | D13: =+D14 -> 0 | E13: =+E14 -> 0 | F13: =+F14 -> 19787.9
C14: Կոտայքի մարզի Գետարգել գյուղի տարածքում անգարի կառուցում | D14: 0 | E14: 0 | F14: 19787.9
C15: այդ թվում` ըստ կատարողների
C16: ՀՀ արտակարգ իրավիճակների նախարարություն
C18: ՀՀ ԿԱՌԱՎԱՐՈՒԹՅՈՒՆ | D18: =D20 -> 0 | E18: =E20 -> 0 | F18: =F20 -> -19787.9
C19: այդ թվում`
A20: 1139 | B20: 11001 | C20: Պահուստային ֆոնդ | D20: 0 | E20: 0 | F20: -19787.9
A23: ՀԱՅԱՍՏԱՆԻ ՀԱՆՐԱՊԵՏՈՒԹՅԱՆ ՎԱՐՉԱՊԵՏԻ ԱՇԽԱՏԱԿԱԶՄԻ
A24: ՂԵԿԱՎԱՐ Ա. ՀԱՐՈՒԹՅՈՒՆՅԱՆ

Sheet 5
D1: Հավելված N 5
C2: ՀՀ կառավարության 2023 թվականի
B3: ___________ ___-ի N _______ -Ն որոշման որոշման
A6: ՀԱՅԱՍՏԱՆԻ ՀԱՆՐԱՊԵՏՈՒԹՅԱՆ ԿԱՌԱՎԱՐՈՒԹՅԱՆ 2022 ԹՎԱԿԱՆԻ ԴԵԿՏԵՄԲԵՐԻ 29-Ի N 2111-Ն ՈՐՈՇՄԱՆ N9 ՀԱՎԵԼՎԱԾԻ N9.18 ԵՎ N9.47 ԱՂՅՈՒՍԱԿՆԵՐՈՒՄ ԿԱՏԱՐՎՈՂ ՓՈՓՈԽՈՒԹՅՈՒՆՆԵՐԸ ԵՎ ԼՐԱՑՈՒՄՆԵՐԸ
D8: Աղյուսակ 9.18
A9: ՀՀ արտակարգ իրավիճակների նախարարություն
A10: ՄԱՍ 2. ՊԵՏԱԿԱՆ ՄԱՐՄՆԻ ԳԾՈՎ ԱՐԴՅՈՒՆՔԱՅԻՆ (ԿԱՏԱՐՈՂԱԿԱՆ) ՑՈՒՑԱՆԻՇՆԵՐԸ
A12: Ծրագրի դասիչը | B12: Ծրագրի անվանումը
A13: 1112 | B13: Արտակարգ իրավիճակների բնագավառի պետական քաղաքականության մշակում, ծրագրերի համակարգում և մոնիտորինգ
A14: Ծրագրի միջոցառումները
A16: Ծրագրի դասիչը` | B16: 1112 | C16: Ցուցանիշների փոփոխությունները (ավելացումները նշված են դրական նշանով)
A17: Միջոցառման դասիչը` | B17: 31003 | C17: Առաջին կիսամյակ | D17: Ինն ամիս | E17: Տարի
A18: Միջոցառման անվանումը` | B18: ՀՀ արտակարգ իրավիճակների նախարարության Կոտայքի մարզի Գետարգել գյուղի տարածքում անգարի կառուցում
A19: Նկարագրությունը` | B19: ՀՀ արտակարգ իրավիճակների նախարարությանԿոտայքի մարզի Գետարգել գյուղի տարածքում անգարի կառուցուման աշխատանքներ
A20: Միջոցառման տեսակը` | B20: Պետական մարմինների կողմից օգտագործվող ոչ ֆինանասական ակտիվների հետ գործառույթներ
A21: Միջոցառումն իրականացնողի անվանումը | B21: ՀՀ արտակարգ իրավիճակների նախարարություն
A22: Արդյունքի չափորոշիչներ
A23: Միջոցառման վրա կատարվող ծախսը (հազար դրամ) | C23: ='2'!G28 -> 0 | D23: ='2'!H28 -> 0 | E23: ='2'!I28 -> 19787.9
D25: Աղյուսակ 9.47
A26: ՀՀ կառավարություն
A27: ՄԱՍ 2. ՊԵՏԱԿԱՆ ՄԱՐՄՆԻ ԳԾՈՎ ԱՐԴՅՈՒՆՔԱՅԻՆ (ԿԱՏԱՐՈՂԱԿԱՆ) ՑՈՒՑԱՆԻՇՆԵՐԸ
A29: Ծրագրի դասիչը | B29: Ծրագրի անվանումը
A30: 1139 | B30: ՀՀ կառավարության պահուստային ֆոնդ
A32: Ծրագրի միջոցառումները
A34: Ծրագրի դասիչը` | B34: 1139 | C34: Ցուցանիշների փոփոխությունները (նվազեցումները նշված են փակագծերում)
A35: Միջոցառման դասիչը` | B35: 11001 | C35: Առաջին կիսամյակ | D35: Ինն ամիս | E35: Տարի
A36: Միջոցառման անվանումը` | B36: ՀՀ կառավարության պահուստային ֆոնդ
A37: Նկարագրությունը` | B37: ՀՀ պետական բյուջեում նախատեսված ելքերի լրացուցիչ ֆինանսավորման, պետական բյուջեում չկանխատեսված ելքերի, ինչպես նաև բյուջետային երաշխիքների ապահովման ելքերի ֆինանսավորման ապահովում
A38: Միջոցառման տեսակը` | B38: Ծառայությունների մատուցում
B39: Արդյունքի չափորոշիչներ
A40: Արդյունքի չափորոշիչներ
A41: Միջոցառման վրա կատարվող ծախսը (հազար դրամ) | C41: ='2'!G47 -> 0 | D41: ='2'!H47 -> 0 | E41: ='2'!I47 -> -19787.9
A44: ՀԱՅԱՍՏԱՆԻ ՀԱՆՐԱՊԵՏՈՒԹՅԱՆ ՎԱՐՉԱՊԵՏԻ ԱՇԽԱՏԱԿԱԶՄԻ
A45: ՂԵԿԱՎԱՐ Ա. ՀԱՐՈՒԹՅՈՒՆՅԱՆ

Sheet 6
D1: Հավելված N 6
C2: ՀՀ կառավարության 2023 թվականի
C3: ___________ ___-ի N _______ -Ն որոշման
A6: ՀԱՅԱՍՏԱՆԻ ՀԱՆՐԱՊԵՏՈՒԹՅԱՆ ԿԱՌԱՎԱՐՈՒԹՅԱՆ 2022 ԹՎԱԿԱՆԻ ԴԵԿՏԵՄԲԵՐԻ 29-Ի N 2111-Ն ՈՐՈՇՄԱՆ N9.1 ՀԱՎԵԼՎԱԾԻ N9.1.18 ԵՎ N9.1.58 ԱՂՅՈՒՍԱԿՆԵՐՈՒՄ ԿԱՏԱՐՎՈՂ ՓՈՓՈԽՈՒԹՅՈՒՆՆԵՐԸ ԵՎ ԼՐԱՑՈՒՄՆԵՐԸ
D7: Աղյուսակ 9.1.18
A8: ՀՀ արտակարգ իրավիճակների նախարարություն
A9: ՄԱՍ 1. ՊԵՏԱԿԱՆ ՄԱՐՄՆԻ ԳԾՈՎ ԱՐԴՅՈՒՆՔԱՅԻՆ (ԿԱՏԱՐՈՂԱԿԱՆ) ՑՈՒՑԱՆԻՇՆԵՐԸ
A12: Ծրագրի դասիչը | B12: Ծրագրի անվանումը
A13: 1112 | B13: Արտակարգ իրավիճակների բնագավառի պետական քաղաքականության մշակում, ծրագրերի համակարգում և մոնիտորինգ
A15: Ծրագրի միջոցառումները
A16: Ծրագրի դասիչը` | B16: 1112 | C16: Ցուցանիշների փոփոխությունները (ավելացումները նշված են դրական նշանով)
A17: Միջոցառման դասիչը` | B17: 31003 | C17: Առաջին կիսամյակ | D17: Ինն ամիս | E17: Տարի
A18: Միջոցառման անվանումը` | B18: ՀՀ արտակարգ իրավիճակների նախարարության Կոտայքի մարզի Գետարգել գյուղի տարածքում անգարի կառուցում
A19: Նկարագրությունը` | B19: ՀՀ արտակարգ իրավիճակների նախարարությանԿոտայքի մարզի Գետարգել գյուղի տարածքում անգարի կառուցուման աշխատանքներ
A20: Միջոցառման տեսակը` | B20: Պետական մարմինների կողմից օգտագործվող ոչ ֆինանասական ակտիվների հետ գործառույթներ
A21: Միջոցառումն իրականացնողի անվանումը | B21: ՀՀ արտակարգ իրավիճակների նախարարություն
A22: Արդյունքի չափորոշիչներ
A23: Միջոցառման վրա կատարվող ծախսը (հազար դրամ) | C23: =+'5'!C23 -> 0 | D23: =+'5'!D23 -> 0 | E23: =+'5'!E23 -> 19787.9
D26: Աղյուսակ 9.1.58
A27: ՀՀ կառավարություն
A28: ՄԱՍ 1. ՊԵՏԱԿԱՆ ՄԱՐՄՆԻ ԳԾՈՎ ԱՐԴՅՈՒՆՔԱՅԻՆ (ԿԱՏԱՐՈՂԱԿԱՆ) ՑՈՒՑԱՆԻՇՆԵՐԸ
A29: Ծրագրի դասիչը | B29: Ծրագրի անվանումը
A30: 1139 | B30: ՀՀ կառավարության պահուստային ֆոնդ
A32: Ծրագրի միջոցառումները
A34: Ծրագրի դասիչը` | B34: 1139 | C34: Ցուցանիշների փոփոխությունները (նվազեցումները նշված են փակագծերում)
A35: Միջոցառման դասիչը` | B35: 11001 | C35: Առաջին կիսամյակ | D35: Ինն ամիս | E35: Տարի
A36: Միջոցառման անվանումը` | B36: ՀՀ կառավարության պահուստային ֆոնդ
A37: Նկարագրությունը` | B37: ՀՀ պետական բյուջեում նախատեսված ելքերի լրացուցիչ ֆինանսավորման, պետական բյուջեում չկանխատեսված ելքերի, ինչպես նաև բյուջետային երաշխիքների ապահովման ելքերի ֆինանսավորման ապահովում
A38: Միջոցառման տեսակը` | B38: Ծառայությունների մատուցում
B39: Արդյունքի չափորոշիչներ
A40: Արդյունքի չափորոշիչներ
A41: Միջոցառման վրա կատարվող ծախսը (հազար դրամ) | C41: =+'5'!C41 -> 0 | D41: =+'5'!D41 -> 0 | E41: =+'5'!E41 -> -19787.9
A44: ՀԱՅԱՍՏԱՆԻ ՀԱՆՐԱՊԵՏՈՒԹՅԱՆ ՎԱՐՉԱՊԵՏԻ ԱՇԽԱՏԱԿԱԶՄԻ
A45: ՂԵԿԱՎԱՐ Ա. ՀԱՐՈՒԹՅՈՒՆՅԱՆ

Sheet 7
F1: Հավելված N 7
E2: ՀՀ կառավարության 2023 թվականի
E3: ______________ ի ___Ն որոշման
A4: ՀԱՅԱՍՏԱՆԻ ՀԱՆՐԱՊԵՏՈՒԹՅԱՆ ԿԱՌԱՎԱՐՈՒԹՅԱՆ 2022 ԹՎԱԿԱՆԻ ԴԵԿՏԵՄԲԵՐԻ 29-Ի N 2111-Ն ՈՐՈՇՄԱՆ N 10 ՀԱՎԵԼՎԱԾՈՒՄ ԿԱՏԱՐՎՈՂ ՓՈՓՈԽՈՒԹՅՈՒՆՆԵՐԸ ԵՎ ԼՐԱՑՈՒՄՆԵՐԸ
A5: Գնման առարկայի | G5: Գումարը (հազար դրամով) Ցուցանիշների փոփոխությունը (ավելացումները նշված են դրական նշանով)
A6: Կոդը | B6: Անվանումը | C6: Գնման ձև | D6: Չափման միավորը | E6: Միավորի գինը | F6: Քանակը
A8: ՀՀ արտակարգ իրավիճակների նախարարություն
A9: Բաժին N 03 | B9: Խումբ N 02 | C9: Դաս N 01 | D9: Փրկարար ծառայություն | G9: =G10 -> 19787.864
A10: 1112 31003 | B10: ՀՀ արտակարգ իրավիճակների նախարարության Կոտայքի մարզի Գետարգել գյուղի տարածքում անգարի կառուցում | G10: =G12 -> 19787.864
A11: ՄԱՍII. ԱՇԽԱՏԱՆՔՆԵՐ | G11: =+G12 -> 19787.864
A12: 45211280-502 | B12: արտակարգ իրավիճակներին առնչվող շենքերի կառուցման աշխատանքներ | C12: ՀԲՄ | D12: դրամ | E12: 19787864 | F12: 1 | G12: =E12*F12/1000 -> 19787.864
