Workbook
Name AgencyCode: #REF!
Name AgencyCode: #REF!
Name AgencyCode: #REF!
Name AgencyCode: #REF!
Name AgencyCode: #REF!
Name AgencyCode: #REF!
Name AgencyCode: #REF!
Name AgencyName: #REF!
Name AgencyName: #REF!
Name AgencyName: #REF!
Name AgencyName: #REF!
Name AgencyName: #REF!
Name AgencyName: #REF!
Name åû: #REF!
Name åû: #REF!
Name åû: #REF!
Name åû: #REF!
Name davit: #REF!
Name davit: #REF!
Name davit: #REF!
Name davit: #REF!
Name Functional1: #REF!
Name Functional1: #REF!
Name Functional1: #REF!
Name Functional1: #REF!
Name Functional1: #REF!
Name Functional1: #REF!
Name ggg: #REF!
Name ggg: #REF!
Name ggg: #REF!
Name ggg: #REF!
Name mas: #REF!
Name mas: #REF!
Name mas: #REF!
Name mas: #REF!
Name mass: #REF!
Name mass: #REF!
Name mass: #REF!
Name mass: #REF!
Name PANature: #REF!
Name PANature: #REF!
Name PANature: #REF!
Name PANature: #REF!
Name PANature: #REF!
Name PANature: #REF!
Name PAType: #REF!
Name PAType: #REF!
Name PAType: #REF!
Name PAType: #REF!
Name PAType: #REF!
Name PAType: #REF!
Name Performance2: #REF!
Name Performance2: #REF!
Name Performance2: #REF!
Name Performance2: #REF!
Name Performance2: #REF!
Name Performance2: #REF!
Name PerformanceType: #REF!
Name PerformanceType: #REF!
Name PerformanceType: #REF!

Sheet Հավելված 1
G2: Հավելված N 1
G3: ՀՀ կառավարության 2023 թվականի
G4: ______________ ի ___Ն որոշման
B6: «ՀԱՅԱUՏԱՆԻ ՀԱՆՐԱՊԵՏՈՒԹՅԱՆ 2023 ԹՎԱԿԱՆԻ ՊԵՏԱԿԱՆ ԲՅՈՒՋԵԻ ՄԱUԻՆ» OՐԵՆՔԻ N 1 ՀԱՎԵԼՎԱԾԻ N 2 ԱՂՅՈՒՍԱԿՈՒՄ ԿԱՏԱՐՎՈՂ ՎԵՐԱԲԱՇԽՈՒՄԸ ԵՎ ՀԱՅԱՍՏԱՆԻ ՀԱՆՐԱՊԵՏՈՒԹՅԱՆ ԿԱՌԱՎԱՐՈՒԹՅԱՆ 2022 ԹՎԱԿԱՆԻ ԴԵԿՏԵՄԲԵՐԻ 29-Ի N 2111-Ն ՈՐՈՇՄԱՆ N5 ՀԱՎԵԼՎԱԾԻ N1 ԱՂՅՈՒՍԱԿՈՒՄ ԿԱՏԱՐՎՈՂ ՓՈՓՈԽՈՒԹՅՈՒՆՆԵՐՆ ՈՒ ԼՐԱՑՈՒՄՆԵՐԸ
G7: հազար դրամ
B8: Ծրագրային դասիչը | D8: Բյուջետային հատկացումների գլխավոր կարգադրիչների, ծրագրերի և միջոցառումների անվանումները | E8: Ցուցանիշների փոփոխությունը (ավելացումները նշված են դրական նշանով, իսկ նվազեցումները` փակագծերում)
B9: Ծրագիր | C9: Միջոցառում | E9: Առաջին կիսամյակ | F9: Ինն ամիս | G9: Տարի
D10: ՀՀ տարածքային կառավարման և ենթակառուցվածքների նախարարություն | E10: =+E11+E60 -> 0 | F10: =+F11+F60 -> 0 | G10: =+G11+G60 -> 0
B11: 1049 | D11: Ծրագրի անվանումը` | E11: =E18+E24+E30+E36+E42+E48+E54 -> 0 | F11: =F18+F24+F30+F36+F42+F48+F54 -> 3400000 | G11: =G18+G24+G30+G36+G42+G48+G54 -> 3400000
D12: Ճանապարհային ցանցի բարելավում
D13: Ծրագրի նպատակը`
D14: Ճանապարհային ցանցի բարելավում և անվտանգ երթևեկության ապահովում
D15: Վերջնական արդյունքի նկարագրությունը՝
D16: Ճանապարհների ծածկի որակի և փոխադրումների արդյունավետության բարելավում, ճանապարհների վիճակով պայմանավորված պատահարների նվազում
B17: Ծրագրի միջոցառումներ
C18: 11012 | D18: Միջոցառման անվանումը` | E18: =+'Հավելված 3'!H42 -> 0 | F18: =+'Հավելված 3'!I42 -> -1100000 | G18: =+'Հավելված 3'!J42 -> -1911272
D19: Եվրասիական զարգացման բանկի աջակցությամբ իրականացվող Հյուսիս-հարավ միջանցքի զարգացման ծրագրի համակարգում և կառավարում
D20: Միջոցառման նկարագրությունը`
D21: Խորհրդատվական ծառայություններ և պահպանման ծախսեր
D22: Միջոցառման տեսակը
D23: Ծառայությունների մատուցում
C24: 11016 | D24: Միջոցառման անվանումը` | E24: ='[1]Հավելված 2'!G33 -> 0 | F24: ='[1]Հավելված 2'!H33 -> 0 | G24: ='[1]Հավելված 2'!I33 -> -1500000
D25: Հյուսիս-հարավ ճանապարհային միջանցքի զարգացման ծրագրի Սիսիան-Քաջարան 60կմ-ի համակարգում և կառավարում
D26: Միջոցառման նկարագրությունը`
D27: Հյուսիս-հարավ ճանապարհային միջանցքի զարգացման ծրագրի շրջանակներում հողերի օտարում (Սիսիան-Քաջարան 60կմ)
D28: Միջոցառման տեսակը
D29: Ծառայությունների մատուցում
C30: 11017 | D30: Միջոցառման անվանումը` | E30: ='[1]Հավելված 2'!G42 -> 0 | F30: ='[1]Հավելված 2'!H42 -> -200000 | G30: ='[1]Հավելված 2'!I42 -> -600000
D31: Հյուսիս-հարավ ճանապարհային միջանցքի զարգացման ծրագրի Քաջարանի թունելի և մոտեցումների համակարգում և կառավարում
D32: Միջոցառման նկարագրությունը`
D33: Հյուսիս-հարավ ճանապարհային միջանցքի զարգացման ծրագրի շրջանակներում հողերի օտարում (Քաջարանի թունել և մոտեցում)
D34: Միջոցառման տեսակը
D35: Ծառայությունների մատուցում
C36: 21001 | D36: Միջոցառման անվանումը` | E36: =+'Հավելված 6'!E14 -> 0 | F36: =+'Հավելված 6'!F14 -> 6306078.1 | G36: =+'Հավելված 6'!G14 -> 11454342
D37: Պետական նշանակության ավտոճանապարհների հիմնանորոգում
D38: Միջոցառման նկարագրությունը`
D39: Միջպետական, հանրապետական և մարզային նշանակության ավտոճոնապարհների քայքայված ծածկի վերանորոգում, մաշված ծածկի փոխարինում
D40: Միջոցառման տեսակը
D41: Հանրության կողմից անմիջականորեն օգտագործվող ակտիվների հետ կապված միջոցառումներ
C42: 21002 | D42: Միջոցառման անվանումը` | E42: =+'Հավելված 6'!E47 -> 0 | F42: =+'Հավելված 6'!F47 -> -492415.7 | G42: =+'Հավելված 6'!G47 -> -4043069.9
...

Sheet Հավելված 2
I1: Հավելված N 2
I2: ՀՀ կառավարության 2023 թվականի
I3: ______________ ի ___Ն որոշման
B4: «ՀԱՅԱՍՏԱՆԻ ՀԱՆՐԱՊԵՏՈՒԹՅԱՆ 2023 ԹՎԱԿԱՆԻ ՊԵՏԱԿԱՆ ԲՅՈՒՋԵԻ ՄԱՍԻՆ» ՕՐԵՆՔԻ N 1 ՀԱՎԵԼՎԱԾԻ N 3 ԱՂՅՈՒՍԱԿՈՒՄ ԿԱՏԱՐՎՈՂ ՓՈՓՈԽՈՒԹՅՈՒՆՆԵՐՆ ՈՒ ԼՐԱՑՈՒՄՆԵՐԸ
H5: հազար դրամ
B6: Ծրագրային դասիչ | D6: Բյուջետային գլխավոր կարգադրիչների, ծրագրերի, միջոցառումների և ուղղությունների անվանումները | E6: Ցուցանիշների փոփոխությունը (Ավելացումները նշված են դրական նշանով, իսկ նվազեցումները` փակագծերում)
E7: Ընդամենը, | F7: այդ թվում՝
B8: Ծրագիր | C8: Միջոցառում | F8: Կառուցման աշխատանքներ | G8: Վերակառուցման, վերանորոգման և վերականգնման աշխատանքներ | H8: Նախագծահե- տազոտական, գեոդեզիա- քարտեզագրա- կան աշխա- տանքներ | I8: Ոչ ֆինանսական այլ ակտիվների ձեռքբերում
D9: ԸՆԴԱՄԵՆԸ | E9: =+F9+G9+H9+I9 -> 7411272 | F9: =+F11 -> 0 | G9: =+G11 -> 7411272 | H9: =+H11 -> 0 | I9: =+I11 -> 0
D10: այդ թվում՝
D11: ՀՀ ՏԱՐԱԾՔԱՅԻՆ ԿԱՌԱՎԱՐՄԱՆ ԵՎ ԵՆԹԱԿԱՌՈՒՑՎԱԾՔՆԵՐԻ ՆԱԽԱՐԱՐՈՒԹՅՈՒՆ | E11: =+F11+G11+H11+I11 -> 7411272 | F11: =F44+F13+F14+F45 -> 0 | G11: =G44+G13+G14+G45 -> 7411272 | H11: =H44+H13+H14+H45 -> 0 | I11: =I44+I13+I14+I45 -> 0
D12: այդ թվում`
B13: 1049 | C13: 21001 | D13: Պետական նշանակության ավտոճանապարհների հիմնանորոգում | E13: =+F13+G13+H13+I13 -> -7390741.1 | F13: 0 | G13: =+'Հավելված 6'!G16 -> -7390741.1 | H13: 0 | I13: 0
B14: 1049 | C14: 21001 | D14: Պետական նշանակության ավտոճանապարհների հիմնանորոգում | E14: =+F14+G14+H14+I14 -> 18845083 | F14: =F16+F26+F35 -> 0 | G14: =G16+G26+G35 -> 18845083 | H14: =H16+H26+H35 -> 0 | I14: 0
D15: այդ թվում`
C16: =+'[2]3'!B17 -> 1 | D16: Միջպետական նշանակության ավտոճանապարհներ, այդ թվում | E16: =+F16+G16+H16+I16 -> 7748843.9 | F16: =SUM(F17:F25) -> 0 | G16: =SUM(G17:G25) -> 7748843.9 | H16: =SUM(H17:H25) -> 0 | I16: =SUM(I17:I25) -> 0
D17: =+'Հավելված 6'!D20 -> Մ-1, Երևան-Գյումրի-Վրաստանի սահման միջպետական նշանակության ավտոճանապարհի կմ160+200-կմ171+700 հատվածի հիմնանորոգում | E17: =+F17+G17+H17+I17 -> 411546.8 | F17: 0 | G17: =+'Հավելված 6'!G20 -> 411546.8 | H17: 0 | I17: 0
D18: =+'Հավելված 6'!D21 -> Մ-2, Երևան-Երասխ-Գորիս-Մեղրի-Իրանի սահման միջպետական նշանակության ավտոճանապարհի կմ77+350 - կմ82+000 հատվածի հիմնանորոգում | E18: =+F18+G18+H18+I18 -> 1132004.7 | F18: 0 | G18: =+'Հավելված 6'!G21 -> 1132004.7 | H18: 0 | I18: 0
D19: =+'Հավելված 6'!D22 -> Մ-2, (Սյունիք) /Մ-2/ - Աղվանի- Տաթև - /Մ-2/ միջպետական նշանակության ավտոճանապարհի Վերին Խոտանանը շրջանցող ճանապարհահատվածի կառուցում (I փուլ) | E19: =+F19+G19+H19+I19 -> 670974.8 | F19: 0 | G19: =+'Հավելված 6'!G22 -> 670974.8 | H19: 0 | I19: 0
D20: =+'Հավելված 6'!D23 -> Մ-2, (Սյունիք) /Մ-2/ - Աղվանի- Տաթև - /Մ-2/ միջպետական նշանակության ավտոճանապարհի Վերին Խոտանանը շրջանցող ճանապարհահատվածի կառուցում (II փուլ) | E20: =+F20+G20+H20+I20 -> 2053275.1 | F20: 0 | G20: =+'Հավելված 6'!G23 -> 2053275.1 | H20: 0 | I20: 0
D21: =+'Հավելված 6'!D24 -> Մ-2, Երևան-Երասխ-Գորիս-Մեղրի-Իրանի սահման միջպետական նշանակության ավտոճանապարհի կմ297+800-կմ311+250 հատվածի հիմնանորոգման աշխատանքների (2-րդ տեղամաս՝ կմ301+820 - կմ311+250 հատված) | E21: =+F21+G21+H21+I21 -> 1010488.9 | F21: 0 | G21: =+'Հավելված 6'!G24 -> 1010488.9 | H21: 0 | I21: 0
D22: =+'Հավելված 6'!D25 -> Մ-10, Սևան-Մարտունի-Գետափ միջպետական նշանակության ավտոճանապարհի կմ66+000-կմ80+000 հատվածի հիմնանորոգում | E22: =+F22+G22+H22+I22 -> 714837.7 | F22: 0 | G22: =+'Հավելված 6'!G25 -> 714837.7 | H22: 0 | I22: 0
D23: =+'Հավելված 6'!D26 -> Մ-11, Մարտունի - Վարդենիս - ՀՀ սահման միջպետական նշանակության ավտոճանապարհի կմ25+500-կմ29+200 հատվածի հիմնանորոգում | E23: =+F23+G23+H23+I23 -> 317993.2 | F23: 0 | G23: =+'Հավելված 6'!G26 -> 317993.2 | H23: 0 | I23: 0
D24: =+'Հավելված 6'!D27 -> Մ-15, /Մ-4/ (Վերին Պտղնի) - Մասիսի տրանսպորտային հանգույց (Երևանի շրջանց) միջպետական նշանակության ավտոճանապարհի կմ0+000-կմ8+200 հատվածի հիմնանորոգում | E24: =+F24+G24+H24+I24 -> 706725 | F24: 0 | G24: =+'Հավելված 6'!G27 -> 706725 | H24: 0 | I24: 0
D25: =+'Հավելված 6'!D28 -> Մ-15, /Մ-4/ (Վերին Պտղնի) - Մասիսի տրանսպորտային հանգույց (Երևանի շրջանց) միջպետական նշանակության ավտոճանապարհի կմ19+900-կմ29+400 հատվածի հիմնանորոգում | E25: =+F25+G25+H25+I25 -> 730997.7 | F25: 0 | G25: =+'Հավելված 6'!G28 -> 730997.7 | H25: 0 | I25: 0
C26: =+'[2]3'!B29 -> 2 | D26: =+'Հավելված 6'!D29 -> Հանրապետական նշանակության ավտոճանապարհներ, այդ թվում | E26: =+F26+G26+H26+I26 -> 6253871.4 | F26: =SUM(F27:F34) -> 0 | G26: =SUM(G27:G34) -> 6253871.4 | H26: =SUM(H27:H34) -> 0 | I26: =SUM(I27:I34) -> 0
D27: =+'Հավելված 6'!D30 -> Հ-12, Մասիսի տրանսպորտային հանգույց - Մասիս - Ռանչպար - Արաքս - Ջրառատ - /Մ-3/ հանրապետական նշանակության ավտոճանապարհի կմ0+000 - կմ9+500 հատվածի հիմնանորոգում | E27: =+F27+G27+H27+I27 -> 762313.3 | F27: 0 | G27: =+'Հավելված 6'!G30 -> 762313.3 | H27: 0 | I27: 0
D28: =+'Հավելված 6'!D31 -> Հ-28,/Հ-55/ - Ջրառատ – Մեղրաձոր - Հանքավան հանրապետական նշանակության ավտոճանապարհի կմ 17+000-կմ 19+000 հատվածի հիմնանորոգում | E28: =+F28+G28+H28+I28 -> 402409.2 | G28: =+'Հավելված 6'!G31 -> 402409.2
D29: =+'Հավելված 6'!D32 -> Հ38,/Հ-30/ (Թթուջուր) – /Հ-36/ (Նավուր) հանրապետական նշանակության ավտոճանապարհի կմ0+000-կմ15+100 հատվածի հիմնանորոգում | E29: =+F29+G29+H29+I29 -> 479440.9 | F29: 0 | G29: =+'Հավելված 6'!G32 -> 479440.9 | H29: 0 | I29: 0
D30: =+'Հավելված 6'!D33 -> Հ38,/Հ-30/ (Թթուջուր) – /Հ-36/ (Նավուր) հանրապետական նշանակության ավտոճանապարհի կմ15+100 - կմ40+100 հատվածի հիմնանորոգում | E30: =+F30+G30+H30+I30 -> 2157748.1 | F30: 0 | G30: =+'Հավելված 6'!G33 -> 2157748.1 | H30: 0 | I30: 0
D31: =+'Հավելված 6'!D34 -> Հ-39, /Մ-10/ - Գավառ - /Մ-10/ հանրապետական նշանակության ավտոճանապարհի կմ4+300-կմ7+700 հատվածի հիմնանորոգում | E31: =+F31+G31+H31+I31 -> 325366 | F31: 0 | G31: =+'Հավելված 6'!G34 -> 325366 | H31: 0 | I31: 0
D32: =+'Հավելված 6'!D35 -> Հ40,/Մ-2/ (Արենի) - Խաչիկ - Գնիշիկ - Եղեգնաձոր հանրապետական նշանակության ավտոճանապարհի կմ 58+000-կմ 70+000 հատվածի հիմնանորոգում | E32: =+F32+G32+H32+I32 -> 980223 | F32: 0 | G32: =+'Հավելված 6'!G35 -> 980223 | H32: 0 | I32: 0
D33: =+'Հավելված 6'!D36 -> Հ-55, Հրազդանի տրանսպորտային հանգույց-Ծաղկաձորի մարզահամալիր հանրապետական նշանակության ավտոճանապարհի կմ0+000 - կմ10+500 հատվածի հիմնանորոգում | E33: =+F33+G33+H33+I33 -> 520213.7 | F33: 0 | G33: =+'Հավելված 6'!G36 -> 520213.7 | H33: 0 | I33: 0
D34: =+'Հավելված 6'!D37 -> Հ85, /Հ-1/ - Հրազդան - /Հ-55/ հանրապետական նշանակության ավտոճանապարհի կմ1+600 - կմ3+300 հատվածների հիմնանորոգում | E34: =+F34+G34+H34+I34 -> 626157.2 | F34: 0 | G34: =+'Հավելված 6'!G37 -> 626157.2 | H34: 0 | I34: 0
C35: =+'[2]3'!B38 -> 3 | D35: =+'[2]3'!C38 -> Մարզային նշանակության ավտոճանապարհներ, այդ թվում | E35: =+F35+G35+H35+I35 -> 4842367.7 | F35: =SUM(F36:F43) -> 0 | G35: =SUM(G36:G43) -> 4842367.7 | H35: =SUM(H36:H43) -> 0 | I35: =SUM(I36:I43) -> 0
D36: =+'Հավելված 6'!D39 -> Տ-5-23, /Մ-3/ - Սարամեջ ավտոճանապարհի կմ0+000-կմ4+300 հատվածի հիմնանորոգում | E36: =+F36+G36+H36+I36 -> 4713.2 | F36: 0 | G36: =+'Հավելված 6'!G39 -> 4713.2 | H36: 0 | I36: 0
D37: =+'Հավելված 6'!D40 -> Տ-8-52 տեղական նշանակության ավտոճանապարհի կմ 8+100-կմ 10+400 (Տ-8-48-ի հետ հատման կետ) և Տ-8-48 տեղական նշանակության ավտոճանապարհի կմ 5+600- կմ 11+200 (Տ-8-49-ի հետ հատման կետ) հատվածների անցանելիության ապահովում և ոլորանների պարամետրերի բարելավում | E37: =+F37+G37+H37+I37 -> 1409399.6 | F37: 0 | G37: =+'Հավելված 6'!G40 -> 1409399.6 | H37: 0 | I37: 0
D38: =+'Հավելված 6'!D41 -> Վանաձոր քաղաքային համայնքի Գրիգոր Լուսավորիչ փողոցի հիմնանորոգում | E38: =+F38+G38+H38+I38 -> 286760 | F38: 0 | G38: =+'Հավելված 6'!G41 -> 286760 | H38: 0 | I38: 0
D39: =+'Հավելված 6'!D42 -> Վանաձոր քաղաքային համայնքի Խորենացի փողոցի (երկու երթևեկելի գոիտիներ /0.4կմ+0.4կմ/) հիմնանորոգում | E39: =+F39+G39+H39+I39 -> 278936.4 | F39: 0 | G39: =+'Հավելված 6'!G42 -> 278936.4 | H39: 0 | I39: 0
D40: =+'Հավելված 6'!D43 -> Վանաձոր քաղաքային համայնքի Մոսկովյան փողոցի հիմնանորոգում | E40: =+F40+G40+H40+I40 -> 259913.7 | F40: 0 | G40: =+'Հավելված 6'!G43 -> 259913.7 | H40: 0 | I40: 0
...

Sheet Հավելված 3
J1: Հավելված N 3
J2: ՀՀ կառավարության 2023 թվականի
J3: ______________ ի ___Ն որոշման
B5: ՀԱՅԱՍՏԱՆԻ ՀԱՆՐԱՊԵՏՈՒԹՅԱՆ ԿԱՌԱՎԱՐՈՒԹՅԱՆ 2022 ԹՎԱԿԱՆԻ ԴԵԿՏԵՄԲԵՐԻ 29-Ի N 2111-Ն ՈՐՈՇՄԱՆ N 3 ԵՎ N 4 ՀԱՎԵԼՎԱԾՆԵՐՈՒՄ ԿԱՏԱՐՎՈՂ ՓՈՓՈԽՈՒԹՅՈՒՆՆԵՐՆ ՈՒ ԼՐԱՑՈՒՄՆԵՐԸ
J7: հազար դրամ
B8: Գործառական դասիչը | E8: Ծրագրային դասիչը | G8: Բյուջետային հատկացումների գլխավոր կարգադրիչների, ծրագրերի, միջոցառումների և միջոցառումները կատարող պետական մարմինների անվանումները | H8: Ցուցանիշների փոփոխությունը (ավելացումները նշված են դրական նշանով, իսկ նվազեցումները` փակագծերում)
B9: Բաժին | C9: Խումբ | D9: Դաս | E9: Ծրագիր | F9: Միջոցառում | H9: Առաջին կիսամյակ | I9: Ինն ամիս | J9: Տարի
G10: ԸՆԴԱՄԵՆԸ | H10: =+H12 -> 0 | I10: =+I12 -> 0 | J10: =+J12 -> 0
G11: այդ թվում
G12: ՀՀ տարածքային կառավարման և ենթակառուցվածքների նախարարություն | H12: =H13+H32 -> 0 | I12: =I13+I32 -> 0 | J12: =J13+J32 -> 0
B13: 01 | G13: ԸՆԴՀԱՆՈՒՐ ԲՆՈՒՅԹԻ ՀԱՆՐԱՅԻՆ ԾԱՌԱՅՈՒԹՅՈՒՆՆԵՐ | H13: =+H15 -> 0 | I13: =+I15 -> -3400000 | J13: =+J15 -> -3400000
G14: այդ թվում`
C15: 08 | G15: Կառավարության տարբեր մակարդակների միջև իրականացվող ընդհանուր բնույթի տրանսֆերտներ | H15: =+H17 -> 0 | I15: =+I17 -> -3400000 | J15: =+J17 -> -3400000
G16: այդ թվում`
D17: 01 | G17: Կառավարության տարբեր մակարդակների միջև իրականացվող ընդհանուր բնույթի տրանսֆերտներ | H17: =+H19 -> 0 | I17: =+I19 -> -3400000 | J17: =+J19 -> -3400000
G18: այդ թվում`
G19: ՀՀ տարածքային կառավարման և ենթակառուցվածքների նախարարություն | H19: =+H21 -> 0 | I19: =+I21 -> -3400000 | J19: =+J21 -> -3400000
G20: այդ թվում`
E21: 1212 | G21: Տարածքային զարգացում | H21: =+H23 -> 0 | I21: =+I23 -> -3400000 | J21: =+J23 -> -3400000
G22: այդ թվում`
F23: 12007 | G23: ՀՀ մարզերին սուբվենցիաների տրամադրում՛ ենթակառուցվածքների զարգացման նպատակով | H23: =+H25 -> 0 | I23: =+I25 -> -3400000 | J23: =+J25 -> -3400000
G24: այդ թվում` ըստ կատարողների
G25: ՀՀ կառավարություն | H25: =+H27 -> 0 | I25: =+I27 -> -3400000 | J25: =+J27 -> -3400000
G26: այդ թվում` բյուջետային ծախսերի տնտեսագիտական դասակարգման հոդվածներ
G27: ԸՆԴԱՄԵՆԸ ԾԱԽՍԵՐ | H27: =+H28 -> 0 | I27: =+I28 -> -3400000 | J27: =+J28 -> -3400000
G28: ԸՆԹԱՑԻԿ ԾԱԽՍԵՐ | H28: =+H29 -> 0 | I28: =+I29 -> -3400000 | J28: =+J29 -> -3400000
G29: ԴՐԱՄԱՇՆՈՐՀՆԵՐ | H29: =+H30 -> 0 | I29: =+I30 -> -3400000 | J29: =+J30 -> -3400000
G30: Կապիտալ դրամաշնորհներ պետական հատվածի այլ մակարդակներին | H30: =+H31 -> 0 | I30: =+I31 -> -3400000 | J30: =+J31 -> -3400000
G31: - Կապիտալ սուբվենցիաներ համայնքներին | H31: 0 | I31: -3400000 | J31: -3400000
B32: 04 | G32: ՏՆՏԵՍԱԿԱՆ ՀԱՐԱԲԵՐՈՒԹՅՈՒՆՆԵՐ | H32: =H34 -> 0 | I32: =I34 -> 3400000 | J32: =J34 -> 3400000
G33: այդ թվում`
C34: 05 | G34: Տրանսպորտ | H34: =H36 -> 0 | I34: =I36 -> 3400000 | J34: =J36 -> 3400000
G35: այդ թվում`
D36: 01 | G36: Ճանապարհային տրանսպորտ | H36: =+H38 -> 0 | I36: =+I38 -> 3400000 | J36: =+J38 -> 3400000
G37: այդ թվում`
G38: ՀՀ տարածքային կառավարման և ենթակառուցվածքների նախարարություն | H38: =+H40 -> 0 | I38: =+I40 -> 3400000 | J38: =+J40 -> 3400000
G39: այդ թվում`
E40: 1049 | G40: Ճանապարհային ցանցի բարելավում | H40: =H87+H71+H42+H53+H62+H103+H114 -> 0 | I40: =I87+I71+I42+I53+I62+I103+I114 -> 3400000 | J40: =J87+J71+J42+J53+J62+J103+J114 -> 3400000
G41: այդ թվում`
F42: 11012 | G42: Եվրասիական զարգացման բանկի աջակցությամբ իրականացվող Հյուսիս-հարավ միջանցքի զարգացման ծրագրի համակարգում և կառավարում | H42: =+H44 -> 0 | I42: =+I44 -> -1100000 | J42: =+J44 -> -1911272
...

Sheet Հավելված 4
M1: Հավելված N 4
M2: ՀՀ կառավարության 2023 թվականի
M3: ______________ ի ___Ն որոշման
B5: «ՀԱՅԱՍՏԱՆԻ ՀԱՆՐԱՊԵՏՈՒԹՅԱՆ 2023 ԹՎԱԿԱՆԻ ՊԵՏԱԿԱՆ ԲՅՈՒՋԵԻ ՄԱՍԻՆ» ՕՐԵՆՔԻ N 1 ՀԱՎԵԼՎԱԾԻ N 4 ԱՂՅՈՒՍԱԿՈՒՄ ԵՎ ՀԱՅԱՍՏԱՆԻ ՀԱՆՐԱՊԵՏՈՒԹՅԱՆ ԿԱՌԱՎԱՐՈՒԹՅԱՆ 2022 ԹՎԱԿԱՆԻ ԴԵԿՏԵՄԲԵՐԻ 29-Ի N 2111-Ն ՈՐՈՇՄԱՆ N 5 ՀԱՎԵԼՎԱԾԻ N 3 ԱՂՅՈՒՍԱԿՈՒՄ ԿԱՏԱՐՎՈՂ ՓՈՓՈԽՈՒԹՅՈՒՆՆԵՐԸ
M7: հազար դրամ
B8: Ծրագրային դասիչը | D8: Բյուջետային հատկացումների գլխավոր կարգադրիչների, ծրագրերի, միջոցառումների և միջոցառումները կատարող պետական մարմինների անվանումները | E8: Ցուցանիշների փոփոխությունը (նվազեցումները նշված են փակագծերում)
E10: Առաջին կիսամյակ | H10: Ինն ամիս | K10: Տարի
B11: ծրագիրը | C11: միջոցառումը | E11: ընդամենը | F11: այդ թվում՝ | H11: ընդամենը | I11: այդ թվում՝ | K11: ընդամենը | L11: այդ թվում՝
F12: վարկային միջոցներ | G12: համաֆինան_x000D_ սավորում | I12: վարկային միջոցներ | J12: համաֆինան_x000D_ սավորում | L12: վարկային միջոցներ | M12: համաֆինան_x000D_ սավորում
D13: ԸՆԴԱՄԵՆԸ ԾՐԱԳՐԵՐՈՎ, այդ թվում` | E13: =F13+G13 -> 0 | F13: =F14+F15 -> 0 | G13: =G14+G15 -> 0 | H13: =I13+J13 -> -1300000 | I13: =I14+I15 -> 0 | J13: =J14+J15 -> -1300000 | K13: =L13+M13 -> -4011272 | L13: =L14+L15 -> 0 | M13: =M14+M15 -> -4011272
D14: - ԸՆԹԱՑԻԿ ԾԱԽՍԵՐ | E14: =+F14+G14 -> 0 | F14: =+F19+F30 -> 0 | G14: =+G19+G30 -> 0 | H14: =+I14+J14 -> -1300000 | I14: =+I19+I30+I39 -> 0 | J14: =+J19+J30+J39 -> -1300000 | K14: =+L14+M14 -> -4011272 | L14: =+L19+L30+L39 -> 0 | M14: =+M19+M30+M39 -> -4011272
D15: - ՈՉ ՖԻՆԱՆՍԱԿԱՆ ԱԿՏԻՎՆԵՐԻ ԳԾՈՎ ԾԱԽՍԵՐ | E15: =F15+G15 -> 0 | F15: 0 | G15: 0 | H15: =I15+J15 -> 0 | I15: 0 | J15: 0 | K15: =L15+M15 -> 0 | L15: 0 | M15: 0
D16: ՀՀ ՏԱՐԱԾՔԱՅԻՆ ԿԱՌԱՎԱՐՄԱՆ ԵՎ ԵՆԹԱԿԱՌՈՒՑՎԱԾՔՆԵՐԻ ՆԱԽԱՐԱՐՈՒԹՅՈՒՆ այդ թվում՝ | E16: =E17 -> 0 | F16: =F17 -> 0 | G16: =G17 -> 0 | H16: =H17 -> -1300000 | I16: =I17 -> 0 | J16: =J17 -> -1300000 | K16: =K17 -> -4011272 | L16: =L17 -> 0 | M16: =M17 -> -4011272
B17: 1049 | D17: Ճանապարհային ցանցի բարելավում | E17: =+F17+G17 -> 0 | F17: =+F19+F30+F39 -> 0 | G17: =+G19+G30+G39 -> 0 | H17: =+I17+J17 -> -1300000 | I17: =+I19+I30+I39 -> 0 | J17: =+J19+J30+J39 -> -1300000 | K17: =+L17+M17 -> -4011272 | L17: =+L19+L30+L39 -> 0 | M17: =+M19+M30+M39 -> -4011272
D18: այդ թվում՝
C19: 11012 | D19: Եվրասիական զարգացման բանկի աջակցությամբ իրականացվող Հյուսիս-հարավ միջանցքի զարգացման ծրագրի համակարգում և կառավարում | E19: =+F19+G19 -> 0 | F19: =+F21 -> 0 | G19: =+G21 -> 0 | H19: =+I19+J19 -> -1100000 | I19: =+I21 -> 0 | J19: =+J21 -> -1100000 | K19: =+L19+M19 -> -1911272 | L19: =+L21 -> 0 | M19: =+M21 -> -1911272
D20: այդ թվում` ըստ կատարողների
D21: ՀՀ տարածքային կառավարման և ենթակառուցվածքների նախարարություն | E21: =E23 -> 0 | F21: =F23 -> 0 | G21: =G23 -> 0 | H21: =H23 -> -1100000 | I21: =I23 -> 0 | J21: =J23 -> -1100000 | K21: =K23 -> -1911272 | L21: =L23 -> 0 | M21: =M23 -> -1911272
D22: այդ թվում` բյուջետային ծախսերի տնտեսագիտական դասակարգման հոդվածներ
D23: ԸՆԴԱՄԵՆԸ ԾԱԽՍԵՐ | E23: =+F23+G23 -> 0 | F23: =+F24 -> 0 | G23: =+G24 -> 0 | H23: =+I23+J23 -> -1100000 | I23: =+I24 -> 0 | J23: =+J24 -> -1100000 | K23: =+L23+M23 -> -1911272 | L23: =+L24 -> 0 | M23: =+M24 -> -1911272
D24: ԸՆԹԱՑԻԿ ԾԱԽՍԵՐ | E24: =F24+G24 -> 0 | F24: =+F25 -> 0 | G24: =+G25+G28 -> 0 | H24: =+H25+H28 -> -1100000 | I24: =+I25+I28 -> 0 | J24: =+J25+J28 -> -1100000 | K24: =+K25+K28 -> -1911272 | L24: =+L25+L28 -> 0 | M24: =+M25+M28 -> -1911272
D25: ԴՐԱՄԱՇՆՈՐՀՆԵՐ | E25: =+F25+G25 -> 0 | F25: =F26 -> 0 | G25: =G26 -> 0 | H25: =+I25+J25 -> -1000000 | I25: =I26 -> 0 | J25: =J26 -> -1000000 | K25: =+L25+M25 -> -1811272 | L25: =L26 -> 0 | M25: =M26 -> -1811272
D26: Կապիտալ դրամաշնորհներ պետական հատվածի այլ մակարդակներին | E26: =+E27 -> 0 | F26: =+F29 -> 0 | G26: =+G27 -> 0 | H26: =I26+J26 -> -1000000 | I26: =+I29 -> 0 | J26: -1000000 | K26: =L26+M26 -> -1811272 | L26: =+L29 -> 0 | M26: =+M27 -> -1811272
D27: - Այլ կապիտալ դրամաշնորհներ | E27: =F27+G27 -> 0 | F27: 0 | G27: 0 | H27: =I27+J27 -> -1000000 | I27: 0 | J27: =-1000000 -> -1000000 | K27: =L27+M27 -> -1811272 | L27: 0 | M27: =-1400000-411272 -> -1811272
D28: ԱՅԼ ԾԱԽՍԵՐ | E28: =+E29 -> 0 | F28: 0 | G28: =+G29 -> 0 | H28: =+H29 -> -100000 | I28: =+I29 -> 0 | J28: =+J29 -> -100000 | K28: =+K29 -> -100000 | L28: =+L29 -> 0 | M28: =+M29 -> -100000
D29: Հարկեր, պարտադիր վճարներ և տույժեր, որոնք կառավարման տարբեր մակարդակների կողմից կիրառվում են միմյանց նկատմամբ | E29: =F29+G29 -> 0 | F29: 0 | G29: 0 | H29: =I29+J29 -> -100000 | I29: 0 | J29: -100000 | K29: =L29+M29 -> -100000 | L29: 0 | M29: =+J29 -> -100000
C30: 11016 | D30: Հյուսիս-հարավ ճանապարհային միջանցքի զարգացման ծրագրի Սիսիան-Քաջարան 60կմ-ի համակարգում և կառավարում | E30: =+F30+G30 -> 0 | F30: =+F32 -> 0 | G30: =+G32 -> 0 | H30: =+I30+J30 -> 0 | I30: =+I32 -> 0 | J30: =+J32 -> 0 | K30: =+L30+M30 -> -1500000 | L30: =+L32 -> 0 | M30: =+M32 -> -1500000
D31: այդ թվում` ըստ կատարողների
D32: ՀՀ տարածքային կառավարման և ենթակառուցվածքների նախարարություն | E32: =E34 -> 0 | F32: =F34 -> 0 | G32: =G34 -> 0 | H32: =H34 -> 0 | I32: =I34 -> 0 | J32: =J34 -> 0 | K32: =K34 -> -1500000 | L32: =L34 -> 0 | M32: =M34 -> -1500000
D33: այդ թվում` բյուջետային ծախսերի տնտեսագիտական դասակարգման հոդվածներ
D34: ԸՆԴԱՄԵՆԸ ԾԱԽՍԵՐ | E34: =+F34+G34 -> 0 | F34: =+F35 -> 0 | G34: =+G35 -> 0 | H34: =+I34+J34 -> 0 | I34: =+I35 -> 0 | J34: =+J35 -> 0 | K34: =+L34+M34 -> -1500000 | L34: =+L35 -> 0 | M34: =+M35 -> -1500000
D35: ԸՆԹԱՑԻԿ ԾԱԽՍԵՐ | E35: =F35+G35 -> 0 | F35: =+F36 -> 0 | G35: =+G36 -> 0 | H35: =I35+J35 -> 0 | I35: =+I36 -> 0 | J35: =+J36 -> 0 | K35: =L35+M35 -> -1500000 | L35: =+L36 -> 0 | M35: =+M36 -> -1500000
D36: ԴՐԱՄԱՇՆՈՐՀՆԵՐ | E36: =+F36+G36 -> 0 | F36: =F37 -> 0 | G36: =G37 -> 0 | H36: =+I36+J36 -> 0 | I36: =I37 -> 0 | J36: =J37 -> 0 | K36: =+L36+M36 -> -1500000 | L36: =L37 -> 0 | M36: =M37 -> -1500000
D37: Կապիտալ դրամաշնորհներ պետական հատվածի այլ մակարդակներին | E37: =F37+G37 -> 0 | F37: =+F38 -> 0 | G37: =+G38 -> 0 | H37: =I37+J37 -> 0 | I37: =+I38 -> 0 | J37: =+J38 -> 0 | K37: =L37+M37 -> -1500000 | L37: =+L38 -> 0 | M37: =+M38 -> -1500000
D38: - Այլ կապիտալ դրամաշնորհներ | E38: =F38+G38 -> 0 | F38: 0 | G38: 0 | H38: =I38+J38 -> 0 | I38: 0 | J38: 0 | K38: =L38+M38 -> -1500000 | L38: 0 | M38: -1500000
C39: 11017 | D39: Հյուսիս-հարավ ճանապարհային միջանցքի զարգացման ծրագրի Քաջարանի թունելի և մոտեցումների համակարգում և կառավարում | E39: =+F39+G39 -> 0 | F39: =+F41 -> 0 | G39: =+G41 -> 0 | H39: =+I39+J39 -> -200000 | I39: =+I41 -> 0 | J39: =+J41 -> -200000 | K39: =+L39+M39 -> -600000 | L39: =+L41 -> 0 | M39: =+M41 -> -600000
D40: այդ թվում` ըստ կատարողների
D41: ՀՀ տարածքային կառավարման և ենթակառուցվածքների նախարարություն | E41: =E43 -> 0 | F41: =F43 -> 0 | G41: =G43 -> 0 | H41: =H43 -> -200000 | I41: =I43 -> 0 | J41: =J43 -> -200000 | K41: =K43 -> -600000 | L41: =L43 -> 0 | M41: =M43 -> -600000
D42: այդ թվում` բյուջետային ծախսերի տնտեսագիտական դասակարգման հոդվածներ
D43: ԸՆԴԱՄԵՆԸ ԾԱԽՍԵՐ | E43: =+F43+G43 -> 0 | F43: =+F44 -> 0 | G43: =+G44 -> 0 | H43: =+I43+J43 -> -200000 | I43: =+I44 -> 0 | J43: =+J44 -> -200000 | K43: =+L43+M43 -> -600000 | L43: =+L44 -> 0 | M43: =+M44 -> -600000
...

Sheet Հավելված 5
H1: Հավելված N 5
H2: ՀՀ կառավարության 2023 թվականի
H3: ______________ ի ___Ն որոշման
C5: «ՀԱՅԱՍՏԱՆԻ ՀԱՆՐԱՊԵՏՈՒԹՅԱՆ 2023 ԹՎԱԿԱՆԻ ՊԵՏԱԿԱՆ ԲՅՈՒՋԵԻ ՄԱՍԻՆ» ՕՐԵՆՔԻ N 1 ՀԱՎԵԼՎԱԾԻ N 7 ԱՂՅՈՒՍԱԿՈՒՄ ԵՎ ՀԱՅԱՍՏԱՆԻ ՀԱՆՐԱՊԵՏՈՒԹՅԱՆ ԿԱՌԱՎԱՐՈՒԹՅԱՆ 2022 ԹՎԱԿԱՆԻ ԴԵԿՏԵՄԲԵՐԻ 29-Ի N 2111-Ն ՈՐՈՇՄԱՆ N5 ՀԱՎԵԼՎԱԾԻ N 6 ԱՂՅՈՒՍԱԿՈՒՄ ԿԱՏԱՐՎՈՂ ՓՈՓՈԽՈՒԹՅՈՒՆՆԵՐԸ
H6: հազար դրամ
C7: Ծրագրային դասիչը | E7: Հատկացումների տրամադրման նպատակները և բյուջետային գլխավոր կարգադրիչների, ծրագրերի, միջոցառումների և կատարող պետական մարմնի անվանումները | F7: Ցուցանիշների փոփոխությունը (նվազեցումները նշված են փակագծերում)
C8: Ծրագիր | D8: Միջոցառում | F8: Առաջին կիսամյակ | G8: Ինն ամիս | H8: Տարի
E9: Ընդամենը | F9: =+F11 -> 0 | G9: =+G11 -> -3400000 | H9: =+H11 -> -3400000
C10: այդ թվում`
C11: Կապիտալ սուբվենցիաներ համայնքներին | F11: =+F13 -> 0 | G11: =+G13 -> -3400000 | H11: =+H13 -> -3400000
C12: այդ թվում`
C13: ՀՀ տարածքային կառավարման և ենթակառուցվածքների նախարարություն | F13: =+F14 -> 0 | G13: =+G14 -> -3400000 | H13: =+H14 -> -3400000
C14: 1212 | E14: Տարածքային զարգացում | F14: =+F16 -> 0 | G14: =+G16 -> -3400000 | H14: =+H16 -> -3400000
E15: այդ թվում`
D16: 12007 | E16: ՀՀ մարզերին սուբվենցիաների տրամադրում՛ ենթակառուցվածքների զարգացման նպատակով | F16: =+F18 -> 0 | G16: =+G18 -> -3400000 | H16: =+H18 -> -3400000
E17: այդ թվում` ըստ կատարողների
E18: ՀՀ կառավարություն | F18: =+'Հավելված 3'!H23 -> 0 | G18: =+'Հավելված 3'!I23 -> -3400000 | H18: =+'Հավելված 3'!J23 -> -3400000
E22: ՀԱՅԱՍՏԱՆԻ ՀԱՆՐԱՊԵՏՈՒԹՅԱՆ ՎԱՐՉԱՊԵՏԻ ԱՇԽԱՏԱԿԱԶՄԻ ՂԵԿԱՎԱՐ՝ | G22: Ա.ՀԱՐՈՒԹՅՈՒՆՅԱՆ

Sheet Հավելված 6
G1: Հավելված N 6
G2: ՀՀ կառավարության 2023 թվականի
G3: ______________ ի ___Ն որոշման
B5: ՀԱՅԱՍՏԱՆԻ ՀԱՆՐԱՊԵՏՈՒԹՅԱՆ ԿԱՌԱՎԱՐՈՒԹՅԱՆ 2022 ԹՎԱԿԱՆԻ ԴԵԿՏԵՄԲԵՐԻ 29-Ի N 2111-Ն ՈՐՈՇՄԱՆ N 5 ՀԱՎԵԼՎԱԾԻ N 2 ԱՂՅՈՒՍԱԿՈՒՄ ԿԱՏԱՐՎՈՂ ՓՈՓՈԽՈՒԹՅՈՒՆՆԵՐՆ ՈՒ ԼՐԱՑՈՒՄՆԵՐԸ
G7: հազար դրամ
B8: Ծրագրային դասիչը | D8: Հատկացումների տրամադրման նպատակները և բյուջետային գլխավոր կարգադրիչների, ծրագրերի, միջոցառումների և կատարող պետական մարմնի անվանումները | E8: Ցուցանիշների փոփոխությունը (Ավելացումները նշված են դրական նշանով, իսկ նվազեցումները` փակագծերում)
B9: Ծրագիր | C9: Միջոցառում | E9: Առաջին կիսամյակ | F9: Ինն ամիս | G9: Տարի
D10: ԸՆԴԱՄԵՆԸ | E10: =+E12 -> 0 | F10: =+F12 -> 5273662.4 | G10: =+G12 -> 7411272
D11: այդ թվում՝
D12: ՀՀ ՏԱՐԱԾՔԱՅԻՆ ԿԱՌԱՎԱՐՄԱՆ ԵՎ ԵՆԹԱԿԱՌՈՒՑՎԱԾՔՆԵՐԻ ՆԱԽԱՐԱՐՈՒԹՅՈՒՆ | E12: =E57+E14+E47+E53 -> 0 | F12: =F57+F14+F47+F53 -> 5273662.4 | G12: =G57+G14+G47+G53 -> 7411272
D13: այդ թվում`
B14: 1049 | C14: 21001 | D14: Պետական նշանակության ավտոճանապարհների հիմնանորոգում | E14: =+E16+E17 -> 0 | F14: =+F16+F17 -> 6306078.1 | G14: =+G16+G17 -> 11454342
D15: այդ թվում` ըստ կատարողների
D16: ՀՀ կառավարություն | E16: =-E17 -> 0 | F16: 0 | G16: =913168.2-8303909.3 -> -7390741.1
D17: ՀՀ տարածքային կառավարման և ենթակառուցվածքների նախարարություն | E17: =+E19+E29+E38 -> 0 | F17: =+F19+F29+F38 -> 6306078.1 | G17: =+G19+G29+G38 -> 18845083
D18: այդ թվում՝ ըստ ուղղությունների
C19: 1 | D19: Միջպետական նշանակության ավտոճանապարհներ, այդ թվում | E19: =SUM(E20:E28) -> 0 | F19: =SUM(F20:F28) -> 2281289.9 | G19: =SUM(G20:G28) -> 7748843.9
D20: Մ-1, Երևան-Գյումրի-Վրաստանի սահման միջպետական նշանակության ավտոճանապարհի կմ160+200-կմ171+700 հատվածի հիմնանորոգում | E20: 0 | F20: 144041.4 | G20: 411546.8
D21: Մ-2, Երևան-Երասխ-Գորիս-Մեղրի-Իրանի սահման միջպետական նշանակության ավտոճանապարհի կմ77+350 - կմ82+000 հատվածի հիմնանորոգում | E21: 0 | F21: 566002.4 | G21: 1132004.7
D22: Մ-2, (Սյունիք) /Մ-2/ - Աղվանի- Տաթև - /Մ-2/ միջպետական նշանակության ավտոճանապարհի Վերին Խոտանանը շրջանցող ճանապարհահատվածի կառուցում (I փուլ) | E22: 0 | F22: 134195 | G22: 670974.8
D23: Մ-2, (Սյունիք) /Մ-2/ - Աղվանի- Տաթև - /Մ-2/ միջպետական նշանակության ավտոճանապարհի Վերին Խոտանանը շրջանցող ճանապարհահատվածի կառուցում (II փուլ) | E23: 0 | F23: 307991.3 | G23: 2053275.1
D24: Մ-2, Երևան-Երասխ-Գորիս-Մեղրի-Իրանի սահման միջպետական նշանակության ավտոճանապարհի կմ297+800-կմ311+250 հատվածի հիմնանորոգման աշխատանքների (2-րդ տեղամաս՝ կմ301+820 - կմ311+250 հատված) | E24: 0 | F24: 404195.6 | G24: 1010488.9
D25: Մ-10, Սևան-Մարտունի-Գետափ միջպետական նշանակության ավտոճանապարհի կմ66+000-կմ80+000 հատվածի հիմնանորոգում | E25: 0 | F25: 285935.1 | G25: 714837.7
D26: Մ-11, Մարտունի - Վարդենիս - ՀՀ սահման միջպետական նշանակության ավտոճանապարհի կմ25+500-կմ29+200 հատվածի հիմնանորոգում | E26: 0 | F26: 79498.3 | G26: 317993.2
D27: Մ-15, /Մ-4/ (Վերին Պտղնի) - Մասիսի տրանսպորտային հանգույց (Երևանի շրջանց) միջպետական նշանակության ավտոճանապարհի կմ0+000-կմ8+200 հատվածի հիմնանորոգում | E27: 0 | F27: 176681.3 | G27: 706725
D28: Մ-15, /Մ-4/ (Վերին Պտղնի) - Մասիսի տրանսպորտային հանգույց (Երևանի շրջանց) միջպետական նշանակության ավտոճանապարհի կմ19+900-կմ29+400 հատվածի հիմնանորոգում | E28: 0 | F28: 182749.5 | G28: 730997.7
C29: 2 | D29: Հանրապետական նշանակության ավտոճանապարհներ, այդ թվում | E29: =SUM(E30:E37) -> 0 | F29: =SUM(F30:F37) -> 2534564.9 | G29: =SUM(G30:G37) -> 6253871.4
D30: Հ-12, Մասիսի տրանսպորտային հանգույց - Մասիս - Ռանչպար - Արաքս - Ջրառատ - /Մ-3/ հանրապետական նշանակության ավտոճանապարհի կմ0+000 - կմ9+500 հատվածի հիմնանորոգում | E30: 0 | F30: 190578.4 | G30: 762313.3
D31: Հ-28,/Հ-55/ - Ջրառատ – Մեղրաձոր - Հանքավան հանրապետական նշանակության ավտոճանապարհի կմ 17+000-կմ 19+000 հատվածի հիմնանորոգում | E31: 0 | F31: 100602.3 | G31: 402409.2
D32: Հ38,/Հ-30/ (Թթուջուր) – /Հ-36/ (Նավուր) հանրապետական նշանակության ավտոճանապարհի կմ0+000-կմ15+100 հատվածի հիմնանորոգում | E32: 0 | F32: 167804.3 | G32: 479440.9
D33: Հ38,/Հ-30/ (Թթուջուր) – /Հ-36/ (Նավուր) հանրապետական նշանակության ավտոճանապարհի կմ15+100 - կմ40+100 հատվածի հիմնանորոգում | E33: 0 | F33: 1078874.1 | G33: 2157748.1
D34: Հ-39, /Մ-10/ - Գավառ - /Մ-10/ հանրապետական նշանակության ավտոճանապարհի կմ4+300-կմ7+700 հատվածի հիմնանորոգում | E34: 0 | F34: 162683 | G34: 325366
D35: Հ40,/Մ-2/ (Արենի) - Խաչիկ - Գնիշիկ - Եղեգնաձոր հանրապետական նշանակության ավտոճանապարհի կմ 58+000-կմ 70+000 հատվածի հիմնանորոգում | E35: 0 | F35: 490111.5 | G35: 980223
D36: Հ-55, Հրազդանի տրանսպորտային հանգույց-Ծաղկաձորի մարզահամալիր հանրապետական նշանակության ավտոճանապարհի կմ0+000 - կմ10+500 հատվածի հիմնանորոգում | E36: 0 | F36: 156064.1 | G36: 520213.7
D37: Հ85, /Հ-1/ - Հրազդան - /Հ-55/ հանրապետական նշանակության ավտոճանապարհի կմ1+600 - կմ3+300 հատվածների հիմնանորոգում | E37: 0 | F37: 187847.2 | G37: 626157.2
C38: 3 | D38: Մարզային նշանակության ավտոճանապարհներ, այդ թվում | E38: =SUM(E39:E46) -> 0 | F38: =SUM(F39:F46) -> 1490223.3 | G38: =SUM(G39:G46) -> 4842367.7
D39: Տ-5-23, /Մ-3/ - Սարամեջ ավտոճանապարհի կմ0+000-կմ4+300 հատվածի հիմնանորոգում | E39: 0 | F39: 2827.9 | G39: 4713.2
D40: Տ-8-52 տեղական նշանակության ավտոճանապարհի կմ 8+100-կմ 10+400 (Տ-8-48-ի հետ հատման կետ) և Տ-8-48 տեղական նշանակության ավտոճանապարհի կմ 5+600- կմ 11+200 (Տ-8-49-ի հետ հատման կետ) հատվածների անցանելիության ապահովում և ոլորանների պարամետրերի բարելավում | E40: 0 | F40: 422819.9 | G40: 1409399.6
D41: Վանաձոր քաղաքային համայնքի Գրիգոր Լուսավորիչ փողոցի հիմնանորոգում | E41: 0 | F41: 86028 | G41: 286760
D42: Վանաձոր քաղաքային համայնքի Խորենացի փողոցի (երկու երթևեկելի գոիտիներ /0.4կմ+0.4կմ/) հիմնանորոգում | E42: 0 | F42: 83680.9 | G42: 278936.4
...

Sheet Հավելված 7
F1: Հավելված N 7
F2: ՀՀ կառավարության 2023 թվականի
F3: ______________ ի ___Ն որոշման
B5: ՀԱՅԱՍՏԱՆԻ ՀԱՆՐԱՊԵՏՈՒԹՅԱՆ ԿԱՌԱՎԱՐՈՒԹՅԱՆ 2022 ԹՎԱԿԱՆԻ ԴԵԿՏԵՄԲԵՐԻ 29-Ի N 2111-Ն ՈՐՈՇՄԱՆ N 9 ՀԱՎԵԼՎԱԾԻ N 9.7 ԱՂՅՈՒՍԱԿՈՒՄ ԿԱՏԱՐՎՈՂ ՓՈՓՈԽՈՒԹՅՈՒՆՆԵՐՆ ՈՒ ԼՐԱՑՈՒՄՆԵՐԸ
F7: Աղյուսակ 9.7
B8: ՀՀ տարածքային կառավարման և ենթակառուցվածքների նախարարություն
B9: ՄԱՍ 2. ՊԵՏԱԿԱՆ ՄԱՐՄՆԻ ԳԾՈՎ ԱՐԴՅՈՒՆՔԱՅԻՆ (ԿԱՏԱՐՈՂԱԿԱՆ) ՑՈՒՑԱՆԻՇՆԵՐԸ
B11: Ծրագրի դասիչը | C11: Ծրագրի անվանումը
B12: 1049 | C12: Ճանապարհային ցանցի բարելավում
B14: Ծրագրի միջոցառումները
B16: Ծրագրի դասիչը` | C16: 1049 | D16: Ցուցանիշների փոփոխությունը (նվազեցումները նշված են փակագծերում)
B17: Միջոցառման դասիչը` | C17: 11012 | D17: Առաջին կիսամյակ | E17: Ինն ամիս | F17: Տարի
B18: Միջոցառման անվանումը` | C18: Եվրասիական զարգացման բանկի աջակցությամբ իրականացվող Հյուսիս-հարավ միջանցքի զարգացման ծրագրի համակարգում և կառավարում
B19: Նկարագրությունը` | C19: Խորհրդատվական ծառայություններ և պահպանման ծախսեր
B20: Միջոցառման տեսակը` | C20: Ծառայությունների մատուցում
B21: Միջոցառումն իրականացնողի անվանումը | C21: Մասնագիտացված միավոր
B22: Արդյունքի չափորոշիչներ
B23: Հողերի օտարում, շահառուների քանակ | D23: 0 | E23: -200 | F23: -300
B24: Միջոցառման վրա կատարվող ծախսը (հազար դրամ) | D24: =+'Հավելված 3'!H42 -> 0 | E24: =+'Հավելված 3'!I42 -> -1100000 | F24: =+'Հավելված 3'!J42 -> -1911272
B26: Ծրագրի դասիչը` | C26: 1049 | D26: Ցուցանիշների փոփոխությունը (նվազեցումները նշված են փակագծերում)
B27: Միջոցառման դասիչը` | C27: 11016 | D27: Առաջին կիսամյակ | E27: Ինն ամիս | F27: Տարի
B28: Միջոցառման անվանումը` | C28: Հյուսիս-հարավ ճանապարհային միջանցքի զարգացման ծրագրի Սիսիան-Քաջարան 60կմ-ի համակարգում և կառավարում
B29: Նկարագրությունը` | C29: Հյուսիս-հարավ ճանապարհային միջանցքի զարգացման ծրագրի Սիսիան-Քաջարան 60կմ-ի համակարգում և կառավարում
B30: Միջոցառման տեսակը` | C30: Ծառայությունների մատուցում
B31: Միջոցառումն իրականացնողի անվանումը՛ | C31: Մասնագիտացված միավոր
B32: Արդյունքի չափորոշիչներ
B33: Հողերի օտարում, շահառուների քանակ | D33: 0 | E33: 0 | F33: -150
B34: Միջոցառման վրա կատարվող ծախսը (հազար դրամ) | D34: =+'Հավելված 3'!H61 -> 0 | E34: =+'Հավելված 3'!I61 -> 0 | F34: =+'Հավելված 3'!J61 -> -1500000
B36: Ծրագրի դասիչը` | C36: 1049 | D36: Ցուցանիշների փոփոխությունը (նվազեցումները նշված են փակագծերում)
B37: Միջոցառման դասիչը` | C37: 11017 | D37: Առաջին կիսամյակ | E37: Ինն ամիս | F37: Տարի
B38: Միջոցառման անվանումը` | C38: Հյուսիս-հարավ ճանապարհային միջանցքի զարգացման ծրագրի Քաջարանի թունելի և մոտեցումների համակարգում և կառավարում
B39: Նկարագրությունը` | C39: Հյուսիս-հարավ ճանապարհային միջանցքի զարգացման ծրագրի շրջանակներում հողերի օտարում (Քաջարանի թունել և մոտեցում)
B40: Միջոցառման տեսակը` | C40: Ծառայությունների մատուցում
B41: Միջոցառումն իրականացնողի անվանումը՛ | C41: Մասնագիտացված միավոր
B42: Արդյունքի չափորոշիչներ
B43: Հողերի օտարում, շահառուների քանակ | D43: 0 | E43: =-100 -> -100 | F43: -100
B44: Միջոցառման վրա կատարվող ծախսը (հազար դրամ) | D44: =+'Հավելված 3'!H62 -> 0 | E44: =+'Հավելված 3'!I62 -> -200000 | F44: =+'Հավելված 3'!J62 -> -600000
B46: Ծրագրի դասիչը` | C46: 1049 | D46: Ցուցանիշների փոփոխությունը (ավելացումները նշված են դրական նշանով, իսկ նվազեցումները` փակագծերում)
B47: Միջոցառման դասիչը` | C47: 21001 | D47: Առաջին կիսամյակ | E47: Ինն ամիս | F47: Տարի
B48: Միջոցառման անվանումը` | C48: Պետական նշանակության ավտոճանապարհների հիմնանորոգում
...

Sheet Հավելված 8
F1: Հավելված N 8
F2: ՀՀ կառավարության 2023 թվականի
F3: ______________ ի ___Ն որոշման
B5: ՀԱՅԱՍՏԱՆԻ ՀԱՆՐԱՊԵՏՈՒԹՅԱՆ ԿԱՌԱՎԱՐՈՒԹՅԱՆ 2022 ԹՎԱԿԱՆԻ ԴԵԿՏԵՄԲԵՐԻ 29-Ի N 2111-Ն ՈՐՈՇՄԱՆ N 9.1 ՀԱՎԵԼՎԱԾԻ NN 9.1.7 ԵՎ 9.1.58 ԱՂՅՈՒՍԱԿՆԵՐՈՒՄ ԿԱՏԱՐՎՈՂ ՓՈՓՈԽՈՒԹՅՈՒՆՆԵՐՆ ՈՒ ԼՐԱՑՈՒՄՆԵՐԸ
F7: Աղյուսակ 9.1.7
B8: ՀՀ տարածքային կառավարման և ենթակառուցվածքների նախարարություն
B9: ՄԱՍ 1. ՊԵՏԱԿԱՆ ՄԱՐՄՆԻ ԳԾՈՎ ԱՐԴՅՈՒՆՔԱՅԻՆ (ԿԱՏԱՐՈՂԱԿԱՆ) ՑՈՒՑԱՆԻՇՆԵՐԸ
B11: Ծրագրի դասիչը | C11: Ծրագրի անվանումը
B12: 1049 | C12: Ճանապարհային ցանցի բարելավում
B14: Ծրագրի միջոցառումները
B16: Ծրագրի դասիչը` | C16: 1049 | D16: Ցուցանիշների փոփոխությունը (նվազեցումները նշված են փակագծերում)
B17: Միջոցառման դասիչը` | C17: 11012 | D17: Առաջին կիսամյակ | E17: Ինն ամիս | F17: Տարի
B18: Միջոցառման անվանումը` | C18: Եվրասիական զարգացման բանկի աջակցությամբ իրականացվող Հյուսիս-հարավ միջանցքի զարգացման ծրագրի համակարգում և կառավարում
B19: Նկարագրությունը` | C19: Խորհրդատվական ծառայություններ և պահպանման ծախսեր
B20: Միջոցառման տեսակը` | C20: Ծառայությունների մատուցում
B21: Միջոցառումն իրականացնողի անվանումը | C21: Մասնագիտացված միավոր
B22: Արդյունքի չափորոշիչներ
B23: Հողերի օտարում, շահառուների քանակ | D23: 0 | E23: -200 | F23: -300
B24: Միջոցառման վրա կատարվող ծախսը (հազար դրամ) | D24: =+'Հավելված 7'!D24 -> 0 | E24: =+'Հավելված 7'!E24 -> -1100000 | F24: =+'Հավելված 7'!F24 -> -1911272
B26: Ծրագրի դասիչը` | C26: 1049 | D26: Ցուցանիշների փոփոխությունը (նվազեցումները նշված են փակագծերում)
B27: Միջոցառման դասիչը` | C27: 11016 | D27: Առաջին կիսամյակ | E27: Ինն ամիս | F27: Տարի
B28: Միջոցառման անվանումը` | C28: Հյուսիս-հարավ ճանապարհային միջանցքի զարգացման ծրագրի Սիսիան-Քաջարան 60կմ-ի համակարգում և կառավարում
B29: Նկարագրությունը` | C29: Հյուսիս-հարավ ճանապարհային միջանցքի զարգացման ծրագրի Սիսիան-Քաջարան 60կմ-ի համակարգում և կառավարում
B30: Միջոցառման տեսակը` | C30: Ծառայությունների մատուցում
B31: Միջոցառումն իրականացնողի անվանումը՛ | C31: Մասնագիտացված միավոր
B32: Արդյունքի չափորոշիչներ
B33: Հողերի օտարում, շահառուների քանակ | D33: 0 | E33: 0 | F33: -150
B34: Միջոցառման վրա կատարվող ծախսը (հազար դրամ) | D34: =+'Հավելված 7'!D34 -> 0 | E34: =+'Հավելված 7'!E34 -> 0 | F34: =+'Հավելված 7'!F34 -> -1500000
B37: Ծրագրի դասիչը` | C37: 1049 | D37: Ցուցանիշների փոփոխությունը (նվազեցումները նշված են փակագծերում)
B38: Միջոցառման դասիչը` | C38: 11017 | D38: Առաջին կիսամյակ | E38: Ինն ամիս | F38: Տարի
B39: Միջոցառման անվանումը` | C39: Հյուսիս-հարավ ճանապարհային միջանցքի զարգացման ծրագրի Քաջարանի թունելի և մոտեցումների համակարգում և կառավարում
B40: Նկարագրությունը` | C40: Հյուսիս-հարավ ճանապարհային միջանցքի զարգացման ծրագրի շրջանակներում հողերի օտարում (Քաջարանի թունել և մոտեցում)
B41: Միջոցառման տեսակը` | C41: Ծառայությունների մատուցում
B42: Միջոցառումն իրականացնողի անվանումը՛ | C42: Մասնագիտացված միավոր
B43: Արդյունքի չափորոշիչներ
B44: Հողերի օտարում, շահառուների քանակ | D44: 0 | E44: =-100 -> -100 | F44: -100
B45: Միջոցառման վրա կատարվող ծախսը (հազար դրամ) | D45: =+'Հավելված 7'!D44 -> 0 | E45: =+'Հավելված 7'!E44 -> -200000 | F45: =+'Հավելված 7'!F44 -> -600000
B47: Ծրագրի դասիչը` | C47: 1049 | D47: Ցուցանիշների փոփոխությունը (ավելացումները նշված են դրական նշանով)
B48: Միջոցառման դասիչը` | C48: 21001 | D48: Առաջին կիսամյակ | E48: Ինն ամիս | F48: Տարի
B49: Միջոցառման անվանումը` | C49: Պետական նշանակության ավտոճանապարհների հիմնանորոգում
...

Sheet Հավելված 9
H1: Հավելված N 9
H2: ՀՀ կառավարության 2023 թվականի
H3: ______________ ի ___Ն որոշման
B5: ՀԱՅԱՍՏԱՆԻ ՀԱՆՐԱՊԵՏՈՒԹՅԱՆ ԿԱՌԱՎԱՐՈՒԹՅԱՆ 2022 ԹՎԱԿԱՆԻ ԴԵԿՏԵՄԲԵՐԻ 29-Ի N 2111-Ն ՈՐՈՇՄԱՆ N 10 ՀԱՎԵԼՎԱԾՈՒՄ ԿԱՏԱՐՎՈՂ ԼՐԱՑՈՒՄՆԵՐԸ
B6: Կոդը | C6: Անվանումը | D6: Գնման ձևը | E6: Չափման միավորը | F6: Միավորի գինը | G6: Ցուցանիշների փոփոխությունը (ավելացումները նշված են դրական նշանով)
G7: Քանակը | H7: Գումարը (հազար դրամով)
B8: ՀՀ տարածքային կառավարման և ենթակառուցվածքների նախարարություն | H8: =+H9 -> 18856015
B9: Բաժին N 04 | C9: Խումբ N 05 | D9: Դաս N 01 | E9: Ճանապարհային տրանսպորտ | H9: =+H10+H82 -> 18856015
B10: 1049 21001 | C10: Պետական նշանակության ավտոճանապարհների հիմնանորոգում | H10: =+H11+H36 -> 18845082
B11: ՄԱՍ II. ԱՇԽԱՏԱՆՔՆԵՐ | H11: =H12+H13+H14+H15+H16+H17+H18+H19+H20+H21+H22+H23++H24+H25+H26+H27+H28+H29+H30+H31+H32+H33+H34+H35 -> 18591488
B12: 45231177/626 | C12: ճանապարհների վերանորոգման աշխատանքներ | D12: ԲՄ | E12: դրամ | F12: 408202636 | G12: 1 | H12: =+G12*F12/1000 -> 408202.64
B13: 45231177/627 | C13: ճանապարհների վերանորոգման աշխատանքներ | D13: ԲՄ | E13: դրամ | F13: 1120000000 | G13: 1 | H13: =+G13*F13/1000 -> 1120000
B14: 45231177 | C14: ճանապարհների վերանորոգման աշխատանքներ | D14: ՀՄԱ | E14: դրամ | F14: 660223381 | G14: 1 | H14: =+G14*F14/1000 -> 660223.38
B15: 45231177 | C15: ճանապարհների վերանորոգման աշխատանքներ | D15: ՀԲՄ | E15: դրամ | F15: 2025460941 | G15: 1 | H15: =+G15*F15/1000 -> 2025460.9
B16: 45231177/516 | C16: ճանապարհների վերանորոգման աշխատանքներ | D16: ՀԲՄ | E16: դրամ | F16: 1000000000 | G16: 1 | H16: =+G16*F16/1000 -> 1000000
B17: 45231177 | C17: ճանապարհների վերանորոգման աշխատանքներ | D17: ՀԲՄ | E17: դրամ | F17: 708740288 | G17: 1 | H17: =+G17*F17/1000 -> 708740.29
B18: 45231177 | C18: ճանապարհների վերանորոգման աշխատանքներ | D18: ԲՄ | E18: դրամ | F18: 315140819 | G18: 1 | H18: =+G18*F18/1000 -> 315140.82
B19: 45231177/501 | C19: ճանապարհների վերանորոգման աշխատանքներ | D19: ՀԲՄ | E19: դրամ | F19: 696584961 | G19: 1 | H19: =+G19*F19/1000 -> 696584.96
B20: 45231177/502 | C20: ճանապարհների վերանորոգման աշխատանքներ | D20: ՀԲՄ | E20: դրամ | F20: 720139348 | G20: 1 | H20: =+G20*F20/1000 -> 720139.35
B21: 45231177 | C21: ճանապարհների վերանորոգման աշխատանքներ | D21: ԲՄ | E21: դրամ | F21: 762313230 | G21: 1 | H21: =+G21*F21/1000 -> 762313.23
B22: 45231177/522 | C22: ճանապարհների վերանորոգման աշխատանքներ | D22: ԲՄ | E22: դրամ | F22: 395637000 | G22: 1 | H22: =+G22*F22/1000 -> 395637
B23: 45231177/541 | C23: ճանապարհների վերանորոգման աշխատանքներ | D23: ՀԲՄ | E23: դրամ | F23: 469992652 | G23: 1 | H23: =+G23*F23/1000 -> 469992.65
B24: 45231177/545 | C24: ճանապարհների վերանորոգման աշխատանքներ | D24: ՀԲՄ | E24: դրամ | F24: 2128849631 | G24: 1 | H24: =+G24*F24/1000 -> 2128849.6
B25: 45231177 | C25: ճանապարհների վերանորոգման աշխատանքներ | D25: ՀԲՄ | E25: դրամ | F25: 323317631 | G25: 1 | H25: =+G25*F25/1000 -> 323317.63
B26: 45231177/523 | C26: ճանապարհների վերանորոգման աշխատանքներ | D26: ԲՄ | E26: դրամ | F26: 968020569 | G26: 1 | H26: =+G26*F26/1000 -> 968020.57
B27: 45231177/512 | C27: ճանապարհների վերանորոգման աշխատանքներ | D27: ՀԲՄ | E27: դրամ | F27: 514431322 | G27: 1 | H27: =+G27*F27/1000 -> 514431.32
B28: 45231177/507 | C28: ճանապարհների վերանորոգման աշխատանքներ | D28: ՀԲՄ | E28: դրամ | F28: 619010046 | G28: 1 | H28: =+G28*F28/1000 -> 619010.05
B29: 45231177/547 | C29: ճանապարհների վերանորոգման աշխատանքներ | D29: ՀԲՄ | E29: դրամ | F29: 1388100000 | G29: 1 | H29: =+G29*F29/1000 -> 1388100
B30: 45231177/553 | C30: ճանապարհների վերանորոգման աշխատանքներ | D30: ՀԲՄ | E30: դրամ | F30: 280758025 | G30: 1 | H30: =+G30*F30/1000 -> 280758.03
B31: 45231177/538 | C31: ճանապարհների վերանորոգման աշխատանքներ | D31: ՀԲՄ | E31: դրամ | F31: 272886000 | G31: 1 | H31: =+G31*F31/1000 -> 272886
B32: 45231177/539 | C32: ճանապարհների վերանորոգման աշխատանքներ | D32: ՀԲՄ | E32: դրամ | F32: 254000000 | G32: 1 | H32: =+G32*F32/1000 -> 254000
B33: 45231177/560 | C33: ճանապարհների վերանորոգման աշխատանքներ | D33: ՀԲՄ | E33: դրամ | F33: 110613659 | G33: 1 | H33: =+G33*F33/1000 -> 110613.66
B34: 45231177/510 | C34: ճանապարհների վերանորոգման աշխատանքներ | D34: ՀԲՄ | E34: դրամ | F34: 236494218 | G34: 1 | H34: =+G34*F34/1000 -> 236494.22
B35: 45231177 | C35: ճանապարհների վերանորոգման աշխատանքներ | D35: ՄԱ | E35: դրամ | F35: 2212571570 | G35: 1 | H35: =+G35*F35/1000 -> 2212571.6
B36: ՄԱՍ III. ԾԱՌԱՅՈՒԹՅՈՒՆՆԵՐ | H36: =H37+H38+H39+H40+H41+H42+H43+H44+H45+H46+H47+H48+H49+H50+H51+H52+H53+H54+H55+H56+H57+H58+H59+H60+H61+H62+H63+H64+H65+H66+H67+H68+H69+H70+H71+H72+H73+H74+H75+H76+H77+H78+H79+H80+H81 -> 253593.69
B37: 71351540/501 | C37: տեխնիկական հսկողության ծառայություններ | D37: ՀԲՄ | E37: դրամ | F37: 964376 | G37: 1 | H37: =+G37*F37/1000 -> 964.376
B38: 71351540/502 | C38: տեխնիկական հսկողության ծառայություններ | D38: ՀԲՄ | E38: դրամ | F38: 3880000 | G38: 1 | H38: =+G38*F38/1000 -> 3880
B39: 71351540 | C39: տեխնիկական հսկողության ծառայություններ | D39: ՀՄԱ | E39: դրամ | F39: 6350000 | G39: 1 | H39: =+G39*F39/1000 -> 6350
B40: 71351540 | C40: տեխնիկական հսկողության ծառայություններ | D40: ԳՀ | E40: դրամ | F40: 15803463 | G40: 1 | H40: =+G40*F40/1000 -> 15803.463
B41: 71351540/519 | C41: տեխնիկական հսկողության ծառայություններ | D41: ՀԲՄ | E41: դրամ | F41: 4649900 | G41: 1 | H41: =+G41*F41/1000 -> 4649.9
...
