Workbook
Name AgencyCode: #REF!
Name AgencyCode: #REF!
Name AgencyCode: #REF!
Name AgencyCode: #REF!
Name AgencyCode: #REF!
Name AgencyName: #REF!
Name AgencyName: #REF!
Name AgencyName: #REF!
Name AgencyName: #REF!
Name AgencyName: #REF!
Name AgencyName: #REF!
Name åû: #REF!
Name åû: #REF!
Name åû: #REF!
Name davit: #REF!
Name davit: #REF!
Name davit: #REF!
Name davit: #REF!
Name davit: #REF!
Name Functional1: #REF!
Name Functional1: #REF!
Name Functional1: #REF!
Name Functional1: #REF!
Name Functional1: #REF!
Name Functional1: #REF!
Name ggg: #REF!
Name ggg: #REF!
Name ggg: #REF!
Name ggg: #REF!
Name ggg: #REF!
Name mas: #REF!
Name mas: #REF!
Name mas: #REF!
Name mass: #REF!
Name mass: #REF!
Name mass: #REF!
Name PANature: #REF!
Name PANature: #REF!
Name PANature: #REF!
Name PANature: #REF!
Name PANature: #REF!
Name PANature: #REF!
Name PAType: #REF!
Name PAType: #REF!
Name PAType: #REF!
Name PAType: #REF!
Name PAType: #REF!
Name PAType: #REF!
Name Performance2: #REF!
Name Performance2: #REF!
Name Performance2: #REF!
Name Performance2: #REF!
Name Performance2: #REF!
Name Performance2: #REF!
Name PerformanceType: #REF!
Name PerformanceType: #REF!
Name PerformanceType: #REF!
Name PerformanceType: #REF!
Name PerformanceType: #REF!
Name PerformanceType: #REF!

Sheet Հ-1
F1: Հավելված N 1
F2: ՀՀ կառավարության 2023 թվականի
F3: ______________ ի ___Ն որոշման
A5: «ՀԱՅԱUՏԱՆԻ ՀԱՆՐԱՊԵՏՈՒԹՅԱՆ 2023 ԹՎԱԿԱՆԻ ՊԵՏԱԿԱՆ ԲՅՈՒՋԵԻ ՄԱUԻՆ» OՐԵՆՔԻ N 1 ՀԱՎԵԼՎԱԾԻ N 2 ԱՂՅՈՒՍԱԿՈՒՄ ԿԱՏԱՐՎՈՂ ՎԵՐԱԲԱՇԽՈՒՄԸ ԵՎ ՀԱՅԱՍՏԱՆԻ ՀԱՆՐԱՊԵՏՈՒԹՅԱՆ ԿԱՌԱՎԱՐՈՒԹՅԱՆ 2022 ԹՎԱԿԱՆԻ ԴԵԿՏԵՄԲԵՐԻ 29-Ի ԹԻՎ 2111-Ն ՈՐՈՇՄԱՆ N 5 ՀԱՎԵԼՎԱԾԻ N 1 ԱՂՅՈՒՍԱԿՈՒՄ ԿԱՏԱՐՎՈՂ ԼՐԱՑՈՒՄՆԵՐԸ ԵՎ ՓՈՓՈԽՈՒԹՅՈՒՆՆԵՐԸ
E7: /հազար դրամ/
A8: Ծրագրային դասիչը | C8: Բյուջետային հատկացումների գլխավոր կարգադրիչների, ծրագրերի և միջոցառումների անվանումները | D8: Ցուցանիշների փոփոխությունը (ավելացումները նշված են դրական նշանով, իսկ նվազեցումները` փակագծերում)
A9: Ծրագիրը | B9: Միջոցառումը | D9: Առաջին կիսամյակ | E9: Ինն ամիս | F9: Տարի
B10: ԸՆԴԱՄԵՆԸ | D10: =+D11 -> 0 | E10: =+E11 -> 0 | F10: =+F11 -> 0
C11: ՀՀ տարածքային կառավարման և ենթակառուցվածքների նախարարություն | D11: =+D12+D26 -> 0 | E11: =+E12+E26 -> 0 | F11: =+F12+F26 -> 0
A12: 1001 | C12: Ծրագրի անվանումը` | D12: =+D19 -> 14000 | E12: =+E19 -> 14000 | F12: =+F19 -> 14000
C13: Տարածքային կառավարման ոլորտում քաղաքականության մշակում, ծրագրերի համակարգում և մոնիտորինգի իրականացում
C14: Ծրագրի նպատակը`
C15: Տարածքային կառավարման բնագավառում պետական արդյունավետ քաղաքականության մշակման և իրականացման ապահովում
C16: Վերջնական արդյունքի նկարագրությունը`
C17: Տարածքային կառավարման քաղաքականության իրագործմանն ուղղված ծրագրերի ազդեցության և արդյունավետության բարելավում
A18: Ծրագրի միջոցառումներ
B19: 11001 | C19: Միջոցառման անվանումը` | D19: 14000 | E19: 14000 | F19: 14000
C20: Տարածքային կառավարման և ենթակառուցվածքների քաղաքականության մշակում և ծառայությունների մատուցում
C21: Միջոցառման նկարագրությունը`
C22: Տարածքային կառավարման և ենթակառուցվածքների բնագավառում պետական քաղաքականության մշակման և դրա կատարման համակարգման, պետական ծրագրերի մշակման, իրականացման, մոնիտորինգի, խորհրդատվության և աջակցության ծառայություններ
C23: Միջոցառման տեսակը
C24: Ծառայությունների մատուցում
A25: 1004 | C25: Ծրագրի անվանումը`
C26: Ոռոգման համակարգի առողջացում | D26: =+D32 -> -14000 | E26: =+E32 -> -14000 | F26: =+F32 -> -14000
C27: Ծրագրի նպատակը`
C28: Ոռոգման ծառայությունների հասանելիության և մատչելիության ապահովում
C29: Վերջնական արդյունքի նկարագրությունը՝
C30: Ոռոգման ջրի մատակարարման արդյունավետության և հասանելիության բարելավում, կորուստների կրճատում
A31: Ծրագրի միջոցառումներ
B32: 11010 | C32: Միջոցառման անվանումը՝ | D32: =-D19 -> -14000 | E32: =-E19 -> -14000 | F32: =-F19 -> -14000
C33: Գերմանիայի զարգացման վարկերի բանկի աջակցությամբ իրականացվող Ախուրյան գետի ջրային ռեսուրսների ինտեգրացված կառավարում փուլ 1 ծրագրով Ջրաձոր գյուղի վերաբնակեցման գործողությունների խորհրդատվություն և կառավարում
C34: Միջոցառման նկարագրությունը`
C35: Գերմանիայի զարգացման վարկերի բանկի աջակցությամբ իրականացվող Ախուրյան գետի ջրային ռեսուրսների ինտեգրացված կառավարում փուլ 1 ծրագրով Ջրաձոր գյուղի վերաբնակեցման գործողությունների համակարգում և ղեկավարում
C36: Միջոցառման տեսակը՝
C37: Ծառայությունների մատուցում
A41: ՀԱՅԱՍՏԱՆԻ ՀԱՆՐԱՊԵՏՈՒԹՅԱՆ
A42: ՎԱՐՉԱՊԵՏԻ ԱՇԽԱՏԱԿԱԶՄԻ
C43: ՂԵԿԱՎԱՐ՝ Ա.ՀԱՐՈՒԹՅՈՒՆՅԱՆ

Sheet Հ-2
I1: Հավելված N 2
I2: ՀՀ կառավարության 2023 թվականի
I3: ______________ ի ___Ն որոշման
A6: ՀԱՅԱՍՏԱՆԻ ՀԱՆՐԱՊԵՏՈՒԹՅԱՆ ԿԱՌԱՎԱՐՈՒԹՅԱՆ 2022 ԹՎԱԿԱՆԻ ԴԵԿՏԵՄԲԵՐԻ 29-Ի N 2111-Ն ՈՐՈՇՄԱՆ N 3 ԵՎ N 4 ՀԱՎԵԼՎԱԾՆԵՐՈՒՄ ԿԱՏԱՐՎՈՂ ԼՐԱՑՈՒՄՆԵՐԸ ԵՎ ՓՈՓՈԽՈՒԹՅՈՒՆՆԵՐԸ
I8: /հազար դրամ/
A9: Գործառական դասիչը | D9: Ծրագրային դասիչը | F9: Բյուջետային ծախսերի գործառական դասակարգման բաժինների, խմբերի և դասերի, բյուջետային ծրագրերի, միջոցառումների բյուջետային հատկացումնեյի գլխավոր կարգադրիչների անվանումները | G9: Ցուցանիշների փոփոխությունը (ավելացումները նշված են դրական նշանով, իսկ նվազեցումները` փակագծերում)
A10: Բաժին | B10: Խումբ | C10: Դաս | D10: Ծրագիր | E10: Միջոցառում | G10: Առաջին կիսամյակ | H10: Ինն ամիս | I10: Տարի
F11: ԸՆԴԱՄԵՆԸ | G11: =+G12 -> 0 | H11: =+H12 -> 0 | I11: =+I12 -> 0
F12: ՀՀ տարածքային կառավարման և ենթակառուցվածքների նախարարություն | G12: =G32+G13 -> 0 | H12: =H32+H13 -> 0 | I12: =I32+I13 -> 0
A13: 01 | F13: ԸՆԴՀԱՆՈՒՐ ԲՆՈՒՅԹԻ ՀԱՆՐԱՅԻՆ ԾԱՌԱՅՈՒԹՅՈՒՆՆԵՐ | G13: =+G15 -> 14000 | H13: =+H15 -> 14000 | I13: =+I15 -> 14000
F14: այդ թվում`
B15: 01 | F15: Օրենսդիր և գործադիր մարմիններ, պետական կառավարում, ֆինանսական և հարկաբյուջետային հարաբերություններ, արտաքին հարաբերություններ | G15: =+G17 -> 14000 | H15: =+H17 -> 14000 | I15: =+I17 -> 14000
F16: այդ թվում`
C17: 01 | F17: Օրենսդիր և գործադիր մարմիններ, պետական կառավարում | G17: =G23 -> 14000 | H17: =H23 -> 14000 | I17: =I23 -> 14000
F18: այդ թվում`
F19: =+'Հ-1'!C11 -> ՀՀ տարածքային կառավարման և ենթակառուցվածքների նախարարություն | G19: =+G23 -> 14000 | H19: =+H23 -> 14000 | I19: =+I23 -> 14000
F20: այդ թվում`
D21: 1001 | F21: Տարածքային կառավարման ոլորտում քաղաքականության մշակում, ծրագրերի համակարգում և մոնիտորինգի իրականացում | G21: =+G23 -> 14000 | H21: =+H23 -> 14000 | I21: =+I23 -> 14000
F22: այդ թվում`
E23: 11001 | F23: Տարածքային կառավարման և ենթակառուցվածքների քաղաքականության մշակում և ծառայությունների մատուցում | G23: =+G25 -> 14000 | H23: =+H25 -> 14000 | I23: =+I25 -> 14000
F24: այդ թվում` ըստ կատարողների
F25: ՀՀ տարածքային կառավարման և ենթակառուցվածքների նախարարություն | G25: =+G27 -> 14000 | H25: =+H27 -> 14000 | I25: =+I27 -> 14000
F26: այդ թվում` բյուջետային ծախսերի տնտեսագիտական դասակարգման հոդվածներ
F27: ԸՆԴԱՄԵՆԸ ԾԱԽՍԵՐ | G27: =+G28 -> 14000 | H27: =+H28 -> 14000 | I27: =+I28 -> 14000
F28: ԸՆԹԱՑԻԿ ԾԱԽՍԵՐ | G28: =+G30 -> 14000 | H28: =+H30 -> 14000 | I28: =+I30 -> 14000
F29: ԾԱՌԱՅՈՒԹՅՈՒՆՆԵՐԻ ԵՎ ԱՊՐԱՆՔՆԵՐԻ ՁԵՌՔ ԲԵՐՈՒՄ | G29: =+G30 -> 14000 | H29: =+H30 -> 14000 | I29: =+I30 -> 14000
F30: ՊԱՅՄԱՆԱԳՐԱՅԻՆ ԱՅԼ ԾԱՌԱՅՈՒԹՅՈՒՆՆԵՐԻ ՁԵՌՔ ԲԵՐՈՒՄ | G30: =+G31 -> 14000 | H30: =+H31 -> 14000 | I30: =+I31 -> 14000
F31: Համակարգչային ծառայություններ | G31: =+'Հ-1'!D19 -> 14000 | H31: =+G31 -> 14000 | I31: =+H31 -> 14000
A32: 04 | F32: ՏՆՏԵՍԱԿԱՆ ՀԱՐԱԲԵՐՈՒԹՅՈՒՆՆԵՐ | G32: =+G34 -> -14000 | H32: =+H34 -> -14000 | I32: =+I34 -> -14000
F33: այդ թվում`
B34: 02 | F34: Գյուղատնտեսություն, անտառային տնտեսություն, ձկնորսություն և որսորդություն | G34: =+G36 -> -14000 | H34: =+H36 -> -14000 | I34: =+I36 -> -14000
F35: այդ թվում`
C36: 04 | F36: Ոռոգում | G36: =+G38 -> -14000 | H36: =+H38 -> -14000 | I36: =+I38 -> -14000
F37: այդ թվում`
F38: ՀՀ ՏԱՐԱԾՔԱՅԻՆ ԿԱՌԱՎԱՐՄԱՆ ԵՎ ԵՆԹԱԿԱՌՈՒՑՎԱԾՔՆԵՐԻ ՆԱԽԱՐԱՐՈՒԹՅՈՒՆ | G38: =+G40 -> -14000 | H38: =+H40 -> -14000 | I38: =+I40 -> -14000
F39: այդ թվում`
D40: 1004 | F40: Ոռոգման համակարգի առողջացում | G40: =+G42 -> -14000 | H40: =+H42 -> -14000 | I40: =+I42 -> -14000
F41: այդ թվում`
E42: 11010 | F42: Գերմանիայի զարգացման վարկերի բանկի աջակցությամբ իրականացվող Ախուրյան գետի ջրային ռեսուրսների ինտեգրացված կառավարում փուլ 1 ծրագրով Ջրաձոր գյուղի վերաբնակեցման գործողությունների խորհրդատվություն և կառավարում | G42: =+G44 -> -14000 | H42: =+H44 -> -14000 | I42: =+I44 -> -14000
F43: այդ թվում` ըստ կատարողների
F44: ՀՀ տարածքային կառավարման և ենթակառուցվածքների նախարարության ջրային կոմիտե | G44: =+G46 -> -14000 | H44: =+H46 -> -14000 | I44: =+I46 -> -14000
F45: այդ թվում` բյուջետային ծախսերի տնտեսագիտական դասակարգման հոդվածներ
F46: ԸՆԴԱՄԵՆԸ ԾԱԽՍԵՐ | G46: =+G47 -> -14000 | H46: =+H47 -> -14000 | I46: =+I47 -> -14000
F47: ԸՆԹԱՑԻԿ ԾԱԽՍԵՐ | G47: =G48 -> -14000 | H47: =H48 -> -14000 | I47: =I48 -> -14000
F48: ԴՐԱՄԱՇՆՈՐՀՆԵՐ | G48: =G49 -> -14000 | H48: =H49 -> -14000 | I48: =I49 -> -14000
F49: Ընթացիկ դրամաշնորհներ պետական հատվածի այլ մակարդակներին | G49: =G50 -> -14000 | H49: =H50 -> -14000 | I49: =I50 -> -14000
F50: - Այլ ընթացիկ դրամաշնորհներ | G50: =-G31 -> -14000 | H50: =-H31 -> -14000 | I50: =-I31 -> -14000
B53: ՀԱՅԱՍՏԱՆԻ ՀԱՆՐԱՊԵՏՈՒԹՅԱՆ ՎԱՐՉԱՊԵՏԻ ԱՇԽԱՏԱԿԱԶՄԻ ՂԵԿԱՎԱՐ՝ | H53: Ա.ՀԱՐՈՒԹՅՈՒՆՅԱՆ

Sheet Հ-3
L1: Հավելված N3
L2: ՀՀ կառավարության 2023 թվականի
L3: ______________ ի ___Ն որոշման
A5: «ՀԱՅԱUՏԱՆԻ ՀԱՆՐԱՊԵՏՈՒԹՅԱՆ 2023 ԹՎԱԿԱՆԻ ՊԵՏԱԿԱՆ ԲՅՈՒՋԵԻ ՄԱUԻՆ» OՐԵՆՔԻ N 1 ՀԱՎԵԼՎԱԾԻ N 4 ԱՂՅՈՒՍԱԿՈՒՄ ԵՎ ՀԱՅԱՍՏԱՆԻ ՀԱՆՐԱՊԵՏՈՒԹՅԱՆ ԿԱՌԱՎԱՐՈՒԹՅԱՆ 2022 ԹՎԱԿԱՆԻ ԴԵԿՏԵՄԲԵՐԻ 29-Ի N 2111-Ն ՈՐՈՇՄԱՆ N 5 ՀԱՎԵԼՎԱԾԻ N 3 ԱՂՅՈՒՍԱԿՈՒՄ ԿԱՏԱՐՎՈՂ ՓՈՓՈԽՈՒԹՅՈՒՆՆԵՐԸ
L6: /հազար դրամ/
A7: Ծրագրային դասիչը | C7: Բյուջետային գլխավոր կարգադրիչների, ծրագրերի և միջոցառումների անվանումները | D7: Ցուցանիշների փոփոխությունը (նվազեցումները նշված են փակագծերում)
D8: Առաջին կիսամյակ | G8: Ինն ամիս | J8: Տարի
D9: Ընդամենը | E9: այդ թվում` | G9: Ընդամենը | H9: այդ թվում` | J9: Ընդամենը | K9: այդ թվում`
A10: Ծրագիր | B10: Միջոց առում | E10: Վարկային միջոցներ | F10: Համաֆինան սավորում | H10: Վարկային միջոցներ | I10: Համաֆինան սավորում | K10: Վարկային միջոցներ | L10: Համաֆինան սավորում
C11: ԸՆԴԱՄԵՆԸ | D11: =+E11+F11 -> -14000 | E11: =+E13 -> 0 | F11: =+F13 -> -14000 | G11: =+H11+I11 -> -14000 | H11: =+H13 -> 0 | I11: =+I13 -> -14000 | J11: =+K11+L11 -> -14000 | K11: =+K13 -> 0 | L11: =+L13 -> -14000
C12: այդ թվում`
C13: ԸՆԹԱՑԻԿ ԾԱԽՍԵՐ | D13: =+E13+F13 -> -14000 | E13: 0 | F13: =+F14 -> -14000 | G13: =+H13+I13 -> -14000 | H13: =+H14 -> 0 | I13: =+I14 -> -14000 | J13: =+K13+L13 -> -14000 | K13: =+K14 -> 0 | L13: =+L14 -> -14000
C14: ՀՀ ՏԱՐԱԾՔԱՅԻՆ ԿԱՌԱՎԱՐՄԱՆ ԵՎ ԵՆԹԱԿԱՌՈՒՑՎԱԾՔՆԵՐԻ ՆԱԽԱՐԱՐՈՒԹՅՈՒՆ | D14: =+E14+F14 -> -14000 | E14: =E17 -> 0 | F14: =+F15 -> -14000 | G14: =+H14+I14 -> -14000 | H14: =+H15 -> 0 | I14: =+I15 -> -14000 | J14: =+K14+L14 -> -14000 | K14: =+K15 -> 0 | L14: =+L15 -> -14000
A15: 1004 | C15: Ոռոգման համակարգի առողջացում | D15: =+E15+F15 -> -14000 | E15: =E17 -> 0 | F15: =F17 -> -14000 | G15: =+H15+I15 -> -14000 | H15: =+H17 -> 0 | I15: =+I17 -> -14000 | J15: =+K15+L15 -> -14000 | K15: =+K17 -> 0 | L15: =+L17 -> -14000
C16: այդ թվում`
B17: 11010 | C17: Գերմանիայի զարգացման վարկերի բանկի աջակցությամբ իրականացվող Ախուրյան գետի ջրային ռեսուրսների ինտեգրացված կառավարում փուլ 1 ծրագրով Ջրաձոր գյուղի վերաբնակեցման գործողությունների խորհրդատվություն և կառավարում | D17: =+E17+F17 -> -14000 | E17: =+E19 -> 0 | F17: =+F19 -> -14000 | G17: =+H17+I17 -> -14000 | H17: =+H19 -> 0 | I17: =+I19 -> -14000 | J17: =+K17+L17 -> -14000 | K17: =+K19 -> 0 | L17: =+L19 -> -14000
C18: այդ թվում` ըստ կատարողների
C19: ՀՀ տարածքային կառավարման և ենթակառուցվածքների նախարարության ջրային կոմիտե | D19: =E19+F19 -> -14000 | E19: =+E21 -> 0 | F19: =+F21 -> -14000 | G19: =H19+I19 -> -14000 | H19: =+H21 -> 0 | I19: =+I21 -> -14000 | J19: =K19+L19 -> -14000 | K19: =+K21 -> 0 | L19: =+L21 -> -14000
C20: այդ թվում` բյուջետային ծախսերի տնտեսագիտական դասակարգման հոդվածներ
C21: ԸՆԴԱՄԵՆԸ ԾԱԽՍԵՐ | D21: =+D22 -> -14000 | E21: =+E22 -> 0 | F21: =+F22 -> -14000 | G21: =+G22 -> -14000 | H21: =+H22 -> 0 | I21: =+I22 -> -14000 | J21: =+J22 -> -14000 | K21: =+K22 -> 0 | L21: =+L22 -> -14000
C22: ԸՆԹԱՑԻԿ ԾԱԽՍԵՐ | D22: =E22+F22 -> -14000 | E22: =+E23 -> 0 | F22: =+F23 -> -14000 | G22: =H22+I22 -> -14000 | H22: =+H23 -> 0 | I22: =+I23 -> -14000 | J22: =K22+L22 -> -14000 | K22: =+K23 -> 0 | L22: =L25 -> -14000
C23: ԴՐԱՄԱՇՆՈՐՀՆԵՐ | D23: =+E23+F23 -> -14000 | E23: =+E24 -> 0 | F23: =+F24 -> -14000 | G23: =+H23+I23 -> -14000 | H23: =+H24 -> 0 | I23: =+I24 -> -14000 | J23: =+K23+L23 -> -14000 | K23: =+K24 -> 0 | L23: =+L24 -> -14000
C24: Ընթացիկ դրամաշնորհներ պետական հատվածի այլ մակարդակներին | D24: =+E24+F24 -> -14000 | E24: =+E25 -> 0 | F24: =+F25 -> -14000 | G24: =+H24+I24 -> -14000 | H24: =+H25 -> 0 | I24: =+I25 -> -14000 | J24: =+K24+L24 -> -14000 | K24: =+K25 -> 0 | L24: =+L25 -> -14000
C25: - Այլ ընթացիկ դրամաշնորհներ | D25: =+E25+F25 -> -14000 | E25: 0 | F25: =-'Հ-2'!G31 -> -14000 | G25: =+H25+I25 -> -14000 | H25: 0 | I25: =+F25 -> -14000 | J25: =+K25+L25 -> -14000 | K25: 0 | L25: =+I25 -> -14000
G26: =+#REF!-#REF! -> #REF!
C28: ՀԱՅԱՍՏԱՆԻ ՀԱՆՐԱՊԵՏՈՒԹՅԱՆ ՎԱՐՉԱՊԵՏԻ ԱՇԽԱՏԱԿԱԶՄԻ ՂԵԿԱՎԱՐ՝ | I28: Ա.ՀԱՐՈՒԹՅՈՒՆՅԱՆ

Sheet Հ-4
F2: Հավելված N 4
F3: ՀՀ կառավարության 2023 թվականի
F4: ______________ ի ___Ն որոշման
A6: ՀԱՅԱՍՏԱՆԻ ՀԱՆՐԱՊԵՏՈՒԹՅԱՆ ԿԱՌԱՎԱՐՈՒԹՅԱՆ 2022 ԹՎԱԿԱՆԻ ԴԵԿՏԵՄԲԵՐԻ 29-Ի ԹԻՎ 2111-Ն ՈՐՈՇՄԱՆ N 9 ՀԱՎԵԼՎԱԾԻ N 9.7 ԱՂՅՈՒՍԱԿՈՒՄ ԿԱՏԱՐՎՈՂ ՓՈՓՈԽՈՒԹՅՈՒՆՆԵՐԸ ԵՎ ԼՐԱՑՈՒՄՆԵՐԸ
F7: Աղյուսակ 9.7
A8: ՀՀ տարածքային կառավարման և ենթակառուցվածքների նախարարություն
A10: ՄԱՍ 2. ՊԵՏԱԿԱՆ ՄԱՐՄՆԻ ԳԾՈՎ ԱՐԴՅՈՒՆՔԱՅԻՆ (ԿԱՏԱՐՈՂԱԿԱՆ) ՑՈՒՑԱՆԻՇՆԵՐԸ
B12: Ծրագրի դասիչը | C12: Ծրագրի անվանումը
B13: =+'Հ-2'!D21 -> 1001 | C13: =+'Հ-2'!F21 -> Տարածքային կառավարման ոլորտում քաղաքականության մշակում, ծրագրերի համակարգում և մոնիտորինգի իրականացում
B15: Ծրագրի դասիչը՝ | C15: =+'Հ-2'!D21 -> 1001 | D15: Ցուցանիշների փոփոխությունը (ավելացումները նշված են դրական նշանով)
B16: Միջոցառման դասիչը՝ | C16: =+'Հ-2'!E23 -> 11001 | D16: Առաջին կիսամյակ | E16: Ինն ամիս | F16: Տարի
B17: Միջոցառման անվանումը՝ | C17: =+'Հ-2'!F23 -> Տարածքային կառավարման և ենթակառուցվածքների քաղաքականության մշակում և ծառայությունների մատուցում
B18: Նկարագրությունը՝ | C18: =+'Հ-1'!C22 -> Տարածքային կառավարման և ենթակառուցվածքների բնագավառում պետական քաղաքականության մշակման և դրա կատարման համակարգման, պետական ծրագրերի մշակման, իրականացման, մոնիտորինգի, խորհրդատվության և աջակցության ծառայություններ
B19: Միջոցառման տեսակը՝ | C19: =+'Հ-1'!C24 -> Ծառայությունների մատուցում
B20: Արդյունքի չափորոշիչներ
B21: Միջոցառման վրա կատարվող ծախսը (հազար դրամ) | D21: =+'Հ-1'!D12 -> 14000 | E21: =+'Հ-1'!E12 -> 14000 | F21: =+'Հ-1'!F12 -> 14000
B23: Ծրագրի դասիչը | C23: Ծրագրի անվանումը
B24: 1004 | C24: Ոռոգման համակարգի առողջացում
B25: Ծրագրի միջոցառումները
B26: Ծրագրի դասիչը` | C26: 1004 | D26: Ցուցանիշների փոփոխությունը (նվազեցումները նշված են փակագծերում)
B27: Միջոցառման դասիչը` | C27: 11010 | D27: Առաջին կիսամյակ | E27: Ինն ամիս | F27: Տարի
B28: Միջոցառման անվանումը` | C28: Գերմանիայի զարգացման վարկերի բանկի աջակցությամբ իրականացվող Ախուրյան գետի ջրային ռեսուրսների ինտեգրացված կառավարում փուլ 1 ծրագրով Ջրաձոր գյուղի վերաբնակեցման գործողությունների խորհրդատվություն և կառավարում
B29: Նկարագրությունը` | C29: Գերմանիայի զարգացման վարկերի բանկի աջակցությամբ իրականացվող Ախուրյան գետի ջրային ռեսուրսների ինտեգրացված կառավարում փուլ 1 ծրագրով Ջրաձոր գյուղի վերաբնակեցման գործողությունների համակարգում և ղեկավարում
B30: Միջոցառման տեսակը` | C30: Ծառայությունների մատուցում
B31: Ակտիվն օգտագործող կազմակերպության(ների) անվանում(ները)՛ | C31: Մասնագիտացված միավոր
B32: Արդյունքի չափորոշիչներ
B33: Միջոցառման վրա կատարվող ծախսը (հազար դրամ) | D33: =-D21 -> -14000 | E33: =-E21 -> -14000 | F33: =-F21 -> -14000
A37: ՀԱՅԱՍՏԱՆԻ ՀԱՆՐԱՊԵՏՈՒԹՅԱՆ
A38: ՎԱՐՉԱՊԵՏԻ ԱՇԽԱՏԱԿԱԶՄԻ
B39: ՂԵԿԱՎԱՐ՝ Ա.ՀԱՐՈՒԹՅՈՒՆՅԱՆ

Sheet Հ-5
F2: Հավելված N 5
F3: ՀՀ կառավարության 2023 թվականի
F4: ______________ ի ___Ն որոշման
A6: ՀԱՅԱՍՏԱՆԻ ՀԱՆՐԱՊԵՏՈՒԹՅԱՆ ԿԱՌԱՎԱՐՈՒԹՅԱՆ 2022 ԹՎԱԿԱՆԻ ԴԵԿՏԵՄԲԵՐԻ 29-Ի ԹԻՎ 2111-Ն ՈՐՈՇՄԱՆ N 9.1 ՀԱՎԵԼՎԱԾԻ NN 9.1.7 ԵՎ 9.1.25 ԱՂՅՈՒՍԱԿՆԵՐՈՒՄ ԿԱՏԱՐՎՈՂ ՓՈՓՈԽՈՒԹՅՈՒՆՆԵՐԸ ԵՎ ԼՐԱՑՈՒՄՆԵՐԸ
F7: Աղյուսակ 9.1.7
A8: ՀՀ տարածքային կառավարման և ենթակառուցվածքների նախարարություն
A10: ՄԱՍ 1. ՊԵՏԱԿԱՆ ՄԱՐՄՆԻ ԳԾՈՎ ԱՐԴՅՈՒՆՔԱՅԻՆ (ԿԱՏԱՐՈՂԱԿԱՆ) ՑՈՒՑԱՆԻՇՆԵՐԸ
B12: Ծրագրի դասիչը | C12: Ծրագրի անվանումը
B13: =+'Հ-4'!B13 -> 1001 | C13: =+'Հ-1'!C13 -> Տարածքային կառավարման ոլորտում քաղաքականության մշակում, ծրագրերի համակարգում և մոնիտորինգի իրականացում
B15: Ծրագրի միջոցառումները
B16: Ծրագրի դասիչը՝ | C16: =+'Հ-4'!C15 -> 1001 | D16: Ցուցանիշների փոփոխությունը (ավելացումները նշված են դրական նշանով)
B17: Միջոցառման դասիչը՝ | C17: =+'Հ-4'!C16 -> 11001 | D17: Առաջին կիսամյակ | E17: Ինն ամիս | F17: Տարի
B18: Միջոցառման անվանումը՝ | C18: =+'Հ-4'!C17 -> Տարածքային կառավարման և ենթակառուցվածքների քաղաքականության մշակում և ծառայությունների մատուցում
B19: Նկարագրությունը՝ | C19: =+'Հ-4'!C18 -> Տարածքային կառավարման և ենթակառուցվածքների բնագավառում պետական քաղաքականության մշակման և դրա կատարման համակարգման, պետական ծրագրերի մշակման, իրականացման, մոնիտորինգի, խորհրդատվության և աջակցության ծառայություններ
B20: Միջոցառման տեսակը՝ | C20: =+'Հ-4'!C19 -> Ծառայությունների մատուցում
B21: Արդյունքի չափորոշիչներ
B22: Միջոցառման վրա կատարվող ծախսը (հազար դրամ) | D22: =+'Հ-1'!D12 -> 14000 | E22: =+'Հ-1'!E12 -> 14000 | F22: =+'Հ-1'!F12 -> 14000
F24: Աղյուսակ 9.1.25
B25: ՀՀ տարածքային կառավարման և ենթակառուցվածքների նախարարության ջրային կոմիտե
B27: ՄԱՍ 1. ՊԵՏԱԿԱՆ ՄԱՐՄՆԻ ԳԾՈՎ ԱՐԴՅՈՒՆՔԱՅԻՆ (ԿԱՏԱՐՈՂԱԿԱՆ) ՑՈՒՑԱՆԻՇՆԵՐԸ
B30: Ծրագրի դասիչը | C30: Ծրագրի անվանումը
B31: 1004 | C31: Ոռոգման համակարգի առողջացում
B33: Ծրագրի միջոցառումները
B35: Ծրագրի դասիչը` | C35: 1004 | D35: Ցուցանիշների փոփոխությունը (նվազեցումները նշված են փակագծերում)
B36: Միջոցառման դասիչը` | C36: 11010 | D36: Առաջին կիսամյակ | E36: Ինն ամիս | F36: Տարի
B37: Միջոցառման անվանումը` | C37: Գերմանիայի զարգացման վարկերի բանկի աջակցությամբ իրականացվող Ախուրյան գետի ջրային ռեսուրսների ինտեգրացված կառավարում փուլ 1 ծրագրով Ջրաձոր գյուղի վերաբնակեցման գործողությունների խորհրդատվություն և կառավարում
B38: Նկարագրությունը` | C38: Գերմանիայի զարգացման վարկերի բանկի աջակցությամբ իրականացվող Ախուրյան գետի ջրային ռեսուրսների ինտեգրացված կառավարում փուլ 1 ծրագրով Ջրաձոր գյուղի վերաբնակեցման գործողությունների համակարգում և ղեկավարում
B39: Միջոցառման տեսակը` | C39: Ծառայությունների մատուցում
B40: Ակտիվն օգտագործող կազմակերպության(ների) անվանում(ները)՛ | C40: Մասնագիտացված միավոր
B41: Արդյունքի չափորոշիչներ
B42: Միջոցառման վրա կատարվող ծախսը (հազար դրամ) | D42: =-D22 -> -14000 | E42: =-E22 -> -14000 | F42: =-F22 -> -14000
A45: ՀԱՅԱՍՏԱՆԻ ՀԱՆՐԱՊԵՏՈՒԹՅԱՆ
A46: ՎԱՐՉԱՊԵՏԻ ԱՇԽԱՏԱԿԱԶՄԻ
B47: ՂԵԿԱՎԱՐ՝ Ա.ՀԱՐՈՒԹՅՈՒՆՅԱՆ

Sheet Հ-6
G1: Հավելված N 6
G2: ՀՀ կառավարության 2023 թվականի
G3: ______________ ի ___Ն որոշման
A5: ՀԱՅԱՍՏԱՆԻ ՀԱՆՐԱՊԵՏՈՒԹՅԱՆ ԿԱՌԱՎԱՐՈՒԹՅԱՆ 2022 ԹՎԱԿԱՆԻ ԴԵԿՏԵՄԲԵՐԻ 29-Ի N 2111-Ն ՈՐՈՇՄԱՆ N 10 ՀԱՎԵԼՎԱԾՈՒՄ ԿԱՏԱՐՎՈՂ ԼՐԱՑՈՒՄՆԵՐԸ
A7: Կոդը | B7: Անվանումը | C7: Գնման ձևը | D7: Չափման միավորը | E7: Միավորի գինը | F7: Ցուցանիշների փոփոխությունը (ավելացումները նշված են դրական նշանով)
F8: Քանակը | G8: Գումարը (հազար դրամով)
A9: ՀՀ տարածքային կառավարման և ենթակառուցվածքների նախարարություն | G9: =G10 -> 14000
A10: Բաժին N 01 | B10: Խումբ N 01 | C10: Դաս N 01 | D10: Օրենսդիր և գործադիր մարմիններ, պետական կառավարում | G10: =+G11 -> 14000
A11: 1001 11001 | B11: Տարածքային կառավարման և ենթակառուցվածքների քաղաքականության մշակում և ծառայությունների մատուցում | G11: =G13 -> 14000
A12: ՄԱՍ III. ԾԱՌԱՅՈՒԹՅՈՒՆՆԵՐ | G12: =+G13 -> 14000
A13: 72261160/501 | B13: ծրագրային ապահովման սպասարկման ծառայություններ | C13: ԳՀ | D13: դրամ | E13: 14000000 | F13: 1 | G13: =+E13*F13/1000 -> 14000
