Workbook

Sheet 1
F1: Հավելված N 1
F2: ՀՀ կառավարության 2023 թվականի
F3: -ի N -Ն որոշման
A4: «ՀԱՅԱՍՏԱՆԻ ՀԱՆՐԱՊԵՏՈՒԹՅԱՆ 2023 ԹՎԱԿԱՆԻ ՊԵՏԱԿԱՆ ԲՅՈՒՋԵԻ ՄԱՍԻՆ» ՀԱՅԱՍՏԱՆԻ ՀԱՆՐԱՊԵՏՈՒԹՅԱՆ ՕՐԵՆՔԻ N 1 ՀԱՎԵԼՎԱԾԻ N 2 ԱՂՅՈՒՍԱԿՈՒՄ ԿԱՏԱՐՎՈՂ ՎԵՐԱԲԱՇԽՈՒՄԸ, ՓՈՓՈԽՈՒԹՅՈՒՆՆԵՐԸ , ՀԱՅԱՍՏԱՆԻ ՀԱՆՐԱՊԵՏՈՒԹՅԱՆ ԿԱՌԱՎԱՐՈՒԹՅԱՆ 2022 ԹՎԱԿԱՆԻ ԴԵԿՏԵՄԲԵՐԻ 29-Ի N 2111-Ն ՈՐՈՇՄԱՆ N 5 ՀԱՎԵԼՎԱԾԻ N 1 ԱՂՅՈՒՍԱԿՈՒՄ ԿԱՏԱՐՎՈՂ ՓՈՓՈԽՈՒԹՅՈՒՆՆԵՐԸ
F6: (հազ. դրամ)
A7: Ծրագրային դասիչը | C7: Բյուջետային գլխավոր կարգադրիչների, ծրագրերի և միջոցառումների անվանումները | D7: Ցուցանիշների փոփոխությունը (ավելացումները նշված են դրական նշանով, իսկ նվազեցումները՝ փակագծերում)
A8: Ծրագիր | B8: Միջոցառում | D8: Առաջին կիսամյակ | E8: Ինն ամիս | F8: Տարի
C9: ԸՆԴԱՄԵՆԸ | D9: =D10+D55 -> 0 | E9: =E10+E55 -> 0 | F9: =F10+F55 -> 0
C10: ՀՀ տարածքային կառավարման և ենթակառուցվածքների նախարարություն | D10: =D11+D36 -> 0 | E10: =E11+E36 -> -6313.1 | F10: =F11+F36 -> -6313.1
A11: 1004 | C11: Ծրագրի անվանումը` | D11: =D18+D24+D30 -> 20400 | E11: =E18+E24+E30 -> 83760 | F11: =F18+F24+F30 -> 63215.5
C12: Ոռոգման համակարգի առողջացում
C13: Ծրագրի նպատակը`
C14: Ոռոգման ծառայությունների հասանելիության և մատչելիության ապահովում
C15: Վերջնական արդյունքի նկարագրությունը`
C16: Ոռոգման ջրի մատակարարման արդյունավետության և հասանելիության բարելավում՝ կորուստների կրճատում
A17: Ծրագրի միջոցառումներ
B18: 31002 | C18: Միջոցառման անվանումը` | D18: ='4'!D13 -> -5520 | E18: ='4'!E13 -> 52839.9 | F18: ='4'!F13 -> -7084.5
C19: Ոռոգման համակարգերի հիմնանորոգում
C20: Միջոցառման նկարագրությունը`
C21: Ոռոգման համակարգերի հիմնանորոգում
C22: Միջոցառման տեսակը
C23: Պետական մարմինների կողմից օգտագործվող ոչ ֆինանսական ակտիվների հետ գործառնություններ
B24: 31013 | C24: Միջոցառման անվանումը` | D24: ='4'!D28 -> 25920 | E24: ='4'!E28 -> 25920.1 | F24: ='4'!F28 -> 64800
C25: Փոքր և միջին ջրամբարների կառուցում
C26: Միջոցառման նկարագրությունը`
C27: Փոքր և միջին ջրամբարների կառուցման աշխատանքներ
C28: Միջոցառման տեսակը
C29: Պետական մարմինների կողմից օգտագործվող ոչ ֆինանսական ակտիվների հետ գործառնություններ
B30: 31014 | C30: Միջոցառման անվանումը` | D30: ='4'!D31 -> 0 | E30: ='4'!E31 -> 5000 | F30: ='4'!F31 -> 5500
C31: Ջրամբարների վերականգնման և վերազինման աշխատանքներ
C32: Միջոցառման նկարագրությունը`
C33: Ջրամբարների վերականգնման և վերազինման համար նախագծերի և աշխատանքների ձեռքբերում
C34: Միջոցառման տեսակը
C35: Պետական մարմինների կողմից օգտագործվող ոչ ֆինանսական ակտիվների հետ գործառնություններ
A36: 1072 | C36: Ծրագրի անվանումը` | D36: =D43+D49 -> -20400 | E36: =E43+E49 -> -90073.1 | F36: =F43+F49 -> -69528.6
C37: Ջրամատակարարաման և ջրահեռացման բարելավում
C38: Ծրագրի նպատակը`
C39: Ջրամատակարարման ծառայությունների հասանելիության և մատչելիության ապահովում
C40: Վերջնական արդյունքի նկարագրությունը`
C41: Խմելու ջրի մատակարարման և ջրահեռացման համակարգի բարելավում, կորուստների կրճատում
...

Sheet 2
A1: Հավելված N 2
A2: ՀՀ կառավարության 2023 թվականի
A3: -ի N -Ն որոշման
A4: «ՀԱՅԱՍՏԱՆԻ ՀԱՆՐԱՊԵՏՈՒԹՅԱՆ 2023 ԹՎԱԿԱՆԻ ՊԵՏԱԿԱՆ ԲՅՈՒՋԵԻ ՄԱՍԻՆ» ՀԱՅԱՍՏԱՆԻ ՀԱՆՐԱՊԵՏՈՒԹՅԱՆ ՕՐԵՆՔԻ N 1 ՀԱՎԵԼՎԱԾԻ N 3 ԱՂՅՈՒՍԱԿՈՒՄ ԿԱՏԱՐՎՈՂ ՓՈՓՈԽՈՒԹՅՈՒՆՆԵՐԸ ԵՎ ԼՐԱՑՈՒՄՆԵՐԸ
G5: (հազ. դրամ)
A6: Ծրագրային դասիչ | C6: Բյուջետային գլխավոր կարգադրիչների, ծրագրերի, միջոցառումների և ուղղությունների անվանումները | D6: Ցուցանիշների փոփոխությունը (ավելացումները նշված են դրական նշանով, իսկ նվազեցումները՝ փակագծերում)
D7: Ընդամենը, | E7: այդ թվում՝
A8: Ծրագիր | B8: Միջոցառում | E8: Կառուցման աշխատանքներ | F8: Վերակառուցման, վերանորոգման և վերականգնման աշխատանքներ | G8: Նախագծահե- տազոտական, գեոդեզիա- քարտեզագրա- կան աշխա- տանքներ | H8: Ոչ ֆինանսական այլ ակտիվների ձեռքբերում
C9: ԸՆԴԱՄԵՆԸ | D9: =SUM(E9:H9) -> -6313.1 | E9: =E11 -> -79128.6 | F9: =F11 -> -7084.5 | G9: =G11 -> 79900 | H9: =H11 -> 0
C10: այդ թվում՝
C11: ՀՀ ՏԱՐԱԾՔԱՅԻՆ ԿԱՌԱՎԱՐՄԱՆ ԵՎ ԵՆԹԱԿԱՌՈՒՑՎԱԾՔՆԵՐԻ ՆԱԽԱՐԱՐՈՒԹՅՈՒՆ | D11: =SUM(E11:H11) -> -6313.1 | E11: =E13+E19+E20+E23+E27 -> -79128.6 | F11: =F13+F19+F20+F23+F27 -> -7084.5 | G11: =G13+G19+G20+G23+G27 -> 79900 | H11: =H13+H19+H20+H23+H27 -> 0
C12: այդ թվում`
A13: 1004 | B13: 31002 | C13: Ոռոգման համակարգերի հիմնանորոգում | D13: =SUM(E13:H13) -> -7084.5 | E13: =SUM(E15:E18) -> 0 | F13: =SUM(F15:F18) -> -7084.5 | G13: =SUM(G15:G18) -> 0 | H13: =SUM(H15:H18) -> 0
C14: այդ թվում`
C15: «Արմաշ» ջրհան կայանի ճնշումային խողովակաշարի Սուրենավան համայնքում IV գոտու ջրանցքի հիմնանորոգման շինարարական աշխատանքներ | D15: =SUM(E15:H15) -> 2766.9 | F15: 2766.9
C16: «Արմաշ» ջրհան կայանի ճնշումային խողովակաշարի Սուրենավան համայնքում III գոտու ջրանցքի հիմնանորոգման աշխատանքներ | D16: =SUM(E16:H16) -> -8993 | F16: -8993
C17: Արմավիրի մարզի Մրգաշատ համայնքի Բաժանարար N2 ջրանցքի վերակառուցման շինարարական աշխատանքներ | D17: =SUM(E17:H17) -> -3190.1 | F17: -3190.1
C18: Քաղցրաշեն-1 պոմպակայանի 2-րդ հերթի մղման ավազանից 1-ին հերթի մղման ավազան ջուր տեղափոխող մետաղական խողովակաշարի տեղադրման շինարարական աշխատանքներ | D18: =SUM(E18:H18) -> 2331.7 | F18: 2331.7
A19: 1004 | B19: 31013 | C19: Փոքր և միջին ջրամբարների կառուցում | D19: =SUM(E19:H19) -> 64800 | E19: 0 | F19: 0 | G19: 64800
A20: 1004 | B20: 31014 | C20: Ջրամբարների վերականգնման և վերազինման աշխատանքներ | D20: =SUM(E20:H20) -> 5500 | E20: =SUM(E22:E22) -> 0 | F20: =SUM(F22:F22) -> 0 | G20: =SUM(G22:G22) -> 5500 | H20: =SUM(H22:H22) -> 0
C21: այդ թվում`
C22: ՀՀ Գեղարքունիքի մարզի Գեղարքունիք համայնքի N 2 ջրամբարի վերականգնման աշխատանքներ | D22: =SUM(E22:H22) -> 5500 | G22: 5500
A23: 1072 | B23: 31008 | C23: Պարտադիր կապիտալ աշխատանքների ծրագրի շրջանակներում ջրամատակարարման և ջրահեռացման ենթակառուցվածքների հիմնանորոգում | D23: =SUM(E23:H23) -> -79128.6 | E23: =SUM(E25:E26) -> -79128.6 | F23: =F25 -> 0 | G23: =SUM(G25:G25) -> 0 | H23: =SUM(H25:H25) -> 0
C24: այդ թվում`
C25: Սառնակունք գյուղի մոտ Մուխութուրյանի ջրատարի ջրաքանակի համար քլորակայանի կառուցում | D25: =SUM(E25:H25) -> 21841.2 | E25: 21841.2
C26: Ղազանչի ջրաղբյուրների սանիտարական գոտում նոր, հեղուկ քլորով շահագործվող քլորակայանի կառուցում | D26: =SUM(E26:H26) -> -100969.8 | E26: ='4'!F41 -> -100969.8
A27: 1072 | B27: 31009 | C27: ՀՀ-ի տարածքում Վարձակալի կողմից չսպասարկվող բնակավայրերում ջրամատակարարման և ջրահեռացման համակարգերի կառուցում | D27: =SUM(E27:H27) -> 9600 | E27: =SUM(E29:E29) -> 0 | F27: =SUM(F29:F29) -> 0 | G27: =SUM(G29:G29) -> 9600 | H27: =SUM(H29:H29) -> 0
C28: այդ թվում`
C29: ՀՀ Տավուշի Իջևան համայնքի Աչաջուր և Սևքար բնակավայրերի խմելու ջրամատակարարման համակարգերի վերակառուցում | D29: =SUM(E29:H29) -> 9600 | G29: 9600

Sheet 3
H1: Հավելված N 3
A2: ՀՀ կառավարության 2023 թվականի
A3: -ի N -Ն որոշման
A4: ՀԱՅԱՍՏԱՆԻ ՀԱՆՐԱՊԵՏՈՒԹՅԱՆ ԿԱՌԱՎԱՐՈՒԹՅԱՆ 2022 ԹՎԱԿԱՆԻ ԴԵԿՏԵՄԲԵՐԻ 29-Ի N 2111-Ն ՈՐՈՇՄԱՆ N 3 ԵՎ N 4 ՀԱՎԵԼՎԱԾՆԵՐՈՒՄ ԿԱՏԱՐՎՈՂ ՓՈՓՈԽՈՒԹՅՈՒՆՆԵՐԸ ԵՎ ԼՐԱՑՈՒՄՆԵՐԸ
H6: (հազ. դրամ)
A7: Գործառական դասիչը | D7: Ծրագրային դասիչը | F7: Բյուջետային ծախսերի գործառական դասակարգման բաժինների, խմբերի և դասերի, բյուջետային ծրագրերի միջոցառումների, բյուջետային հատկացումների գլխավոր կարգադրիչների անվանումները | G7: Ցուցանիշների փոփոխությունը (ավելացումները նշված են դրական նշանով, իսկ նվազեցումները՝ փակագծերում)
G8: Առաջին կիսամյակ | H8: Ինն ամիս | I8: Տարի
A9: Բաժին | B9: Խումբ | C9: Դաս | D9: Ծրագիր | E9: Միջոցառում
F10: ԸՆԴԱՄԵՆԸ ԾԱԽՍԵՐ | G10: =G12+G57+G93 -> 0 | H10: =H12+H57+H93 -> 0 | I10: =I12+I57+I93 -> 0
F11: այդ թվում`
A12: 04 | F12: ՏՆՏԵՍԱԿԱՆ ՀԱՐԱԲԵՐՈՒԹՅՈՒՆՆԵՐ | G12: =G14 -> 20400 | H12: =H14 -> 83760 | I12: =I14 -> 63215.5
F13: այդ թվում`
B14: 02 | F14: Գյուղատնտեսություն, անտառային տնտեսություն, ձկնորսություն և որսորդություն | G14: =G16 -> 20400 | H14: =H16 -> 83760 | I14: =I16 -> 63215.5
F15: այդ թվում`
C16: 04 | F16: Ոռոգում | G16: =G18 -> 20400 | H16: =H18 -> 83760 | I16: =I18 -> 63215.5
F17: այդ թվում`
F18: ՀՀ տարածքային կառավարման և ենթակառուցվածքների նախարարություն | G18: =G20 -> 20400 | H18: =H20 -> 83760 | I18: =I20 -> 63215.5
F19: այդ թվում`
D20: 1004 | F20: Ոռոգման համակարգի առողջացում | G20: =G22+G39+G48 -> 20400 | H20: =H22+H39+H48 -> 83760 | I20: =I22+I39+I48 -> 63215.5
F21: այդ թվում`
E22: 31002 | F22: Ոռոգման համակարգերի հիմնանորոգում | G22: =G24+G32 -> -5520 | H22: =H24+H32 -> 52839.9 | I22: =I24+I32 -> -7084.5
F23: այդ թվում` ըստ կատարողների
F24: ՀՀ կառավարություն | G24: =G26 -> -28663.1 | H24: =H26 -> -66880.5 | I24: =I26 -> -191087.3
F25: այդ թվում` բյուջետային ծախսերի տնտեսագիտական դասակարգման հոդվածներ
F26: ԸՆԴԱՄԵՆԸ ԾԱԽՍԵՐ | G26: =G27 -> -28663.1 | H26: =H27 -> -66880.5 | I26: =I27 -> -191087.3
F27: ՈՉ ՖԻՆԱՆՍԱԿԱՆ ԱԿՏԻՎՆԵՐԻ ԳԾՈՎ ԾԱԽՍԵՐ | G27: =G28 -> -28663.1 | H27: =H28 -> -66880.5 | I27: =I28 -> -191087.3
F28: ՀԻՄՆԱԿԱՆ ՄԻՋՈՑՆԵՐ | G28: =G29 -> -28663.1 | H28: =H29 -> -66880.5 | I28: =I29 -> -191087.3
F29: ՇԵՆՔԵՐ ԵՎ ՇԻՆՈՒԹՅՈՒՆՆԵՐ | G29: =G30 -> -28663.1 | H29: =H30 -> -66880.5 | I29: =I30 -> -191087.3
F30: - Շենքերի և շինությունների կապիտալ վերանորոգում | G30: ='4'!D15 -> -28663.1 | H30: ='4'!E15 -> -66880.5 | I30: ='4'!F15 -> -191087.3
F31: այդ թվում` ըստ կատարողների
F32: ՀՀ տարածքային կառավարման և ենթակառուցվածքների նախարարության ջրային կոմիտե | G32: =G34 -> 23143.1 | H32: =H34 -> 119720.4 | I32: =I34 -> 184002.8
F33: այդ թվում` բյուջետային ծախսերի տնտեսագիտական դասակարգման հոդվածներ
F34: ԸՆԴԱՄԵՆԸ ԾԱԽՍԵՐ | G34: =G35 -> 23143.1 | H34: =H35 -> 119720.4 | I34: =I35 -> 184002.8
F35: ՈՉ ՖԻՆԱՆՍԱԿԱՆ ԱԿՏԻՎՆԵՐԻ ԳԾՈՎ ԾԱԽՍԵՐ | G35: =G36 -> 23143.1 | H35: =H36 -> 119720.4 | I35: =I36 -> 184002.8
F36: ՀԻՄՆԱԿԱՆ ՄԻՋՈՑՆԵՐ | G36: =G37 -> 23143.1 | H36: =H37 -> 119720.4 | I36: =I37 -> 184002.8
F37: ՇԵՆՔԵՐ ԵՎ ՇԻՆՈՒԹՅՈՒՆՆԵՐ | G37: =G38 -> 23143.1 | H37: =H38 -> 119720.4 | I37: =I38 -> 184002.8
F38: - Շենքերի և շինությունների կապիտալ վերանորոգում | G38: ='4'!D22 -> 23143.1 | H38: ='4'!E22 -> 119720.4 | I38: ='4'!F22 -> 184002.8
E39: 31013 | F39: Փոքր և միջին ջրամբարների կառուցում | G39: =G41 -> 25920 | H39: =H41 -> 25920.1 | I39: =I41 -> 64800
F40: այդ թվում` ըստ կատարողների
F41: ՀՀ տարածքային կառավարման և ենթակառուցվածքների նախարարության ջրային կոմիտե | G41: =G43 -> 25920 | H41: =H43 -> 25920.1 | I41: =I43 -> 64800
...

Sheet 4
A1: Հավելված N 4
A2: ՀՀ կառավարության 2023 թվականի
A3: -ի N -Ն որոշման
A4: ՀԱՅԱՍՏԱՆԻ ՀԱՆՐԱՊԵՏՈՒԹՅԱՆ ԿԱՌԱՎԱՐՈՒԹՅԱՆ 2022 ԹՎԱԿԱՆԻ ԴԵԿՏԵՄԲԵՐԻ 29-Ի N 2111-Ն ՈՐՈՇՄԱՆ N 5 ՀԱՎԵԼՎԱԾԻ N 2 ԱՂՅՈՒՍԱԿՈՒՄ ԿԱՏԱՐՎՈՂ ՓՈՓՈԽՈՒԹՅՈՒՆՆԵՐԸ ԵՎ ԼՐԱՑՈՒՄՆԵՐԸ
F5: (հազ. դրամ)
A6: Ծրագրային դասիչ | C6: Բյուջետային գլխավոր կարգադրիչների, ծրագրերի, միջոցառումների, միջոցառումները կատարող պետական մարմինների և ուղղությունների անվանումները | D6: Ցուցանիշների փոփոխությունը (ավելացումները նշված են դրական նշանով, իսկ նվազեցումները` փակագծերում)
D7: Առաջին կիսամյակ | E7: Ինն ամիս | F7: Տարի
A8: Ծրագիր | B8: Միջոցառում
C9: ԸՆԴԱՄԵՆԸ | D9: =D11 -> 0 | E9: =E11 -> -6313.1 | F9: =F11 -> -6313.1
C10: այդ թվում՝
C11: ՀՀ ՏԱՐԱԾՔԱՅԻՆ ԿԱՌԱՎԱՐՄԱՆ ԵՎ ԵՆԹԱԿԱՌՈՒՑՎԱԾՔՆԵՐԻ ՆԱԽԱՐԱՐՈՒԹՅՈՒՆ | D11: =D13+D28+D31+D36+D46 -> 0 | E11: =E13+E28+E31+E36+E46 -> -6313.1 | F11: =F13+F28+F31+F36+F46 -> -6313.1
C12: այդ թվում`
A13: 1004 | B13: 31002 | C13: Ոռոգման համակարգերի հիմնանորոգում | D13: =D15+D22 -> -5520 | E13: =E15+E22 -> 52839.9 | F13: =F15+F22 -> -7084.5
C14: այդ թվում` ըստ կատարողների
C15: ՀՀ կառավարություն | D15: =SUM(D17:D20) -> -28663.1 | E15: =SUM(E17:E20) -> -66880.5 | F15: =SUM(F17:F20) -> -191087.3
C16: այդ թվում` ըստ ուղղությունների
C17: «Արմաշ» պոմպակայանի IV գոտու հեռացնող ջրատարի վերականգնման աշխատանքներ | D17: -5926.7 | E17: -13828.9 | F17: -39511.2
C18: Սուրենավան III գոտու ջրագծի հիմնանորոգման աշխատանքներ | D18: -15899.6 | E18: -37099.1 | F18: -105997.3
C19: Արմավիրի մարզի Մրգաշատ համայնքի Բաժանարար N2 կիսախողովակային ջրանցքի վերակառուցում | D19: -4196.8 | E19: -9792.5 | F19: -27978.5
C20: Քաղցրաշեն-1 պ/կ 2-րդ հերթի մղման ավազանից | D20: -2640 | E20: -6160 | F20: -17600.3
C21: այդ թվում` ըստ կատարողների
C22: ՀՀ տարածքային կառավարման և ենթակառուցվածքների նախարարության ջրային կոմիտե | D22: =SUM(D24:D27) -> 23143.1 | E22: =SUM(E24:E27) -> 119720.4 | F22: =SUM(F24:F27) -> 184002.8
C23: այդ թվում` ըստ ուղղությունների
C24: «Արմաշ» ջրհան կայանի ճնշումային խողովակաշարի Սուրենավան համայնքում IV գոտու ջրանցքի հիմնանորոգման շինարարական աշխատանքներ | D24: 6249.3 | E24: 30000 | F24: 42278.1
C25: «Արմաշ» ջրհան կայանի ճնշումային խողովակաշարի Սուրենավան համայնքում III գոտու ջրանցքի հիմնանորոգման աշխատանքներ | D25: 10311.8 | E25: 45000 | F25: 97004.3
C26: Արմավիրի մարզի Մրգաշատ համայնքի Բաժանարար N2 ջրանցքի վերակառուցման շինարարական աշխատանքներ | D26: 3645 | E26: 24788.4 | F26: 24788.4
C27: Քաղցրաշեն-1 պոմպակայանի 2-րդ հերթի մղման ավազանից 1-ին հերթի մղման ավազան ջուր տեղափոխող մետաղական խողովակաշարի տեղադրման շինարարական աշխատանքներ | D27: 2937 | E27: 19932 | F27: =E27 -> 19932
A28: 1004 | B28: 31013 | C28: Փոքր և միջին ջրամբարների կառուցում | D28: =129600*20/100 -> 25920 | E28: 25920.1 | F28: 64800
C29: այդ թվում` ըստ կատարողների
C30: ՀՀ տարածքային կառավարման և ենթակառուցվածքների նախարարության ջրային կոմիտե | D30: 25920 | E30: 25920.1 | F30: 64800
A31: 1004 | B31: 31014 | C31: Ջրամբարների վերականգնման և վերազինման աշխատանքներ | D31: =D33 -> 0 | E31: 5000 | F31: =F33 -> 5500
C32: այդ թվում` ըստ կատարողների
C33: ՀՀ տարածքային կառավարման և ենթակառուցվածքների նախարարության ջրային կոմիտե | D33: =SUM(D35:D35) -> 0 | E33: =E35 -> 5000 | F33: =SUM(F35:F35) -> 5500
C34: այդ թվում` ըստ ուղղությունների
C35: ՀՀ Գեղարքունիքի մարզի Գեղարքունիք համայնքի N 2 ջրամբարի վերականգնման աշխատանքներ | D35: 0 | E35: 5000 | F35: 5500
A36: 1072 | B36: 31008 | C36: Պարտադիր կապիտալ աշխատանքների ծրագրի շրջանակներում ջրամատակարարման և ջրահեռացման ենթակառուցվածքների հիմնանորոգում | D36: =D38+D43 -> -30000 | E36: =E38+E43 -> -99673.1 | F36: =F38+F43 -> -79128.6
C37: այդ թվում` ըստ կատարողների
C38: ՀՀ կառավարություն | D38: =SUM(D40:D41) -> -30000 | E38: =E40+E41 -> -182573.7 | F38: =SUM(F40:F41) -> -182573.7
C39: այդ թվում` ըստ ուղղությունների
C40: Սառնակունք գյուղի մոտ Մուխութուրյանի ջրատարի ջրաքանակի համար քլորակայանի կառուցում | D40: -30000 | E40: -81603.9 | F40: =E40 -> -81603.9
...

Sheet 5-1
A1: Հավելված N 5
A2: ՀՀ կառավարության 2023 թվականի
A3: -ի N -Ն որոշման
D4: Աղյուսակ 1
A5: ՀԱՅԱՍՏԱՆԻ ՀԱՆՐԱՊԵՏՈՒԹՅԱՆ ԿԱՌԱՎԱՐՈՒԹՅԱՆ 2022 ԹՎԱԿԱՆԻ ԴԵԿՏԵՄԲԵՐԻ 29-Ի N 2111-Ն ՈՐՈՇՄԱՆ N 9 ՀԱՎԵԼՎԱԾԻ N 9.7 ԵՎ N 9.47 ԱՂՅՈՒՍԱԿՆԵՐՈՒՄ ԿԱՏԱՐՎՈՂ ՓՈՓՈԽՈՒԹՅՈՒՆՆԵՐԸ ԵՎ ԼՐԱՑՈՒՄՆԵՐԸ
A6: ՀՀ տարածքային կառավարման և ենթակառուցվածքների նախարարություն
A8: ՄԱՍ 2. ՊԵՏԱԿԱՆ ՄԱՐՄՆԻ ԳԾՈՎ ԱՐԴՅՈՒՆՔԱՅԻՆ (ԿԱՏԱՐՈՂԱԿԱՆ) ՑՈՒՑԱՆԻՇՆԵՐԸ
A10: Ծրագրի դասիչը | B10: Ծրագրի անվանումը
A11: 1004 | B11: Ոռոգման համակարգի առողջացում
A12: Ծրագրի միջոցառումները
A14: Ծրագրի դասիչը` | B14: 1004 | C14: Ցուցանիշներ
C15: Ցուցանիշների փոփոխությունը (ավելացումները նշված են դրական նշանով, իսկ նվազեցումները՝ փակագծերում)
A16: Միջոցառման դասիչը` | B16: 31002 | C16: Առաջին կիսամյակ | D16: Ինն ամիս | E16: Տարի
A17: Միջոցառման անվանումը` | B17: Ոռոգման համակարգերի հիմնանորոգում
A18: Նկարագրությունը` | B18: Ոռոգման համակարգերի հիմնանորոգում
A19: Միջոցառման տեսակը` | B19: Պետական մարմինների կողմից օգտագործվող ոչ ֆինանսական ակտիվների հետ գործառնություններ
A20: Ակտիվն օգտագործող կազմակերպության(ների) անվանում(ները)՛ | B20: Ոռոգման համակարգի ընկերություններ
A21: Արդյունքի չափորոշիչներ
A22: Վերականգնվող ջրանցք, գծմ | D22: 1900 | E22: 3100
A23: Պոմպակայանի մղման խողովակի տեղադրում, մ | D23: 146 | E23: 6
A24: Միջոցառման վրա կատարվող ծախսը (հազար դրամ) | C24: ='1'!D18 -> -5520 | D24: ='1'!E18 -> 52839.9 | E24: ='1'!F18 -> -7084.5
A26: Ծրագրի դասիչը | B26: Ծրագրի անվանումը
A27: 1004 | B27: Ոռոգման համակարգի առողջացում
A28: Ծրագրի միջոցառումները
A30: Ծրագրի դասիչը` | B30: 1004 | C30: Ցուցանիշներ
C31: Ցուցանիշների փոփոխությունը (ավելացումները նշված են դրական նշանով)
A32: Միջոցառման դասիչը` | B32: 31013 | C32: Առաջին կիսամյակ | D32: Ինն ամիս | E32: Տարի
A33: Միջոցառման անվանումը` | B33: Փոքր և միջին ջրամբարների կառուցում
A34: Նկարագրությունը` | B34: Փոքր և միջին ջրամբարների կառուցման աշխատանքներ
A35: Միջոցառման տեսակը` | B35: Պետական մարմինների կողմից օգտագործվող ոչ ֆինանսական ակտիվների հետ գործառնություններ
A36: Ակտիվն օգտագործող կազմակերպության(ների) անվանում(ները)՛ | B36: ՀՀ ՏԿԵՆ ջրային կոմիտե
A37: Արդյունքի չափորոշիչներ
A38: Միջոցառման վրա կատարվող ծախսը (հազար դրամ) | C38: ='1'!D24 -> 25920 | D38: ='1'!E24 -> 25920.1 | E38: ='1'!F24 -> 64800
A40: Ծրագրի դասիչը | B40: Ծրագրի անվանումը
A41: 1004 | B41: Ոռոգման համակարգի առողջացում
A42: Ծրագրի միջոցառումները
A44: Ծրագրի դասիչը` | B44: 1004 | C44: Ցուցանիշներ
C45: Ցուցանիշների փոփոխությունը (ավելացումները նշված են դրական նշանով)
A46: Միջոցառման դասիչը` | B46: 31014 | C46: Առաջին կիսամյակ | D46: Ինն ամիս | E46: Տարի
A47: Միջոցառման անվանումը` | B47: Ջրամբարների վերականգնման և վերազինման աշխատանքներ
...

Sheet 5-2
A1: Աղյուսակ 2
A3: ՀԱՅԱՍՏԱՆԻ ՀԱՆՐԱՊԵՏՈՒԹՅԱՆ ԿԱՌԱՎԱՐՈՒԹՅԱՆ 2022 ԹՎԱԿԱՆԻ ԴԵԿՏԵՄԲԵՐԻ 29-Ի N 2111-Ն ՈՐՈՇՄԱՆ N 9.1 ՀԱՎԵԼՎԱԾԻ N 9.1.25 ԵՎ N 9.1.58 ԱՂՅՈՒՍԱԿՆԵՐՈՒՄ ԿԱՏԱՐՎՈՂ ՓՈՓՈԽՈՒԹՅՈՒՆՆԵՐԸ ԵՎ ԼՐԱՑՈՒՄՆԵՐԸ
E4: Աղյուսակ 9.1.25
A5: ՀՀ տարածքային կառավարման և ենթակառուցվածքների նախարարության ջրային կոմիտե
A7: Ծրագրի դասիչը | B7: Ծրագրի անվանումը
A8: 1004 | B8: Ոռոգման համակարգի առողջացում
A9: Ծրագրի միջոցառումները
A11: Ծրագրի դասիչը` | B11: 1004 | C11: Ցուցանիշներ
C12: Ցուցանիշների փոփոխությունը (նվազեցումները նշված են փակագծերում)
A13: Միջոցառման դասիչը` | B13: 31002 | C13: Առաջին կիսամյակ | D13: Ինն ամիս | E13: Տարի
A14: Միջոցառման անվանումը` | B14: Ոռոգման համակարգերի հիմնանորոգում
A15: Նկարագրությունը` | B15: Ոռոգման համակարգերի հիմնանորոգում
A16: Միջոցառման տեսակը` | B16: Պետական մարմինների կողմից օգտագործվող ոչ ֆինանսական ակտիվների հետ գործառնություններ
A17: Ակտիվն օգտագործող կազմակերպության(ների) անվանում(ները)՛ | B17: Ոռոգման համակարգի ընկերություններ
A18: Արդյունքի չափորոշիչներ
A19: Վերականգնվող ջրանցք, գծմ | D19: 1900 | E19: 3100
A20: Պոմպակայանի մղման խողովակի տեղադրում, մ | D20: 196 | E20: 196
A21: Միջոցառման վրա կատարվող ծախսը (հազար դրամ) | C21: ='4'!D22 -> 23143.1 | D21: ='4'!E22 -> 119720.4 | E21: ='4'!F22 -> 184002.8
A23: Ծրագրի դասիչը | B23: Ծրագրի անվանումը
A24: 1004 | B24: Ոռոգման համակարգի առողջացում
A25: Ծրագրի միջոցառումները
A27: Ծրագրի դասիչը` | B27: 1004 | C27: Ցուցանիշներ
C28: Ցուցանիշների փոփոխությունը (նվազեցումները նշված են փակագծերում)
A29: Միջոցառման դասիչը` | B29: 31013 | C29: Առաջին կիսամյակ | D29: Ինն ամիս | E29: Տարի
A30: Միջոցառման անվանումը` | B30: Փոքր և միջին ջրամբարների կառուցում
A31: Նկարագրությունը` | B31: Փոքր և միջին ջրամբարների կառուցման աշխատանքներ
A32: Միջոցառման տեսակը` | B32: Պետական մարմինների կողմից օգտագործվող ոչ ֆինանսական ակտիվների հետ գործառնություններ
A33: Ակտիվն օգտագործող կազմակերպության(ների) անվանում(ները)՛ | B33: ՀՀ ՏԿԵՆ ջրային կոմիտե
A34: Արդյունքի չափորոշիչներ
A35: Միջոցառման վրա կատարվող ծախսը (հազար դրամ) | C35: ='4'!D28 -> 25920 | D35: ='4'!E28 -> 25920.1 | E35: ='4'!F28 -> 64800
A38: Ծրագրի դասիչը | B38: Ծրագրի անվանումը
A39: 1004 | B39: Ոռոգման համակարգի առողջացում
A40: Ծրագրի միջոցառումները
A42: Ծրագրի դասիչը` | B42: 1004 | C42: Ցուցանիշներ
C43: Ցուցանիշների փոփոխությունը (նվազեցումները նշված են փակագծերում)
A44: Միջոցառման դասիչը` | B44: 31014 | C44: Առաջին կիսամյակ | D44: Ինն ամիս | E44: Տարի
A45: Միջոցառման անվանումը` | B45: Ջրամբարների վերականգնման և վերազինման աշխատանքներ
A46: Նկարագրությունը` | B46: Ջրամբարների վերականգնման և վերազինման համար նախագծերի և աշխատանքների ձեռքբերում
A47: Միջոցառման տեսակը` | B47: Պետական մարմինների կողմից օգտագործվող ոչ ֆինանսական ակտիվների հետ գործառնություններ
A48: Ակտիվն օգտագործող կազմակերպության(ների) անվանում(ները)՛ | B48: Ոռոգման համակարգի ընկերություններ
...

Sheet 6
A1: Հավելված N 6
A2: ՀՀ կառավարության 2023 թվականի
A3: -ի N -Ն որոշման
A5: ՀՀ ԿԱՌԱՎԱՐՈՒԹՅԱՆ 2022 ԹՎԱԿԱՆԻ ԴԵԿՏԵՄԲԵՐԻ 29-Ի N 2111-Ն ՈՐՈՇՄԱՆ N 10 ՀԱՎԵԼՎԱԾՈՒՄ ԿԱՏԱՐՎՈՂ ՓՈՓՈԽՈՒԹՅՈՒՆՆԵՐԸ ԵՎ ԼՐԱՑՈՒՄՆԵՐԸ
A7: Կոդը | B7: Անվանումը | C7: Գնման ձևը | D7: Չափի միավորը | E7: Ցուցանիշների փոփոխությունը (ավելացումները նշված են դրական նշանով, իսկ նվազեցումները՝ փակագծերում)
E8: Միավորի գինը | F8: քանակը | G8: գումարը (հազ. դրամ)
A9: ՀՀ տարածքային կառավարման և ենթակառուցվածքների նախարարության ջրային կոմիտե | G9: =G10+G33 -> 367347.9
A10: Բաժին N 04 | B10: Խումբ 02 | C10: Դաս 04 | D10: Ոռոգում | G10: =G11+G26+G29 -> 254302.8
A11: 1004 31002 | B11: Ոռոգման համակարգերի հիմնանորոգում | G11: =G12+G17 -> 184002.8
B12: ՄԱՍ II ԱՇԽԱՏԱՆՔՆԵՐ | G12: =G13+G14+G15+G16 -> 181207.3
A13: 45231132 /503 | B13: ջրատարների վերականգնման շինարարական աշխատանքներ | C13: ԳՀ | D13: դրամ | E13: 24299760 | F13: 1 | G13: 24299.8
A14: 45231132 /504 | B14: ջրատարների վերականգնման շինարարական աշխատանքներ | C14: ԳՀ | D14: դրամ | E14: 19580070 | F14: 1 | G14: 19580.1
A15: 45231132 /505 | B15: ջրատարների վերականգնման շինարարական աշխատանքներ | C15: ԳՀ | D15: դրամ | E15: 41662296 | F15: 1 | G15: 41662.3
A16: 45231132 /506 | B16: ջրատարների վերականգնման շինարարական աշխատանքներ | C16: ՀԲՄ | D16: դրամ | E16: 95665100 | F16: 1 | G16: =E16*F16/1000 -> 95665.1
B17: ՄԱՍ III ԾԱՌԱՅՈՒԹՅՈՒՆՆԵՐ | G17: =G18+G19+G20+G21+G22+G23+G24+G25 -> 2795.5
A18: 71351540 /501 | B18: տեխնիկական հսկողության ծառայություններ | C18: ԳՀ | D18: դրամ | E18: 260000 | F18: 1 | G18: =E18*F18/1000 -> 260
A19: 71351540 /502 | B19: տեխնիկական հսկողության ծառայություններ | C19: ԳՀ | D19: դրամ | E19: 360000 | F19: 1 | G19: =E19*F19/1000 -> 360
A20: 71351540 /503 | B20: տեխնիկական հսկողության ծառայություններ | C20: ԳՀ | D20: դրամ | E20: 420000 | F20: 1 | G20: =E20*F20/1000 -> 420
A21: 71351540 /504 | B21: տեխնիկական հսկողության ծառայություններ | C21: ԳՀ | D21: դրամ | E21: 860000 | F21: 1 | G21: =E21*F21/1000 -> 860
A22: 98111140/ | B22: հեղինակային հսկողության ծառայություններ | C22: ՄԱ | D22: դրամ | E22: 128600 | F22: 1 | G22: =E22*F22/1000 -> 128.6
A23: 98111140/ | B23: հեղինակային հսկողության ծառայություններ | C23: ՄԱ | D23: դրամ | E23: 91900 | F23: 1 | G23: =E23*F23/1000 -> 91.9
A24: 98111140/ | B24: հեղինակային հսկողության ծառայություններ | C24: ՄԱ | D24: դրամ | E24: 195800 | F24: 1 | G24: =E24*F24/1000 -> 195.8
A25: 98111140/ | B25: հեղինակային հսկողության ծառայություններ | C25: ՄԱ | D25: դրամ | E25: 479200 | F25: 1 | G25: =E25*F25/1000 -> 479.2
A26: 1004 31013 | B26: ՓՈՔՐ ԵՎ ՄԻՋԻՆ ՋՐԱՄԲԱՐՆԵՐԻ ԿԱՌՈՒՑՈՒՄ | G26: =G27 -> 64800
B27: ՄԱՍ III ԾԱՌԱՅՈՒԹՅՈՒՆՆԵՐ | G27: =G28 -> 64800
A28: 71241200 /502 | B28: նախագծերի պատրաստում, ծախսերի գնահատում | C28: ԲՄ | D28: դրամ | E28: 64800000 | F28: 1 | G28: =E28*F28/1000 -> 64800
A29: 1004 31014 | B29: ՋՐԱՄԲԱՐՆԵՐԻ ՎԵՐԱԿԱՆԳՆՄԱՆ ԵՎ ՎԵՐԱԶԻՆՄԱՆ ԱՇԽԱՏԱՆՔՆԵՐ | G29: =G30 -> 5500
B30: ՄԱՍ III ԾԱՌԱՅՈՒԹՅՈՒՆՆԵՐ | G30: =G31+G32 -> 5500
A31: 71241200 /503 | B31: նախագծերի պատրաստում, ծախսերի գնահատում | C31: ԳՀ | D31: դրամ | E31: 5000000 | F31: 1 | G31: =E31*F31/1000 -> 5000
A32: 50531140/ | B32: փորձաքննության ծառայություններ | C32: ԳՀ | D32: դրամ | E32: 500000 | F32: 1 | G32: =E32*F32/1000 -> 500
A33: Բաժին N 06 | B33: Խումբ 03 | C33: Դաս 01 | D33: Ջրամատակարարում | G33: =G34+G40 -> 113045.1
A34: 1072 31008 | B34: ՊԱՐՏԱԴԻՐ ԿԱՊԻՏԱԼ ԱՇԽԱՏԱՆՔՆԵՐԻ ԾՐԱԳՐԻ ՇՐՋԱՆԱԿՆԵՐՈՒՄ ՋՐԱՄԱՏԱԿԱՐԱՐՄԱՆ և ՋՐԱՀԵՌԱՑՄԱՆ ԵՆԹԱԿԱՌՈՒՑՎԱԾՔՆԵՐԻ ՀԻՄՆԱՆՈՐՈԳՈՒՄ | G34: =G36+G38+G39 -> 103445.1
B35: ՄԱՍ II ԱՇԽԱՏԱՆՔՆԵՐ | G35: =G36 -> 102088.2
A36: 45251135 / | B36: ջրի զտման կայանների կառուցման աշխատանքներ | C36: ՀԲՄ | D36: դրամ | E36: 102088200 | F36: 1 | G36: =E36*F36/1000 -> 102088.2
B37: ՄԱՍ III ԾԱՌԱՅՈՒԹՅՈՒՆՆԵՐ | G37: =G38+G39 -> 1356.9
A38: 71351540 / | B38: տեխնիկական հսկողության ծառայություններ | C38: ԳՀ | D38: դրամ | E38: 1130700 | F38: 1 | G38: =E38*F38/1000 -> 1130.7
A39: 98111140/ | B39: հեղինակային հսկողության ծառայություններ | C39: ՄԱ | D39: դրամ | E39: 226200 | F39: 1 | G39: =E39*F39/1000 -> 226.2
A40: 1072 31009 | B40: ՀՀ-Ի ՏԱՐԱԾՔՈՒՄ ՎԱՐՁԱԿԱԼԻ ԿՈՂՄԻՑ ՉՍՊԱՍԱՐԿՎՈՂ ԲՆԱԿԱՎԱՅՐԵՐՈՒՄ ՋՐԱՄԱՏԱԿԱՐԱՐՄԱՆ և ՋՐԱՀԵՌԱՑՄԱՆ ՀԱՄԱԿԱՐԳԵՐԻ ԿԱՌՈՒՑՈՒՄ | G40: =G41 -> 9600
B41: ՄԱՍ III ԾԱՌԱՅՈՒԹՅՈՒՆՆԵՐ | G41: =G42 -> 9600
A42: 71241200 / | B42: նախագծերի պատրաստում, ծախսերի գնահատում | C42: ԳՀ | D42: դրամ | E42: 9600000 | F42: 1 | G42: =E42*F42/1000 -> 9600

Sheet 7
H1: Հավելված N 7
A2: ՀՀ կառավարության 2023 թվականի
A3: -ի N -Ն որոշման
A4: ՀԱՅԱՍՏԱՆԻ ՀԱՆՐԱՊԵՏՈՒԹՅԱՆ ԿԱՌԱՎԱՐՈՒԹՅԱՆ ՊԱՀՈՒՍՏԱՅԻՆ ՖՈՆԴԻՑ ԿԱՏԱՐՎՈՂ ՀԱՏԿԱՑՈՒՄԸ
H6: (հազ. դրամ)
A7: Գործառական դասիչը | D7: Ծրագրային դասիչը | F7: Բյուջետային ծախսերի գործառական դասակարգման բաժինների, խմբերի և դասերի, բյուջետային ծրագրերի միջոցառումների, բյուջետային հատկացումների գլխավոր կարգադրիչների անվանումները | G7: Ցուցանիշների փոփոխությունը (ավելացումները նշված են դրական նշանով, իսկ նվազեցումները՝ փակագծերում)
G8: Առաջին կիսամյակ | H8: Ինն ամիս | I8: Տարի
A9: Բաժին | B9: Խումբ | C9: Դաս | D9: Ծրագիր | E9: Միջոցառում
A10: 11 | F10: ՀԻՄՆԱԿԱՆ ԲԱԺԻՆՆԵՐԻՆ ՉԴԱՍՎՈՂ ՊԱՀՈՒՍՏԱՅԻՆ ՖՈՆԴԵՐ | G10: =G12 -> -5520 | H10: =H12 -> 0 | I10: =I12 -> -7084.5
F11: այդ թվում`
B12: 01 | F12: ՀՀ կառավարության և համայնքների պահուստային ֆոնդ | G12: =G14 -> -5520 | H12: =H14 -> 0 | I12: =I14 -> -7084.5
F13: այդ թվում`
C14: 01 | F14: ՀՀ կառավարության պահուստային ֆոնդ | G14: =G16 -> -5520 | H14: =H16 -> 0 | I14: =I16 -> -7084.5
F15: այդ թվում`
F16: ՀՀ կառավարություն | G16: =G18 -> -5520 | H16: =H18 -> 0 | I16: =I18 -> -7084.5
F17: այդ թվում`
D18: 1139 | F18: ՀՀ կառավարության պահուստային ֆոնդ | G18: =G20 -> -5520 | H18: =H20 -> 0 | I18: =I20 -> -7084.5
F19: այդ թվում`
E20: 11001 | F20: ՀՀ կառավարության պահուստային ֆոնդ | G20: =G22 -> -5520 | H20: =H22 -> 0 | I20: =I22 -> -7084.5
F21: այդ թվում` ըստ կատարողների
F22: ՀՀ կառավարություն | G22: =G24 -> -5520 | H22: =H24 -> 0 | I22: =I24 -> -7084.5
F23: այդ թվում` բյուջետային ծախսերի տնտեսագիտական դասակարգման հոդվածներ
F24: ԸՆԴԱՄԵՆԸ ԾԱԽՍԵՐ | G24: =G25 -> -5520 | H24: =H25 -> 0 | I24: =I25 -> -7084.5
F25: ԸՆԹԱՑԻԿ ԾԱԽՍԵՐ | G25: =G26 -> -5520 | H25: =H26 -> 0 | I25: =I26 -> -7084.5
F26: ԱՅԼ ԾԱԽՍԵՐ | G26: =G27 -> -5520 | H26: =H27 -> 0 | I26: =I27 -> -7084.5
F27: Պահուստային միջոցներ | G27: =G28 -> -5520 | H27: =H28 -> 0 | I27: =I28 -> -7084.5
F28: -Պահուստային միջոցներ | G28: -5520 | H28: 0 | I28: -7084.5
A29: 04 | F29: ՏՆՏԵՍԱԿԱՆ ՀԱՐԱԲԵՐՈՒԹՅՈՒՆՆԵՐ | G29: =G31 -> 5520 | H29: =H31 -> 0 | I29: =I31 -> 7084.5
F30: այդ թվում`
B31: 02 | F31: Գյուղատնտեսություն, անտառային տնտեսություն, ձկնորսություն և որսորդություն | G31: =G33 -> 5520 | H31: =H33 -> 0 | I31: =I33 -> 7084.5
F32: այդ թվում`
C33: 04 | F33: Ոռոգում | G33: =G35 -> 5520 | H33: =H35 -> 0 | I33: =I35 -> 7084.5
F34: այդ թվում`
F35: ՀՀ տարածքային կառավարման և ենթակառուցվածքների նախարարություն | G35: =G37 -> 5520 | H35: =H37 -> 0 | I35: =I37 -> 7084.5
F36: այդ թվում`
D37: 1004 | F37: Ոռոգման համակարգի առողջացում | G37: =G39 -> 5520 | H37: =H39 -> 0 | I37: =I39 -> 7084.5
F38: այդ թվում`
E39: 31013 | F39: Փոքր և միջին ջրամբարների կառուցում | G39: =G41 -> 5520 | H39: =H41 -> 0 | I39: =I41 -> 7084.5
F40: այդ թվում` ըստ կատարողների
F41: ՀՀ տարածքային կառավարման և ենթակառուցվածքների նախարարության ջրային կոմիտե | G41: =G43 -> 5520 | H41: =H43 -> 0 | I41: =I43 -> 7084.5
...
