Workbook
Name _Hlk341707516: '1'!$C$11
Name _tab10: #REF!
Name _tab10: #REF!
Name _tab10: #REF!
Name _tab10: #REF!
Name _tab10: #REF!
Name _tab10: #REF!
Name _tab10: #REF!
Name _tab11: #REF!
Name _tab11: #REF!
Name _tab11: #REF!
Name _tab11: #REF!
Name _tab11: #REF!
Name _tab11: #REF!
Name _tab11: #REF!
Name _tab12: #REF!
Name _tab12: #REF!
Name _tab12: #REF!
Name _tab12: #REF!
Name _tab12: #REF!
Name _tab12: #REF!
Name _tab12: #REF!
Name _tab13: #REF!
Name _tab13: #REF!
Name _tab13: #REF!
Name _tab13: #REF!
Name _tab13: #REF!
Name _tab13: #REF!
Name _tab13: #REF!
Name _tab14: #REF!
Name _tab14: #REF!
Name _tab14: #REF!
Name _tab14: #REF!
Name _tab14: #REF!
Name _tab14: #REF!
Name _tab14: #REF!
Name _tab15: #REF!
Name _tab15: #REF!
Name _tab15: #REF!
Name _tab15: #REF!
Name _tab15: #REF!
Name _tab15: #REF!
Name _tab15: #REF!
Name _tab16: #REF!
Name _tab16: #REF!
Name _tab16: #REF!
Name _tab16: #REF!
Name _tab16: #REF!
Name _tab16: #REF!
Name _tab16: #REF!
Name _tab17: #REF!
Name _tab17: #REF!
Name _tab17: #REF!
Name _tab17: #REF!
Name _tab17: #REF!
Name _tab17: #REF!
Name _tab17: #REF!
Name _tab18: #REF!
Name _tab18: #REF!
Name _tab18: #REF!

Sheet 1
C1: Հավելված N 1
C2: ՀՀ կառավարության 2023 թվականի
C3: ___________ -ի N _______ -Ն որոշման
B5: «ՀԱՅԱՍՏԱՆԻ ՀԱՆՐԱՊԵՏՈՒԹՅԱՆ 2023 ԹՎԱԿԱՆԻ ՊԵՏԱԿԱՆ ԲՅՈՒՋԵԻ ՄԱՍԻՆ» ՀԱՅԱՍՏԱՆԻ ՀԱՆՐԱՊԵՏՈՒԹՅԱՆ ՕՐԵՆՔԻ 2-ՐԴ ՀՈԴՎԱԾԻ ԱՂՅՈՒՍԱԿՈՒՄ ԿԱՏԱՐՎՈՂ ՓՈՓՈԽՈՒԹՅՈՒՆԸ
C7: հազար դրամ
C8: Ցուցանիշների փոփոխությունը (ավելացումները նշված են դրական նշանով)
B9: Եկամուտների գծով | C9: =+'4'!J26 -> 234638
B10: Ծախսերի գծով | C10: =+'4'!J27 -> 234638
B11: Դեֆիցիտը (պակասուրդը) | C11: =+C10-C9 -> 0

Sheet 2
C1: Հավելված N 2
C2: ՀՀ կառավարության 2023 թվականի
C3: ___________ -ի N _______ -Ն որոշման
B5: «ՀԱՅԱՍՏԱՆԻ ՀԱՆՐԱՊԵՏՈՒԹՅԱՆ 2023 ԹՎԱԿԱՆԻ ՊԵՏԱԿԱՆ ԲՅՈՒՋԵԻ ՄԱՍԻՆ» ՀԱՅԱՍՏԱՆԻ ՀԱՆՐԱՊԵՏՈՒԹՅԱՆ ՕՐԵՆՔԻ 6-ՐԴ ՀՈԴՎԱԾԻ ԱՂՅՈՒՍԱԿՈՒՄ ԵՎ ՀԱՅԱՍՏԱՆԻ ՀԱՆՐԱՊԵՏՈՒԹՅԱՆ ԿԱՌԱՎԱՐՈՒԹՅԱՆ 2022 ԹՎԱԿԱՆԻ ԴԵԿՏԵՄԲԵՐԻ 29-Ի N 2111-Ն ՈՐՈՇՄԱՆ N 2 ՀԱՎԵԼՎԱԾՈՒՄ ԿԱՏԱՐՎՈՂ ՓՈՓՈԽՈՒԹՅՈՒՆԸ
E8: հազար դրամ
B9: Պետական բյուջեի եկամուտները | C9: Ցուցանիշների փոփոխությունը (ավելացումները նշված են դրական նշանով)
C10: առաջին կիսամյակ | D10: ինն ամիս | E10: տարի
B11: Ընդամենը | C11: =+C13 -> 78212.7 | D11: =+D13 -> 156425.3 | E11: =+E13 -> 234638
B12: այդ թվում՝
B13: Այլ եկամուտներ | C13: =+'4'!H27 -> 78212.7 | D13: =+'4'!I27 -> 156425.3 | E13: =+'4'!J27 -> 234638

Sheet 3
E1: Հավելված N 3
E2: ՀՀ կառավարության 2022 թվականի
E3: ___________ -ի N _______ -Ն որոշման
B7: «ՀԱՅԱՍՏԱՆԻ ՀԱՆՐԱՊԵՏՈՒԹՅԱՆ 2023 ԹՎԱԿԱՆԻ ՊԵՏԱԿԱՆ ԲՅՈՒՋԵԻ ՄԱՍԻՆ» ՀԱՅԱՍՏԱՆԻ ՀԱՆՐԱՊԵՏՈՒԹՅԱՆ ՕՐԵՆՔԻ N 1 ՀԱՎԵԼՎԱԾԻ N 2 ԱՂՅՈՒՍԱԿՈՒՄ ԵՎ ՀԱՅԱՍՏԱՆԻ ՀԱՆՐԱՊԵՏՈՒԹՅԱՆ ԿԱՌԱՎԱՐՈՒԹՅԱՆ 2022 ԹՎԱԿԱՆԻ ԴԵԿՏԵՄԲԵՐԻ 29-Ի N 2111-Ն ՈՐՈՇՄԱՆ N 5 ՀԱՎԵԼՎԱԾԻ N 1 ԱՂՅՈՒՍԱԿՈՒՄ ԿԱՏԱՐՎՈՂ ՓՈՓՈԽՈՒԹՅՈՒՆՆԵՐԸ ԵՎ ԼՐԱՑՈՒՄՆԵՐԸ
G8: հազար դրամ
B9: Ծրագրային դասիչը | D9: Բյուջետային հատկացումների գլխավոր կարգադրիչների, ծրագրերի և միջոցառումների անվանումները | E9: Ցուցանիշների փոփոխությունը (ավելացումները նշված են դրական նշանով)
E10: առաջին կիսամյակ | F10: ինն ամիս | G10: տարի
B11: ծրագիր | C11: միջոցառում
D12: Ընդամենը | E12: =E13 -> 78212.7 | F12: =F13 -> 156425.3 | G12: =G13 -> 234638
D13: ՀՀ պաշտպանության նախարարություն | E13: =E15 -> 78212.7 | F13: =F15 -> 156425.3 | G13: =G15 -> 234638
D14: Ծրագրի անվանումը՝
B15: 1169 | D15: ՀՀ պաշտպանության ապահովում | E15: =E21 -> 78212.7 | F15: =F21 -> 156425.3 | G15: =G21 -> 234638
D16: Ծրագրի նպատակը՝
D17: ՀՀ ԶՈւ ռազմավարական ծավալումն ապահովող մարտական պատրաստականության պահպանում՝ արտաքին թշնամուց ՀՀ պետական սահմանների պաշտպանության ապահովում
D18: Վերջնական արդյունքի նկարագրությունը՝
D19: ՀՀ ԶՈւ ռազմավարական ծավալումն ապահովող մարտական պատրաստականության պահպանում
B20: Ծրագրի միջոցառումներ
C21: 11007 | D21: Միջոցառման անվանումը՝ | E21: ='4'!H19 -> 78212.7 | F21: ='4'!I19 -> 156425.3 | G21: ='4'!J19 -> 234638
D22: Երկրապահ կամավորականների գործունեության ապահովում
D23: Միջոցառման նկարագրությունը՝
D24: Երկրապահ կամավորականների 2023թ. գործունեության ապահովում
D25: Միջոցառման տեսակը
D26: Ծառայությունների մատուցում

Sheet 4
H1: Հավելված N 4
H2: ՀՀ կառավարության 2023 թվականի
H3: ___________ -ի N _______ -Ն որոշման
B5: ՀԱՅԱՍՏԱՆԻ ՀԱՆՐԱՊԵՏՈՒԹՅԱՆ ԿԱՌԱՎԱՐՈՒԹՅԱՆ 2022 ԹՎԱԿԱՆԻ ԴԵԿՏԵՄԲԵՐԻ 29-Ի N 2111-Ն ՈՐՈՇՄԱՆ NN 3 և 4 ՀԱՎԵԼՎԱԾՆԵՐՈՒՄ ԿԱՏԱՐՎՈՂ ՓՈՓՈԽՈՒԹՅՈՒՆՆԵՐԸ ԵՎ ԼՐԱՑՈՒՄՆԵՐԸ
J6: հազար դրամ
B7: Գործառական դասիչը | E7: Ծրագրային դասիչը | G7: Բյուջետային ծախսերի գործառական դասակարգման բաժինների, խմբերի և դասերի, բյուջետային ծրագրերի միջոցառումների, բյուջետային հատկացումների գլխավոր կարգադրիչների անվանումները | H7: Ցուցանիշների փոփոխությունը (ավելացումները նշված են դրական նշանով)
B8: բաժին | C8: խումբ | D8: դաս | E8: ծրագիր | F8: միջոցառում | H8: առաջին կիսամյակ | I8: ինն ամիս | J8: տարի
G9: ԸՆԴԱՄԵՆԸ ԾԱԽՍԵՐ | H9: =H11 -> 78212.7 | I9: =I11 -> 156425.3 | J9: =J11 -> 234638
G10: այդ թվում՝
B11: 02 | G11: ՊԱՇՏՊԱՆՈՒԹՅՈՒՆ | H11: =+H13 -> 78212.7 | I11: =+I13 -> 156425.3 | J11: =+J13 -> 234638
G12: այդ թվում`
C13: 01 | G13: Ռազմական պաշտպանություն | H13: =+H15 -> 78212.7 | I13: =+I15 -> 156425.3 | J13: =+J15 -> 234638
G14: այդ թվում`
D15: 01 | G15: Ռազմական պաշտպանություն | H15: =+H17 -> 78212.7 | I15: =+I17 -> 156425.3 | J15: =+J17 -> 234638
G16: այդ թվում`
G17: ՀՀ պաշտպանության նախարարություն | H17: =+H18 -> 78212.7 | I17: =+I18 -> 156425.3 | J17: =+J18 -> 234638
E18: 1169 | G18: ՀՀ պաշտպանության ապահովում | H18: =H19 -> 78212.7 | I18: =I19 -> 156425.3 | J18: =J19 -> 234638
F19: 11007 | G19: Երկրապահ կամավորականների գործունեության ապահովում | H19: =+H21 -> 78212.7 | I19: =+I21 -> 156425.3 | J19: =+J21 -> 234638
G20: այդ թվում` ըստ կատարողների
G21: ՀՀ պաշտպանության նախարարություն | H21: =+H23 -> 78212.7 | I21: =+I23 -> 156425.3 | J21: =+J23 -> 234638
G22: այդ թվում` բյուջետային ծախսերի տնտեսագիտական դասակարգման հոդվածներ
G23: ԸՆԴԱՄԵՆԸ ԾԱԽՍԵՐ | H23: =+H24 -> 78212.7 | I23: =+I24 -> 156425.3 | J23: =+J24 -> 234638
G24: ԸՆԹԱՑԻԿ ԾԱԽՍԵՐ | H24: =+H25 -> 78212.7 | I24: =+I25 -> 156425.3 | J24: =+J25 -> 234638
G25: ԴՐԱՄԱՇՆՈՐՀՆԵՐ | H25: =H26 -> 78212.7 | I25: =I26 -> 156425.3 | J25: =J26 -> 234638
G26: Ընթացիկ դրամաշնորհներ պետական հատվածի այլ մակարդակներին | H26: =+H27 -> 78212.7 | I26: =+I27 -> 156425.3 | J26: =+J27 -> 234638
G27: - Այլ ընթացիկ դրամաշնորհներ | H27: 78212.7 | I27: 156425.3 | J27: 234638

Sheet 5
H1: Հավելված N 5
H2: ՀՀ կառավարության 2023 թվականի
G3: ___________ -ի N _______ -Ն որոշման
B5: ՀԱՅԱՍՏԱՆԻ ՀԱՆՐԱՊԵՏՈՒԹՅԱՆ ԿԱՌԱՎԱՐՈՒԹՅԱՆ 2022 ԹՎԱԿԱՆԻ ԴԵԿՏԵՄԲԵՐԻ 29-Ի N 2111-Ն ՈՐՈՇՄԱՆ N 5 ՀԱՎԵԼՎԱԾԻ N 7 ԱՂՅՈՒՍԱԿՈՒՄ ԿԱՏԱՐՎՈՂ ՓՈՓՈԽՈՒԹՅՈՒՆՆԵՐԸ ԵՎ ԼՐԱՑՈՒՄՆԵՐԸ
H6: հազար դրամ
B7: Ծրագրային դասիչ | D7: Բյուջետային հատկացումների գլխավոր կարգադրիչների, ծրագրերի, միջոցառումների, ծախսային ուղղությունների անվանումները | G7: Միջոցառումները կատարող պետական մարմինների և դրամաշնորհ ստացող տնտեսվարող սուբյեկտների անվանումները | H7: Ցուցանիշների փոփոխությունը (ավելացումները նշված են դրական նշանով)
B8: ծրագիրը | C8: միջոցառումը
B9: ՀՀ պաշտպանության նախարարություն | H9: =H10 -> 234638
B10: 1169 | C10: ՀՀ պաշտպանության ապահովում | H10: =H11 -> 234638
C11: 11007 | D11: Երկրապահ կամավորականների գործունեության ապահովում | G11: ՀՀ պաշտպանության նախարարություն | H11: =H12 -> 234638
G12: «Երկրապահ կամավորականների միություն» ՀԿ | H12: 234638

Sheet 6
E1: Հավելված N 6
E2: ՀՀ կառավարության 2023 թվականի
E3: ___________ -ի N _______ -Ն որոշման
B5: ՀԱՅԱՍՏԱՆԻ ՀԱՆՐԱՊԵՏՈՒԹՅԱՆ ԿԱՌԱՎԱՐՈՒԹՅԱՆ 2022 ԹՎԱԿԱՆԻ ԴԵԿՏԵՄԲԵՐԻ 29-Ի N 2111-Ն ՈՐՈՇՄԱՆ N 6 ՀԱՎԵԼՎԱԾՈՒՄ ԿԱՏԱՐՎՈՂ ՓՈՓՈԽՈՒԹՅՈՒՆԸ
G6: հազար դրամ
C7: Եկամտատեսակը | D7: Գանձման համար պատասխանատու պետական կառավարման մարմինը (մարմինները) | E7: Ցուցանիշների փոփոխությունը (ավելացումները նշված են դրական նշանով)
E8: առաջին կիսամյակ | F8: ինն ամիս | G8: տարի
B9: Այլ եկամուտներ, ընդամենը | E9: =E11 -> 78212.7 | F9: =F11 -> 156425.3 | G9: =G11 -> 234638
C10: այդ թվում`
B11: 6 | C11: Օրենքով և այլ իրավական ակտերով սահմանված պետական բյուջե մուտքագրվող այլ եկամուտներ | E11: =E13 -> 78212.7 | F11: =F13 -> 156425.3 | G11: =G13 -> 234638
C12: այդ թվում`
B13: 6.7 | C13: Այլ եկամուտներ | D13: ՀՀ պետական կառավարման մարմիններ | E13: =+'4'!H27 -> 78212.7 | F13: =+'4'!I27 -> 156425.3 | G13: =+'4'!J27 -> 234638

Sheet 7
D1: Հավելված N 7
D2: ՀՀ կառավարության 2023 թվականի
D3: ___________ -ի N _______ -Ն որոշման
B5: ՀԱՅԱՍՏԱՆԻ ՀԱՆՐԱՊԵՏՈՒԹՅԱՆ ԿԱՌԱՎԱՐՈՒԹՅԱՆ 2022 ԹՎԱԿԱՆԻ ԴԵԿՏԵՄԲԵՐԻ 29-Ի N 2111-Ն ՈՐՈՇՄԱՆ N 9 ՀԱՎԵԼՎԱԾԻ N 9.14 ԵՎ N 9.1 ՀԱՎԵԼՎԱԾԻ N 9.1.14 ԱՂՅՈՒՍԱԿՆԵՐՈՒՄ ԿԱՏԱՐՎՈՂ ՓՈՓՈԽՈՒԹՅՈՒՆՆԵՐԸ ԵՎ ԼՐԱՑՈՒՄՆԵՐԸ
B6: ՀՀ պաշտպանության նախարարություն
B8: Ծրագրի դասիչը | C8: Ծրագրի անվանումը
B9: 1169 | C9: ՀՀ պաշտպանության ապահովում
B11: Ծրագրի միջոցառումները
B13: Ծրագրի դասիչը` | C13: 1169 | D13: Ցուցանիշների փոփոխությունը (ավելացումները նշված են դրական նշանով)
B14: Միջոցառման դասիչը` | C14: 11007 | D14: առաջին կիսամյակ | E14: ինն ամիս | F14: տարի
B15: Միջոցառման անվանումը` | C15: Երկրապահ կամավորականների գործունեության ապահովում
B16: Նկարագրությունը` | C16: Երկրապահ կամավորականների 2023թ. գործունեության ապահովում
B17: Միջոցառման տեսակը` | C17: Ծառայությունների մատուցում
B18: Միջոցառումն իրականացնողի անվանումը | C18: ՀՀ պաշտպանության նախարարություն
B19: Արդյունքի չափորոշիչներ
B20: չի սահմանվում
B21: Միջոցառման վրա կատարվող ծախսը (հազար դրամ) | D21: ='4'!H19 -> 78212.7 | E21: ='4'!I19 -> 156425.3 | F21: ='4'!J19 -> 234638

Sheet Sheet1
A1: 4239 | B1: 20939.6
A2: 4252 | B2: 4001.2
A3: 4261 | B3: 24221.5
A4: 4264 | B4: 658398.2
A5: 4267 | B5: 51113.2
A6: 4269 | B6: 58135.2
A7: 5121 | B7: 34800
A8: 5122 | B8: 30780.6
A9: 5129 | B9: 165718.2
A10: 5132 | B10: 33.2
