Workbook
Name _tab10: #REF!
Name _tab10: #REF!
Name _tab11: #REF!
Name _tab11: #REF!
Name _tab12: #REF!
Name _tab12: #REF!
Name _tab13: #REF!
Name _tab13: #REF!
Name _tab14: #REF!
Name _tab14: #REF!
Name _tab15: #REF!
Name _tab15: #REF!
Name _tab16: #REF!
Name _tab16: #REF!
Name _tab17: #REF!
Name _tab17: #REF!
Name _tab18: #REF!
Name _tab18: #REF!
Name _tab19: #REF!
Name _tab19: #REF!
Name _tab20: #REF!
Name _tab20: #REF!
Name _tab21: #REF!
Name _tab21: #REF!
Name _tab22: #REF!
Name _tab22: #REF!
Name _tab23: #REF!
Name _tab23: #REF!
Name _tab24: #REF!
Name _tab24: #REF!
Name _tab5: #REF!
Name _tab5: #REF!
Name _tab6: #REF!
Name _tab6: #REF!
Name _tab7: #REF!
Name _tab7: #REF!
Name _tab8: #REF!
Name _tab8: #REF!
Name _tab9: #REF!
Name _tab9: #REF!
Name par_count: #REF!,#REF!,#REF!,#REF!,#REF!,#REF!,#REF!,#REF!,#REF!,#REF!,#REF!,#REF!,#REF!,#REF!,#REF!
Name par_count: #REF!,#REF!,#REF!,#REF!,#REF!,#REF!,#REF!,#REF!,#REF!,#REF!,#REF!,#REF!,#REF!,#REF!,#REF!
Name par_qual: #REF!,#REF!,#REF!,#REF!,#REF!
Name par_qual: #REF!,#REF!,#REF!,#REF!,#REF!
Name par_time: #REF!,#REF!,#REF!,#REF!
Name par_time: #REF!,#REF!,#REF!,#REF!
Name par2.12s: #REF!
Name par2.12s: #REF!
Name par2.4s: #REF!,#REF!,#REF!,#REF!,#REF!,#REF!,#REF!,#REF!,#REF!,#REF!,#REF!,#REF!,#REF!,#REF!,#REF!,#REF!
Name par2.4s: #REF!,#REF!,#REF!,#REF!,#REF!,#REF!,#REF!,#REF!,#REF!,#REF!,#REF!,#REF!,#REF!,#REF!,#REF!,#REF!
Name par2.5s: #REF!,#REF!
Name par2.5s: #REF!,#REF!
Name par2.6s: #REF!,#REF!,#REF!,#REF!
Name par2.6s: #REF!,#REF!,#REF!,#REF!
Name par2.7s: #REF!,#REF!
Name par2.7s: #REF!,#REF!
Name par2.9s: #REF!,#REF!,#REF!,#REF!,#REF!,#REF!,#REF!,#REF!,#REF!,#REF!,#REF!,#REF!,#REF!,#REF!,#REF!,#REF!
Name par2.9s: #REF!,#REF!,#REF!,#REF!,#REF!,#REF!,#REF!,#REF!,#REF!,#REF!,#REF!,#REF!,#REF!,#REF!,#REF!,#REF!
Name par4.10s: #REF!,#REF!
Name par4.10s: #REF!,#REF!

Sheet 1
F1: Հավելված N 1
F2: ՀՀ կառավարության 2023 թվականի
C3: -----------------ի N -----------Ն որոշման
A5: ՀԱՅԱՍՏԱՆԻ ՀԱՆՐԱՊԵՏՈՒԹՅԱՆ 2023 ԹՎԱԿԱՆԻ ՊԵՏԱԿԱՆ ԲՅՈՒՋԵԻ ՄԱՍԻՆ» ՕՐԵՆՔԻ N 1 ՀԱՎԵԼՎԱԾԻ N 2 ԱՂՅՈՒՍԱԿՈՒՄ ԿԱՏԱՐՎՈՂ ՎԵՐԱԲԱՇԽՈՒՄԸ ԵՎ ՀԱՅԱՍՏԱՆԻ ՀԱՆՐԱՊԵՏՈՒԹՅԱՆ ԿԱՌԱՎԱՐՈՒԹՅԱՆ 2022 ԹՎԱԿԱՆԻ ԴԵԿՏԵՄԲԵՐԻ 29-Ի N 2111-Ն ՈՐՈՇՄԱՆ N 5 ՀԱՎԵԼՎԱԾԻ N 1 ԱՂՅՈՒՍԱԿՈՒՄ ԿԱՏԱՐՎՈՂ ՓՈՓՈԽՈՒԹՅՈՒՆԸ ԵՎ ԼՐԱՑՈՒՄԸ
F6: (հազար դրամ)
A7: Ծրագրային դասիչը | C7: Բյուջետային հատկացումների գլխավոր կարգադրիչների, ծրագրերի և միջոցառումների անվանումները | D7: Ցուցանիշների փոփոխությունները ավելացումները նշված են դրական նշանով, իսկ նվազեցումները՝ փակագծերում
A8: Ծրագիր | B8: Միջոցառում | D8: Առաջին կիսամյակ | E8: Ինն ամիս | F8: Տարի
C9: ԸՆԴԱՄԵՆԸ | D9: =D10 -> 0 | E9: =E10 -> 0 | F9: =F10 -> 0
C10: ՀՀ աշխատանքի և սոցիալական հարցերի նախարարություն | D10: =D11+D24 -> 0 | E10: =E11+E24 -> 0 | F10: =F11+F24 -> 0
A11: 1011 | C11: Ծրագրի անվանումը` | D11: =D18 -> -6000 | E11: =E18 -> -6000 | F11: =F18 -> -6000
C12: Անապահով սոցիալական խմբերին աջակցություն
C13: Ծրագրի նպատակը`
C14: Օժանդակել անապահով ընտանիքների կենսամակարդակի բարձրացմանը
C15: Վերջնական արդյունքի նկարագրությունը`
C16: Աղքատության մեղմում և ծայրահեղ աղքատության կրճատում
A17: Ծրագրի միջոցառումներ
B18: 11001 | C18: Միջոցառման անվանումը` | D18: -6000 | E18: -6000 | F18: -6000
C19: Ընտանիքի կենսամակարդակի բարձրացմանն ուղղված նպաստների իրականացման ապահովում
C20: Միջոցառման նկարագրությունը`
C21: Ընտանիքների անապահովության գնահատման համակարգում հաշվառված, ընդգրկված անապահով ճանաչված ընտանիքներին նպաստի, սոցիալական նպաստի և հրատապ օգնության վճարման ծառայությունների ձեռքբերում
C22: Միջոցառման տեսակը
C23: Ծառայությունների մատուցում
A24: 1205 | C24: Ծրագրի անվանումը` | D24: =D31 -> 6000 | E24: =E31 -> 6000 | F24: =F31 -> 6000
C25: Սոցիալական ապահովություն
C26: Ծրագրի նպատակը`
C27: Սոցիալական ապահովության իրավունքի իրականացման ապահովում
C28: Վերջնական արդյունքի նկարագրությունը`
C29: Սոցիալական ապահովության իրավունքի իրականացում
A30: Ծրագրի միջոցառումներ
B31: 12020 | C31: Միջոցառման անվանումը` | D31: 6000 | E31: 6000 | F31: 6000
C32: Ռազմական դրությամբ պայմանավորված՝ դրամական աջակցություն քաղաքացիական անձանց շրջանում զոհերի, ինչպես նաև անհայտ կորածների ընտանիքներին և հաշմանդամություն ձեռք բերած անձանց
C33: Միջոցառման նկարագրությունը`
C34: 2020 թվականի սեպտեմբերի 27-ից Ադրբեջանի Հանրապետության կողմից Արցախի Հանրապետության ուղղությամբ սկսված պատերազմական գործողությունների հետևանքով քաղաքացիական անձանցշրջանում զոհերի, ինչպես նաև անհայտ կորածների ընտանիքներին ևհաշմանդամություն ձեռք բերած անձանց սոցիալական աջակցությանտրամադրում
C35: Միջոցառման տեսակը
C36: Տրանսֆերտների տրամադրում

Sheet 2
I1: Հավելված N 2
I2: ՀՀ կառավարության 2023 թվականի
I3: -----------------ի N -----------Ն որոշման
A5: ՀԱՅԱՍՏԱՆԻ ՀԱՆՐԱՊԵՏՈՒԹՅԱՆ ԿԱՌԱՎԱՐՈՒԹՅԱՆ 2022 ԹՎԱԿԱՆԻ ԴԵԿՏԵՄԲԵՐԻ 29-Ի N 2111-Ն ՈՐՈՇՄԱՆ N N 3 ԵՎ 4 ՀԱՎԵԼՎԱԾՆԵՐՈՒՄ ԿԱՏԱՐՎՈՂ ՓՈՓՈԽՈՒԹՅՈՒՆԸ ԵՎ ԼՐԱՑՈՒՄԸ
I6: հազար դրամ
A7: Գործառական դասիչը | D7: Ծրագրային դասիչը | F7: Բյուջետային ծախսերի գործառական դասակարգման բաժինների, խմբերի և դասերի, բյուջետային ծրագրերի միջոցառումների, բյուջետային հատկացումների գլխավոր կարգադրիչների անվանումները | G7: ='1'!D7 -> Ցուցանիշների փոփոխությունները ավելացումները նշված են դրական նշանով, իսկ նվազեցումները՝ փակագծերում
A8: Բաժինը | B8: Խումբը | C8: Դասը | D8: Ծրագիր | E8: Միջոցառում | G8: ='1'!D8 -> Առաջին կիսամյակ | H8: ='1'!E8 -> Ինն ամիս | I8: ='1'!F8 -> Տարի
F9: ԸՆԴԱՄԵՆԸ ԾԱԽՍԵՐ | G9: =G11 -> 0 | H9: =H11 -> 0 | I9: =I11 -> 0
F10: այդ թվում`
F11: ՀՀ աշխատանքի և սոցիալական հարցերի նախարարություն | G11: =G12 -> 0 | H11: =H12 -> 0 | I11: =I12 -> 0
A12: 10 | F12: ՍՈՑԻԱԼԱԿԱՆ ՊԱՇՏՊԱՆՈՒԹՅՈՒՆ | G12: =G14+G28 -> 0 | H12: =H14+H28 -> 0 | I12: =I14+I28 -> 0
F13: այդ թվում`
B14: 09 | F14: Սոցիալական պաշտպանություն (այլ դասերին չպատկանող) | G14: =G16 -> 6000 | H14: =H16 -> 6000 | I14: =I16 -> 6000
F15: այդ թվում՝
C16: 02 | F16: Սոցիալական պաշտպանությանը տրամադրվող օժանդակ ծառայություններ (այլ դասերին չպատկանող) | G16: =G18 -> 6000 | H16: =H18 -> 6000 | I16: =I18 -> 6000
F17: այդ թվում`
D18: 1205 | F18: ='1'!C25 -> Սոցիալական ապահովություն | G18: =G20 -> 6000 | H18: =H20 -> 6000 | I18: =I20 -> 6000
F19: այդ թվում`
E20: ='1'!B31 -> 12020 | F20: ='1'!C32 -> Ռազմական դրությամբ պայմանավորված՝ դրամական աջակցություն քաղաքացիական անձանց շրջանում զոհերի, ինչպես նաև անհայտ կորածների ընտանիքներին և հաշմանդամություն ձեռք բերած անձանց | G20: =G22 -> 6000 | H20: =H22 -> 6000 | I20: =I22 -> 6000
F21: այդ թվում` ըստ կատարողների
F22: ՀՀ աշխատանքի և սոցիալական հարցերի նախարարություն | G22: =G24 -> 6000 | H22: =H24 -> 6000 | I22: =I24 -> 6000
F23: այդ թվում` բյուջետային ծախսերի տնտեսագիտական դասակարգման հոդվածներ
F24: ԸՆԴԱՄԵՆԸ ԾԱԽՍԵՐ | G24: =G25 -> 6000 | H24: =H25 -> 6000 | I24: =I25 -> 6000
F25: ԸՆԹԱՑԻԿ ԾԱԽՍԵՐ | G25: =G26 -> 6000 | H25: =H26 -> 6000 | I25: =I26 -> 6000
F26: ՍՈՑԻԱԼԱԿԱՆ ՆՊԱՍՏՆԵՐ ԵՎ ԿԵՆՍԱԹՈՇԱԿՆԵՐ | G26: =G27 -> 6000 | H26: =H27 -> 6000 | I26: =I27 -> 6000
F27: - Այլ նպաստներ բյուջեից | G27: ='1'!D31 -> 6000 | H27: ='1'!E31 -> 6000 | I27: ='1'!F31 -> 6000
D28: 1011 | F28: Անապահով սոցիալական խմբերին աջակցություն | G28: =G30 -> -6000 | H28: =H30 -> -6000 | I28: =I30 -> -6000
F29: այդ թվում`
E30: 11001 | F30: Ընտանիքի կենսամակարդակի բարձրացմանն ուղղված նպաստների իրականացման ապահովում | G30: =G32 -> -6000 | H30: =H32 -> -6000 | I30: =I32 -> -6000
F31: այդ թվում` ըստ կատարողների
F32: ՀՀ աշխատանքի և սոցիալական հարցերի նախարարության միասնական սոցիալական ծառայություն | G32: =G33 -> -6000 | H32: =H33 -> -6000 | I32: =I33 -> -6000
F33: այդ թվում` բյուջետային ծախսերի տնտեսագիտական դասակարգման հոդվածներ | G33: =G34 -> -6000 | H33: =H34 -> -6000 | I33: =I34 -> -6000
F34: ԸՆԴԱՄԵՆԸ ԾԱԽՍԵՐ | G34: =G35 -> -6000 | H34: =H35 -> -6000 | I34: =I35 -> -6000
F35: ԸՆԹԱՑԻԿ ԾԱԽՍԵՐ | G35: =G36 -> -6000 | H35: =H36 -> -6000 | I35: =I36 -> -6000
F36: ԾԱՌԱՅՈՒԹՅՈՒՆՆԵՐԻ ԵՎ ԱՊՐԱՆՔՆԵՐԻ ՁԵՌՔԲԵՐՈՒՄ | G36: =G37 -> -6000 | H36: =H37 -> -6000 | I36: =I37 -> -6000
F37: Շարունակական ծախսեր | G37: =G38 -> -6000 | H37: =H38 -> -6000 | I37: =I38 -> -6000
F38: - Կապի ծառայություններ | G38: ='1'!D18 -> -6000 | H38: ='1'!E18 -> -6000 | I38: ='1'!F18 -> -6000

Sheet 3
E1: Հավելված N 3
B2: ՀՀ կառավարության 2023 թվականի
B3: -----------------ի N -----------Ն որոշման
A4: ՀԱՅԱՍՏԱՆԻ ՀԱՆՐԱՊԵՏՈՒԹՅԱՆ ԿԱՌԱՎԱՐՈՒԹՅԱՆ 2020 ԹՎԱԿԱՆԻ ԴԵԿՏԵՄԲԵՐԻ 30-Ի N 2215-Ն ՈՐՈՇՄԱՆ N 9 ՀԱՎԵԼՎԱԾԻ N 9.1.20 ԱՂՅՈՒՍԱԿՈՒՄ ԿԱՏԱՐՎՈՂ ՓՈՓՈԽՈՒԹՅՈՒՆՆԵՐԸ
A5: ՀԱՅԱՍՏԱՆԻ ՀԱՆՐԱՊԵՏՈՒԹՅԱՆ ԿԱՌԱՎԱՐՈՒԹՅԱՆ 2022 ԹՎԱԿԱՆԻ ԴԵԿՏԵՄԲԵՐԻ 29-Ի N 2111-Ն ՈՐՈՇՄԱՆ N 9 ՀԱՎԵԼՎԱԾԻ N 9.15 ԱՂՅՈՒՍԱԿՈՒՄ ԿԱՏԱՐՎՈՂ ՓՈՓՈԽՈՒԹՅՈՒՆԸ ԵՎ ԼՐԱՑՈՒՄԸ
A6: Հայաստանի Հանրապետության աշխատանքի և սոցիալական հարցերի նախարարություն
A7: ՄԱՍ 2. ՊԵՏԱԿԱՆ ՄԱՐՄՆԻ ԳԾՈՎ ԱՐԴՅՈՒՆՔԱՅԻՆ (ԿԱՏԱՐՈՂԱԿԱՆ) ՑՈՒՑԱՆԻՇՆԵՐԸ
A10: Ծրագրի դասիչը | B10: Ծրագրի անվանումը
A11: 1205 | B11: Սոցիալական ապահովություն
A12: Ծրագրի միջոցառումներ
A14: Ծրագրի դասիչը` | B14: ='1'!A24 -> 1205 | C14: Ցուցանիշների փոփոխությունները ավելացումները նշված են դրական նշանով
A15: Միջոցառման դասիչը` | B15: ='1'!B31 -> 12020 | C15: Առաջին կիսամյակ | D15: Ինն ամիս | E15: Տարի
A16: Միջոցառման անվանումը` | B16: ='1'!C32 -> Ռազմական դրությամբ պայմանավորված՝ դրամական աջակցություն քաղաքացիական անձանց շրջանում զոհերի, ինչպես նաև անհայտ կորածների ընտանիքներին և հաշմանդամություն ձեռք բերած անձանց
A17: Նկարագրությունը` | B17: ='1'!C34 -> 2020 թվականի սեպտեմբերի 27-ից Ադրբեջանի Հանրապետության կողմից Արցախի Հանրապետության ուղղությամբ սկսված պատերազմական գործողությունների հետևանքով քաղաքացիական անձանցշրջանում զոհերի, ինչպես նաև անհայտ կորածների ընտանիքներին ևհաշմանդամություն ձեռք բերած անձանց սոցիալական աջակցությանտրամադրում
A18: Միջոցառման տեսակը` | B18: Տրանսֆերտների տրամադրում
A19: Շահառուների ընտրության չափանիշները | B19: ՀՀ կառավարության 2020 թվականի դեկտեմբերի 3-ի N 1924-Լ և դեկտեմբերի 17-ի N 2082-Լ որոշումների պահանջներին համապատասխան
A20: Արդյունքի չափորոշիչներ
A21: Միջոցառման վրա կատարվող ծախսը (հազար դրամ) | C21: ='1'!D31 -> 6000 | D21: ='1'!E31 -> 6000 | E21: ='1'!F31 -> 6000
A24: Ծրագրի դասիչը | B24: Ծրագրի անվանումը
A25: ='1'!A11 -> 1011 | B25: ='1'!C12 -> Անապահով սոցիալական խմբերին աջակցություն
A26: Ծրագրի միջոցառումներ
A28: Ծրագրի դասիչը` | B28: 1011 | C28: Ցուցանիշների փոփոխությունները նվազեցումները նշված են փակագծերում
A29: Միջոցառման դասիչը` | B29: 11001 | C29: Առաջին կիսամյակ | D29: Ինն ամիս | E29: Տարի
A30: Միջոցառման անվանումը` | B30: Ընտանիքի կենսամակարդակի բարձրացմանն ուղղված նպաստների իրականացման ապահովում
A31: Նկարագրությունը` | B31: Ընտանիքների անապահովության գնահատման համակարգում հաշվառված, ընդգրկված անապահով ճանաչված ընտանիքներին նպաստի, սոցիալական նպաստի և հրատապ օգնության վճարման ծառայությունների ձեռքբերում
A32: Միջոցառման տեսակը` | B32: Ծառայությունների մատուցում
A33: Միջոցառումն իրականացնողի անվանումը | B33: «Գնումների մասին» ՀՀ օրենքի համաձայն ընտրված կազմակերպություն
A34: Արդյունքի չափորոշիչներ
A35: Ընտանիքի կենսամակարդակի բարձրացմանն ուղղված նպաստներ ստացող ընտանիքների թիվ, հատ | C35: 0 | D35: 0 | E35: -15000
A36: Միջոցառման վրա կատարվող ծախսը (հազար դրամ) | C36: ='1'!D18 -> -6000 | D36: ='1'!E18 -> -6000 | E36: ='1'!F18 -> -6000

Sheet 4
E1: Հավելված N 4
E2: ՀՀ կառավարության 2023 թվականի
E3: -----------------ի N -----------Ն որոշման
A4: ՀԱՅԱՍՏԱՆԻ ՀԱՆՐԱՊԵՏՈՒԹՅԱՆ ԿԱՌԱՎԱՐՈՒԹՅԱՆ 2020 ԹՎԱԿԱՆԻ ԴԵԿՏԵՄԲԵՐԻ 30-Ի N 2215-Ն ՈՐՈՇՄԱՆ N 9 ՀԱՎԵԼՎԱԾԻ N 9.1.20 ԱՂՅՈՒՍԱԿՈՒՄ ԿԱՏԱՐՎՈՂ ՓՈՓՈԽՈՒԹՅՈՒՆՆԵՐԸ
A5: ՀԱՅԱՍՏԱՆԻ ՀԱՆՐԱՊԵՏՈՒԹՅԱՆ ԿԱՌԱՎԱՐՈՒԹՅԱՆ 2022 ԹՎԱԿԱՆԻ ԴԵԿՏԵՄԲԵՐԻ 29-Ի N 2111-Ն ՈՐՈՇՄԱՆ N 9.1 ՀԱՎԵԼՎԱԾԻ N 9.1.15 ԵՎ N 9.1.19 ԱՂՅՈՒՍԱԿՆԵՐՈՒՄ ԿԱՏԱՐՎՈՂ ՓՈՓՈԽՈՒԹՅՈՒՆԸ ԵՎ ԼՐԱՑՈՒՄԸ
A7: ՄԱՍ 1. ՊԵՏԱԿԱՆ ՄԱՐՄՆԻ ԳԾՈՎ ԱՐԴՅՈՒՆՔԱՅԻՆ (ԿԱՏԱՐՈՂԱԿԱՆ) ՑՈՒՑԱՆԻՇՆԵՐԸ
A8: ՀՀ աշխատանքի և սոցիալական հարցերի նախարարություն
A10: Ծրագրի դասիչը | B10: Ծրագրի անվանումը
A11: 1205 | B11: Սոցիալական ապահովություն
A12: Ծրագրի միջոցառումներ
A14: Ծրագրի դասիչը` | B14: ='3'!B14 -> 1205 | C14: Ցուցանիշների փոփոխությունները ավելացումները նշված են դրական նշանով
A15: Միջոցառման դասիչը` | B15: ='3'!B15 -> 12020 | C15: Առաջին կիսամյակ | D15: Ինն ամիս | E15: Տարի
A16: Միջոցառման անվանումը` | B16: ='3'!B16 -> Ռազմական դրությամբ պայմանավորված՝ դրամական աջակցություն քաղաքացիական անձանց շրջանում զոհերի, ինչպես նաև անհայտ կորածների ընտանիքներին և հաշմանդամություն ձեռք բերած անձանց
A17: Նկարագրությունը` | B17: ='3'!B17 -> 2020 թվականի սեպտեմբերի 27-ից Ադրբեջանի Հանրապետության կողմից Արցախի Հանրապետության ուղղությամբ սկսված պատերազմական գործողությունների հետևանքով քաղաքացիական անձանցշրջանում զոհերի, ինչպես նաև անհայտ կորածների ընտանիքներին ևհաշմանդամություն ձեռք բերած անձանց սոցիալական աջակցությանտրամադրում
A18: Միջոցառման տեսակը` | B18: ='3'!B18 -> Տրանսֆերտների տրամադրում
A19: Շահառուների ընտրության չափանիշները | B19: ='3'!B19 -> ՀՀ կառավարության 2020 թվականի դեկտեմբերի 3-ի N 1924-Լ և դեկտեմբերի 17-ի N 2082-Լ որոշումների պահանջներին համապատասխան
A20: Արդյունքի չափորոշիչներ
A21: Միջոցառման վրա կատարվող ծախսը (հազար դրամ) | C21: ='1'!D31 -> 6000 | D21: ='1'!E31 -> 6000 | E21: ='1'!F31 -> 6000
A23: ՀՀ աշխատանքի և սոցիալական հարցերի նախարարության միասնական սոցիալական ծառայություն
A25: Ծրագրի դասիչը | B25: Ծրագրի անվանումը
A26: 1011 | B26: Անապահով սոցիալական խմբերին աջակցություն
A27: Ծրագրի միջոցառումներ
A29: Ծրագրի դասիչը` | B29: 1011 | C29: Ցուցանիշների փոփոխությունները նվազեցումները նշված են փակագծերում
A30: Միջոցառման դասիչը` | B30: 11001 | C30: Առաջին կիսամյակ | D30: Ինն ամիս | E30: Տարի
A31: Միջոցառման անվանումը` | B31: Ընտանիքի կենսամակարդակի բարձրացմանն ուղղված նպաստների իրականացման ապահովում
A32: Նկարագրությունը` | B32: Ընտանիքների անապահովության գնահատման համակարգում հաշվառված, ընդգրկված անապահով ճանաչված ընտանիքներին նպաստի, սոցիալական նպաստի և հրատապ օգնության վճարման ծառայությունների ձեռքբերում
A33: Միջոցառման տեսակը` | B33: Ծառայությունների մատուցում
A34: Միջոցառումն իրականացնողի անվանումը | B34: «Գնումների մասին» ՀՀ օրենքի համաձայն ընտրված կազմակերպություն
A35: Արդյունքի չափորոշիչներ
A36: Ընտանիքի կենսամակարդակի բարձրացմանն ուղղված նպաստներ ստացող ընտանիքների թիվ, հատ | C36: 0 | D36: 0 | E36: -15000
A37: Միջոցառման վրա կատարվող ծախսը (հազար դրամ) | C37: ='1'!D18 -> -6000 | D37: ='1'!E18 -> -6000 | E37: ='1'!F18 -> -6000

Sheet 5
I1: Հավելված N 5
I2: ՀՀ կառավարության 2022 թվականի
I3: -----------------ի N -----------Ն որոշման
A6: ՀԱՅԱՍՏԱՆԻ ՀԱՆՐԱՊԵՏՈՒԹՅԱՆ ԿԱՌԱՎԱՐՈՒԹՅԱՆ 2022 ԹՎԱԿԱՆԻ ԴԵԿՏԵՄԲԵՐԻ 29-Ի N 2111-Ն N 10 ՀԱՎԵԼՎԱԾՈՒՄ ԿԱՏԱՐՎՈՂ ՓՈՓՈԽՈՒԹՅՈՒՆՆԵՐԸ
A11: Գնման առարկայի | G11: Միավորի գինը | H11: Ցուցանիշների փոփոխությունները ավելացումները նշված են դրական նշանով, իսկ նվազեցումները՝ փակագծերում
A12: Կոդը | D12: Անվանումը | E12: Գնման ձևը | F12: Չափման միավորը | H12: Քանակը | I12: Ընդամենը գումարը (հազար դրամ)
A13: ՀՀ աշխատանքի և սոցիալական հարցերի նախարարության միասնական սոցիալական ծառայություն | I13: =+I14 -> -6000
A14: 1011 11001 | B14: Ընտանիքի կենսամակարդակի բարձրացմանն ուղղված նպաստների իրականացման ապահովում | I14: =SUM(I15) -> -6000
B15: ՄԱՍ III. ԾԱՌԱՅՈՒԹՅՈՒՆՆԵՐ | I15: =SUM(I16) -> -6000
A16: 79571100-1 | B16: փոստային առաքման ծառայություններ | E16: ՄԱ | F16: դրամ | I16: -6000
