Workbook

Sheet 1
F1: Հավելված N 1
F2: ՀՀ կառավարության 2023 թվականի
F3: -ի N -Ն որոշման
A4: «ՀԱՅԱՍՏԱՆԻ ՀԱՆՐԱՊԵՏՈՒԹՅԱՆ 2023 ԹՎԱԿԱՆԻ ՊԵՏԱԿԱՆ ԲՅՈՒՋԵԻ ՄԱՍԻՆ» ՀԱՅԱՍՏԱՆԻ ՀԱՆՐԱՊԵՏՈՒԹՅԱՆ ՕՐԵՆՔԻ N 1 ՀԱՎԵԼՎԱԾԻ N 2 ԱՂՅՈՒՍԱԿՈՒՄ ԿԱՏԱՐՎՈՂ ՎԵՐԱԲԱՇԽՈՒՄԸ, ՓՈՓՈԽՈՒԹՅՈՒՆՆԵՐԸ ԵՎ ԼՐԱՑՈՒՄՆԵՐԸ, ՀԱՅԱՍՏԱՆԻ ՀԱՆՐԱՊԵՏՈՒԹՅԱՆ ԿԱՌԱՎԱՐՈՒԹՅԱՆ 2022 ԹՎԱԿԱՆԻ ԴԵԿՏԵՄԲԵՐԻ 29-Ի N 2111-Ն ՈՐՈՇՄԱՆ N 5 ՀԱՎԵԼՎԱԾԻ N 1 ԱՂՅՈՒՍԱԿՈՒՄ ԿԱՏԱՐՎՈՂ ՓՈՓՈԽՈՒԹՅՈՒՆՆԵՐԸ ԵՎ ԼՐԱՑՈՒՄՆԵՐԸ
F6: (հազ. դրամ)
A7: Ծրագրային դասիչը | C7: Բյուջետային գլխավոր կարգադրիչների, ծրագրերի և միջոցառումների անվանումները | D7: Ցուցանիշների փոփոխությունը (ավելացումները նշված են դրական նշանով, իսկ նվազեցումները՝ փակագծերում)
A8: Ծրագիր | B8: Միջոցառում | D8: Առաջին կիսամյակ | E8: Ինն ամիս | F8: Տարի
C9: ԸՆԴԱՄԵՆԸ | D9: =D10 -> 2.9558578e-12 | E9: =E10 -> 2.9558578e-12 | F9: =F10 -> 2.9558578e-12
C10: ՀՀ տարածքային կառավարման և ենթակառուցվածքների նախարարություն | D10: =D11+D42 -> 2.9558578e-12 | E10: =E11+E42 -> 2.9558578e-12 | F10: =F11+F42 -> 2.9558578e-12
A11: 1004 | C11: Ծրագրի անվանումը` | D11: =D18+D24+D30+D36 -> -1000.7 | E11: =E18+E24+E30+E36 -> -1000.7 | F11: =F18+F24+F30+F36 -> -1000.7
C12: Ոռոգման համակարգի առողջացում
C13: Ծրագրի նպատակը`
C14: Ոռոգման ծառայությունների հասանելիության և մատչելիության ապահովում
C15: Վերջնական արդյունքի նկարագրությունը`
C16: Ոռոգման ջրի մատակարարման արդյունավետության և հասանելիության բարելավում՝ կորուստների կրճատում
A17: Ծրագրի միջոցառումներ
B18: 31002 | C18: Միջոցառման անվանումը` | D18: ='4'!D13 -> 55655.8 | E18: ='4'!E13 -> 55655.8 | F18: ='4'!F13 -> 55655.8
C19: Ոռոգման համակարգերի հիմնանորոգում
C20: Միջոցառման նկարագրությունը`
C21: Ոռոգման համակարգերի հիմնանորոգում
C22: Միջոցառման տեսակը
C23: Պետական մարմինների կողմից օգտագործվող ոչ ֆինանսական ակտիվների հետ գործառնություններ
B24: 31007 | C24: Միջոցառման անվանումը` | D24: ='4'!D19 -> 0 | E24: ='4'!E19 -> 0 | F24: ='4'!F19 -> -93356.5
C25: Ջրային տնտեսության հիդրոտեխնիկական սարքավորումների տեղադրման աշխատանքներ
C26: Միջոցառման նկարագրությունը`
C27: Ոռոգման համակարգերի ջրանցքների բաժանարար կետերը SCADA համակարգով հագեցած ջրաչափական սարքավորումներով կահավորում
C28: Միջոցառման տեսակը
C29: Պետական մարմինների կողմից օգտագործվող ոչ ֆինանսական ակտիվների հետ գործառնություններ
B30: 31013 | C30: Միջոցառման անվանումը` | D30: ='4'!D24 -> 0 | E30: ='4'!E24 -> 0 | F30: ='4'!F24 -> 36700
C31: Փոքր և միջին ջրամբարների կառուցում
C32: Միջոցառման նկարագրությունը`
C33: Փոքր և միջին ջրամբարների կառուցման աշխատանքներ
C34: Միջոցառման տեսակը
C35: Պետական մարմինների կողմից օգտագործվող ոչ ֆինանսական ակտիվների հետ գործառնություններ
B36: 31014 | C36: Միջոցառման անվանումը` | D36: ='4'!D25 -> -56656.5 | E36: ='4'!E25 -> -56656.5 | F36: ='4'!F25 -> 0
C37: Ջրամբարների վերականգնման և վերազինման աշխատանքներ
C38: Միջոցառման նկարագրությունը`
C39: Ջրամբարների վերականգնման և վերազինման համար նախագծերի և աշխատանքների ձեռքբերում
C40: Միջոցառման տեսակը
C41: Պետական մարմինների կողմից օգտագործվող ոչ ֆինանսական ակտիվների հետ գործառնություններ
A42: 1017 | C42: Ծրագրի անվանումը` | D42: =D49 -> 1000.7 | E42: =E49 -> 1000.7 | F42: =F49 -> 1000.7
C43: Որոտան-Արփա-Սևան թունելի ջրային համակարգի կառավարում
C44: Ծրագրի նպատակը`
C45: Որոտան-Արփա-Սևան թունելի ջրային համակարգի պահպանում և շահագործում
C46: Վերջնական արդյունքի նկարագրությունը`
C47: Որոտան-Արփա-Սևան հիդրոհամակարգի անվտանգության և հուսալիության ապահովում
A48: Ծրագրի միջոցառումներ
B49: 21001 | C49: Միջոցառման անվանումը` | D49: ='4'!D30 -> 1000.7 | E49: ='4'!E30 -> 1000.7 | F49: ='4'!F30 -> 1000.7
C50: Արփա-Սևան ջրային համակարգի տեխնիկական վիճակի բարելավում
C51: Միջոցառման նկարագրությունը`
C52: Արփա-Սևան թունելի առանձին վթարային հատվածների վերականգնման աշխատանքներ
C53: Միջոցառման տեսակը
C54: Հանրության կողմից անմիջականորեն օգտագործվող ակտիվների հետ կապված միջոցառումներ

Sheet 2
A1: Հավելված N 2
A2: ՀՀ կառավարության 2023 թվականի
A3: -ի N -Ն որոշման
A4: «ՀԱՅԱՍՏԱՆԻ ՀԱՆՐԱՊԵՏՈՒԹՅԱՆ 2023 ԹՎԱԿԱՆԻ ՊԵՏԱԿԱՆ ԲՅՈՒՋԵԻ ՄԱՍԻՆ» ՀԱՅԱՍՏԱՆԻ ՀԱՆՐԱՊԵՏՈՒԹՅԱՆ ՕՐԵՆՔԻ N 1 ՀԱՎԵԼՎԱԾԻ N 3 ԱՂՅՈՒՍԱԿՈՒՄ ԿԱՏԱՐՎՈՂ ՓՈՓՈԽՈՒԹՅՈՒՆՆԵՐԸ ԵՎ ԼՐԱՑՈՒՄՆԵՐԸ
G5: (հազ. դրամ)
A6: Ծրագրային դասիչ | C6: Բյուջետային գլխավոր կարգադրիչների, ծրագրերի, միջոցառումների և ուղղությունների անվանումները | D6: Ցուցանիշների փոփոխությունը (ավելացումները նշված են դրական նշանով, իսկ նվազեցումները՝ փակագծերում)
D7: Ընդամենը, | E7: այդ թվում՝
A8: Ծրագիր | B8: Միջոցառում | E8: Կառուցման աշխատանքներ | F8: Վերակառուցման, վերանորոգման և վերականգնման աշխատանքներ | G8: Նախագծահե- տազոտական, գեոդեզիա- քարտեզագրա- կան աշխա- տանքներ | H8: Ոչ ֆինանսական այլ ակտիվների ձեռքբերում
C9: ԸՆԴԱՄԵՆԸ | D9: =SUM(E9:H9) -> 0 | E9: =E11 -> -225929.5 | F9: =F11 -> 39996.5 | G9: =G11 -> 185933 | H9: =H11 -> 0
C10: այդ թվում՝
C11: ՀՀ ՏԱՐԱԾՔԱՅԻՆ ԿԱՌԱՎԱՐՄԱՆ ԵՎ ԵՆԹԱԿԱՌՈՒՑՎԱԾՔՆԵՐԻ ՆԱԽԱՐԱՐՈՒԹՅՈՒՆ | D11: =SUM(E11:H11) -> 0 | E11: =E14+E18+E19+E20+E21 -> -225929.5 | F11: =F14+F18+F19+F20+F21 -> 39996.5 | G11: =G14+G18+G19+G20+G21 -> 185933 | H11: =H14+H18+H19+H20+H21 -> 0
C12: այդ թվում`
A14: 1004 | B14: 31002 | C14: Ոռոգման համակարգերի հիմնանորոգում | D14: =SUM(E14:H14) -> 55655.8 | E14: =E16+E17 -> 0 | F14: =F16+F17 -> 38995.8 | G14: =G16+G17 -> 16660
C15: այդ թվում`
C16: Մասիսի տարածաշրջանի ինքնաշատրվանող հորերի փականներով և ջրաչափերով կահավորելու աշխատանքներ | D16: =SUM(E16:H16) -> 38995.8 | F16: ='6'!G25+'6'!G29+'6'!G30 -> 38995.8
C17: Թալին 1 պոմպակայանի վերականգնման աշխատանքների նախագծանախահաշվային փաստաթղթերի ձեռքբերում | G17: ='6'!G27+'6'!G28 -> 16660
A18: 1004 | B18: 31007 | C18: Ջրային տնտեսության հիդրոտեխնիկական սարքավորումների տեղադրման աշխատանքներ | D18: =SUM(E18:H18) -> -93356.5 | E18: ='6'!G12 -> -93356.5 | F18: 0 | G18: 0 | H18: 0
A19: 1004 | B19: 31009 | C19: Օրվա կարգավորման ջրավազանների կառուցում և վերակառուցում | D19: =SUM(E19:H19) -> 0 | E19: =-G19 -> -132573 | G19: ='6'!G34 -> 132573
A20: 1004 | B20: 31013 | C20: Փոքր և միջին ջրամբարների կառուցում | D20: =SUM(E20:H20) -> 36700 | E20: 0 | F20: 0 | G20: ='6'!G31 -> 36700 | H20: 0
A21: 1017 | B21: 21001 | C21: Արփա-Սևան ջրային համակարգի տեխնիկական վիճակի բարելավում | D21: =SUM(E21:H21) -> 1000.7 | E21: 0 | F21: ='6'!G18 -> 1000.7 | H21: 0

Sheet 3
H1: Հավելված N 3
A2: ՀՀ կառավարության 2023 թվականի
A3: -ի N -Ն որոշման
A4: ՀԱՅԱՍՏԱՆԻ ՀԱՆՐԱՊԵՏՈՒԹՅԱՆ ԿԱՌԱՎԱՐՈՒԹՅԱՆ 2022 ԹՎԱԿԱՆԻ ԴԵԿՏԵՄԲԵՐԻ 29-Ի N 2111-Ն ՈՐՈՇՄԱՆ N 3 ԵՎ N 4 ՀԱՎԵԼՎԱԾՆԵՐՈՒՄ ԿԱՏԱՐՎՈՂ ՓՈՓՈԽՈՒԹՅՈՒՆՆԵՐԸ ԵՎ ԼՐԱՑՈՒՄՆԵՐԸ
H6: (հազ. դրամ)
A7: Գործառական դասիչը | D7: Ծրագրային դասիչը | F7: Բյուջետային ծախսերի գործառական դասակարգման բաժինների, խմբերի և դասերի, բյուջետային ծրագրերի միջոցառումների, բյուջետային հատկացումների գլխավոր կարգադրիչների անվանումները | G7: Ցուցանիշների փոփոխությունը (ավելացումները նշված են դրական նշանով, իսկ նվազեցումները՝ փակագծերում)
G8: Առաջին կիսամյակ | H8: Ինն ամիս | I8: Տարի
A9: Բաժին | B9: Խումբ | C9: Դաս | D9: Ծրագիր | E9: Միջոցառում
F10: ԸՆԴԱՄԵՆԸ ԾԱԽՍԵՐ | G10: ='4'!D9 -> 2.9558578e-12 | H10: ='4'!E9 -> 2.9558578e-12 | I10: ='4'!F9 -> 2.9558578e-12
F11: այդ թվում`
A12: 04 | F12: ՏՆՏԵՍԱԿԱՆ ՀԱՐԱԲԵՐՈՒԹՅՈՒՆՆԵՐ | G12: =G14 -> -1000.7 | H12: =H14 -> -1000.7 | I12: =I14 -> -1000.7
F13: այդ թվում`
B14: 02 | F14: Գյուղատնտեսություն, անտառային տնտեսություն, ձկնորսություն և որսորդություն | G14: =G16 -> -1000.7 | H14: =H16 -> -1000.7 | I14: =I16 -> -1000.7
F15: այդ թվում`
C16: 04 | F16: Ոռոգում | G16: =G18 -> -1000.7 | H16: =H18 -> -1000.7 | I16: =I18 -> -1000.7
F17: այդ թվում`
F18: ՀՀ տարածքային կառավարման և ենթակառուցվածքների նախարարություն | G18: =G20 -> -1000.7 | H18: =H20 -> -1000.7 | I18: =I20 -> -1000.7
F19: այդ թվում`
D20: 1004 | F20: Ոռոգման համակարգի առողջացում | G20: =G22+G33+G42+G58+G67 -> -1000.7 | H20: =H22+H33+H42+H58+H67 -> -1000.7 | I20: =I22+I33+I42+I58+I67 -> -1000.7
F21: այդ թվում`
E22: 31002 | F22: Ոռոգման համակարգերի հիմնանորոգում | G22: =G24 -> 55655.8 | H22: =H24 -> 55655.8 | I22: =I24 -> 55655.8
F23: այդ թվում` ըստ կատարողների
F24: ՀՀ տարածքային կառավարման և ենթակառուցվածքների նախարարության ջրային կոմիտե | G24: =G26 -> 55655.8 | H24: =H26 -> 55655.8 | I24: =I26 -> 55655.8
F25: այդ թվում` բյուջետային ծախսերի տնտեսագիտական դասակարգման հոդվածներ
F26: ԸՆԴԱՄԵՆԸ ԾԱԽՍԵՐ | G26: =G27 -> 55655.8 | H26: =H27 -> 55655.8 | I26: =I27 -> 55655.8
F27: ՈՉ ՖԻՆԱՆՍԱԿԱՆ ԱԿՏԻՎՆԵՐԻ ԳԾՈՎ ԾԱԽՍԵՐ | G27: =G28 -> 55655.8 | H27: =H28 -> 55655.8 | I27: =I28 -> 55655.8
F28: ՀԻՄՆԱԿԱՆ ՄԻՋՈՑՆԵՐ | G28: =G29+G31 -> 55655.8 | H28: =H29+H31 -> 55655.8 | I28: =I29+I31 -> 55655.8
F29: ՇԵՆՔԵՐ ԵՎ ՇԻՆՈՒԹՅՈՒՆՆԵՐ | G29: =G30 -> 38995.8 | H29: =H30 -> 38995.8 | I29: =I30 -> 38995.8
F30: - Շենքերի և շինությունների շինարարություն | G30: ='4'!D17 -> 38995.8 | H30: ='4'!E17 -> 38995.8 | I30: ='4'!F17 -> 38995.8
F31: ԱՅԼ ՀԻՄՆԱԿԱՆ ՄԻՋՈՑՆԵՐ | G31: =G32 -> 16660 | H31: =H32 -> 16660 | I31: =I32 -> 16660
F32: - Նախագծահետազոտական ծախսեր | G32: ='4'!D18 -> 16660 | H32: ='4'!E18 -> 16660 | I32: ='4'!F18 -> 16660
E33: 31007 | F33: Ջրային տնտեսության հիդրոտեխնիկական սարքավորումների տեղադրման աշխատանքներ | G33: =G35 -> 0 | H33: =H35 -> 0 | I33: =I35 -> -93356.5
F34: այդ թվում` ըստ կատարողների
F35: ՀՀ տարածքային կառավարման և ենթակառուցվածքների նախարարության ջրային կոմիտե | G35: =G37 -> 0 | H35: =H37 -> 0 | I35: =I37 -> -93356.5
F36: այդ թվում` բյուջետային ծախսերի տնտեսագիտական դասակարգման հոդվածներ
F37: ԸՆԴԱՄԵՆԸ ԾԱԽՍԵՐ | G37: =G38 -> 0 | H37: =H38 -> 0 | I37: =I38 -> -93356.5
F38: ՈՉ ՖԻՆԱՆՍԱԿԱՆ ԱԿՏԻՎՆԵՐԻ ԳԾՈՎ ԾԱԽՍԵՐ | G38: =G39 -> 0 | H38: =H39 -> 0 | I38: =I39 -> -93356.5
F39: ՀԻՄՆԱԿԱՆ ՄԻՋՈՑՆԵՐ | G39: =G40 -> 0 | H39: =H40 -> 0 | I39: =I40 -> -93356.5
F40: ՇԵՆՔԵՐ ԵՎ ՇԻՆՈՒԹՅՈՒՆՆԵՐ | G40: =G41 -> 0 | H40: =H41 -> 0 | I40: =I41 -> -93356.5
F41: - Շենքերի և շինությունների շինարարություն | G41: ='4'!D19 -> 0 | H41: ='4'!E19 -> 0 | I41: ='4'!F19 -> -93356.5
E42: 31009 | F42: Օրվա կարգավորման ջրավազանների կառուցում և վերակառուցում | G42: =G53+G46 -> 0 | H42: =H53+H46 -> 0 | I42: =I53+I46 -> 0
F43: այդ թվում` ըստ կատարողների
F44: ՀՀ տարածքային կառավարման և ենթակառուցվածքների նախարարության ջրային կոմիտե | G44: =G46 -> 132573 | H44: =H46 -> 132573 | I44: =I46 -> 132573
F45: այդ թվում` բյուջետային ծախսերի տնտեսագիտական դասակարգման հոդվածներ
F46: ԸՆԴԱՄԵՆԸ ԾԱԽՍԵՐ | G46: =G47 -> 132573 | H46: =H47 -> 132573 | I46: =I47 -> 132573
F47: ՈՉ ՖԻՆԱՆՍԱԿԱՆ ԱԿՏԻՎՆԵՐԻ ԳԾՈՎ ԾԱԽՍԵՐ | G47: =G48 -> 132573 | H47: =H48 -> 132573 | I47: =I48 -> 132573
F48: ՀԻՄՆԱԿԱՆ ՄԻՋՈՑՆԵՐ | G48: =G49 -> 132573 | H48: =H49 -> 132573 | I48: =I49 -> 132573
F49: ԱՅԼ ՀԻՄՆԱԿԱՆ ՄԻՋՈՑՆԵՐ | G49: =G50 -> 132573 | H49: =H50 -> 132573 | I49: =I50 -> 132573
F50: - Նախագծահետազոտական ծախսեր | G50: 132573 | H50: =G50 -> 132573 | I50: =H50 -> 132573
F51: ՀՀ կառավարություն | G51: =G53 -> -132573 | H51: =H53 -> -132573 | I51: =I53 -> -132573
F52: այդ թվում` բյուջետային ծախսերի տնտեսագիտական դասակարգման հոդվածներ
F53: ԸՆԴԱՄԵՆԸ ԾԱԽՍԵՐ | G53: =G54 -> -132573 | H53: =H54 -> -132573 | I53: =I54 -> -132573
F54: ՈՉ ՖԻՆԱՆՍԱԿԱՆ ԱԿՏԻՎՆԵՐԻ ԳԾՈՎ ԾԱԽՍԵՐ | G54: =G55 -> -132573 | H54: =H55 -> -132573 | I54: =I55 -> -132573
F55: ՀԻՄՆԱԿԱՆ ՄԻՋՈՑՆԵՐ | G55: =G56 -> -132573 | H55: =H56 -> -132573 | I55: =I56 -> -132573
F56: ՇԵՆՔԵՐ ԵՎ ՇԻՆՈՒԹՅՈՒՆՆԵՐ | G56: =G57 -> -132573 | H56: =H57 -> -132573 | I56: =I57 -> -132573
F57: - Շենքերի և շինությունների շինարարություն | G57: -132573 | H57: =G57 -> -132573 | I57: =H57 -> -132573
E58: 31013 | F58: Փոքր և միջին ջրամբարների կառուցում | G58: =G60 -> 0 | H58: =H60 -> 0 | I58: =I60 -> 36700
F59: այդ թվում` ըստ կատարողների
F60: ՀՀ տարածքային կառավարման և ենթակառուցվածքների նախարարության ջրային կոմիտե | G60: =G62 -> 0 | H60: =H62 -> 0 | I60: =I62 -> 36700
F61: այդ թվում` բյուջետային ծախսերի տնտեսագիտական դասակարգման հոդվածներ
F62: ԸՆԴԱՄԵՆԸ ԾԱԽՍԵՐ | G62: =G63 -> 0 | H62: =H63 -> 0 | I62: =I63 -> 36700
F63: ՈՉ ՖԻՆԱՆՍԱԿԱՆ ԱԿՏԻՎՆԵՐԻ ԳԾՈՎ ԾԱԽՍԵՐ | G63: =G64 -> 0 | H63: =H64 -> 0 | I63: =I64 -> 36700
F64: ՀԻՄՆԱԿԱՆ ՄԻՋՈՑՆԵՐ | G64: =G65 -> 0 | H64: =H65 -> 0 | I64: =I65 -> 36700
F65: ՇԵՆՔԵՐ ԵՎ ՇԻՆՈՒԹՅՈՒՆՆԵՐ | G65: =G66 -> 0 | H65: =H66 -> 0 | I65: =I66 -> 36700
F66: - Նախագծահետազոտական ծախսեր | G66: ='4'!D24 -> 0 | H66: ='4'!E24 -> 0 | I66: ='4'!F24 -> 36700
E67: 31014 | F67: Ջրամբարների վերականգնման և վերազինման աշխատանքներ | G67: =G69 -> -56656.5 | H67: =H69 -> -56656.5 | I67: =I69 -> 0
F68: այդ թվում` ըստ կատարողների
F69: ՀՀ տարածքային կառավարման և ենթակառուցվածքների նախարարության ջրային կոմիտե | G69: =G71 -> -56656.5 | H69: =H71 -> -56656.5 | I69: =I71 -> 0
F70: այդ թվում` բյուջետային ծախսերի տնտեսագիտական դասակարգման հոդվածներ
F71: ԸՆԴԱՄԵՆԸ ԾԱԽՍԵՐ | G71: =G72 -> -56656.5 | H71: =H72 -> -56656.5 | I71: =I72 -> 0
F72: ՈՉ ՖԻՆԱՆՍԱԿԱՆ ԱԿՏԻՎՆԵՐԻ ԳԾՈՎ ԾԱԽՍԵՐ | G72: =G73 -> -56656.5 | H72: =H73 -> -56656.5 | I72: =I73 -> 0
F73: ՀԻՄՆԱԿԱՆ ՄԻՋՈՑՆԵՐ | G73: =G74 -> -56656.5 | H73: =H74 -> -56656.5 | I73: =I74 -> 0
F74: ՇԵՆՔԵՐ ԵՎ ՇԻՆՈՒԹՅՈՒՆՆԵՐ | G74: =G75 -> -56656.5 | H74: =H75 -> -56656.5 | I74: =I75 -> 0
F75: - Շենքերի և շինությունների կապիտալ վերանորոգում | G75: ='4'!D29 -> -56656.5 | H75: ='4'!E29 -> -56656.5 | I75: ='4'!F29 -> 0
A76: 05 | F76: ՇՐՋԱԿԱ ՄԻՋԱՎԱՅՐԻ ՊԱՇՏՊԱՆՈՒԹՅՈՒՆ | G76: =G78 -> 1000.7 | H76: =H78 -> 1000.7 | I76: =I78 -> 1000.7
F77: այդ թվում`
B78: 04 | F78: Կենսաբազմազանության և բնության պաշտպանություն | G78: =G80 -> 1000.7 | H78: =H80 -> 1000.7 | I78: =I80 -> 1000.7
F79: այդ թվում`
C80: 01 | F80: Կենսաբազմազանության և բնության պաշտպանություն | G80: =G82 -> 1000.7 | H80: =H82 -> 1000.7 | I80: =I82 -> 1000.7
F81: այդ թվում`
F82: ՀՀ տարածքային կառավարման և ենթակառուցվածքների նախարարություն | G82: =G86 -> 1000.7 | H82: =H86 -> 1000.7 | I82: =I86 -> 1000.7
F83: այդ թվում`
D84: 1017 | F84: Որոտան-Արփա-Սևան թունելի ջրային համակարգի կառավարում | G84: =G86 -> 1000.7 | H84: =H86 -> 1000.7 | I84: =I86 -> 1000.7
F85: այդ թվում`
E86: 21001 | F86: Արփա-Սևան ջրային համակարգի տեխնիկական վիճակի բարելավում | G86: =G88 -> 1000.7 | H86: =H88 -> 1000.7 | I86: =I88 -> 1000.7
F87: այդ թվում` ըստ կատարողների
F88: ՀՀ տարածքային կառավարման և ենթակառուցվածքների նախարարության ջրային կոմիտե | G88: =G90 -> 1000.7 | H88: =H90 -> 1000.7 | I88: =I90 -> 1000.7
F89: այդ թվում` բյուջետային ծախսերի տնտեսագիտական դասակարգման հոդվածներ
F90: ԸՆԴԱՄԵՆԸ ԾԱԽՍԵՐ | G90: =G91 -> 1000.7 | H90: =H91 -> 1000.7 | I90: =I91 -> 1000.7
F91: ՈՉ ՖԻՆԱՆՍԱԿԱՆ ԱԿՏԻՎՆԵՐԻ ԳԾՈՎ ԾԱԽՍԵՐ | G91: =G92 -> 1000.7 | H91: =H92 -> 1000.7 | I91: =I92 -> 1000.7
F92: ՀԻՄՆԱԿԱՆ ՄԻՋՈՑՆԵՐ | G92: =G93 -> 1000.7 | H92: =H93 -> 1000.7 | I92: =I93 -> 1000.7
F93: ՇԵՆՔԵՐ ԵՎ ՇԻՆՈՒԹՅՈՒՆՆԵՐ | G93: =G94 -> 1000.7 | H93: =H94 -> 1000.7 | I93: =I94 -> 1000.7
F94: - Շենքերի և շինությունների կապիտալ վերանորոգում | G94: ='4'!D32 -> 1000.7 | H94: ='4'!E32 -> 1000.7 | I94: ='4'!F32 -> 1000.7

Sheet 4
A1: Հավելված N 4
A2: ՀՀ կառավարության 2023 թվականի
A3: -ի N -Ն որոշման
A4: ՀԱՅԱՍՏԱՆԻ ՀԱՆՐԱՊԵՏՈՒԹՅԱՆ ԿԱՌԱՎԱՐՈՒԹՅԱՆ 2022 ԹՎԱԿԱՆԻ ԴԵԿՏԵՄԲԵՐԻ 29-Ի N 2111-Ն ՈՐՈՇՄԱՆ N 5 ՀԱՎԵԼՎԱԾԻ N 2 ԱՂՅՈՒՍԱԿՈՒՄ ԿԱՏԱՐՎՈՂ ՓՈՓՈԽՈՒԹՅՈՒՆՆԵՐԸ ԵՎ ԼՐԱՑՈՒՄՆԵՐԸ
F5: (հազ. դրամ)
A6: Ծրագրային դասիչ | C6: Բյուջետային գլխավոր կարգադրիչների, ծրագրերի, միջոցառումների, միջոցառումները կատարող պետական մարմինների և ուղղությունների անվանումները | D6: Ցուցանիշների փոփոխությունը (ավելացումները նշված են դրական նշանով, իսկ նվազեցումները` փակագծերում)
D7: Առաջին կիսամյակ | E7: Ինն ամիս | F7: Տարի
A8: Ծրագիր | B8: Միջոցառում
C9: ԸՆԴԱՄԵՆԸ | D9: =D11 -> 2.9558578e-12 | E9: =E11 -> 2.9558578e-12 | F9: =F11 -> 2.9558578e-12
C10: այդ թվում՝
C11: ՀՀ ՏԱՐԱԾՔԱՅԻՆ ԿԱՌԱՎԱՐՄԱՆ ԵՎ ԵՆԹԱԿԱՌՈՒՑՎԱԾՔՆԵՐԻ ՆԱԽԱՐԱՐՈՒԹՅՈՒՆ | D11: =D13+D19+D20+D24+D25+D30 -> 2.9558578e-12 | E11: =E13+E19+E20+E24+E25+E30 -> 2.9558578e-12 | F11: =F13+F19+F20+F24+F25+F30 -> 2.9558578e-12
C12: այդ թվում`
A13: 1004 | B13: 31002 | C13: Ոռոգման համակարգերի հիմնանորոգում | D13: =D15 -> 55655.8 | E13: =E15 -> 55655.8 | F13: =F15 -> 55655.8
C14: այդ թվում` ըստ կատարողների
C15: ՀՀ տարածքային կառավարման և ենթակառուցվածքների նախարարության ջրային կոմիտե | D15: =D17+D18 -> 55655.8 | E15: =E17+E18 -> 55655.8 | F15: =F17+F18 -> 55655.8
C16: այդ թվում` ըստ ուղղությունների
C17: Մասիսի տարածաշրջանի ինքնաշատրվանող հորերի փականներով և ջրաչափերով կահավորելու աշխատանքներ | D17: ='2'!F16 -> 38995.8 | E17: =D17 -> 38995.8 | F17: =E17 -> 38995.8
C18: Թալին 1 պոմպակայանի վերականգնման աշխատանքների նախագծանախահաշվային փաստաթղթերի ձեռքբերում | D18: ='2'!G14 -> 16660 | E18: =D18 -> 16660 | F18: =E18 -> 16660
A19: 1004 | B19: 31007 | C19: Ջրային տնտեսության հիդրոտեխնիկական սարքավորումների տեղադրման աշխատանքներ | D19: 0 | E19: 0 | F19: ='2'!E18 -> -93356.5
A20: 1004 | B20: 31009 | C20: Օրվա կարգավորման ջրավազանների կառուցում և վերակառուցում | D20: =D22+D23 -> 0 | E20: =E22+E23 -> 0 | F20: =F22+F23 -> 0
C21: այդ թվում` ըստ կատարողների
C22: ՀՀ տարածքային կառավարման և ենթակառուցվածքների նախարարության ջրային կոմիտե | D22: 132573 | E22: 132573 | F22: 132573
C23: ՀՀ կառավարություն | D23: -132573 | E23: -132573 | F23: -132573
A24: 1004 | B24: 31013 | C24: Փոքր և միջին ջրամբարների կառուցում | D24: 0 | E24: 0 | F24: 36700
A25: 1004 | B25: 31014 | C25: Ջրամբարների վերականգնման և վերազինման աշխատանքներ | D25: =D27 -> -56656.5 | E25: =E27 -> -56656.5 | F25: =F27 -> 0
C26: այդ թվում` ըստ կատարողների
C27: ՀՀ տարածքային կառավարման և ենթակառուցվածքների նախարարության ջրային կոմիտե | D27: =SUM(D29:D29) -> -56656.5 | E27: =SUM(E29:E29) -> -56656.5 | F27: 0
C28: այդ թվում` ըստ ուղղությունների
C29: Ապարանի ջրամբարի վերանորոգում | D29: -56656.5 | E29: =D29 -> -56656.5 | F29: 0
A30: 1017 | B30: 21001 | C30: Արփա-Սևան ջրային համակարգի տեխնիկական վիճակի բարելավում | D30: =D32 -> 1000.7 | E30: =E32 -> 1000.7 | F30: =F32 -> 1000.7
C31: այդ թվում` ըստ կատարողների
C32: ՀՀ տարածքային կառավարման և ենթակառուցվածքների նախարարության ջրային կոմիտե | D32: ='2'!F21 -> 1000.7 | E32: =D32 -> 1000.7 | F32: =E32 -> 1000.7

Sheet 5-1
A1: Հավելված N 5
A2: ՀՀ կառավարության 2023 թվականի
A3: -ի N -Ն որոշման
D4: Աղյուսակ 1
A5: ՀԱՅԱՍՏԱՆԻ ՀԱՆՐԱՊԵՏՈՒԹՅԱՆ ԿԱՌԱՎԱՐՈՒԹՅԱՆ 2022 ԹՎԱԿԱՆԻ ԴԵԿՏԵՄԲԵՐԻ 29-Ի N 2111-Ն ՈՐՈՇՄԱՆ N 9 ՀԱՎԵԼՎԱԾԻ N 9.7 ԱՂՅՈՒՍԱԿՈՒՄ ԿԱՏԱՐՎՈՂ ՓՈՓՈԽՈՒԹՅՈՒՆՆԵՐԸ
A6: ՀՀ տարածքային կառավարման և ենթակառուցվածքների նախարարություն
A8: ՄԱՍ 2. ՊԵՏԱԿԱՆ ՄԱՐՄՆԻ ԳԾՈՎ ԱՐԴՅՈՒՆՔԱՅԻՆ (ԿԱՏԱՐՈՂԱԿԱՆ) ՑՈՒՑԱՆԻՇՆԵՐԸ
A10: Ծրագրի դասիչը | B10: Ծրագրի անվանումը
A11: 1004 | B11: Ոռոգման համակարգի առողջացում
A12: Ծրագրի միջոցառումները
A14: Ծրագրի դասիչը` | B14: 1004 | C14: Ցուցանիշներ
C15: Ցուցանիշների փոփոխությունը (ավելացումները նշված են դրական նշանով)
A16: Միջոցառման դասիչը` | B16: 31002 | C16: Առաջին կիսամյակ | D16: Ինն ամիս | E16: Տարի
A17: Միջոցառման անվանումը` | B17: Ոռոգման համակարգերի հիմնանորոգում
A18: Նկարագրությունը` | B18: Ոռոգման համակարգերի հիմնանորոգում
A19: Միջոցառման տեսակը` | B19: Պետական մարմինների կողմից օգտագործվող ոչ ֆինանսական ակտիվների հետ գործառնություններ
A20: Ակտիվն օգտագործող կազմակերպության(ների) անվանում(ները)՛ | B20: Ոռոգման համակարգի ընկերություններ
A21: Արդյունքի չափորոշիչներ
A23: Միջոցառման վրա կատարվող ծախսը (հազար դրամ) | C23: ='1'!D18 -> 55655.8 | D23: ='1'!E18 -> 55655.8 | E23: ='1'!F18 -> 55655.8
A27: Ծրագրի դասիչը | B27: Ծրագրի անվանումը
A28: 1004 | B28: Ոռոգման համակարգի առողջացում
A29: Ծրագրի միջոցառումները
A31: Ծրագրի դասիչը` | B31: 1004 | C31: Ցուցանիշներ
C32: Ցուցանիշների փոփոխությունը (նվազեցումները նշված են փակագծերում)
A33: Միջոցառման դասիչը` | B33: 31007 | C33: Առաջին կիսամյակ | D33: Ինն ամիս | E33: Տարի
A34: Միջոցառման անվանումը` | B34: Ջրային տնտեսության հիդրոտեխնիկական սարքավորումների տեղադրման աշխատանքներ
A35: Նկարագրությունը` | B35: Ոռոգման համակարգերի ջրանցքների բաժանարար կետերը SCADA համակարգով հագեցած ջրաչափական սարքավորումներով կահավորում
A36: Միջոցառման տեսակը` | B36: Պետական մարմինների կողմից օգտագործվող ոչ ֆինանսական ակտիվների հետ գործառնություններ
A37: Ակտիվն օգտագործող կազմակերպության(ների) անվանում(ները)՛ | B37: Ոռոգման համակարգի ընկերություններ
A38: Արդյունքի չափորոշիչներ
A40: Միջոցառման վրա կատարվող ծախսը (հազար դրամ) | C40: ='1'!D24 -> 0 | D40: ='1'!E24 -> 0 | E40: ='1'!F24 -> -93356.5
A43: Ծրագրի դասիչը | B43: Ծրագրի անվանումը
A44: 1004 | B44: Ոռոգման համակարգի առողջացում
A45: Ծրագրի միջոցառումները
A47: Ծրագրի դասիչը` | B47: 1004 | C47: Ցուցանիշներ
C48: Ցուցանիշների փոփոխությունը (նվազեցումները նշված են փակագծերում)
A49: Միջոցառման դասիչը` | B49: 31013 | C49: Առաջին կիսամյակ | D49: Ինն ամիս | E49: Տարի
A50: Միջոցառման անվանումը` | B50: Փոքր և միջին ջրամբարների կառուցում
A51: Նկարագրությունը` | B51: Փոքր և միջին ջրամբարների կառուցման աշխատանքներ
A52: Միջոցառման տեսակը` | B52: Պետական մարմինների կողմից օգտագործվող ոչ ֆինանսական ակտիվների հետ գործառնություններ
A53: Ակտիվն օգտագործող կազմակերպության(ների) անվանում(ները)՛ | B53: ՀՀ ՏԿԵՆ ջրային կոմիտե
A54: Արդյունքի չափորոշիչներ
A55: Միջոցառման վրա կատարվող ծախսը (հազար դրամ) | C55: ='1'!D30 -> 0 | D55: ='1'!E30 -> 0 | E55: ='1'!F30 -> 36700
A59: Ծրագրի դասիչը | B59: Ծրագրի անվանումը
A60: 1004 | B60: Ոռոգման համակարգի առողջացում
A61: Ծրագրի միջոցառումները
A63: Ծրագրի դասիչը` | B63: 1004 | C63: Ցուցանիշներ
C64: Ցուցանիշների փոփոխությունը (նվազեցումները նշված են փակագծերում)
A65: Միջոցառման դասիչը` | B65: 31014 | C65: Առաջին կիսամյակ | D65: Ինն ամիս | E65: Տարի
A66: Միջոցառման անվանումը` | B66: Ջրամբարների վերականգնման և վերազինման աշխատանքներ
A67: Նկարագրությունը` | B67: Ջրամբարների վերականգնման և վերազինման համար նախագծերի և աշխատանքների ձեռքբերում
A68: Միջոցառման տեսակը` | B68: Պետական մարմինների կողմից օգտագործվող ոչ ֆինանսական ակտիվների հետ գործառնություններ
A69: Ակտիվն օգտագործող կազմակերպության(ների) անվանում(ները)՛ | B69: Ոռոգման համակարգի ընկերություններ
A70: Արդյունքի չափորոշիչներ
A71: Միջոցառման վրա կատարվող ծախսը (հազար դրամ) | C71: ='1'!D36 -> -56656.5 | D71: ='1'!E36 -> -56656.5 | E71: ='1'!F36 -> 0
A74: Ծրագրի դասիչը | B74: Ծրագրի անվանումը
A75: 1017 | B75: Որոտան-Արփա-Սևան թունելի ջրային համակարգի կառավարում
A76: Ծրագրի միջոցառումները
A77: Ծրագրի դասիչը` | B77: 1017 | C77: Ցուցանիշների փոփոխությունը (ավելացումները նշված են դրական նշանով)
A78: Միջոցառման դասիչը` | B78: 21001 | C78: Առաջին կիսամյակ | D78: Ինն ամիս | E78: Տարի
A79: Միջոցառման անվանումը` | B79: Արփա-Սևան ջրային համակարգի տեխնիկական վիճակի բարելավում
A80: Նկարագրությունը` | B80: Արփա-Սևան թունելի առանձին վթարային հատվածների վերականգնման աշխատանքներ
A81: Միջոցառման տեսակը` | B81: Հանրության կողմից անմիջականորեն օգտագործվող ակտիվների հետ կապված միջոցառումներ
A82: Ակտիվն օգտագործող կազմակերպության(ների) անվանում(ները)՛ | B82: ՀՀ ՏԿԵՆ Ջրային կոմիտե
A83: Արդյունքի չափորոշիչներ
A84: Երեսարկների վերակառուցում (մեկ համալիրի ճակատով՛ թունելի ՈՒՀ 189+90-ից մինչև ՈՒՀ 360+47), գծմ | C84: 11.6 | D84: 11.6 | E84: 11.6
A85: Միջոցառման վրա կատարվող ծախսը (հազար դրամ) | C85: ='1'!D49 -> 1000.7 | D85: ='1'!E49 -> 1000.7 | E85: ='1'!F49 -> 1000.7

Sheet 5-2
A1: Աղյուսակ 2
A3: ՀԱՅԱՍՏԱՆԻ ՀԱՆՐԱՊԵՏՈՒԹՅԱՆ ԿԱՌԱՎԱՐՈՒԹՅԱՆ 2022 ԹՎԱԿԱՆԻ ԴԵԿՏԵՄԲԵՐԻ 29-Ի N 2111-Ն ՈՐՈՇՄԱՆ N 9.1 ՀԱՎԵԼՎԱԾԻ N 9.1.25 ԵՎ N 9.1.58 ԱՂՅՈՒՍԱԿՆԵՐՈՒՄ ԿԱՏԱՐՎՈՂ ՓՈՓՈԽՈՒԹՅՈՒՆՆԵՐԸ
E4: Աղյուսակ 9.1.25
A5: ՀՀ տարածքային կառավարման և ենթակառուցվածքների նախարարության ջրային կոմիտե
A7: Ծրագրի դասիչը | B7: Ծրագրի անվանումը
A8: 1004 | B8: Ոռոգման համակարգի առողջացում
A9: Ծրագրի միջոցառումները
A11: Ծրագրի դասիչը` | B11: 1004 | C11: Ցուցանիշներ
C12: Ցուցանիշների փոփոխությունը (նվազեցումները նշված են փակագծերում)
A13: Միջոցառման դասիչը` | B13: 31002 | C13: Առաջին կիսամյակ | D13: Ինն ամիս | E13: Տարի
A14: Միջոցառման անվանումը` | B14: Ոռոգման համակարգերի հիմնանորոգում
A15: Նկարագրությունը` | B15: Ոռոգման համակարգերի հիմնանորոգում
A16: Միջոցառման տեսակը` | B16: Պետական մարմինների կողմից օգտագործվող ոչ ֆինանսական ակտիվների հետ գործառնություններ
A17: Ակտիվն օգտագործող կազմակերպության(ների) անվանում(ները)՛ | B17: Ոռոգման համակարգի ընկերություններ
A18: Արդյունքի չափորոշիչներ
A20: Միջոցառման վրա կատարվող ծախսը (հազար դրամ) | C20: ='5-1'!C23 -> 55655.8 | D20: ='5-1'!D23 -> 55655.8 | E20: ='5-1'!E23 -> 55655.8
A24: Ծրագրի դասիչը | B24: Ծրագրի անվանումը
A25: 1004 | B25: Ոռոգման համակարգի առողջացում
A26: Ծրագրի միջոցառումները
A28: Ծրագրի դասիչը` | B28: 1004 | C28: Ցուցանիշներ
C29: Ցուցանիշների փոփոխությունը (նվազեցումները նշված են փակագծերում)
A30: Միջոցառման դասիչը` | B30: 31007 | C30: Առաջին կիսամյակ | D30: Ինն ամիս | E30: Տարի
A31: Միջոցառման անվանումը` | B31: Ջրային տնտեսության հիդրոտեխնիկական սարքավորումների տեղադրման աշխատանքներ
A32: Նկարագրությունը` | B32: Ոռոգման համակարգերի ջրանցքների բաժանարար կետերը SCADA համակարգով հագեցած ջրաչափական սարքավորումներով կահավորում
A33: Միջոցառման տեսակը` | B33: Պետական մարմինների կողմից օգտագործվող ոչ ֆինանսական ակտիվների հետ գործառնություններ
A34: Ակտիվն օգտագործող կազմակերպության(ների) անվանում(ները)՛ | B34: Ոռոգման համակարգի ընկերություններ
A35: Արդյունքի չափորոշիչներ
A37: Միջոցառման վրա կատարվող ծախսը (հազար դրամ) | C37: ='5-1'!C40 -> 0 | D37: ='5-1'!D40 -> 0 | E37: ='5-1'!E40 -> -93356.5
A40: Ծրագրի դասիչը | B40: Ծրագրի անվանումը
A41: 1004 | B41: Ոռոգման համակարգի առողջացում
A42: Ծրագրի միջոցառումները
A44: Ծրագրի դասիչը` | B44: 1004 | C44: Ցուցանիշներ
C45: Ցուցանիշների փոփոխությունը (նվազեցումները նշված են փակագծերում)
A46: Միջոցառման դասիչը` | B46: 31009 | C46: Առաջին կիսամյակ | D46: Ինն ամիս | E46: Տարի
A47: Միջոցառման անվանումը` | B47: Օրվա կարգավորման ջրավազանների կառուցում և վերակառուցում
A48: Նկարագրությունը` | B48: Օրվա կարգավորման ջրավազանների կառուցման և վերակառուցման համար նախագծերի և աշխատանքների ձեռք բերում
A49: Միջոցառման տեսակը` | B49: Պետական մարմինների կողմից օգտագործվող ոչ ֆինանսական ակտիվների հետ գործառնություններ
A50: Ակտիվն օգտագործող կազմակերպության(ների) անվանում(ները)՛ | B50: ՀՀ ՏԿԵՆ ջրային կոմիտե
A51: Արդյունքի չափորոշիչներ
A52: Միջոցառման վրա կատարվող ծախսը (հազար դրամ) | C52: 132573 | D52: 132573 | E52: 132573
A54: Ծրագրի դասիչը | B54: Ծրագրի անվանումը
A55: 1004 | B55: Ոռոգման համակարգի առողջացում
A56: Ծրագրի միջոցառումները
A58: Ծրագրի դասիչը` | B58: 1004 | C58: Ցուցանիշներ
C59: Ցուցանիշների փոփոխությունը (նվազեցումները նշված են փակագծերում)
A60: Միջոցառման դասիչը` | B60: 31013 | C60: Առաջին կիսամյակ | D60: Ինն ամիս | E60: Տարի
A61: Միջոցառման անվանումը` | B61: Փոքր և միջին ջրամբարների կառուցում
A62: Նկարագրությունը` | B62: Փոքր և միջին ջրամբարների կառուցման աշխատանքներ
A63: Միջոցառման տեսակը` | B63: Պետական մարմինների կողմից օգտագործվող ոչ ֆինանսական ակտիվների հետ գործառնություններ
A64: Ակտիվն օգտագործող կազմակերպության(ների) անվանում(ները)՛ | B64: ՀՀ ՏԿԵՆ ջրային կոմիտե
A65: Արդյունքի չափորոշիչներ
A66: Միջոցառման վրա կատարվող ծախսը (հազար դրամ) | C66: ='5-1'!C55 -> 0 | D66: ='5-1'!D55 -> 0 | E66: ='5-1'!E55 -> 36700
A69: Ծրագրի դասիչը | B69: Ծրագրի անվանումը
A70: 1004 | B70: Ոռոգման համակարգի առողջացում
A71: Ծրագրի միջոցառումները
A73: Ծրագրի դասիչը` | B73: 1004 | C73: Ցուցանիշներ
C74: Ցուցանիշների փոփոխությունը (նվազեցումները նշված են փակագծերում)
A75: Միջոցառման դասիչը` | B75: 31014 | C75: Առաջին կիսամյակ | D75: Ինն ամիս | E75: Տարի
A76: Միջոցառման անվանումը` | B76: Ջրամբարների վերականգնման և վերազինման աշխատանքներ
A77: Նկարագրությունը` | B77: Ջրամբարների վերականգնման և վերազինման համար նախագծերի և աշխատանքների ձեռքբերում
A78: Միջոցառման տեսակը` | B78: Պետական մարմինների կողմից օգտագործվող ոչ ֆինանսական ակտիվների հետ գործառնություններ
A79: Ակտիվն օգտագործող կազմակերպության(ների) անվանում(ները)՛ | B79: Ոռոգման համակարգի ընկերություններ
A80: Արդյունքի չափորոշիչներ
A81: Միջոցառման վրա կատարվող ծախսը (հազար դրամ) | C81: ='5-1'!C71 -> -56656.5 | D81: ='5-1'!D71 -> -56656.5 | E81: ='5-1'!E71 -> 0
A85: Ծրագրի դասիչը | B85: Ծրագրի անվանումը
A86: 1017 | B86: Որոտան-Արփա-Սևան թունելի ջրային համակարգի կառավարում
A87: Ծրագրի միջոցառումները
A88: Ծրագրի դասիչը` | B88: 1017 | C88: Ցուցանիշների փոփոխությունը (ավելացումները նշված են դրական նշանով)
A89: Միջոցառման դասիչը` | B89: 21001 | C89: Առաջին կիսամյակ | D89: Ինն ամիս | E89: Տարի
A90: Միջոցառման անվանումը` | B90: Արփա-Սևան ջրային համակարգի տեխնիկական վիճակի բարելավում
A91: Նկարագրությունը` | B91: Արփա-Սևան թունելի առանձին վթարային հատվածների վերականգնման աշխատանքներ
A92: Միջոցառման տեսակը` | B92: Հանրության կողմից անմիջականորեն օգտագործվող ակտիվների հետ կապված միջոցառումներ
A93: Ակտիվն օգտագործող կազմակերպության(ների) անվանում(ները)՛ | B93: ՀՀ ՏԿԵՆ Ջրային կոմիտե
A94: Արդյունքի չափորոշիչներ
A95: Երեսարկների վերակառուցում (մեկ համալիրի ճակատով՛ թունելի ՈՒՀ 189+90-ից մինչև ՈՒՀ 360+47), գծմ | C95: 11.6 | D95: 11.6 | E95: 11.6
A96: Միջոցառման վրա կատարվող ծախսը (հազար դրամ) | C96: ='5-1'!C85 -> 1000.7 | D96: ='5-1'!D85 -> 1000.7 | E96: ='5-1'!E85 -> 1000.7
D99: Աղյուսակ 9.1.58
A100: ՀՀ կառավարություն
A101: ՄԱՍ 2. ՊԵՏԱԿԱՆ ՄԱՐՄՆԻ ԳԾՈՎ ԱՐԴՅՈՒՆՔԱՅԻՆ (ԿԱՏԱՐՈՂԱԿԱՆ) ՑՈՒՑԱՆԻՇՆԵՐԸ
A103: Ծրագրի դասիչը | B103: Ծրագրի անվանումը
A104: 1004 | B104: Ոռոգման համակարգի առողջացում
A105: Ծրագրի միջոցառումները
A107: Ծրագրի դասիչը` | B107: 1004 | C107: Ցուցանիշներ
C108: Ցուցանիշների փոփոխությունը (նվազեցումները նշված են փակագծերում)
A109: Միջոցառման դասիչը` | B109: 31009 | C109: Առաջին կիսամյակ | D109: Ինն ամիս | E109: Տարի
A110: Միջոցառման անվանումը` | B110: Օրվա կարգավորման ջրավազանների կառուցում և վերակառուցում
A111: Նկարագրությունը` | B111: Օրվա կարգավորման ջրավազանների կառուցման և վերակառուցման համար նախագծերի և աշխատանքների ձեռք բերում
A112: Միջոցառման տեսակը` | B112: Պետական մարմինների կողմից օգտագործվող ոչ ֆինանսական ակտիվների հետ գործառնություններ
A113: Ակտիվն օգտագործող կազմակերպության(ների) անվանում(ները)՛ | B113: ՀՀ ՏԿԵՆ ջրային կոմիտե
A114: Արդյունքի չափորոշիչներ
A115: Միջոցառման վրա կատարվող ծախսը (հազար դրամ) | C115: -132573 | D115: -132573 | E115: -132573

Sheet 6
A2: Հավելված N 6
A3: ՀՀ կառավարության 2023 թվականի
A4: -ի N -Ն որոշման
A6: ՀՀ ԿԱՌԱՎԱՐՈՒԹՅԱՆ 2022 ԹՎԱԿԱՆԻ ԴԵԿՏԵՄԲԵՐԻ 29-Ի N 2111-Ն ՈՐՈՇՄԱՆ N 10 ՀԱՎԵԼՎԱԾՈՒՄ ԿԱՏԱՐՎՈՂ ՓՈՓՈԽՈՒԹՅՈՒՆԸ ԵՎ ԼՐԱՑՈՒՄՆԵՐԸ
A8: Կոդը | B8: Անվանումը | C8: Գնման ձևը | D8: Չափի միավորը | E8: Ցուցանիշների փոփոխությունը (ավելացումները նշված են դրական նշանով, իսկ նվազեցումները՝ փակագծերում)
E9: Միավորի գինը | F9: քանակը | G9: գումարը (հազ. դրամ)
A10: ՀՀ տարածքային կառավարման և ենթակառուցվածքների նախարարության ջրային կոմիտե | G10: =G11+G18+G22 -> 132573
A11: Բաժին N 04 | B11: Խումբ N 02 | C11: Դաս N 04 | D11: Ոռոգում | G11: =G12 -> -93356.5
A12: 1004 31007 | B12: Ջրային տնտեսության հիդրոտեխնիկական սարքավորումների տեղադրման աշխատանքներ | G12: =G13 -> -93356.5
B13: ՄԱՍ II ԱՇԽԱՏԱՆՔՆԵՐ | G13: =G14+G15+G16 -> -93356.5
A14: 45241152/515 | B14: շինարարական աշխատանքներ հիդրոմեխանիկական կառույցների համար | C14: ԲՄ | D14: դրամ | G14: -9767.2
A15: 45241152/517 | B15: շինարարական աշխատանքներ հիդրոմեխանիկական կառույցների համար | C15: ԲՄ | D15: դրամ | G15: -77694.6
A16: 45241152/518 | B16: շինարարական աշխատանքներ հիդրոմեխանիկական կառույցների համար | C16: ԲՄ | D16: դրամ | G16: -5894.7
A17: Բաժին N 05 | B17: Խումբ 04 | C17: Դաս 01 | D17: Կենսաբազմազանության և բնության պաշտպանություն
A18: 1017 21001 | B18: Արփա-Սևան ջրային համակարգի տեխնիկական վիճակի բարելավում | G18: =G19 -> 1000.7
B19: ՄԱՍ III ԾԱՌԱՅՈՒԹՅՈՒՆՆԵՐ | G19: =G20+G21 -> 1000.7
A20: 71351540/1 | B20: տեխնիկական հսկողության ծառայություններ | C20: ԳՀ | D20: դրամ | E20: 674200 | F20: 1 | G20: =E20*F20/1000 -> 674.2
A21: 98111140/1 | B21: հեղինակային հսկողության ծառայություններ | C21: ՄԱ | D21: դրամ | E21: 326500 | F21: 1 | G21: =E21*F21/1000 -> 326.5
A22: Բաժին N 04 | B22: Խումբ 02 | C22: Դաս 04 | D22: Ոռոգում | G22: =G23+G31+G34 -> 224928.8
A23: 1004 31002 | B23: Ոռոգման համակարգերի հիմնանորոգում | G23: =G24+G26 -> 55655.8
B24: ՄԱՍ II ԱՇԽԱՏԱՆՔՆԵՐ | G24: =G25 -> 37982
A25: 45231132 | B25: ջրատարների վերականգնման շինարարական աշխատանքներ | C25: ԲՄ | D25: դրամ | E25: 37982000 | F25: 1 | G25: =E25*F25/1000 -> 37982
B26: ՄԱՍ III ԾԱՌԱՅՈՒԹՅՈՒՆՆԵՐ | G26: =G29+G30+G27+G28 -> 17673.8
A27: 50531140/ | B27: փորձաքննության ծառայություններ | C27: ԳՀ | D27: դրամ | E27: 1120000 | F27: 1 | G27: =E27*F27/1000 -> 1120
A28: 71241200/512 | B28: նախագծերի պատրաստում, ծախսերի գնահատում | C28: ԳՀ | D28: դրամ | E28: 15540000 | F28: 1 | G28: =E28*F28/1000 -> 15540
A29: 71351540/1 | B29: տեխնիկական հսկողության ծառայություններ | C29: ԳՀ | D29: դրամ | E29: 800000 | F29: 1 | G29: =E29*F29/1000 -> 800
A30: 98111140/1 | B30: հեղինակային հսկողության ծառայություններ | C30: ՄԱ | D30: դրամ | E30: 213800 | F30: 1 | G30: =E30*F30/1000 -> 213.8
A31: 1004 31013 | B31: Փոքր և միջին ջրամբարների կառուցում | G31: =G33 -> 36700
B32: ՄԱՍ III ԾԱՌԱՅՈՒԹՅՈՒՆՆԵՐ
A33: 71241200/510 | B33: նախագծերի պատրաստում, ծախսերի գնահատում | C33: ԲՄ | D33: դրամ | E33: 36700000 | F33: 1 | G33: =E33*F33/1000 -> 36700
A34: 1004 31009 | B34: Օրվա կարգավորման ջրավազանների կառուցում և վերակառուցում | G34: =G35 -> 132573
B35: ՄԱՍ III ԾԱՌԱՅՈՒԹՅՈՒՆՆԵՐ | G35: =G36+G37+G38+G39 -> 132573
A36: 71241200/2 | B36: նախագծերի պատրաստում, ծախսերի գնահատում | C36: ԵՄ | D36: դրամ | E36: 16380000 | F36: 1 | G36: =E36*F36/1000 -> 16380
A37: 71241200/4 | B37: նախագծերի պատրաստում, ծախսերի գնահատում | C37: ԵՄ | D37: դրամ | E37: 63000000 | F37: 1 | G37: =E37*F37/1000 -> 63000
A38: 71241200/3 | B38: նախագծերի պատրաստում, ծախսերի գնահատում | C38: ԵՄ | D38: դրամ | E38: 36750000 | F38: 1 | G38: =E38*F38/1000 -> 36750
A39: 71241200/5 | B39: նախագծերի պատրաստում, ծախսերի գնահատում | C39: ԵՄ | D39: դրամ | E39: 16443000 | F39: 1 | G39: =E39*F39/1000 -> 16443
