Workbook

Sheet 1
B1: Հավելված N 1
B2: ՀՀ կառավարության 2023 թվականի
B3: -ի N -Ն որոշման
A5: «ՀԱՅԱՍՏԱՆԻ ՀԱՆՐԱՊԵՏՈՒԹՅԱՆ 2023 ԹՎԱԿԱՆԻ ՊԵՏԱԿԱՆ ԲՅՈՒՋԵԻ ՄԱՍԻՆ» ՀԱՅԱՍՏԱՆԻ ՀԱՆՐԱՊԵՏՈՒԹՅԱՆ ՕՐԵՆՔԻ 2-ՐԴ ՀՈԴՎԱԾԻ ԱՂՅՈՒՍԱԿՈՒՄ ԿԱՏԱՐՎՈՂ ՓՈՓՈԽՈՒԹՅՈՒՆՆԵՐԸ
B7: (հազ. դրամ)
B8: Ցուցանիշների փոփոխություն (ավելացումը նշված են դրական նշանով)
A9: Եկամուտների գծով | B9: 234306.9
A10: Ծախսերի գծով | B10: =B9 -> 234306.9
A11: Դեֆիցիտը (պակասուրդը) | B11: 0

Sheet 2
D1: Հավելված N 2
D2: ՀՀ կառավարության 2023 թվականի
D3: -ի N -Ն որոշման
A5: «ՀԱՅԱՍՏԱՆԻ ՀԱՆՐԱՊԵՏՈՒԹՅԱՆ 2023 ԹՎԱԿԱՆԻ ՊԵՏԱԿԱՆ ԲՅՈՒՋԵԻ ՄԱՍԻՆ» ՀԱՅԱՍՏԱՆԻ ՀԱՆՐԱՊԵՏՈՒԹՅԱՆ ՕՐԵՆՔԻ 6-ՐԴ ՀՈԴՎԱԾԻ ԱՂՅՈՒՍԱԿՈՒՄ ԵՎ ՀԱՅԱՍՏԱՆԻ ՀԱՆՐԱՊԵՏՈՒԹՅԱՆ ԿԱՌԱՎԱՐՈՒԹՅԱՆ 2022 ԹՎԱԿԱՆԻ ԴԵԿՏԵՄԲԵՐԻ 29-Ի N 2111-Ն ՈՐՈՇՄԱՆ N 2 ՀԱՎԵԼՎԱԾՈՒՄ ԿԱՏԱՐՎՈՂ ՓՈՓՈԽՈՒԹՅՈՒՆՆԵՐԸ
D7: (հազ. դրամ)
A8: Եկամտատեսակ | B8: Ցուցանիշների փոփոխությունը (ավելացումները նշված են դրական նշանով)
B9: Առաջին կիսամյակ | C9: ինն ամիս | D9: Տարի
A10: Ընդամենը | B10: =+B12 -> 234306.9 | C10: =+C12 -> 234306.9 | D10: =+D12 -> 234306.9
A11: այդ թվում
A12: Հարկային եկամուտներ և պետական տուրքեր | B12: ='1'!B9 -> 234306.9 | C12: ='1'!B9 -> 234306.9 | D12: =C12 -> 234306.9

Sheet 3
F1: Հավելված N 3
F2: ՀՀ կառավարության 2023 թվականի
F3: -ի N -Ն որոշման
A4: «ՀԱՅԱՍՏԱՆԻ ՀԱՆՐԱՊԵՏՈՒԹՅԱՆ 2023 ԹՎԱԿԱՆԻ ՊԵՏԱԿԱՆ ԲՅՈՒՋԵԻ ՄԱՍԻՆ» ՀԱՅԱՍՏԱՆԻ ՀԱՆՐԱՊԵՏՈՒԹՅԱՆ ՕՐԵՆՔԻ N 1 ՀԱՎԵԼՎԱԾԻ N 2 ԱՂՅՈՒՍԱԿՈՒՄ ԿԱՏԱՐՎՈՂ ՓՈՓՈԽՈՒԹՅՈՒՆՆԵՐԸ , ԼՐԱՑՈՒՄՆԵՐԸ, ՀԱՅԱՍՏԱՆԻ ՀԱՆՐԱՊԵՏՈՒԹՅԱՆ ԿԱՌԱՎԱՐՈՒԹՅԱՆ 2022 ԹՎԱԿԱՆԻ ԴԵԿՏԵՄԲԵՐԻ 29-Ի N 2111-Ն ՈՐՈՇՄԱՆ N 5 ՀԱՎԵԼՎԱԾԻ N 1 ԱՂՅՈՒՍԱԿՈՒՄ ԿԱՏԱՐՎՈՂ ՓՈՓՈԽՈՒԹՅՈՒՆՆԵՐԸ ԵՎ ԼՐԱՑՈՒՄՆԵՐԸ
F6: (հազ. դրամ)
A7: Ծրագրային դասիչը | C7: Բյուջետային գլխավոր կարգադրիչների, ծրագրերի և միջոցառումների անվանումները | D7: Ցուցանիշների փոփոխությունը (ավելացումները նշված են դրական նշանով, իսկ նվազեցումները՝ փակագծերում)
A8: Ծրագիր | B8: Միջոցառում | D8: Առաջին կիսամյակ | E8: Ինն ամիս | F8: Տարի
C9: ԸՆԴԱՄԵՆԸ | D9: =D10 -> 234306.9 | E9: =E10 -> 234306.9 | F9: =F10 -> 234306.9
C10: ՀՀ տարածքային կառավարման և ենթակառուցվածքների նախարարություն | D10: =D11 -> 234306.9 | E10: =E11 -> 234306.9 | F10: =F11 -> 234306.9
A11: 1004 | C11: Ծրագրի անվանումը` | D11: =D18 -> 234306.9 | E11: =E18 -> 234306.9 | F11: =F18 -> 234306.9
C12: Ոռոգման համակարգի առողջացում
C13: Ծրագրի նպատակը`
C14: Ոռոգման ծառայությունների հասանելիության և մատչելիության ապահովում
C15: Վերջնական արդյունքի նկարագրությունը`
C16: Ոռոգման ջրի մատակարարման արդյունավետության և հասանելիության բարելավում, կորուստների կրճատում
A17: Ծրագրի միջոցառումներ
B18: 12001 | C18: Միջոցառման անվանումը` | D18: ='1'!B9 -> 234306.9 | E18: =D18 -> 234306.9 | F18: =E18 -> 234306.9
C19: Աջակցություն ոռոգման համակարգի առողջացմանը
C20: Միջոցառման նկարագրությունը`
C21: Աջակցություն ոռոգման համակարգի ընկերությունների ֆինանսական կենսունակության բարելավման նպատակով իրականացվող միջոցառումներին
C22: Միջոցառման տեսակը
C23: Տրանսֆերտների տրամադրում
C24: ՀՀ կառավարություն | D24: =D25 -> 0 | E24: =E25 -> 0 | F24: =F25 -> 0
A25: 1139 | C25: Ծրագրի անվանումը` | D25: =D32+D38 -> 0 | E25: =E32+E38 -> 0 | F25: =F32+F38 -> 0
C26: ՀՀ կառավարության պահուստային ֆոնդ
C27: Ծրագրի նպատակը`
C28: Պետական բյուջեում չկանխատեսված՝ ինչպես նաեւ բյուջետային երաշխիքների ապահովման ծախսերի ֆինանսավորման ապահովում
C29: Վերջնական արդյունքի նկարագրությունը`
C30: Պահուստային ֆոնդի կառավարման արդյունավետության և թափանցիկության ապահովում
A31: Ծրագրի միջոցառումներ
B32: 11001 | C32: Միջոցառման անվանումը` | D32: ='1'!B9 -> 234306.9 | E32: =D32 -> 234306.9 | F32: =E32 -> 234306.9
C33: ՀՀ կառավարության պահուստային ֆոնդ
C34: Միջոցառման նկարագրությունը`
C35: ՀՀ պետական բյուջեում նախատեսված ելքերի լրացուցիչ ֆինանսավորման՝ պետական բյուջեում չկանխատեսված ելքերի՝ ինչպես նաև բյուջետային երաշխիքների ապահովման ելքերի ֆինանսավորման ապահովում
C36: Միջոցառման տեսակը
C37: Ծառայությունների մատուցում
B38: 11001 | C38: Միջոցառման անվանումը` | D38: =-D32 -> -234306.9 | E38: =D38 -> -234306.9 | F38: =E38 -> -234306.9
C39: ՀՀ կառավարության պահուստային ֆոնդ
C40: Միջոցառման նկարագրությունը`
C41: ՀՀ պետական բյուջեում նախատեսված ելքերի լրացուցիչ ֆինանսավորման՝ պետական բյուջեում չկանխատեսված ելքերի՝ ինչպես նաև բյուջետային երաշխիքների ապահովման ելքերի ֆինանսավորման ապահովում
C42: Միջոցառման տեսակը
C43: Ծառայությունների մատուցում

Sheet 4
H1: Հավելված N 4
A2: ՀՀ կառավարության 2023 թվականի
A3: -ի N -Ն որոշման
A4: ՀԱՅԱՍՏԱՆԻ ՀԱՆՐԱՊԵՏՈՒԹՅԱՆ ԿԱՌԱՎԱՐՈՒԹՅԱՆ 2022 ԹՎԱԿԱՆԻ ԴԵԿՏԵՄԲԵՐԻ 29-Ի N 2111-Ն ՈՐՈՇՄԱՆ N 3 ԵՎ N 4 ՀԱՎԵԼՎԱԾՆԵՐՈՒՄ ԿԱՏԱՐՎՈՂ ՓՈՓՈԽՈՒԹՅՈՒՆՆԵՐԸ ԵՎ ԼՐԱՑՈՒՄՆԵՐԸ
I6: (հազ. դրամ)
A7: Գործառական դասիչը | D7: Ծրագրային դասիչը | F7: Բյուջետային ծախսերի գործառական դասակարգման բաժինների, խմբերի և դասերի, բյուջետային ծրագրերի միջոցառումների, բյուջետային հատկացումների գլխավոր կարգադրիչների անվանումները | G7: Ցուցանիշների փոփոխությունը (ավելացումները նշված են դրական նշանով, իսկ նվազեցումները՝ փակագծերում)
G8: Առաջին կիսամյակ | H8: Ինն ամիս | I8: Տարի
A9: Բաժին | B9: Խումբ | C9: Դաս | D9: Ծրագիր | E9: Միջոցառում
F10: ԸՆԴԱՄԵՆԸ ԾԱԽՍԵՐ | G10: =G12 -> 234306.9 | H10: =H12 -> 234306.9 | I10: =I12 -> 234306.9
F11: այդ թվում`
A12: 04 | F12: ՏՆՏԵՍԱԿԱՆ ՀԱՐԱԲԵՐՈՒԹՅՈՒՆՆԵՐ | G12: =G14 -> 234306.9 | H12: =H14 -> 234306.9 | I12: =I14 -> 234306.9
F13: այդ թվում`
B14: 02 | F14: Գյուղատնտեսություն, անտառային տնտեսություն, ձկնորսություն և որսորդություն | G14: =G16 -> 234306.9 | H14: =H16 -> 234306.9 | I14: =I16 -> 234306.9
F15: այդ թվում`
C16: 04 | F16: Ոռոգում | G16: =G18 -> 234306.9 | H16: =H18 -> 234306.9 | I16: =I18 -> 234306.9
F17: այդ թվում`
F18: ՀՀ տարածքային կառավարման և ենթակառուցվածքների նախարարություն | G18: =G20 -> 234306.9 | H18: =H20 -> 234306.9 | I18: =I20 -> 234306.9
F19: այդ թվում`
D20: 1004 | F20: Ոռոգման համակարգի առողջացում | G20: =G22 -> 234306.9 | H20: =H22 -> 234306.9 | I20: =I22 -> 234306.9
F21: այդ թվում`
E22: 12001 | F22: Աջակցություն ոռոգման համակարգի առողջացմանը | G22: =G24 -> 234306.9 | H22: =H24 -> 234306.9 | I22: =I24 -> 234306.9
F23: այդ թվում` ըստ կատարողների
F24: ՀՀ տարածքային կառավարման և ենթակառուցվածքների նախարարության ջրային կոմիտե | G24: =G26 -> 234306.9 | H24: =H26 -> 234306.9 | I24: =I26 -> 234306.9
F25: այդ թվում` բյուջետային ծախսերի տնտեսագիտական դասակարգման հոդվածներ
F26: ԸՆԴԱՄԵՆԸ ԾԱԽՍԵՐ | G26: =G27 -> 234306.9 | H26: =H27 -> 234306.9 | I26: =I27 -> 234306.9
F27: ԸՆԹԱՑԻԿ ԾԱԽՍԵՐ | G27: =G29 -> 234306.9 | H27: =H29 -> 234306.9 | I27: =I29 -> 234306.9
F28: Դրամաշնորհներ | G28: =G29 -> 234306.9 | H28: =H29 -> 234306.9 | I28: =I29 -> 234306.9
F29: -Այլ ընթացիկ դրամաշնորհներ | G29: ='3'!D18 -> 234306.9 | H29: =G29 -> 234306.9 | I29: =H29 -> 234306.9
A30: 11 | F30: ՀԻՄՆԱԿԱՆ ԲԱԺԻՆՆԵՐԻՆ ՉԴԱՍՎՈՂ ՊԱՀՈՒՍՏԱՅԻՆ ՖՈՆԴԵՐ | G30: =G32 -> 0 | H30: =H32 -> 0 | I30: =I32 -> 0
F31: այդ թվում`
B32: 01 | F32: ՀՀ կառավարության և համայնքների պահուստային ֆոնդ | G32: =G34 -> 0 | H32: =H34 -> 0 | I32: =I34 -> 0
F33: այդ թվում`
C34: 01 | F34: ՀՀ կառավարության պահուստային ֆոնդ | G34: =G36 -> 0 | H34: =H36 -> 0 | I34: =I36 -> 0
F35: այդ թվում`
F36: ՀՀ կառավարություն | G36: =G38 -> 0 | H36: =H38 -> 0 | I36: =I38 -> 0
F37: այդ թվում`
D38: 1139 | F38: ՀՀ կառավարության պահուստային ֆոնդ | G38: =G40+G49 -> 0 | H38: =H40+H49 -> 0 | I38: =I40+I49 -> 0
F39: այդ թվում`
E40: 11001 | F40: ՀՀ կառավարության պահուստային ֆոնդ | G40: =G42 -> 234306.9 | H40: =H42 -> 234306.9 | I40: =I42 -> 234306.9
F41: այդ թվում` ըստ կատարողների
F42: ՀՀ կառավարություն | G42: =G44 -> 234306.9 | H42: =H44 -> 234306.9 | I42: =I44 -> 234306.9
F43: այդ թվում` բյուջետային ծախսերի տնտեսագիտական դասակարգման հոդվածներ
F44: ԸՆԴԱՄԵՆԸ ԾԱԽՍԵՐ | G44: =G45 -> 234306.9 | H44: =H45 -> 234306.9 | I44: =I45 -> 234306.9
F45: ԸՆԹԱՑԻԿ ԾԱԽՍԵՐ | G45: =G46 -> 234306.9 | H45: =H46 -> 234306.9 | I45: =I46 -> 234306.9
F46: ԱՅԼ ԾԱԽՍԵՐ | G46: =G47 -> 234306.9 | H46: =H47 -> 234306.9 | I46: =I47 -> 234306.9
F47: Պահուստային միջոցներ | G47: =G48 -> 234306.9 | H47: =H48 -> 234306.9 | I47: =I48 -> 234306.9
F48: -Պահուստային միջոցներ | G48: ='3'!D32 -> 234306.9 | H48: ='3'!E32 -> 234306.9 | I48: ='3'!F32 -> 234306.9
E49: 11001 | F49: ՀՀ կառավարության պահուստային ֆոնդ | G49: =G51 -> -234306.9 | H49: =H51 -> -234306.9 | I49: =I51 -> -234306.9
F50: այդ թվում` ըստ կատարողների
F51: ՀՀ կառավարություն | G51: =G53 -> -234306.9 | H51: =H53 -> -234306.9 | I51: =I53 -> -234306.9
F52: այդ թվում` բյուջետային ծախսերի տնտեսագիտական դասակարգման հոդվածներ
F53: ԸՆԴԱՄԵՆԸ ԾԱԽՍԵՐ | G53: =G54 -> -234306.9 | H53: =H54 -> -234306.9 | I53: =I54 -> -234306.9
F54: ԸՆԹԱՑԻԿ ԾԱԽՍԵՐ | G54: =G55 -> -234306.9 | H54: =H55 -> -234306.9 | I54: =I55 -> -234306.9
F55: ԱՅԼ ԾԱԽՍԵՐ | G55: =G56 -> -234306.9 | H55: =H56 -> -234306.9 | I55: =I56 -> -234306.9
F56: Պահուստային միջոցներ | G56: =G57 -> -234306.9 | H56: =H57 -> -234306.9 | I56: =I57 -> -234306.9
F57: -Պահուստային միջոցներ | G57: ='3'!D38 -> -234306.9 | H57: ='3'!E38 -> -234306.9 | I57: ='3'!F38 -> -234306.9

Sheet 5
A1: Հավելված N 5
A2: ՀՀ կառավարության 2023 թվականի
A3: -ի N -Ն որոշման
A5: ՀԱՅԱՍՏԱՆԻ ՀԱՆՐԱՊԵՏՈՒԹՅԱՆ ԿԱՌԱՎԱՐՈՒԹՅԱՆ 2022 ԹՎԱԿԱՆԻ ԴԵԿՏԵՄԲԵՐԻ 29-Ի N 2111-Ն ՈՐՈՇՄԱՆ N 5 ՀԱՎԵԼՎԱԾԻ N 7 ԱՂՅՈՒՍԱԿՈՒՄ ԿԱՏԱՐՎՈՂ ԼՐԱՑՈՒՄՆԵՐԸ
H7: (հազ. դրամ)
B8: Ծրագրային դասիչը | D8: Բյուջետային հատկացումների գլխավոր կարգադրիչների, ծրագրերի, միջոցառումների, ծախսային ուղղությունների անվանումները | G8: Միջոցառումները կատարող պետական մարմինների և դրամաշնորհ ստացող տնտեսվարող սուբյեկտների անվանումները | H8: Տարի
B9: Ծրագիր | C9: Միջոցառում | H9: Ցուցանիշների փոփոխությունը (ավելացումները նշված են դրական նշանով)
D10: ԸՆԴԱՄԵՆԸ | H10: =H11 -> 234306.9
B11: ՀՀ տարածքային կառավարման և ենթակառուցվածքների նախարարություն | H11: =H12 -> 234306.9
B12: 1004 | D12: Ոռոգման համակարգի առողջացում | H12: =H13 -> 234306.9
C13: 12001 | D13: Աջակցություն ոռոգման համակարգի առողջացմանը | G13: ՀՀ տարածքային կառավարման և ենթակառուցվածքների նախարարության ջրային կոմիտե | H13: =H14 -> 234306.9
G14: «Արտաշատ» ՋՕԸ | H14: ='3'!D18 -> 234306.9

Sheet 6-1
E1: Հավելված N 6
E2: ՀՀ կառավարության 2023 թվականի
E3: -ի N -Ն որոշման
E4: Աղյուսակ 1
A5: ՀԱՅԱՍՏԱՆԻ ՀԱՆՐԱՊԵՏՈՒԹՅԱՆ ԿԱՌԱՎԱՐՈՒԹՅԱՆ 2022 ԹՎԱԿԱՆԻ ԴԵԿՏԵՄԲԵՐԻ 29-Ի N 2111-Ն ՈՐՈՇՄԱՆ N 9 ՀԱՎԵԼՎԱԾԻ N 9.7 ԵՎ N 9.47 ԱՂՅՈՒՍԱԿՆԵՐՈՒՄ ԿԱՏԱՐՎՈՂ ՓՈՓՈԽՈՒԹՅՈՒՆՆԵՐԸ ԵՎ ԼՐԱՑՈՒՄՆԵՐԸ
D7: Աղյուսակ 9.7
A8: ՀՀ տարածքային կառավարման և ենթակառուցվածքների նախարարություն
A10: ՄԱՍ 2. ՊԵՏԱԿԱՆ ՄԱՐՄՆԻ ԳԾՈՎ ԱՐԴՅՈՒՆՔԱՅԻՆ (ԿԱՏԱՐՈՂԱԿԱՆ) ՑՈՒՑԱՆԻՇՆԵՐԸ
A12: Ծրագրի դասիչը | B12: Ծրագրի անվանումը
A13: 1004 | B13: Ոռոգման համակարգի առողջացում
A14: Ծրագրի միջոցառումները
A16: Ծրագրի դասիչը` | B16: 1004 | C16: Ցուցանիշներ
C17: Ցուցանիշների փոփոխությունը (ավելացումները նշված են դրական նշանով)
A18: Միջոցառման դասիչը` | B18: 12001 | C18: Առաջին կիսամյակ | D18: Ինն ամիս | E18: Տարի
A19: Միջոցառման անվանումը` | B19: ='3'!C19 -> Աջակցություն ոռոգման համակարգի առողջացմանը
A20: Նկարագրությունը` | B20: ='3'!C21 -> Աջակցություն ոռոգման համակարգի ընկերությունների ֆինանսական կենսունակության բարելավման նպատակով իրականացվող միջոցառումներին
A21: Միջոցառման տեսակը` | B21: ='3'!C23 -> Տրանսֆերտների տրամադրում
A22: Շահառուների ընտրության չափորոշիչները՛ | B22: Ոռոգման համակարգի ընկերություններ
A23: Արդյունքի չափորոշիչներ
A24: Աջակցություն ստացած ընկերություն, հատ | C24: 1 | D24: 1 | E24: 1
A25: Միջոցառման վրա կատարվող ծախսը (հազար դրամ) | C25: ='3'!D18 -> 234306.9 | D25: ='3'!E18 -> 234306.9 | E25: ='3'!F18 -> 234306.9
D26: Աղյուսակ 9.47
A27: ՀՀ կառավարություն
A28: ՄԱՍ 2. ՊԵՏԱԿԱՆ ՄԱՐՄՆԻ ԳԾՈՎ ԱՐԴՅՈՒՆՔԱՅԻՆ (ԿԱՏԱՐՈՂԱԿԱՆ) ՑՈՒՑԱՆԻՇՆԵՐԸ
A30: Ծրագրի դասիչը | B30: Ծրագրի անվանումը
A31: 1139 | B31: ՀՀ կառավարության պահուստային ֆոնդ
A33: Ծրագրի միջոցառումները
C34: Ցուցանիշներ
A35: Ծրագրի դասիչը` | B35: 1139 | C35: Ցուցանիշների փոփոխությունը (ավելացումները նշված են դրական նշանով)
A36: Միջոցառման դասիչը` | B36: 11001 | C36: Առաջին կիսամյակ | D36: Ինն ամիս | E36: Տարի
A37: Միջոցառման անվանումը` | B37: ՀՀ կառավարության պահուստային ֆոնդ
A38: Նկարագրությունը` | B38: ՀՀ պետական բյուջեում նախատեսված ելքերի լրացուցիչ ֆինանսավորման՝ պետական բյուջեում չկանխատեսված ելքերի՝ ինչպես նաև բյուջետային երաշխիքների ապահովման ելքերի ֆինանսավորման ապահովում
A39: Միջոցառման տեսակը` | B39: Ծառայությունների մատուցում
A40: Միջոցառումն իրականացնողի անվանումը | B40: ՀՀ կառավարություն
A41: Արդյունքի չափորոշիչներ
A42: Միջոցառման վրա կատարվող ծախսը (հազար դրամ) | C42: ='4'!G48 -> 234306.9 | D42: ='4'!H48 -> 234306.9 | E42: ='4'!I48 -> 234306.9
A45: Ծրագրի դասիչը | B45: Ծրագրի անվանումը
A46: 1139 | B46: ՀՀ կառավարության պահուստային ֆոնդ
A48: Ծրագրի միջոցառումները
C49: Ցուցանիշներ
A50: Ծրագրի դասիչը` | B50: 1139 | C50: Ցուցանիշների փոփոխությունը (նվազեցումները նշված են փակագծերում)
A51: Միջոցառման դասիչը` | B51: 11001 | C51: Առաջին կիսամյակ | D51: Ինն ամիս | E51: Տարի
A52: Միջոցառման անվանումը` | B52: ՀՀ կառավարության պահուստային ֆոնդ
A53: Նկարագրությունը` | B53: ՀՀ պետական բյուջեում նախատեսված ելքերի լրացուցիչ ֆինանսավորման՝ պետական բյուջեում չկանխատեսված ելքերի՝ ինչպես նաև բյուջետային երաշխիքների ապահովման ելքերի ֆինանսավորման ապահովում
A54: Միջոցառման տեսակը` | B54: Ծառայությունների մատուցում
A55: Միջոցառումն իրականացնողի անվանումը | B55: ՀՀ կառավարություն
A56: Արդյունքի չափորոշիչներ
A57: Միջոցառման վրա կատարվող ծախսը (հազար դրամ) | C57: ='4'!G57 -> -234306.9 | D57: ='4'!H57 -> -234306.9 | E57: ='4'!I57 -> -234306.9

Sheet 6-2
D1: Աղյուսակ 2
A2: ՀԱՅԱՍՏԱՆԻ ՀԱՆՐԱՊԵՏՈՒԹՅԱՆ ԿԱՌԱՎԱՐՈՒԹՅԱՆ 2022 ԹՎԱԿԱՆԻ ԴԵԿՏԵՄԲԵՐԻ 29-Ի N 2111-Ն ՈՐՈՇՄԱՆ N 9.1 ՀԱՎԵԼՎԱԾԻ N 9.1.25 ԵՎ N 9.1.58 ԱՂՅՈՒՍԱԿՆԵՐՈՒՄ ԿԱՏԱՐՎՈՂ ՓՈՓՈԽՈՒԹՅՈՒՆՆԵՐԸ ԵՎ ԼՐԱՑՈՒՄՆԵՐԸ
E3: Աղյուսակ 9.1.25
A4: ՀՀ տարածքային կառավարման և ենթակառուցվածքների նախարարության ջրային կոմիտե
A5: ՄԱՍ 1. ՊԵՏԱԿԱՆ ՄԱՐՄՆԻ ԳԾՈՎ ԱՐԴՅՈՒՆՔԱՅԻՆ (ԿԱՏԱՐՈՂԱԿԱՆ) ՑՈՒՑԱՆԻՇՆԵՐԸ
A7: Ծրագրի դասիչը | B7: Ծրագրի անվանումը
A8: 1004 | B8: Ոռոգման համակարգի առողջացում
A9: Ծրագրի միջոցառումները
A11: Ծրագրի դասիչը` | B11: 1004 | C11: Ցուցանիշներ
C12: Ցուցանիշների փոփոխությունը (ավելացումները նշված են դրական նշանով)
A13: Միջոցառման դասիչը` | B13: 12001 | C13: Առաջին կիսամյակ | D13: Ինն ամիս | E13: Տարի
A14: Միջոցառման անվանումը` | B14: ='6-1'!B19 -> Աջակցություն ոռոգման համակարգի առողջացմանը
A15: Նկարագրությունը` | B15: ='6-1'!B20 -> Աջակցություն ոռոգման համակարգի ընկերությունների ֆինանսական կենսունակության բարելավման նպատակով իրականացվող միջոցառումներին
A16: Միջոցառման տեսակը` | B16: ='6-1'!B21 -> Տրանսֆերտների տրամադրում
A17: Միջոցառումն իրականացնողի անվանումը | B17: Ջրօգտագործողների ընկերություններ
A18: Արդյունքի չափորոշիչներ
A19: Աջակցություն ստացած ընկերություն, հատ | C19: 1 | D19: 1 | E19: 1
A20: Միջոցառման վրա կատարվող ծախսը (հազար դրամ) | C20: ='6-1'!C25 -> 234306.9 | D20: ='6-1'!D25 -> 234306.9 | E20: ='6-1'!E25 -> 234306.9
D21: Աղյուսակ 9.1.58
A23: ՀՀ կառավարություն
A24: ՄԱՍ 1. ՊԵՏԱԿԱՆ ՄԱՐՄՆԻ ԳԾՈՎ ԱՐԴՅՈՒՆՔԱՅԻՆ (ԿԱՏԱՐՈՂԱԿԱՆ) ՑՈՒՑԱՆԻՇՆԵՐԸ
A26: Ծրագրի դասիչը | B26: Ծրագրի անվանումը
A27: 1139 | B27: ՀՀ կառավարության պահուստային ֆոնդ
A29: Ծրագրի միջոցառումները
C30: Ցուցանիշներ
A31: Ծրագրի դասիչը` | B31: 1139 | C31: Ցուցանիշների փոփոխությունը (ավելացումները նշված են դրական նշանով)
A32: Միջոցառման դասիչը` | B32: 11001 | C32: Առաջին կիսամյակ | D32: Ինն ամիս | E32: Տարի
A33: Միջոցառման անվանումը` | B33: ՀՀ կառավարության պահուստային ֆոնդ
A34: Նկարագրությունը` | B34: ՀՀ պետական բյուջեում նախատեսված ելքերի լրացուցիչ ֆինանսավորման՝ պետական բյուջեում չկանխատեսված ելքերի՝ ինչպես նաև բյուջետային երաշխիքների ապահովման ելքերի ֆինանսավորման ապահովում
A35: Միջոցառման տեսակը` | B35: Ծառայությունների մատուցում
A36: Միջոցառումն իրականացնողի անվանումը | B36: ՀՀ կառավարություն
A37: Արդյունքի չափորոշիչներ
A38: Միջոցառման վրա կատարվող ծախսը (հազար դրամ) | C38: ='6-1'!C42 -> 234306.9 | D38: ='6-1'!D42 -> 234306.9 | E38: ='6-1'!E42 -> 234306.9
A41: Ծրագրի դասիչը | B41: Ծրագրի անվանումը
A42: 1139 | B42: ՀՀ կառավարության պահուստային ֆոնդ
A44: Ծրագրի միջոցառումները
C45: Ցուցանիշներ
A46: Ծրագրի դասիչը` | B46: 1139 | C46: Ցուցանիշների փոփոխությունը (նվազեցումները նշված են փակագծերում)
A47: Միջոցառման դասիչը` | B47: 11001 | C47: Առաջին կիսամյակ | D47: Ինն ամիս | E47: Տարի
A48: Միջոցառման անվանումը` | B48: ՀՀ կառավարության պահուստային ֆոնդ
A49: Նկարագրությունը` | B49: ՀՀ պետական բյուջեում նախատեսված ելքերի լրացուցիչ ֆինանսավորման՝ պետական բյուջեում չկանխատեսված ելքերի՝ ինչպես նաև բյուջետային երաշխիքների ապահովման ելքերի ֆինանսավորման ապահովում
A50: Միջոցառման տեսակը` | B50: Ծառայությունների մատուցում
A51: Միջոցառումն իրականացնողի անվանումը | B51: ՀՀ կառավարություն
A52: Արդյունքի չափորոշիչներ
A53: Միջոցառման վրա կատարվող ծախսը (հազար դրամ) | C53: ='6-1'!C57 -> -234306.9 | D53: ='6-1'!D57 -> -234306.9 | E53: ='6-1'!E57 -> -234306.9
