Workbook
Name a: #REF!
Name a: #REF!
Name a: #REF!
Name AgencyCode: #REF!
Name AgencyCode: #REF!
Name AgencyCode: #REF!
Name AgencyCode: #REF!
Name AgencyCode: #REF!
Name AgencyName: #REF!
Name AgencyName: #REF!
Name AgencyName: #REF!
Name AgencyName: #REF!
Name AgencyName: #REF!
Name davit: #REF!
Name davit: #REF!
Name davit: #REF!
Name davit: #REF!
Name Functional1: #REF!
Name Functional1: #REF!
Name Functional1: #REF!
Name Functional1: #REF!
Name Functional1: #REF!
Name ggg: #REF!
Name ggg: #REF!
Name ggg: #REF!
Name ggg: #REF!
Name HAVELVAC10: #REF!
Name HAVELVAC10: #REF!
Name HAVELVAC10: #REF!
Name PANature: #REF!
Name PANature: #REF!
Name PANature: #REF!
Name PANature: #REF!
Name PANature: #REF!
Name PAType: #REF!
Name PAType: #REF!
Name PAType: #REF!
Name PAType: #REF!
Name PAType: #REF!
Name Performance2: #REF!
Name Performance2: #REF!
Name Performance2: #REF!
Name Performance2: #REF!
Name Performance2: #REF!
Name PerformanceType: #REF!
Name PerformanceType: #REF!
Name PerformanceType: #REF!
Name PerformanceType: #REF!
Name PerformanceType: #REF!
Name Հավելված: #REF!
Name Հավելված: #REF!
Name Հավելված: #REF!
Name Հավելված: #REF!
Name Մաս: #REF!
Name Մաս: #REF!
Name Մաս: #REF!
Name Մաս: #REF!
Name շախմատիստ: #REF!
Name շախմատիստ: #REF!
Name շախմատիստ: #REF!

Sheet Havelvats 1
D1: Հավելված N 1
D2: ՀՀ կառավարության 2023 թվականի
E3: ______________ ի ___Ն որոշման
A5: «ՀԱՅԱUՏԱՆԻ ՀԱՆՐԱՊԵՏՈՒԹՅԱՆ 2023 ԹՎԱԿԱՆԻ ՊԵՏԱԿԱՆ ԲՅՈՒՋԵԻ ՄԱUԻՆ» ՀԱՅԱUՏԱՆԻ ՀԱՆՐԱՊԵՏՈՒԹՅԱՆ OՐԵՆՔԻ N 1 ՀԱՎԵԼՎԱԾԻ N 2 ԱՂՅՈՒՍԱԿՈՒՄ ԿԱՏԱՐՎՈՂ ՎԵՐԱԲԱՇԽՈՒՄԸ ԵՎ ՀԱՅԱՍՏԱՆԻ ՀԱՆՐԱՊԵՏՈՒԹՅԱՆ ԿԱՌԱՎԱՐՈՒԹՅԱՆ 2022 ԹՎԱԿԱՆԻ ԴԵԿՏԵՄԲԵՐԻ 29-Ի N 2111-Ն ՈՐՈՇՄԱՆ N 5 ՀԱՎԵԼՎԱԾԻ N 1 ԱՂՅՈՒՍԱԿՈՒՄ ԿԱՏԱՐՎՈՂ ՓՈՓՈԽՈՒԹՅՈՒՆՆԵՐԸ
E6: հազ. դրամներով
A7: Ծրագրային դասիչը | C7: Բյուջետային հատկացումների գլխավոր կարգադրիչների, ծրագրերի և միջոցառումների անվանումները | D7: Ցուցանիշների փոփոխությունը (ավելացումները նշված են դրական նշանով, իսկ նվազեցումները՝ փակագծերում)
A8: Ծրագիր | B8: Միջոցառում | D8: Առաջին կիսամյակ | E8: Ինն ամիս | F8: Տարի
C9: ԸՆԴԱՄԵՆԸ | D9: =D11 -> 0 | E9: =E11 -> 0 | F9: =F11 -> 0
C10: այդ թվում
C11: ՀՀ ԿՐԹՈՒԹՅԱՆ, ԳԻՏՈՒԹՅԱՆ, ՄՇԱԿՈՒՅԹԻ ԵՎ ՍՊՈՐՏԻ ՆԱԽԱՐԱՐՈՒԹՅՈՒՆ | D11: =D12+D25 -> 0 | E11: =E12+E25 -> 0 | F11: =F12+F25 -> 0
A12: 1075 | C12: Ծրագրի անվանումը` | D12: =D19 -> 9112 | E12: =E19 -> 14621 | F12: =F19 -> 20136
C13: Մշակութային ժառանգության ծրագիր
C14: Ծրագրի նպատակը`
C15: Մշակութային ժառանգության պահպանում, օգտագործում, համալրում և հանրահռչակում
C16: Վերջնական արդյունքի նկարագրությունը`
C17: Մշակութային ժառանգության շարունակական պահպանում, մշակութային զբոսաշրջության զարգացում և խթանում
C18: Ծրագրի միջոցառումներ
B19: 11003 | C19: Միջոցառման անվանումը` | D19: 9112 | E19: 14621 | F19: 20136
C20: Աջակցություն հայկական պատմամշակութային հուշարձանների վավերագրմանը
C21: Միջոցառման նկարագրությունը`
C22: Հուշարձանների լուսանկարում, չափագրում, վիմագրերի ընդօրինակում և վերծանում, քարտեզագրում, գրավոր աղբյուրների և արխիվային նյութերի ուսումնասիրություն, հուշարձանի վավերագրերի կազմում, վավերագրված հուշարձանների ցուցակների կազմում ըստ բնակավայրերի
C23: Միջոցառման տեսակը
C24: Ծառայությունների մատուցում
A25: 1168 | C25: Ծրագրի անվանումը` | D25: =D31 -> -9112 | E25: =E31 -> -14621 | F25: =F31 -> -20136
C26: Արվեստների ծրագիր
C27: Ծրագրի նպատակը`
C28: Նպաստել ազգային հենքի վրա ժամանակակից թատերարվեստի, երաժշտարվեստի, կերպարվեստի և պարարվեստի զարգացմանը և հանրահռչակմանը
C29: Վերջնական արդյունքի նկարագրությունը`
C30: Մրցունակ արվեստային արտադրանքի ստեղծում, ստեղծագործական գործընթացների խթանում, արվեստի նոր նախագծերի ներդրում և մշակութային կյանքում հասարակության ներգրավում
B31: 11005 | C31: Միջոցառման անվանումը` | D31: -9112 | E31: -14621 | F31: -20136
C32: Մշակութային միջոցառումների իրականացում
C33: Միջոցառման նկարագրությունը`
C34: Արվեստի հանրահռչակում, տարածում, մատչելիության ապահովում
C35: Միջոցառման տեսակը
C36: Ծառայությունների մատուցում

Sheet Havelvats 2 
G1: Հավելված N 2
G2: ՀՀ կառավարության 2023 թվականի
G3: ______________ ի ___Ն որոշման
A5: ՀԱՅԱՍՏԱՆԻ ՀԱՆՐԱՊԵՏՈՒԹՅԱՆ ԿԱՌԱՎԱՐՈՒԹՅԱՆ 2022 ԹՎԱԿԱՆԻ ԴԵԿՏԵՄԲԵՐԻ 29-Ի N 2111-Ն ՈՐՈՇՄԱՆ N 3 ԵՎ N 4 ՀԱՎԵԼՎԱԾՆԵՐՈՒՄ ԿԱՏԱՐՎՈՂ ՓՈՓՈԽՈՒԹՅՈՒՆՆԵՐԸ
G6: հազ. դրամներով
A7: Գործառական դասիչը | D7: Ծրագրային դասիչը | F7: Բյուջետային հատկացումների գլխավոր կարգադրիչների, ծրագրերի, միջոցառումների և միջոցառումները կատարող պետական մարմինների անվանումները | G7: Ցուցանիշների փոփոխությունը (ավելացումները նշված են դրական նշանով, իսկ նվազեցումները՝ փակագծերում)
A8: Բաժին | B8: Խումբ | C8: Դաս | D8: Ծրագիր | E8: Միջոցառում | G8: Առաջին կիսամյակ | H8: Ինն ամիս | I8: Տարի
F9: ԸՆԴԱՄԵՆԸ | G9: =G11 -> 0 | H9: =H11 -> 0 | I9: =I11 -> 0
F10: այդ թվում
F11: ՀՀ ԿՐԹՈՒԹՅԱՆ, ԳԻՏՈՒԹՅԱՆ, ՄՇԱԿՈՒՅԹԻ ԵՎ ՍՊՈՐՏԻ ՆԱԽԱՐԱՐՈՒԹՅՈՒՆ | G11: =G12+G31 -> 0 | H11: =H12+H31 -> 0 | I11: =I12+I31 -> 0
A12: 08 | F12: ՀԱՆԳԻՍՏ, ՄՇԱԿՈՒՅԹ ԵՎ ԿՐՈՆ | G12: =G14 -> 9112 | H12: =H14 -> 14621 | I12: =I14 -> 20136
F13: այդ թվում`
B14: 02 | F14: Մշակութային ծառայություններ | G14: =G16 -> 9112 | H14: =H16 -> 14621 | I14: =I16 -> 20136
F15: այդ թվում`
C16: 07 | F16: Հուշարձանների և մշակութային արժեքների վերականգնում և պահպանում | G16: =G20 -> 9112 | H16: =H20 -> 14621 | I16: =I20 -> 20136
F17: այդ թվում`
F18: ՀՀ կրթության, գիտության, մշակույթի և սպորտի նախարարություն
F19: այդ թվում`
D20: 1075 | E20: Մշակութային ժառանգության ծրագիր | G20: =+G22 -> 9112 | H20: =+H22 -> 14621 | I20: =+I22 -> 20136
F21: այդ թվում`
E22: 11003 | F22: Աջակցություն հայկական պատմամշակութային հուշարձանների վավերագրմանը | G22: =G24 -> 9112 | H22: =H24 -> 14621 | I22: =I24 -> 20136
F23: այդ թվում` ըստ կատարողների
F24: ՀՀ կրթության, գիտության, մշակույթի և սպորտի նախարարություն | G24: =G26 -> 9112 | H24: =H26 -> 14621 | I24: =I26 -> 20136
F25: այդ թվում՝ բյուջետային ծախսերի տնտեսագիտական դասակարգման հոդվածներ
F26: ԸՆԴԱՄԵՆԸ ԾԱԽՍԵՐ | G26: =G27 -> 9112 | H26: =H27 -> 14621 | I26: =I27 -> 20136
F27: ԸՆԹԱՑԻԿ ԾԱԽՍԵՐ | G27: =+G28 -> 9112 | H27: =+H28 -> 14621 | I27: =+I28 -> 20136
F28: ԴՐԱՄԱՇՆՈՐՀՆԵՐ | G28: =G29 -> 9112 | H28: =H29 -> 14621 | I28: =I29 -> 20136
F29: Ընթացիկ դրամաշնորհներ պետական հատվածի այլ մակարդակներին | G29: =G30 -> 9112 | H29: =H30 -> 14621 | I29: =I30 -> 20136
F30: - Այլ ընթացիկ դրամաշնորհներ | G30: ='Havelvats 1'!D19 -> 9112 | H30: ='Havelvats 1'!E19 -> 14621 | I30: ='Havelvats 1'!F19 -> 20136
A31: 08 | F31: ՀԱՆԳԻՍՏ, ՄՇԱԿՈՒՅԹ ԵՎ ԿՐՈՆ | G31: =+G33 -> -9112 | H31: =+H33 -> -14621 | I31: =+I33 -> -20136
F32: այդ թվում`
B33: 02 | F33: Մշակութային ծառայություններ | G33: =+G35 -> -9112 | H33: =+H35 -> -14621 | I33: =+I35 -> -20136
F34: այդ թվում`
C35: 05 | F35: Արվեստ | G35: =+G39 -> -9112 | H35: =+H39 -> -14621 | I35: =+I39 -> -20136
F36: այդ թվում`
F37: ՀՀ կրթության, գիտության, մշակույթի և սպորտի նախարարություն
F38: այդ թվում`
D39: 1168 | F39: Արվեստների ծրագիր | G39: =G41 -> -9112 | H39: =H41 -> -14621 | I39: =I41 -> -20136
F40: այդ թվում`
E41: 11005 | F41: Մշակութային միջոցառումների իրականացում | G41: =+G43 -> -9112 | H41: =+H43 -> -14621 | I41: =+I43 -> -20136
F42: այդ թվում` ըստ կատարողների
F43: ՀՀ կրթության, գիտության, մշակույթի և սպորտի նախարարություն | G43: =+G45 -> -9112 | H43: =+H45 -> -14621 | I43: =+I45 -> -20136
F44: այդ թվում` բյուջետային ծախսերի տնտեսագիտական դասակարգման հոդվածներ
F45: ԸՆԴԱՄԵՆԸ ԾԱԽՍԵՐ | G45: =+G46 -> -9112 | H45: =+H46 -> -14621 | I45: =+I46 -> -20136
F46: ԸՆԹԱՑԻԿ ԾԱԽՍԵՐ | G46: =G47 -> -9112 | H46: =H47 -> -14621 | I46: =I47 -> -20136
F47: ԴՐԱՄԱՇՆՈՐՀՆԵՐ | G47: =G48 -> -9112 | H47: =H48 -> -14621 | I47: =I48 -> -20136
F48: Ընթացիկ դրամաշնորհներ պետական հատվածի այլ մակարդակներին | G48: =G49 -> -9112 | H48: =H49 -> -14621 | I48: =I49 -> -20136
F49: - Ընթացիկ դրամաշնորհներ պետական և համայնքների ոչ առևտրային կազմակերպություններին | G49: ='Havelvats 1'!D31 -> -9112 | H49: ='Havelvats 1'!E31 -> -14621 | I49: ='Havelvats 1'!F31 -> -20136

Sheet Havelvac 3
F1: Հավելված N 3
F2: ՀՀ կառավարության 2023 թվականի
F3: ______________ ի ___Ն որոշման
A6: ՀԱՅԱՍՏԱՆԻ ՀԱՆՐԱՊԵՏՈՒԹՅԱՆ ԿԱՌԱՎԱՐՈՒԹՅԱՆ 2022 ԹՎԱԿԱՆԻ ԴԵԿՏԵՄԲԵՐԻ 29-Ի N 2111-Ն ՈՐՈՇՄԱՆ N 5 ՀԱՎԵԼՎԱԾԻ N 7 ԱՂՅՈՒՍԱԿՈՒՄ ԿԱՏԱՐՎՈՂ ՓՈՓՈԽՈՒԹՅՈՒՆԸ
G7: հազ. դրամներով
A8: Ծրագրային դասիչը | C8: Բյուջետային հատկացումների գլխավոր կարգադրիչների, ծրագրերի, միջոցառումների և միջոցառումները կատարող պետական մարմինների անվանումները | F8: Միջոցառումները կատարող պետական մարմինների և դրամաշնորհ ստացող տնտեսվարող սուբյեկտների անվանումները | G8: Ցուցանիշների փոփոխությունը (նվազեցումները նշված են փակագծերում)
A9: Ծրագիր | B9: Միջոցառում | G9: Տարի
A10: ՀՀ կրթության, գիտության, մշակույթի և սպորտի նախարարություն | G10: =+G11 -> -20136
A11: 1168 | B11: Արվեստների ծրագիր | G11: =+G12 -> -20136
B12: 11005 | C12: Մշակութային միջոցառումների իրականացում | F12: ՀՀ կրթության, գիտության, մշակույթի և սպորտի նախարարություն | G12: =G13 -> -20136
D13: այդ թվում՝ ըստ ուղղությունների և միջոցառումների անվանումների | G13: =G14 -> -20136
E14: Միջազգային մշակութային համագործակցության իրականացում, սփյուռքի հետ համագործակցություն, հայ մշակույթի պահպանում, այդ թվում՝ | G14: =G15 -> -20136
E15: Միջազգային մշակութային համագործակցության իրականացում, սփյուռքի հետ համագործակցություն, հայ մշակույթի պահպանում | F15: «Հայաստանի ազգային գրադարան», «Խնկո-Ապոր անվան ազգային մանկական գրադարան»,«Վ.Պետրոսյանի անվան Արագածոտնի մարզային գրադարան», «Օ.Չուբարյանի անվան Արարատի մարզային գրադարան», «Արմավիրի մարզային գրադարան», «Վ.Պետրոսյանի անվան Գեղարքունիքի մարզային գրադարան», «Կոտայքի մարզային գրադարան», «Շիրակի մարզային գրադարան», «Սյունիքի մարզային գրադարան», «Տավուշի մարզային գրադարան», «Լոռու մարզային գրադարան», «Վայոց Ձորի մարզային գրադարան», «Հայաստանի ազգային պատկերասրահ», «Հայաստանի պատմության թանգարան», «Ե.Չարենցի անվան գրականության և արվեստի թանգարան», «Հովհաննես Շարամբեյանի անվան ժողովրդական ստեղծագործության կենտրոն», «Ռուսական արվեստի թանգարան /պրոֆ. Ա. Աբրահամյանի հավաքածու/», «Մ.Սարյանի տուն-թանգարան», «Հ.Թումանյանի թանգարան», «Ե.Չարենցի տուն-թանգարան», «Ա.Սպենդիարյանի տուն-թանգարան», «Ա.Իսահակյանի տուն-թանգարան», «Ա.Խաչատրյանի տուն-թանգարան», «Հայ և ռուս ժողովրդների բարեկամության թանգարան», «Երվանդ Քոչարի թանգարան», «Ս.Փարաջանովի թանգարան», «Հրազդանի երկրագիտական թանգարան», «Օրբելի եղբայրների տուն-թանգարան», «Ն.Ադոնցի անվան Սիսիանի պատմության թանգարան», «Պատմամշակութային արգելոց-թանգարանների և պատմական միջավայրի պահպանության ծառայություն», «Կոմիտասի թանգարան-ինստիտուտ», «Խ. Աբովյանի տուն-թանգարան», «Սարդարապատի հերոսամարտի հուշահամալիր, Հայոց ազգագրության և ազատագրական պայքարի պատմության ազգային թանգարան», «Ստեփանավանի մշակույթի և ժամանցի կենտրոն», «Մշակութային արժեքների փորձագիտական կենտրոն», «Ա.Սպենդիարյանի անվան օպերայի և բալետի ազգային ակադեմիական թատրոն», «Գ.Սունդուկյանի անվան ազգային ակադեմիական թատրոն», «Հ.Պարոնյանի անվան երաժշտական կոմեդիայի պետական թատրոն», «Կ.Ստանիսլավսկու անվան պետական ռուսական դրամատիկական թատրոն», «Գյումրու Վ.Աճեմյանի անվան պետական դրամատիկական թատրոն», «Վանաձորի Հ.Աբելյանի անվան պետական դրամատիկական թատրոն», «Երևանի Հ.Թումանյանի անվան պետական տիկնիկային թատրոն», «Երևանի խամաճիկների պետական թատրոն», «Երևանի կամերային պետական թատրոն», «Արմեն Մազմանյանի անվան բեմարվեստի ազգային փորձարարական «Գոյ» կենտրոն», «Երևանի մնջախաղի պետական թատրոն», «Խորեոգրաֆիայի պետական թատրոն», «Արտաշատի Ա.Խարազյանի անվան պետական դրամատիկական թատրոն», «Սոս Սարգսյանի անվան համազգային թատրոն», «Գորիսի Վ.Վաղարշյանի անվ.պետական դրամատիկական թատրոն», «Հայաստանի ազգային ֆիլհարմոնիկ նվագախումբ», «Հայաստանի պետական սիմֆոնիկ նվագախումբ», «Կամերային երաժշտության ազգային կենտրոն», «Հայաստանի պետական ֆիլհարմոնիա», «Ժողովրդական երաժշտության և պարի ազգային կենտրոն», «Հայաստանի էստրադային ջազ նվագախումբ», «Հայաստանի երգի պետական թատրոն», «Հայաստանի պետական ազգային ակադեմիական երգչախումբ», «Հայաստանի ազգային կինոկենտրոն», «Պատմամշակութային ժառանգության գիտահետազոտական կենտրոն», «Երևանի Պ.Չայկովսկու անվան միջնակարգ երաժշտական մասնագիտական դպրոց», «Երևանի պարարվեստի պետական քոլեջ», «Երեխաների հատուկ ստեղծագործական կենտրոն» ՊՈԱԿ-ներ | G15: -20136

Sheet Havelvats 4
A1: Հավելված N 4
A2: ՀՀ կառավարության 2023 թվականի
A3: ______________ ի ___Ն որոշման
B5: ՀԱՅԱՍՏԱՆԻ ՀԱՆՐԱՊԵՏՈՒԹՅԱՆ ԿԱՌԱՎԱՐՈՒԹՅԱՆ 2022 ԹՎԱԿԱՆԻ ԴԵԿՏԵՄԲԵՐԻ 29-Ի N 2111-Ն ՈՐՈՇՄԱՆ N 9 ՀԱՎԵԼՎԱԾԻ N 9.13 ԱՂՅՈՒՍԱԿՈՒՄ ԿԱՏԱՐՎՈՂ ՓՈՓՈԽՈՒԹՅՈՒՆԸ ԵՎ ԼՐԱՑՈՒՄԸ
A7: Աղյուսակ 9․13
C8: ՀՀ կրթության, գիտության, մշակույթի և սպորտի նախարարություն
B9: ՄԱՍ 2. ՊԵՏԱԿԱՆ ՄԱՐՄՆԻ ԳԾՈՎ ԱՐԴՅՈՒՆՔԱՅԻՆ (ԿԱՏԱՐՈՂԱԿԱՆ) ՑՈՒՑԱՆԻՇՆԵՐԸ
B13: Ծրագրի դասիչը | C13: Ծրագրի անվանումը
B14: 1168 | C14: Արվեստների ծրագիր
B16: Ծրագրի միջոցառումները
B17: Ծրագրի դասիչը՝ | C17: 1168 | D17: Ցուցանիշների փոփոխությունը (նվազեցումները նշված են փակագծերում)
B18: Միջոցառման դասիչը՝ | C18: 11005 | D18: Առաջին կիսամյակ | E18: Ինն ամիս | F18: Տարի
B19: Միջոցառման անվանումը՝ | C19: Մշակութային միջոցառումների իրականացում
B20: Նկարագրությունը՝ | C20: Արվեստի հանրահռչակում, տարածում, մատչելիության ապահովում
B21: Միջոցառման տեսակը՝ | C21: Ծառայությունների մատուցում
B22: Ծառայությունը մատուցող կազմակերպությունների անվանումը | C22: ՀՀ կրթության, գիտության, մշակույթի և սպորտի նախարարություն, Մասնագիտացված կազմակերպություններ
B23: Արդյունքի չափորոշիչներ
B24: Միջոցառման վրա կատարվող ծախսը (հազար դրամ) | D24: ='Havelvats 1'!D31 -> -9112 | E24: ='Havelvats 1'!E31 -> -14621 | F24: ='Havelvats 1'!F31 -> -20136
B27: Ծրագրի դասիչը | C27: Ծրագրի անվանումը
B28: 1075 | C28: Մշակութային ժառանգության ծրագիր
B29: Ծրագրի միջոցառումները
B30: Ծրագրի դասիչը՝ | C30: 1075 | D30: Ցուցանիշների փոփոխությունը (ավելացումները նշված են դրական նշանով)
B31: Միջոցառման դասիչը՝ | C31: 11003 | D31: Առաջին կիսամյակ | E31: Ինն ամիս | F31: Տարի
B32: Միջոցառման անվանումը՝ | C32: Աջակցություն հայկական պատմամշակութային հուշարձանների վավերագրմանը
B33: Նկարագրությունը՝ | C33: Հուշարձանների լուսանկարում, չափագրում, վիմագրերի ընդօրինակում և վերծանում, քարտեզագրում, գրավոր աղբյուրների և արխիվային նյութերի ուսումնասիրություն, հուշարձանի վավերագրերի կազմում, վավերագրված հուշարձանների ցուցակների կազմում ըստ բնակավայրերի
B34: Միջոցառման տեսակը՝ | C34: Ծառայությունների մատուցում
B35: Միջոցառումն իրականացնողի անվանումը | C35: Մասնագիտացված կազմակերպություններ
C36: Արդյունքի չափորոշիչներ
B37: Գիտական տեքստերի թիվը, հատ | D37: =8*3 -> 24 | E37: =D37*2 -> 48 | F37: =D37*3 -> 72
B38: Հուշարձանի վկայականների թիվը, հատ | D38: 3 | E38: 6 | F38: 9
B39: Մշակութային կառույցների նկարագրությունների թիվը, հատ | D39: 3 | E39: 6 | F39: 9
B40: Միջոցառման վրա կատարվող ծախսը (հազար դրամ) | D40: ='Havelvats 1'!D19 -> 9112 | E40: ='Havelvats 1'!E19 -> 14621 | F40: ='Havelvats 1'!F19 -> 20136

Sheet Havelvats 5
A1: Հավելված N 5
A2: ՀՀ կառավարության 2023 թվականի
A3: ______________ ի ___Ն որոշման
B5: ՀՀԱՅԱՍՏԱՆԻ ՀԱՆՐԱՊԵՏՈՒԹՅԱՆ ԿԱՌԱՎԱՐՈՒԹՅԱՆ 2022 ԹՎԱԿԱՆԻ ԴԵԿՏԵՄԲԵՐԻ 29-Ի N 2111-Ն ՈՐՈՇՄԱՆ N 9․1 ՀԱՎԵԼՎԱԾԻ N 9.1․13 ԱՂՅՈՒՍԱԿՈՒՄ ԿԱՏԱՐՎՈՂ ՓՈՓՈԽՈՒԹՅՈՒՆԸ ԵՎ ԼՐԱՑՈՒՄԸ
A7: Աղյուսակ 9․1․13
C8: ՀՀ կրթության, գիտության, մշակույթի և սպորտի նախարարություն
B9: ՄԱՍ 2. ՊԵՏԱԿԱՆ ՄԱՐՄՆԻ ԳԾՈՎ ԱՐԴՅՈՒՆՔԱՅԻՆ (ԿԱՏԱՐՈՂԱԿԱՆ) ՑՈՒՑԱՆԻՇՆԵՐԸ
B13: Ծրագրի դասիչը | C13: Ծրագրի անվանումը
B14: 1168 | C14: Արվեստների ծրագիր
B16: Ծրագրի միջոցառումները
B17: Ծրագրի դասիչը՝ | C17: 1168 | D17: Ցուցանիշների փոփոխությունը (նվազեցումները նշված են փակագծերում)
B18: Միջոցառման դասիչը՝ | C18: 11005 | D18: Առաջին կիսամյակ | E18: Ինն ամիս | F18: Տարի
B19: Միջոցառման անվանումը՝ | C19: Մշակութային միջոցառումների իրականացում
B20: Նկարագրությունը՝ | C20: Արվեստի հանրահռչակում, տարածում, մատչելիության ապահովում
B21: Միջոցառման տեսակը՝ | C21: Ծառայությունների մատուցում
B22: Ծառայությունը մատուցող կազմակերպությունների անվանումը | C22: ՀՀ կրթության, գիտության, մշակույթի և սպորտի նախարարություն, Մասնագիտացված կազմակերպություններ
B23: Արդյունքի չափորոշիչներ
B24: Միջոցառման վրա կատարվող ծախսը (հազար դրամ) | D24: ='Havelvats 1'!D31 -> -9112 | E24: ='Havelvats 1'!E31 -> -14621 | F24: ='Havelvats 1'!F31 -> -20136
B27: Ծրագրի դասիչը | C27: Ծրագրի անվանումը
B28: 1075 | C28: Մշակութային ժառանգության ծրագիր
B29: Ծրագրի միջոցառումները
B30: Ծրագրի դասիչը՝ | C30: 1075 | D30: Ցուցանիշների փոփոխությունը (ավելացումները նշված են դրական նշանով)
B31: Միջոցառման դասիչը՝ | C31: 11003 | D31: Առաջին կիսամյակ | E31: Ինն ամիս | F31: Տարի
B32: Միջոցառման անվանումը՝ | C32: Աջակցություն հայկական պատմամշակութային հուշարձանների վավերագրմանը
B33: Նկարագրությունը՝ | C33: Հուշարձանների լուսանկարում, չափագրում, վիմագրերի ընդօրինակում և վերծանում, քարտեզագրում, գրավոր աղբյուրների և արխիվային նյութերի ուսումնասիրություն, հուշարձանի վավերագրերի կազմում, վավերագրված հուշարձանների ցուցակների կազմում ըստ բնակավայրերի
B34: Միջոցառման տեսակը՝ | C34: Ծառայությունների մատուցում
B35: Միջոցառումն իրականացնողի անվանումը | C35: Մասնագիտացված կազմակերպություններ
C36: Արդյունքի չափորոշիչներ
B37: Գիտական տեքստերի թիվը, հատ | D37: =8*3 -> 24 | E37: =D37*2 -> 48 | F37: =D37*3 -> 72
B38: Հուշարձանի վկայականների թիվը, հատ | D38: 3 | E38: 6 | F38: 9
B39: Մշակութային կառույցների նկարագրությունների թիվը, հատ | D39: 3 | E39: 6 | F39: 9
B40: Միջոցառման վրա կատարվող ծախսը (հազար դրամ) | D40: ='Havelvats 1'!D19 -> 9112 | E40: ='Havelvats 1'!E19 -> 14621 | F40: ='Havelvats 1'!F19 -> 20136
