Workbook
Name a: #REF!
Name a: #REF!
Name a: #REF!
Name a: #REF!
Name a: #REF!
Name AgencyCode: #REF!
Name AgencyCode: #REF!
Name AgencyCode: #REF!
Name AgencyCode: #REF!
Name AgencyCode: #REF!
Name AgencyName: #REF!
Name AgencyName: #REF!
Name AgencyName: #REF!
Name AgencyName: #REF!
Name AgencyName: #REF!
Name davit: #REF!
Name davit: #REF!
Name davit: #REF!
Name davit: #REF!
Name Functional1: #REF!
Name Functional1: #REF!
Name Functional1: #REF!
Name Functional1: #REF!
Name Functional1: #REF!
Name ggg: #REF!
Name ggg: #REF!
Name ggg: #REF!
Name ggg: #REF!
Name PANature: #REF!
Name PANature: #REF!
Name PANature: #REF!
Name PANature: #REF!
Name PANature: #REF!
Name PAType: #REF!
Name PAType: #REF!
Name PAType: #REF!
Name PAType: #REF!
Name PAType: #REF!
Name Performance2: #REF!
Name Performance2: #REF!
Name Performance2: #REF!
Name Performance2: #REF!
Name Performance2: #REF!
Name PerformanceType: #REF!
Name PerformanceType: #REF!
Name PerformanceType: #REF!
Name PerformanceType: #REF!
Name PerformanceType: #REF!
Name Հավելված: #REF!
Name Հավելված: #REF!
Name Հավելված: #REF!
Name Հավելված: #REF!
Name Հավելված: #REF!
Name Մաս: #REF!
Name Մաս: #REF!
Name Մաս: #REF!
Name Մաս: #REF!
Name շախմատիստ: #REF!
Name շախմատիստ: #REF!
Name շախմատիստ: #REF!

Sheet Հավելված N 1
A1: Հավելված N 1
A2: ՀՀ կառավարության 2023 թվականի
A3: ______________ ի ___Ն որոշման
A7: «ՀԱՅԱՍՏԱՆԻ ՀԱՆՐԱՊԵՏՈՒԹՅԱՆ 2023 ԹՎԱԿԱՆԻ ՊԵՏԱԿԱՆ ԲՅՈՒՋԵԻ ՄԱՍԻՆ» ՀԱՅԱՍՏԱՆԻ ՀԱՆՐԱՊԵՏՈՒԹՅԱՆ ՕՐԵՆՔԻ 2-ՐԴ ՀՈԴՎԱԾԻ ԱՂՅՈՒՍԱԿՈՒՄ ԿԱՏԱՐՎՈՂ ԼՐԱՑՈՒՄԸ
B9: հազար դրամներով
B10: Ցուցանիշների փոփոխությունը (ավելացումները նշված են դրական նշանով)
A11: Եկամուտների գծով | B11: 0
A12: Ծախսերի գծով | B12: =+'Հավելված N 3'!F12 -> 16145.4
A13: Դեֆիցիտը (պակասուրդը) | B13: =+B12-B11 -> 16145.4

Sheet Հավելված N 2
D1: Հավելված N 2
D2: ՀՀ կառավարության 2023 թվականի
D3: ______________ ի ___Ն որոշման
A5: «ՀԱՅԱՍՏԱՆԻ ՀԱՆՐԱՊԵՏՈՒԹՅԱՆ 2023 ԹՎԱԿԱՆԻ ՊԵՏԱԿԱՆ ԲՅՈՒՋԵԻ ՄԱՍԻՆ» ՕՐԵՆՔԻ 3-ՐԴ ՀՈԴՎԱԾԻ, N 3 ՀԱՎԵԼՎԱԾԻ N 1 ԱՂՅՈՒՍԱԿՈՒՄ ԵՎ ՀԱՅԱՍՏԱՆԻ ՀԱՆՐԱՊԵՏՈՒԹՅԱՆ ԿԱՌԱՎԱՐՈՒԹՅԱՆ 2022 ԹՎԱԿԱՆԻ ԴԵԿՏԵՄԲԵՐԻ 29-Ի N 2111-Ն ՈՐՈՇՄԱՆ N 1 ՀԱՎԵԼՎԱԾԻ N 1 ԱՂՅՈՒՍԱԿՈՒՄ ԿԱՏԱՐՎՈՂ ԼՐԱՑՈՒՄԸ
D7: հազ. դրամ
A8: Պետական բյուջեի դեֆիցիտի ֆինանսավորման աղբյուրներն ու դրանց տարրերի անվանումները | B8: Ցուցանիշների փոփոխությունը (ավելացումները նշված են դրական նշանով)
B9: Առաջին կիսամյակ | C9: Ինն ամիս | D9: Տարի
A10: ԸՆԴԱՄԵՆԸ | B10: =+B12 -> 16145.4 | C10: =+C12 -> 16145.4 | D10: =+D12 -> 16145.4
A11: այդ թվում՝
A12: Բ.Արտաքին աղբյուրներ - ընդամենը | B12: =+B14 -> 16145.4 | C12: =+C14 -> 16145.4 | D12: =+D14 -> 16145.4
A13: այդ թվում
A14: 2. Ֆինանսական զուտ ակտիվներ | B14: =+B16 -> 16145.4 | C14: =+C16 -> 16145.4 | D14: =+D16 -> 16145.4
A15: այդ թվում՝
A16: 2.4. Այլ | B16: =+B18 -> 16145.4 | C16: =+C18 -> 16145.4 | D16: =+D18 -> 16145.4
A17: որից՝
A18: Ելքերի ֆինանսավորմանն ուղղվող ՀՀ 2023 թ. պետական բյուջեի տարեսկզբի ազատ մնացորդի միջոցներ | B18: =+'Հավելված N 3'!D112 -> 16145.4 | C18: =+'Հավելված N 3'!E112 -> 16145.4 | D18: =+'Հավելված N 3'!F112 -> 16145.4

Sheet Հավելված N 3
C1: Հավելված N 3
C2: ՀՀ կառավարության 2023 թվականի
C3: ______________ ի ___Ն որոշման
A6: «ՀԱՅԱUՏԱՆԻ ՀԱՆՐԱՊԵՏՈՒԹՅԱՆ 2023 ԹՎԱԿԱՆԻ ՊԵՏԱԿԱՆ ԲՅՈՒՋԵԻ ՄԱUԻՆ» ՀԱՅԱUՏԱՆԻ ՀԱՆՐԱՊԵՏՈՒԹՅԱՆ OՐԵՆՔԻ N 1 ՀԱՎԵԼՎԱԾԻ N 2 ԱՂՅՈՒՍԱԿՈՒՄ ԿԱՏԱՐՎՈՂ ՎԵՐԱԲԱՇԽՈՒՄԸ ԵՎ ՀԱՅԱՍՏԱՆԻ ՀԱՆՐԱՊԵՏՈՒԹՅԱՆ ԿԱՌԱՎԱՐՈՒԹՅԱՆ 2022 ԹՎԱԿԱՆԻ ԴԵԿՏԵՄԲԵՐԻ 29-Ի N 2111-Ն ՈՐՈՇՄԱՆ N 5 ՀԱՎԵԼՎԱԾԻ N 1 ԱՂՅՈՒՍԱԿՈՒՄ ԿԱՏԱՐՎՈՂ ՓՈՓՈԽՈՒԹՅՈՒՆՆԵՐԸ ԵՎ ԼՐԱՑՈՒՄՆԵՐԸ
F9: հազ. դրամներով
A10: Ծրագրային դասիչը | C10: Բյուջետային հատկացումների գլխավոր կարգադրիչների, ծրագրերի և միջոցառումների անվանումները | D10: Ցուցանիշների փոփոխությունը (ավելացումները նշված են դրական նշանով, իսկ նվազեցումները՝ փակագծերում)
A11: Ծրագիր | B11: Միջոցառում | D11: Ինն ամիս | E11: Ինն ամիս | F11: Տարի
A12: 1192 | C12: ԸՆԴԱՄԵՆԸ | D12: =+D14+D118 -> 16145.4 | E12: =+E14+E118 -> 16145.4 | F12: =+F14+F118 -> 16145.4
C13: այդ թվում
C14: ՀՀ ԿՐԹՈՒԹՅԱՆ, ԳԻՏՈՒԹՅԱՆ, ՄՇԱԿՈՒՅԹԻ ԵՎ ՍՊՈՐՏԻ ՆԱԽԱՐԱՐՈՒԹՅՈՒՆ | D14: =+D16+D29+D42+D55+D68+D105 -> 16145.4 | E14: =+E16+E29+E42+E55+E68+E105 -> 16145.4 | F14: =+F16+F29+F42+F55+F68+F105 -> 16145.4
A15: 1045 | C15: Ծրագրի անվանումը`
C16: Նախնական (արհեստագործական) և միջին մասնագիտական կրթություն | D16: =+D23 -> 438.9 | E16: =+E23 -> -30735.8 | F16: =+F23 -> -30735.8
C17: Ծրագրի նպատակը`
C18: Աշխատաշուկայի արդի պահանջներին համապատասխան նախնական մասնագիտական (արհեստագործական) և միջին մասնագիտական կրթության որակավորում ունեցող մասնագետների պատրաստում, կրթության մատչելիության ապահովում:
C19: Վերջնական արդյունքի նկարագրությունը`
C20: Նախնական (արհեստագործական) և միջին մասնագիտական կրթության գրավչության բարձրացում, մատչելի և մրցունակ նախնական (արհեստագործական) և միջին մասնագիտական կրթության ապահովում
C21: Ծրագրի միջոցառումներ
B22: 32001 | C22: Միջոցառման անվանումը`
C23: Նախնական մասնագիտական (արհեստագործական) և միջին մասնագիտական ուսումնական հաստատությունների շենքային պայմանների բարելավում | D23: =+'Հավելված N 4'!G40 -> 438.9 | E23: =+'Հավելված N 4'!H40 -> -30735.8 | F23: =+'Հավելված N 4'!I40 -> -30735.8
C24: Միջոցառման նկարագրությունը`
C25: ՆՄՄԿՈՒ հաստատությունների շենքերի հիմնանորոգման և նախագծման (շինարարական աշխատանքներ, ջեռուցման համակարգի ստեղծում, ներքին հարդարում, տարածքի բարեկարգում) աշխատանքների իրականացում
C26: Միջոցառման տեսակը
C27: Այլ պետական կազմակերպությունների կողմից օգտագործվող ոչ ֆինանսական ակտիվների հետ գործառնություններ
A28: 1130 | C28: Ծրագրի անվանումը`
C29: Կրթության, գիտության, մշակույթի և սպորտի բնագավառի պետական քաղաքականության մշակում, ծրագրերի համակարգում և մոնիտորինգ | D29: =+D36 -> 1428.7 | E29: =+E36 -> 1428.7 | F29: =+F36 -> 1428.7
C30: Ծրագրի նպատակը`
C31: Ապահովել համընդհանուր, հավասարապես հասանելի, ներառական և որակյալ կրթություն՛ բավարարելով տնտեսության ու հասարակության պահանջները, լիարժեք ծառայելով ազգային շահերին
C32: Վերջնական արդյունքի նկարագրությունը`
C33: Կրթության, գիտության, մշակույթի և սպորտի բնագավառում իրականացվող ծրագրերի ազդեցության և արդյունավետության բարելավում
C34: Ծրագրի միջոցառումներ
B35: 32001 | C35: Միջոցառման անվանումը`
C36: ՀՀ կրթության, գիտության, մշակույթի և սպորտի բնագավառում օժանդակ ծրագրեր իրականացնող կազմակերպությունների շենքային պայմանների և գույքային հագեցվածության բարելավում | D36: =+'Հավելված N 4'!G142 -> 1428.7 | E36: =+'Հավելված N 4'!H142 -> 1428.7 | F36: =+'Հավելված N 4'!I142 -> 1428.7
C37: Միջոցառման նկարագրությունը`
C38: ՀՀ կրթության, գիտության, մշակույթի և սպորտի բնագավառում օժանդակ ծրագրեր իրականացնող կազմակերպությունների աշխատանքային պայմանների բարելավում
C39: Միջոցառման տեսակը
C40: Այլ պետական կազմակերպությունների կողմից օգտագործվող ոչ ֆինանսական ակտիվների հետ գործառնություններ
A41: 1148 | C41: Ծրագրի անվանումը`
C42: Արտադպրոցական դաստիարակության ծրագիր | D42: =+D49 -> -31174.7 | E42: =+E49 -> 0 | F42: =+F49 -> 0
C43: Ծրագրի նպատակը`
C44: Նպաստել հանրակրթական ուսուցման համակարգում ընդգրկված երեխաների ֆիզիկական, հոգևոր և գեղագիտական զարգացմանը, բնապահպանական և կիրառական գիտելիքների ձեռքբերմանը
...

Sheet Հավելված N 4
F1: Հավելված N 4
F2: ՀՀ կառավարության 2023 թվականի
F3: ______________ ի ___Ն որոշման
A5: ՀԱՅԱՍՏԱՆԻ ՀԱՆՐԱՊԵՏՈՒԹՅԱՆ ԿԱՌԱՎԱՐՈՒԹՅԱՆ 2022 ԹՎԱԿԱՆԻ ԴԵԿՏԵՄԲԵՐԻ 29-Ի N2111-Ն ՈՐՈՇՄԱՆ N 3 ԵՎ N 4 ՀԱՎԵԼՎԱԾՆԵՐՈՒՄ ԿԱՏԱՐՎՈՂ ՓՈՓՈԽՈՒԹՅՈՒՆՆԵՐԸ ԵՎ ԼՐԱՑՈՒՄՆԵՐԸ
I7: հազ. դրամներով
A8: Գործառական դասիչը | D8: Ծրագրային դասիչը | F8: Բյուջետային հատկացումների գլխավոր կարգադրիչների, ծրագրերի, միջոցառումների և միջոցառումները կատարող պետական մարմինների անվանումները | G8: Ցուցանիշների փոփոխությունը (ավելացումները նշված են դրական նշանով, իսկ նվազեցումները՝ փակագծերում)
A9: Բաժին | B9: Խումբ | C9: Դաս | D9: Ծրագիր | E9: Միջոցառում | G9: Առաջին կիսամյակ | H9: Ինն ամիս | I9: Տարի
F10: ԸՆԴԱՄԵՆԸ | G10: =+G12+G152 -> 16145.4 | H10: =+H12+H152 -> 16145.4 | I10: =+I12+I152 -> 16145.4
F11: այդ թվում
F12: ՀՀ ԿՐԹՈՒԹՅԱՆ, ԳԻՏՈՒԹՅԱՆ, ՄՇԱԿՈՒՅԹԻ ԵՎ ՍՊՈՐՏԻ ՆԱԽԱՐԱՐՈՒԹՅՈՒՆ | G12: =+G13 -> 16145.4 | H12: =+H13 -> 16145.4 | I12: =+I13 -> 16145.4
A13: 09 | F13: ԿՐԹՈՒԹՅՈՒՆ | G13: =+G15+G32+G134 -> 16145.4 | H13: =+H15+H32+H134 -> 16145.4 | I13: =+I15+I32+I134 -> 16145.4
F14: այդ թվում`
B15: 05 | F15: Ըստ մակարդակների չդասակարգվող կրթություն | G15: =+G17 -> -31174.7 | H15: =+H17 -> 0 | I15: =+I17 -> 0
F16: այդ թվում`
C17: 01 | F17: Արտադպրոցական դաստիարակություն | G17: =+G19 -> -31174.7 | H17: =+H19 -> 0 | I17: =+I19 -> 0
F18: այդ թվում`
F19: ՀՀ կրթության, գիտության, մշակույթի և սպորտի նախարարություն | G19: =+G21 -> -31174.7 | H19: =+H21 -> 0 | I19: =+I21 -> 0
F20: այդ թվում՝
D21: 1148 | E21: Արտադպրոցական դաստիարակության ծրագիր | G21: =+G23 -> -31174.7 | H21: =+H23 -> 0 | I21: =+I23 -> 0
F22: այդ թվում`
E23: 11016 | F23: ՀՀ հանրակրթական ծրագրեր իրականացնող ուսումնական հաստատությունների 11-րդ դասարանների աշակերտների ռազմամարզական ճամբարի կազմակերպում | G23: =+G25 -> -31174.7 | H23: =+H25 -> 0 | I23: =+I25 -> 0
F24: այդ թվում` ըստ կատարողների
F25: ՀՀ կրթության, գիտության, մշակույթի և սպորտի նախարարություն | G25: =G27 -> -31174.7 | H25: =H27 -> 0 | I25: =I27 -> 0
F26: այդ թվում՝ բյուջետային ծախսերի տնտեսագիտական դասակարգման հոդվածներ
F27: ԸՆԴԱՄԵՆԸ ԾԱԽՍԵՐ | G27: =+G28 -> -31174.7 | H27: =+H28 -> 0 | I27: =+I28 -> 0
F28: ԸՆԹԱՑԻԿ ԾԱԽՍԵՐ | G28: =G29 -> -31174.7 | H28: =H29 -> 0 | I28: =I29 -> 0
F29: ԴՐԱՄԱՇՆՈՐՀՆԵՐ | G29: =+G30 -> -31174.7 | H29: =+H30 -> 0 | I29: =+I30 -> 0
F30: Ընթացիկ դրամաշնորհներ պետական հատվածի այլ մակարդակներին | G30: =+G31 -> -31174.7 | H30: =+H31 -> 0 | I30: =+I31 -> 0
F31: - Ընթացիկ դրամաշնորհներ պետական և համայնքների ոչ առևտրային կազմակերպություններին | G31: =-'Հավելված N 6'!E12 -> -31174.7 | H31: 0 | I31: 0
B32: 06 | F32: Կրթությանը տրամադրվող օժանդակ ծառայություններ | G32: =+G34 -> 45891.4 | H32: =+H34 -> 14716.7 | I32: =+I34 -> 14716.7
F33: այդ թվում`
C34: 01 | F34: Կրթությանը տրամադրվող օժանդակ ծառայություններ | G34: =+G36 -> 45891.4 | H34: =+H36 -> 14716.7 | I34: =+I36 -> 14716.7
F35: այդ թվում`
F36: ՀՀ կրթության, գիտության, մշակույթի և սպորտի նախարարություն | G36: =+G38+G56+G67+G121 -> 45891.4 | H36: =+H38+H56+H67+H121 -> 14716.7 | I36: =+I38+I56+I67+I121 -> 14716.7
F37: այդ թվում՝
D38: 1045 | E38: Նախնական (արհեստագործական) և միջին մասնագիտական կրթություն | G38: =+G40 -> 438.9 | H38: =+H40 -> -30735.8 | I38: =+I40 -> -30735.8
F39: այդ թվում`
E40: 32001 | F40: Նախնական մասնագիտական (արհեստագործական) և միջին մասնագիտական ուսումնական հաստատությունների շենքային պայմանների բարելավում | G40: =+G42+G49 -> 438.9 | H40: =+H42+H49 -> -30735.8 | I40: =+I42+I49 -> -30735.8
F41: այդ թվում` ըստ կատարողների
F42: ՀՀ կրթության, գիտության, մշակույթի և սպորտի նախարարություն | G42: =G44 -> -57352.1 | H42: =H44 -> -88526.8 | I42: =I44 -> -88526.8
...

Sheet Հավելված N 5
F1: Հավելված N 5
F2: ՀՀ կառավարության 2023 թվականի
F3: ______________ ի ___Ն որոշման
A5: «ՀԱՅԱUՏԱՆԻ ՀԱՆՐԱՊԵՏՈՒԹՅԱՆ 2022 ԹՎԱԿԱՆԻ ՊԵՏԱԿԱՆ ԲՅՈՒՋԵԻ ՄԱUԻՆ» ՀԱՅԱUՏԱՆԻ ՀԱՆՐԱՊԵՏՈՒԹՅԱՆ OՐԵՆՔԻ N 1 ՀԱՎԵԼՎԱԾԻ N 3 ԱՂՅՈՒՍԱԿՈՒՄ ԿԱՏԱՐՎՈՂ ՓՈՓՈԽՈՒԹՅՈՒՆՆԵՐԸ ԵՎ ԼՐԱՑՈՒՄՆԵՐԸ
H8: հազ. դրամներով
A9: Ծրագրային դասիչ | C9: Բյուջետային գլխավոր կարգադրիչների, ծրագրերի, միջոցառումների և ուղղությունների անվանումները | D9: Ընդամենը | E9: Ցուցանիշների փոփոխությունը (ավելացումները նշված են դրական նշանով, իսկ նվազեցումները՝ փակագծերում)
A10: Ծրագիր | B10: Միջոցառում | E10: Կառուցման աշխատանքներ | F10: Վերակառուցման, վերանորոգման և վերականգնման աշխատանքներ | G10: Նախագծահե- տազոտական, գեոդեզիա- քարտեզագրա- կան աշխա- տանքներ | H10: Ոչ ֆինանսական այլ ակտիվների ձեռքբերում
C11: ԸՆԴԱՄԵՆԸ | D11: =SUM(E11:H11) -> 0 | E11: =+E13 -> 7759.5 | F11: =+F13 -> -24477.8 | G11: =+G13 -> 6750 | H11: =+H13 -> 9968.3
C12: այդ թվում՝
C13: ՀՀ ԿՐԹՈՒԹՅԱՆ, ԳԻՏՈՒԹՅԱՆ, ՄՇԱԿՈՒՅԹԻ ԵՎ ՍՊՈՐՏԻ ՆԱԽԱՐԱՐՈՒԹՅՈՒՆ | D13: =SUM(E13:H13) -> 0 | E13: =+E15+E21+E29+E33+E37+E46+E52+E94 -> 7759.5 | F13: =+F15+F21+F29+F33+F37+F46+F52+F94 -> -24477.8 | G13: =+G15+G21+G29+G33+G37+G46+G52+G94 -> 6750 | H13: =+H15+H21+H29+H33+H37+H46+H52+H94 -> 9968.3
C14: այդ թվում`
A15: 1045 | B15: 32001 | C15: Նախնական մասնագիտական (արհեստագործական) և միջին մասնագիտական ուսումնական հաստատությունների շենքային պայմանների բարելավում | D15: =+E15+F15+G15+H15 -> -30735.8 | E15: =+E17+E19 -> 0 | F15: =+F17+F19 -> -30735.8 | G15: =+G17+G19 -> 0 | H15: =+H17+H19 -> 0
C16: այդ թվում`
C17: Երևան քաղաք | D17: =SUM(E17:H17) -> -88526.8 | E17: =+E18 -> 0 | F17: =+F18 -> -88526.8 | G17: =+G18 -> 0 | H17: =+H18 -> 0
C18: «Երևանի հ․8 արհեստագործական պետական ուսումնարան» ՊՈԱԿ | D18: =+E18+F18+G18+H18 -> -88526.8 | F18: =+'Հավելված N 10'!I15 -> -88526.8
C19: ՀՀ Լոռու մարզ | D19: =SUM(E19:H19) -> 57791 | E19: =+E20 -> 0 | F19: =+F20 -> 57791 | G19: =+G20 -> 0 | H19: =+H20 -> 0
C20: ք. Վանաձորի գյուղատնտեսական պետական քոլեջ ՊՈԱԿ | D20: =+E20+F20+G20+H20 -> 57791 | F20: =+'Հավելված N 10'!I61+18228 -> 57791
A21: 1130 | B21: 32001 | C21: ՀՀ կրթության, գիտության, մշակույթի և սպորտի բնագավառում օժանդակ ծրագրեր իրականացնող կազմակերպությունների շենքային պայմանների և գույքային հագեցվածության բարելավում | D21: =+E21+F21+G21+H21 -> 1428.7 | E21: =+E23+E25+E27 -> 0 | F21: =+F23+F25+F27 -> 0 | G21: =+G23+G25+G27 -> 0 | H21: =+H23+H25+H27 -> 1428.7
C22: այդ թվում`
C23: ՀՀ Լոռու մարզ | D23: =SUM(E23:H23) -> 476.2 | E23: =+E24 -> 0 | F23: =+F24 -> 0 | G23: =+G24 -> 0 | H23: =+H24 -> 476.2
C24: «Վանաձորի տարածքային մանկավարժահոգեբանական աջակցության կենտրոն» ՊՈԱԿ | D24: =+E24+F24+G24+H24 -> 476.2 | H24: 476.2
C25: ՀՀ Շիրակի մարզ | D25: =SUM(E25:H25) -> 476.2 | E25: =+E26 -> 0 | F25: =+F26 -> 0 | G25: =+G26 -> 0 | H25: =+H26 -> 476.2
C26: «Արթիկի տարածքային մանկավարժահոգեբանական աջակցության կենտրոն» ՊՈԱԿ | D26: =+E26+F26+G26+H26 -> 476.2 | H26: 476.2
C27: ՀՀ Սյունիքի մարզ | D27: =SUM(E27:H27) -> 476.3 | E27: =+E28 -> 0 | F27: =+F28 -> 0 | G27: =+G28 -> 0 | H27: =+H28 -> 476.3
C28: «Գորիսի տարածքային մանկավարժահոգեբանական աջակցության կենտրոն» ՊՈԱԿ | D28: =+E28+F28+G28+H28 -> 476.3 | H28: 476.3
A29: 1163 | B29: 32002 | C29: Մարզական օբյեկտների հիմնանորոգում | D29: =+E29+F29+G29+H29 -> 5315.9 | E29: =+E31 -> 0 | F29: =+F31 -> 5315.9 | G29: =+G31 -> 0 | H29: =+H31 -> 0
C30: այդ թվում`
C31: Երևան քաղաք | D31: =SUM(E31:H31) -> 5315.9 | E31: =SUM(E32:E32) -> 0 | F31: =SUM(F32:F32) -> 5315.9 | G31: =SUM(G32:G32) -> 0 | H31: =SUM(H32:H32) -> 0
C32: «Երևանի օլիմպիական հերթափոխի պետական մարզական քոլեջ» ՊՈԱԿ | D32: =+E32+F32+G32+H32 -> 5315.9 | F32: 5315.9
A33: 1183 | B33: 32001 | C33: Կրթական օբյեկտների շենքային պայմանների բարելավում | D33: =+E33+F33+G33+H33 -> 942.1 | E33: =+E35 -> 0 | F33: =+F35 -> 942.1 | G33: =+G35 -> 0 | H33: =+H35 -> 0
C34: այդ թվում`
C35: ՀՀ Արագածոտնի մարզ | D35: =SUM(E35:H35) -> 942.1 | E35: =SUM(E36:E36) -> 0 | F35: =SUM(F36:F36) -> 942.1 | G35: =SUM(G36:G36) -> 0 | H35: =SUM(H36:H36) -> 0
C36: «Ռյա Թազայի Ա․ Ավդալի անվան միջնակարգ դպրոց» ՊՈԱԿ | D36: =+E36+F36+G36+H36 -> 942.1 | F36: =+'Հավելված N 10'!I21 -> 942.1
A37: 1183 | B37: 32003 | C37: Փոքրաքանակ երեխաներով համալրված հանրակրթական դպրոցների և կրթահամալիրների մոդուլային շենքերի կառուցում | D37: =SUM(E37:H37) -> 5829.3 | E37: =+E39+E40+E43 -> 5829.3 | F37: =+F39+F40+F43 -> 0 | G37: =+G39+G40+G43 -> 0 | H37: =+H39+H40+H43 -> 0
C38: այդ թվում`
C39: Փոքրաքանակ երեխաներով համալրված հանրակրթական դպրոցների և կրթահամալիրների մոդուլային շենքերի կառուցում | D39: =+E39+F39+G39+H39 -> -6750 | E39: -6750
C40: ՀՀ Գեղարքունիքի մարզ | D40: =SUM(E40:H40) -> 1050.8 | E40: =SUM(E41:E42) -> 1050.8 | F40: =SUM(F41:F42) -> 0 | G40: =SUM(G41:G42) -> 0 | H40: =SUM(H41:H42) -> 0
C41: «Լեռնահովիտ գյուղի Վ. Բարեղամյանի անվան հիմնական դպրոց» ՊՈԱԿ | D41: =SUM(E41:H41) -> 373.4 | E41: 373.4
C42: «Ջիլի միջնակարգ դպրոց» ՊՈԱԿ | D42: =SUM(E42:H42) -> 677.4 | E42: 677.4
C43: ՀՀ Լոռու մարզ | D43: =SUM(E43:H43) -> 11528.5 | E43: =SUM(E44:E45) -> 11528.5 | F43: =SUM(F44:F45) -> 0 | G43: =SUM(G44:G45) -> 0 | H43: =SUM(H44:H45) -> 0
...

Sheet Հավելված N 6
D1: Հավելված N 6
D2: ՀՀ կառավարության 2023 թվականի
D3: ______________ ի ___Ն որոշման
B5: ՀԱՅԱՍՏԱՆԻ ՀԱՆՐԱՊԵՏՈՒԹՅԱՆ ԿԱՌԱՎԱՐՈՒԹՅԱՆ 2022 ԹՎԱԿԱՆԻ ԴԵԿՏԵՄԲԵՐԻ 29-Ի N 2111-Ն ՈՐՈՇՄԱՆ N 5 ՀԱՎԵԼՎԱԾԻ N 2 ԱՂՅՈՒՍԱԿՈՒՄ ԿԱՏԱՐՎՈՂ ՓՈՓՈԽՈՒԹՅՈՒՆՆԵՐԸ ԵՎ ԼՐԱՑՈՒՄՆԵՐԸ
G8: հազ. դրամներով
B9: Ծրագրային դասիչ | D9: Բյուջետային գլխավոր կարգադրիչների, ծրագրերի, միջոցառումների, միջոցառումները կատարող պետական մարմինների և ուղղությունների անվանումները | E9: Ցուցանիշների փոփոխությունը (ավելացումները նշված են դրական նշանով, իսկ նվազեցումները՝ փակագծերում)
B10: Ծրագիր | C10: Միջոցառում | E10: Առաջին կիսամյակ | F10: Ինն ամիս | G10: Տարի
D12: ՀՀ ԿՐԹՈՒԹՅԱՆ, ԳԻՏՈՒԹՅԱՆ, ՄՇԱԿՈՒՅԹԻ ԵՎ ՍՊՈՐՏԻ ՆԱԽԱՐԱՐՈՒԹՅՈՒՆ | E12: =+E14+E24+E34+E40+E46+E57+E65+E109 -> 31174.7 | F12: =+ROUND((F14+F24+F34+F40+F46+F57+F65+F109),1) -> 0 | G12: =+ROUND((G14+G24+G34+G40+G46+G57+G65+G109),1) -> 0
D13: այդ թվում՝
B14: 1045 | C14: 32001 | D14: Նախնական մասնագիտական (արհեստագործական) և միջին մասնագիտական ուսումնական հաստատությունների շենքային պայմանների բարելավում | E14: =+E16+E20 -> 438.9 | F14: =+F16+F20 -> -30735.8 | G14: =+G16+G20 -> -30735.8
D15: այդ թվում` ըստ կատարողների
D16: ՀՀ կրթության, գիտության, մշակույթի և սպորտի նախարարություն | E16: =+E18 -> -57352.1 | F16: =+F18 -> -88526.8 | G16: =+G18 -> -88526.8
D17: այդ թվում` ըստ ուղղությունների
D18: Երևան քաղաք | E18: =+E19 -> -57352.1 | F18: =+F19 -> -88526.8 | G18: =+G19 -> -88526.8
D19: «Երևանի հ․8 արհեստագործական պետական ուսումնարան» ՊՈԱԿ | E19: -57352.1 | F19: =+'Հավելված N 5'!D18 -> -88526.8 | G19: =+F19 -> -88526.8
D20: ՀՀ քաղաքաշինության կոմիտե | E20: =+E22 -> 57791 | F20: =+F22 -> 57791 | G20: =+G22 -> 57791
D21: այդ թվում` ըստ ուղղությունների
D22: ՀՀ Լոռու մարզ | E22: =+E23 -> 57791 | F22: =+F23 -> 57791 | G22: =+G23 -> 57791
D23: ք. Վանաձորի գյուղատնտեսական պետական քոլեջ ՊՈԱԿ | E23: =+'Հավելված N 5'!D20 -> 57791 | F23: =+E23 -> 57791 | G23: =+F23 -> 57791
B24: 1130 | C24: 32001 | D24: ՀՀ կրթության, գիտության, մշակույթի և սպորտի բնագավառում օժանդակ ծրագրեր իրականացնող կազմակերպությունների շենքային պայմանների և գույքային հագեցվածության բարելավում | E24: =+E26 -> 1428.7 | F24: =+F26 -> 1428.7 | G24: =+G26 -> 1428.7
D25: այդ թվում` ըստ կատարողների
D26: ՀՀ կրթության, գիտության, մշակույթի և սպորտի նախարարություն | E26: =+E28+E30+E32 -> 1428.7 | F26: =+F28+F30+F32 -> 1428.7 | G26: =+G28+G30+G32 -> 1428.7
D27: այդ թվում` ըստ ուղղությունների
D28: ՀՀ Լոռու մարզ | E28: =+E29 -> 476.2 | F28: =+F29 -> 476.2 | G28: =+G29 -> 476.2
D29: «Վանաձորի տարածքային մանկավարժահոգեբանական աջակցության կենտրոն» ՊՈԱԿ | E29: =+'Հավելված N 5'!H24 -> 476.2 | F29: =+E29 -> 476.2 | G29: =+F29 -> 476.2
D30: ՀՀ Շիրակի մարզ | E30: =+E31 -> 476.2 | F30: =+F31 -> 476.2 | G30: =+G31 -> 476.2
D31: «Արթիկի տարածքային մանկավարժահոգեբանական աջակցության կենտրոն» ՊՈԱԿ | E31: =+'Հավելված N 5'!H26 -> 476.2 | F31: =+E31 -> 476.2 | G31: =+F31 -> 476.2
D32: ՀՀ Սյունիքի մարզ | E32: =+E33 -> 476.3 | F32: =+F33 -> 476.3 | G32: =+G33 -> 476.3
D33: «Գորիսի տարածքային մանկավարժահոգեբանական աջակցության կենտրոն» ՊՈԱԿ | E33: =+'Հավելված N 5'!H28 -> 476.3 | F33: =+E33 -> 476.3 | G33: =+F33 -> 476.3
B34: 1163 | C34: 32002 | D34: Մարզական օբյեկտների հիմնանորոգում | E34: =+E36 -> 5315.9 | F34: =+F36 -> 5315.9 | G34: =+G36 -> 5315.9
D35: այդ թվում` ըստ կատարողների
D36: ՀՀ քաղաքաշինության կոմիտե | E36: =+E38 -> 5315.9 | F36: =+F38 -> 5315.9 | G36: =+G38 -> 5315.9
D37: այդ թվում` ըստ ուղղությունների
D38: Երևան քաղաք | E38: =+E39 -> 5315.9 | F38: =+F39 -> 5315.9 | G38: =+G39 -> 5315.9
D39: «Երևանի օլիմպիական հերթափոխի պետական մարզական քոլեջ» ՊՈԱԿ | E39: =+'Հավելված N 5'!D32 -> 5315.9 | F39: =+E39 -> 5315.9 | G39: =+F39 -> 5315.9
B40: 1183 | C40: 32001 | D40: Կրթական օբյեկտների շենքային պայմանների բարելավում | E40: =+E42 -> 942.1 | F40: =+F42 -> 942.1 | G40: =+G42 -> 942.1
D41: այդ թվում` ըստ կատարողների
D42: ՀՀ կրթության, գիտության, մշակույթի և սպորտի նախարարություն | E42: =+E44 -> 942.1 | F42: =+F44 -> 942.1 | G42: =+G44 -> 942.1
D43: այդ թվում` ըստ ուղղությունների
D44: ՀՀ Արագածոտնի մարզ | E44: =+E45 -> 942.1 | F44: =+F45 -> 942.1 | G44: =+G45 -> 942.1
...

Sheet Հավելված N 7
I1: Հավելված N 7
I2: ՀՀ կառավարության 2023 թվականի
I3: ______________ ի ___Ն որոշման
A6: «ՀԱՅԱUՏԱՆԻ ՀԱՆՐԱՊԵՏՈՒԹՅԱՆ 2023 ԹՎԱԿԱՆԻ ՊԵՏԱԿԱՆ ԲՅՈՒՋԵԻ ՄԱUԻՆ» ՀԱՅԱUՏԱՆԻ ՀԱՆՐԱՊԵՏՈՒԹՅԱՆ OՐԵՆՔԻ N 1 ՀԱՎԵԼՎԱԾԻ N 5 ԱՂՅՈՒՍԱԿՈՒՄ ԵՎ ՀԱՅԱՍՏԱՆԻ ՀԱՆՐԱՊԵՏՈՒԹՅԱՆ ԿԱՌԱՎԱՐՈՒԹՅԱՆ 2022 ԹՎԱԿԱՆԻ ԴԵԿՏԵՄԲԵՐԻ 29-Ի N 2111-Ն ՈՐՈՇՄԱՆ N 5 ՀԱՎԵԼՎԱԾԻ N 4 ԱՂՅՈՒՍԱԿՈՒՄ ԿԱՏԱՐՎՈՂ ԼՐԱՑՈՒՄԸ
L8: հազ. դրամներով
A9: Ծրագրային դասիչ | C9: Բյուջետային գլխավոր կարգադրիչների, ծրագրերի և միջոցառումների և միջոցառումները կատարող պետական մարմինների անվանումները | D9: Առաջին կիսամյակ | G9: Ինն ամիս | J9: Տարի
D10: Ընդամենը | E10: այդ թվում | G10: Ընդամենը | H10: այդ թվում | J10: Ընդամենը | K10: այդ թվում
A11: Ծրագիր | B11: Միջոցառում | E11: Դրամաշնորհային միջոցներ | F11: Համաֆինան սավորում | H11: Դրամաշնորհային միջոցներ | I11: Համաֆինան սավորում | K11: Դրամաշնորհային միջոցներ | L11: Համաֆինան սավորում
C12: ԸՆԴԱՄԵՆԸ | D12: =E12+F12 -> 16145.4 | E12: =+E14 -> 16145.4 | F12: =+F14 -> 0 | G12: =H12+I12 -> 16145.4 | H12: =+H14 -> 16145.4 | I12: =+I14 -> 0 | J12: =K12+L12 -> 16145.4 | K12: =+K14 -> 16145.4 | L12: =+L14 -> 0
C13: այդ թվում`
C14: ՈՉ ՖԻՆԱՆՍԱԿԱՆ ԱԿՏԻՎՆԵՐԻ ԳԾՈՎ ԾԱԽՍԵՐ | D14: =E14+F14 -> 16145.4 | E14: =+E15 -> 16145.4 | F14: =+F15 -> 0 | G14: =H14+I14 -> 16145.4 | H14: =+H15 -> 16145.4 | I14: =+I15 -> 0 | J14: =K14+L14 -> 16145.4 | K14: =+K15 -> 16145.4 | L14: =+L15 -> 0
C15: ՀՀ ԿՐԹՈՒԹՅԱՆ, ԳԻՏՈՒԹՅԱՆ, ՄՇԱԿՈՒՅԹԻ ԵՎ ՍՊՈՐՏԻ ՆԱԽԱՐԱՐՈՒԹՅՈՒՆ | D15: =E15+F15 -> 16145.4 | E15: =E16 -> 16145.4 | F15: =F16 -> 0 | G15: =H15+I15 -> 16145.4 | H15: =H16 -> 16145.4 | I15: =I16 -> 0 | J15: =K15+L15 -> 16145.4 | K15: =K16 -> 16145.4 | L15: =L16 -> 0
A16: 1193 | C16: Համընդհանուր ներառական կրթության համակարգի ներդրում | D16: =E16+F16 -> 16145.4 | E16: =+E18 -> 16145.4 | F16: =+F18 -> 0 | G16: =H16+I16 -> 16145.4 | H16: =+H18 -> 16145.4 | I16: =+I18 -> 0 | J16: =K16+L16 -> 16145.4 | K16: =+K18 -> 16145.4 | L16: =+L18 -> 0
C17: այդ թվում`
B18: 31001 | C18: Ամերիկայի Միացյալ Նահանգների միջազգային զարգացման գործակալության աջակցությամբ իրականացվող «Ներառական կրթության համակարգի ներդրում» դրամաշնորհային ծրագիր | D18: =E18+F18 -> 16145.4 | E18: =+E20 -> 16145.4 | F18: =+F20 -> 0 | G18: =H18+I18 -> 16145.4 | H18: =+H20 -> 16145.4 | I18: =+I20 -> 0 | J18: =K18+L18 -> 16145.4 | K18: =+K20 -> 16145.4 | L18: =+L20 -> 0
C19: այդ թվում` ըստ կատարողների
C20: ՀՀ կրթության , գիտության, մշակույթի և սպորտի նախարարություն | D20: =+E20+F20 -> 16145.4 | E20: =+E22 -> 16145.4 | F20: =+F22 -> 0 | G20: =+H20+I20 -> 16145.4 | H20: =+H22 -> 16145.4 | I20: =+I22 -> 0 | J20: =+K20+L20 -> 16145.4 | K20: =+K22 -> 16145.4 | L20: =+L22 -> 0
C21: այդ թվում` բյուջետային ծախսերի տնտեսագիտական դասակարգման հոդվածներ
C22: ԸՆԴԱՄԵՆԸ ԾԱԽՍԵՐ | D22: =+E22+F22 -> 16145.4 | E22: =+E23 -> 16145.4 | F22: =+F23 -> 0 | G22: =+H22+I22 -> 16145.4 | H22: =+H23 -> 16145.4 | I22: =+I23 -> 0 | J22: =+K22+L22 -> 16145.4 | K22: =+K23 -> 16145.4 | L22: =+L23 -> 0
C23: ՈՉ ՖԻՆԱՆՍԱԿԱՆ ԱԿՏԻՎՆԵՐԻ ԳԾՈՎ ԾԱԽՍԵՐ | D23: =+E23+F23 -> 16145.4 | E23: =+E24 -> 16145.4 | F23: =+F24 -> 0 | G23: =+H23+I23 -> 16145.4 | H23: =+H24 -> 16145.4 | I23: =+I24 -> 0 | J23: =+K23+L23 -> 16145.4 | K23: =+K24 -> 16145.4 | L23: =+L24 -> 0
C24: ՀԻՄՆԱԿԱՆ ՄԻՋՈՑՆԵՐ | D24: =+E24+F24 -> 16145.4 | E24: =+E25+E27 -> 16145.4 | F24: =+F25+F27 -> 0 | G24: =+H24+I24 -> 16145.4 | H24: =+H25+H27 -> 16145.4 | I24: =+I25+I27 -> 0 | J24: =+K24+L24 -> 16145.4 | K24: =+K25+K27 -> 16145.4 | L24: =+L25+L27 -> 0
C25: ՇԵՆՔԵՐ ԵՎ ՇԻՆՈՒԹՅՈՒՆՆԵՐ | D25: =+E25+F25 -> 14345.4 | E25: =+E26 -> 14345.4 | F25: =+F26 -> 0 | G25: =+H25+I25 -> 14345.4 | H25: =+H26 -> 14345.4 | I25: =+I26 -> 0 | J25: =+K25+L25 -> 14345.4 | K25: =+K26 -> 14345.4 | L25: =+L26 -> 0
C26: - Շենքերի և շինությունների կապիտալ վերանորոգում | D26: =+E26+F26 -> 14345.4 | E26: =+'Հավելված N 10'!I30+'Հավելված N 10'!I43 -> 14345.4 | F26: 0 | G26: =+H26+I26 -> 14345.4 | H26: =+E26 -> 14345.4 | I26: 0 | J26: =+K26+L26 -> 14345.4 | K26: =+H26 -> 14345.4 | L26: 0
C27: ՄԵՔԵՆԱՆԵՐ ԵՎ ՍԱՐՔԱՎՈՐՈՒՄՆԵՐ | D27: =+E27+F27 -> 1800 | E27: =+E28 -> 1800 | F27: =+F28 -> 0 | G27: =+H27+I27 -> 1800 | H27: =+H28 -> 1800 | I27: =+I28 -> 0 | J27: =+K27+L27 -> 1800 | K27: =+K28 -> 1800 | L27: =+L28 -> 0
C28: - Վարչական սարքավորումներ | D28: =+E28+F28 -> 1800 | E28: =+'Հավելված N 10'!I28 -> 1800 | F28: 0 | G28: =+H28+I28 -> 1800 | H28: =+E28 -> 1800 | I28: 0 | J28: =+K28+L28 -> 1800 | K28: =+H28 -> 1800 | L28: 0

Sheet Հավելված N 8
C1: Հավելված N 8
C2: ՀՀ կառավարության 2023 թվականի
C3: ______________ ի ___Ն որոշման
B5: ՀԱՅԱՍՏԱՆԻ ՀԱՆՐԱՊԵՏՈՒԹՅԱՆ ԿԱՌԱՎԱՐՈՒԹՅԱՆ 2022 ԹՎԱԿԱՆԻ ԴԵԿՏԵՄԲԵՐԻ 29-Ի N 2111-Ն ՈՐՈՇՄԱՆ N 9 ՀԱՎԵԼՎԱԾԻ N 9.13 ԵՎ 9.47 ԱՂՅՈՒՍԱԿՆԵՐՈՒՄ ԿԱՏԱՐՎՈՂ ՓՈՓՈԽՈՒԹՅՈՒՆՆԵՐԸ ԵՎ ԼՐԱՑՈՒՄՆԵՐԸ
A7: Աղյուսակ 9․13
C8: ՀՀ կրթության, գիտության, մշակույթի և սպորտի նախարարություն
B9: ՄԱՍ 2. ՊԵՏԱԿԱՆ ՄԱՐՄՆԻ ԳԾՈՎ ԱՐԴՅՈՒՆՔԱՅԻՆ (ԿԱՏԱՐՈՂԱԿԱՆ) ՑՈՒՑԱՆԻՇՆԵՐԸ
B12: Ծրագրի դասիչը | C12: Ծրագրի անվանումը
B13: 1045 | C13: Նախնական (արհեստագործական) և միջին մասնագիտական կրթություն
B15: Ծրագրի միջոցառումները
B16: Ծրագրի դասիչը՝ | C16: 1045 | D16: Ցուցանիշների փոփոխությունը (ավելացումները նշված են դրական նշանով, իսկ նվազեցումները՝ փակագծերում)
B17: Միջոցառման դասիչը՝ | C17: 32001 | D17: Առաջին կիսամյակ | E17: Ինն ամիս | F17: Տարի
B18: Միջոցառման անվանումը՝ | C18: Նախնական մասնագիտական (արհեստագործական) և միջին մասնագիտական ուսումնական հաստատությունների շենքային պայմանների բարելավում
B19: Նկարագրությունը՝ | C19: ՆՄՄԿՈՒ հաստատությունների շենքերի հիմնանորոգման և նախագծման (շինարարական աշխատանքներ, ջեռուցման համակարգի ստեղծում, ներքին հարդարում, տարածքի բարեկարգում) աշխատանքների իրականացում
B20: Միջոցառման տեսակը՝ | C20: Այլ պետական կազմակերպությունների կողմից օգտագործվող ոչ ֆինանսական ակտիվների հետ գործառնություններ
B21: Ակտիվն օգտագործող կազմակերպությունների անվանումները | C21: Նախնական մասնագիտական (արհեստագործական) և միջին մասնագիտական ուսումնական հաստատություններ
B22: Արդյունքի չափորոշիչներ
B23: Հիմնանորոգվող միջին մասնագիտական ուսումնական հաստատությունների քանակ, հատ | D23: 1 | E23: 1 | F23: 1
B24: Հաստատությունների քանակ, որոնց շինարարական աշխատանքների ավարտվածության աստիճանը 100% է, հատ | F24: -1
B25: Միջոցառման վրա կատարվող ծախսը (հազար դրամ) | D25: =+'Հավելված N 3'!D23 -> 438.9 | E25: =+'Հավելված N 3'!E23 -> -30735.8 | F25: =+'Հավելված N 3'!F23 -> -30735.8
B27: Ծրագրի դասիչը | C27: Ծրագրի անվանումը
B28: 1130 | C28: Կրթության, գիտության, մշակույթի և սպորտի բնագավառի պետական քաղաքականության մշակում, ծրագրերի համակարգում և մոնիտորինգ
B30: Ծրագրի միջոցառումները
B31: Ծրագրի դասիչը՝ | C31: 1130 | D31: Ցուցանիշների փոփոխությունը (ավելացումները նշված են դրական նշանով)
B32: Միջոցառման դասիչը՝ | C32: 32001 | D32: Առաջին կիսամյակ | E32: Ինն ամիս | F32: Տարի
B33: Միջոցառման անվանումը՝ | C33: ՀՀ կրթության, գիտության, մշակույթի և սպորտի բնագավառում օժանդակ ծրագրեր իրականացնող կազմակերպությունների շենքային պայմանների և գույքային հագեցվածության բարելավում
B34: Նկարագրությունը՝ | C34: ՀՀ կրթության, գիտության, մշակույթի և սպորտի բնագավառում օժանդակ ծրագրեր իրականացնող կազմակերպությունների աշխատանքային պայմանների բարելավում
B35: Միջոցառման տեսակը՝ | C35: Այլ պետական կազմակերպությունների կողմից օգտագործվող ոչ ֆինանսական ակտիվների հետ գործառնություններ
B36: Ակտիվն օգտագործող կազմակերպության անվանումը | C36: Մասնագիտացված կազմակերպություններ
B37: Արդյունքի չափորոշիչներ
B38: Կազմակերպությունների թիվը, որոնք ապահովվում են գույքով, հատ | D38: 3 | E38: 3 | F38: 3
B39: Միջոցառման վրա կատարվող ծախսը (հազար դրամ) | D39: =+'Հավելված N 3'!D36 -> 1428.7 | E39: =+'Հավելված N 3'!E36 -> 1428.7 | F39: =+'Հավելված N 3'!F36 -> 1428.7
B41: Ծրագրի դասիչը | C41: Ծրագրի անվանումը
B42: 1148 | C42: Արտադպրոցական դաստիարակության ծրագիր
B44: Ծրագրի միջոցառումները
B45: Ծրագրի դասիչը՝ | C45: 1148 | D45: Ցուցանիշների փոփոխությունը (նվազեցումները նշված են փակագծերում)
B46: Միջոցառման դասիչը՝ | C46: 11016 | D46: Առաջին կիսամյակ | E46: Ինն ամիս | F46: Տարի
B47: Միջոցառման անվանումը՝ | C47: ՀՀ հանրակրթական ծրագրեր իրականացնող ուսումնական հաստատությունների 11-րդ դասարանների աշակերտների ռազմամարզական ճամբարի կազմակերպում
B48: Նկարագրությունը՝ | C48: Նպաստել 11-րդ դասարաններում սովորող դպրոցականների մոտ «Նախնական զինվորական պատրաստություն» առարկայից ստացած գիտելիքների հարստացմանը և դրանց համապատասխան կարողությունների և հմտությունների զարգացմանը
B49: Միջոցառման տեսակը՝ | C49: Ծառայությունների մատուցում
...

Sheet Հավելված N 9
C1: Հավելված N 9
C2: ՀՀ կառավարության 2023 թվականի
C3: ______________ ի ___Ն որոշման
B5: ՀԱՅԱՍՏԱՆԻ ՀԱՆՐԱՊԵՏՈՒԹՅԱՆ ԿԱՌԱՎԱՐՈՒԹՅԱՆ 2022 ԹՎԱԿԱՆԻ ԴԵԿՏԵՄԲԵՐԻ 29-Ի N 2111-Ն ՈՐՈՇՄԱՆ N 9.1 ՀԱՎԵԼՎԱԾԻ N 9.1.13, 9.1.41 ԵՎ 9.1.58 ԱՂՅՈՒՍԱԿՆԵՐՈՒՄ ԿԱՏԱՐՎՈՂ ՓՈՓՈԽՈՒԹՅՈՒՆՆԵՐԸ ԵՎ ԼՐԱՑՈՒՄՆԵՐԸ
A7: Աղյուսակ 9․1.13
C8: ՀՀ կրթության, գիտության, մշակույթի և սպորտի նախարարություն
B9: ՄԱՍ 1. ՊԵՏԱԿԱՆ ՄԱՐՄՆԻ ԳԾՈՎ ԱՐԴՅՈՒՆՔԱՅԻՆ (ԿԱՏԱՐՈՂԱԿԱՆ) ՑՈՒՑԱՆԻՇՆԵՐԸ
B12: Ծրագրի դասիչը | C12: Ծրագրի անվանումը
B13: 1045 | C13: Նախնական (արհեստագործական) և միջին մասնագիտական կրթություն
B15: Ծրագրի միջոցառումները
B16: Ծրագրի դասիչը՝ | C16: 1045 | D16: Ցուցանիշների փոփոխությունը (նվազեցումները նշված են փակագծերում)
B17: Միջոցառման դասիչը՝ | C17: 32001 | D17: Առաջին կիսամյակ | E17: Ինն ամիս | F17: Տարի
B18: Միջոցառման անվանումը՝ | C18: Նախնական մասնագիտական (արհեստագործական) և միջին մասնագիտական ուսումնական հաստատությունների շենքային պայմանների բարելավում
B19: Նկարագրությունը՝ | C19: ՆՄՄԿՈՒ հաստատությունների շենքերի հիմնանորոգման և նախագծման (շինարարական աշխատանքներ, ջեռուցման համակարգի ստեղծում, ներքին հարդարում, տարածքի բարեկարգում) աշխատանքների իրականացում
B20: Միջոցառման տեսակը՝ | C20: Այլ պետական կազմակերպությունների կողմից օգտագործվող ոչ ֆինանսական ակտիվների հետ գործառնություններ
B21: Ակտիվն օգտագործող կազմակերպությունների անվանումները | C21: Նախնական մասնագիտական (արհեստագործական) և միջին մասնագիտական ուսումնական հաստատություններ
B22: Արդյունքի չափորոշիչներ
B23: Հաստատությունների քանակ, որոնց շինարարական աշխատանքների ավարտվածության աստիճանը 100% է, հատ | F23: -1
B24: Միջոցառման վրա կատարվող ծախսը (հազար դրամ) | D24: =+'Հավելված N 4'!G42 -> -57352.1 | E24: =+'Հավելված N 4'!H42 -> -88526.8 | F24: =+'Հավելված N 4'!I42 -> -88526.8
B26: Ծրագրի դասիչը | C26: Ծրագրի անվանումը
B27: 1130 | C27: Կրթության, գիտության, մշակույթի և սպորտի բնագավառի պետական քաղաքականության մշակում, ծրագրերի համակարգում և մոնիտորինգ
B29: Ծրագրի միջոցառումները
B30: Ծրագրի դասիչը՝ | C30: 1130 | D30: Ցուցանիշների փոփոխությունը (ավելացումները նշված են դրական նշանով)
B31: Միջոցառման դասիչը՝ | C31: 32001 | D31: Առաջին կիսամյակ | E31: Ինն ամիս | F31: Տարի
B32: Միջոցառման անվանումը՝ | C32: ՀՀ կրթության, գիտության, մշակույթի և սպորտի բնագավառում օժանդակ ծրագրեր իրականացնող կազմակերպությունների շենքային պայմանների և գույքային հագեցվածության բարելավում
B33: Նկարագրությունը՝ | C33: ՀՀ կրթության, գիտության, մշակույթի և սպորտի բնագավառում օժանդակ ծրագրեր իրականացնող կազմակերպությունների աշխատանքային պայմանների բարելավում
B34: Միջոցառման տեսակը՝ | C34: Այլ պետական կազմակերպությունների կողմից օգտագործվող ոչ ֆինանսական ակտիվների հետ գործառնություններ
B35: Ակտիվն օգտագործող կազմակերպության անվանումը | C35: Մասնագիտացված կազմակերպություններ
B36: Արդյունքի չափորոշիչներ
B37: Կազմակերպությունների թիվը, որոնք ապահովվում են գույքով, հատ | D37: 3 | E37: 3 | F37: 3
B38: Միջոցառման վրա կատարվող ծախսը (հազար դրամ) | D38: =+'Հավելված N 4'!G144 -> 1428.7 | E38: =+'Հավելված N 4'!H144 -> 1428.7 | F38: =+'Հավելված N 4'!I144 -> 1428.7
B40: Ծրագրի դասիչը | C40: Ծրագրի անվանումը
B41: 1148 | C41: Արտադպրոցական դաստիարակության ծրագիր
B43: Ծրագրի միջոցառումները
B44: Ծրագրի դասիչը՝ | C44: 1148 | D44: Ցուցանիշների փոփոխությունը (նվազեցումները նշված են փակագծերում)
B45: Միջոցառման դասիչը՝ | C45: 11016 | D45: Առաջին կիսամյակ | E45: Ինն ամիս | F45: Տարի
B46: Միջոցառման անվանումը՝ | C46: ՀՀ հանրակրթական ծրագրեր իրականացնող ուսումնական հաստատությունների 11-րդ դասարանների աշակերտների ռազմամարզական ճամբարի կազմակերպում
B47: Նկարագրությունը՝ | C47: Նպաստել 11-րդ դասարաններում սովորող դպրոցականների մոտ «Նախնական զինվորական պատրաստություն» առարկայից ստացած գիտելիքների հարստացմանը և դրանց համապատասխան կարողությունների և հմտությունների զարգացմանը
B48: Միջոցառման տեսակը՝ | C48: Ծառայությունների մատուցում
B49: Ծառայությունը մատուցող կազմակերպության(ների) անվանում(ներ)ը՛ | C49: Մասնագիտացված կազմակերպություն
...

Sheet Հավելված N 10
H1: Հավելված N 10
H2: ՀՀ կառավարության 2023 թվականի
H3: ______________ ի ___Ն որոշման
A6: ՀԱՅԱՍՏԱՆԻ ՀԱՆՐԱՊԵՏՈՒԹՅԱՆ ԿԱՌԱՎԱՐՈՒԹՅԱՆ 2022 ԹՎԱԿԱՆԻ ԴԵԿՏԵՄԲԵՐԻ 29-Ի N 2111-Ն ՈՐՈՇՄԱՆ N 10 ՀԱՎԵԼՎԱԾՈՒՄ ԿԱՏԱՐՎՈՂ ՓՈՓՈԽՈՒԹՅՈՒՆԸ ԵՎ ԼՐԱՑՈՒՄՆԵՐԸ
A8: Կոդը | B8: Անվանումը | E8: Գնման ձևը | F8: Չափման միավորը | G8: Միավորի գինը | H8: Ցուցանիշների փոփոխությունը (ավելացումները նշված են դրական նշանով, իսկ նվազեցումները` փակագծերում)
H9: Քանակը | I9: Գումարը (հազար դրամ)
A10: 1 | B10: 2 | E10: 3 | F10: 4 | G10: 5 | H10: 6 | I10: 7
A11: ՀՀ կրթության, գիտության, մշակույթի և սպորտի նախարարություն | I11: =+I12 -> -61471
A12: Բաժին N 09 | B12: Խումբ N 06 | C12: Դաս N 01 | D12: Կրթությանը տրամադրվող օժանդակ ծառայություններ | I12: =+I13+I16+I19+I22+I27 -> -61471
A13: 1045-32001 | B13: Նախնական մասնագիտական (արհեստագործական) և միջին մասնագիտական ուսումնական հաստատությունների շենքային պայմանների բարելավում | I13: =+I14 -> -88526.8 | J13: =+I13+'Հավելված N 5'!E39 -> -95276.8
B14: ՄԱՍ II. ԱՇԽԱՏԱՆՔՆԵՐ | I14: =+I15 -> -88526.8
A15: 45611100-537 | B15: կրթական օբյեկտների հիմնանորոգում | E15: ԲՄ | F15: դրամ | I15: -88526.8
A16: 1130-32001 | B16: ՀՀ կրթության, գիտության, մշակույթի և սպորտի բնագավառում օժանդակ ծրագրեր իրականացնող կազմակերպությունների շենքային պայմանների և գույքային հագեցվածության բարելավում | I16: =+I17 -> 1428.7
B17: ՄԱՍ I. ԱՊՐԱՆՔՆԵՐ | I17: =+I18 -> 1428.7
A18: 39111140 | B18: աթոռներ | E18: ԷԱՃ | F18: հատ | G18: 15874 | H18: 90 | I18: =+ROUND(H18*G18/1000,1) -> 1428.7
A19: 1183-32001 | B19: Կրթական օբյեկտների շենքային պայմանների բարելավում | I19: =+I20 -> 942.1
B20: ՄԱՍ II. ԱՇԽԱՏԱՆՔՆԵՐ | I20: =+I21 -> 942.1
A21: 45231129 | B21: ջեռուցման հետ կապված աշխատանքներ | E21: ԳՀ | F21: դրամ | G21: 942100 | H21: 1 | I21: =+ROUND(H21*G21/1000,1) -> 942.1
A22: 1183-32012 | B22: Հանրակրթական դպրոցների գույքով և տեխնիկայով ապահովում | I22: =+I23 -> 8539.6
B23: ՄԱՍ I. ԱՊՐԱՆՔՆԵՐ | I23: =SUM(I24:I26) -> 8539.6
A24: 39111140 | B24: աթոռներ | E24: ԷԱՃ | F24: հատ | G24: 15874 | H24: 162 | I24: =+ROUND(H24*G24/1000,1) -> 2571.6
A25: 39292110 | B25: գրատախտակներ | E25: ՀՄԱ | F25: հատ | G25: 109969 | H25: 33 | I25: =+ROUND(H25*G25/1000,1) -> 3629
A26: 39292110 | B26: գրատախտակներ | E26: ՀՄԱ | F26: հատ | G26: 129944 | H26: 18 | I26: =+ROUND(H26*G26/1000,1) -> 2339
A27: 1193-31001 | B27: Ամերիկայի Միացյալ Նահանգների միջազգային զարգացման գործակալության աջակցությամբ իրականացվող «Ներառական կրթության համակարգի ներդրում» դրամաշնորհային ծրագիր | I27: =+I28+I30+I43 -> 16145.4
B28: ՄԱՍ I. ԱՊՐԱՆՔՆԵՐ | I28: =+I29 -> 1800
A29: 39121520-501 | B29: գրապահարաններ | E29: ԷԱՃ | F29: հատ | G29: 64285 | H29: 28 | I29: =+ROUND(H29*G29/1000,1) -> 1800
B30: ՄԱՍ II. ԱՇԽԱՏԱՆՔՆԵՐ | I30: =SUM(I31:I42) -> 13626.6
A31: 45611100 | B31: կրթական օբյեկտների հիմնանորոգում | E31: ԳՀ | F31: դրամ | G31: 1554290 | H31: 1 | I31: =+ROUND(H31*G31/1000,1) -> 1554.3
A32: 45611100 | B32: կրթական օբյեկտների հիմնանորոգում | E32: ԳՀ | F32: դրամ | G32: 1687960 | H32: 1 | I32: =+ROUND(H32*G32/1000,1) -> 1688
A33: 45611100 | B33: կրթական օբյեկտների հիմնանորոգում | E33: ԳՀ | F33: դրամ | G33: 266000 | H33: 1 | I33: =+ROUND(H33*G33/1000,1) -> 266
A34: 45611100 | B34: կրթական օբյեկտների հիմնանորոգում | E34: ԳՀ | F34: դրամ | G34: 93380 | H34: 1 | I34: =+ROUND(H34*G34/1000,1) -> 93.4
A35: 45611100 | B35: կրթական օբյեկտների հիմնանորոգում | E35: ԳՀ | F35: դրամ | G35: 131550 | H35: 1 | I35: =+ROUND(H35*G35/1000,1) -> 131.6
A36: 45611100 | B36: կրթական օբյեկտների հիմնանորոգում | E36: ԳՀ | F36: դրամ | G36: 466846 | H36: 1 | I36: =+ROUND(H36*G36/1000,1) -> 466.8
A37: 45611100 | B37: կրթական օբյեկտների հիմնանորոգում | E37: ԳՀ | F37: դրամ | G37: 512539 | H37: 1 | I37: =+ROUND(H37*G37/1000,1) -> 512.5
A38: 45611100 | B38: կրթական օբյեկտների հիմնանորոգում | E38: ԳՀ | F38: դրամ | G38: 1190800 | H38: 1 | I38: =+ROUND(H38*G38/1000,1) -> 1190.8
A39: 45611100 | B39: կրթական օբյեկտների հիմնանորոգում | E39: ԳՀ | F39: դրամ | G39: 5784137 | H39: 1 | I39: =+ROUND(H39*G39/1000,1) -> 5784.1
A40: 45611100 | B40: կրթական օբյեկտների հիմնանորոգում | E40: ԳՀ | F40: դրամ | G40: 230853 | H40: 1 | I40: =+ROUND(H40*G40/1000,1) -> 230.9
A41: 45611100 | B41: կրթական օբյեկտների հիմնանորոգում | E41: ԳՀ | F41: դրամ | G41: 509617 | H41: 1 | I41: =+ROUND(H41*G41/1000,1) -> 509.6
A42: 45611100 | B42: կրթական օբյեկտների հիմնանորոգում | E42: ԳՀ | F42: դրամ | G42: 1198586 | H42: 1 | I42: =+ROUND(H42*G42/1000,1) -> 1198.6
B43: ՄԱՍ III. ԾԱՌԱՅՈՒԹՅՈՒՆՆԵՐ | I43: =SUM(I44:I55) -> 718.8
...

Sheet Հավելված N 11
H1: Հավելված N 11
I2: ՀՀ կառավարության 2023 թվականի
I3: ______________ ի ___Ն որոշման
A6: ՀԱՅԱՍՏԱՆԻ ՀԱՆՐԱՊԵՏՈՒԹՅԱՆ 2023 ԹՎԱԿԱՆԻ ՊԵՏԱԿԱՆ ԲՅՈՒՋԵՈՎ ՆԱԽԱՏԵՍՎԱԾ՝ ՀԱՅԱՍՏԱՆԻ ՀԱՆՐԱՊԵՏՈՒԹՅԱՆ ԿԱՌԱՎԱՐՈՒԹՅԱՆ ՊԱՀՈՒՍՏԱՅԻՆ ՖՈՆԴԻՑ ՀԱՏԿԱՑՈՒՄՆԵՐ ԿԱՏԱՐԵԼՈՒ ՎԵՐԱԲԵՐՅԱԼ
I9: հազ. դրամներով
A10: Գործառական դասիչը | D10: Ծրագրային դասիչը | F10: Բյուջետային հատկացումների գլխավոր կարգադրիչների, ծրագրերի, միջոցառումների և միջոցառումները կատարող պետական մարմինների անվանումները | G10: Ցուցանիշների փոփոխությունը (ավելացումները նշված են դրական նշանով, իսկ նվազեցումները՝ փակագծերում)
A11: Բաժին | B11: Խումբ | C11: Դաս | D11: Ծրագիր | E11: Միջոցառում | G11: Առաջին կիսամյակ | H11: Ինն ամիս | I11: Տարի
F12: ԸՆԴԱՄԵՆԸ | G12: =+G34+G14 -> 0 | H12: =+H34+H14 -> 0 | I12: =+I34+I14 -> 0
F13: այդ թվում
F14: ՀՀ ԿԱՌԱՎԱՐՈՒԹՅՈՒՆ | G14: =+G15 -> -1428.7 | H14: =+H15 -> -1428.7 | I14: =+I15 -> -1428.7
A15: 11 | F15: ՀԻՄՆԱԿԱՆ ԲԱԺԻՆՆԵՐԻՆ ՉԴԱՍՎՈՂ ՊԱՀՈՒՍՏԱՅԻՆ ՖՈՆԴԵՐ | G15: =+G17 -> -1428.7 | H15: =+H17 -> -1428.7 | I15: =+I17 -> -1428.7
F16: այդ թվում`
B17: 01 | F17: ՀՀ կառավարության և համայնքների պահուստային ֆոնդ | G17: =+G19 -> -1428.7 | H17: =+H19 -> -1428.7 | I17: =+I19 -> -1428.7
F18: այդ թվում`
C19: 01 | F19: ՀՀ կառավարության պահուստային ֆոնդ | G19: =+G21 -> -1428.7 | H19: =+H21 -> -1428.7 | I19: =+I21 -> -1428.7
F20: այդ թվում`
F21: ՀՀ կառավարություն | G21: =+G23 -> -1428.7 | H21: =+H23 -> -1428.7 | I21: =+I23 -> -1428.7
F22: այդ թվում`
D23: 1139 | E23: ՀՀ կառավարության պահուստային ֆոնդ | F23: ՀՀ կառավարության պահուստային ֆոնդ | G23: =+G25 -> -1428.7 | H23: =+H25 -> -1428.7 | I23: =+I25 -> -1428.7
F24: այդ թվում`
E25: 11001 | F25: ՀՀ կառավարության պահուստային ֆոնդ | G25: =+G27 -> -1428.7 | H25: =+H27 -> -1428.7 | I25: =+I27 -> -1428.7
F26: այդ թվում` ըստ կատարողների
F27: ՀՀ կառավարություն | G27: =+G29 -> -1428.7 | H27: =+H29 -> -1428.7 | I27: =+I29 -> -1428.7
F28: այդ թվում` բյուջետային ծախսերի տնտեսագիտական դասակարգման հոդվածներ
F29: ԸՆԴԱՄԵՆԸ ԾԱԽՍԵՐ | G29: =+G30 -> -1428.7 | H29: =+H30 -> -1428.7 | I29: =+I30 -> -1428.7
F30: ԸՆԹԱՑԻԿ ԾԱԽՍԵՐ | G30: =+G31 -> -1428.7 | H30: =+H31 -> -1428.7 | I30: =+I31 -> -1428.7
F31: ԱՅԼ ԾԱԽՍԵՐ | G31: =+G32 -> -1428.7 | H31: =+H32 -> -1428.7 | I31: =+I32 -> -1428.7
F32: Պահուստային միջոցներ | G32: =+'Հավելված N 4'!G179 -> -1428.7 | H32: =+'Հավելված N 4'!H179 -> -1428.7 | I32: =+'Հավելված N 4'!I179 -> -1428.7
F34: ՀՀ ԿՐԹՈՒԹՅԱՆ, ԳԻՏՈՒԹՅԱՆ, ՄՇԱԿՈՒՅԹԻ ԵՎ ՍՊՈՐՏԻ ՆԱԽԱՐԱՐՈՒԹՅՈՒՆ | G34: =+G35 -> 1428.7 | H34: =+H35 -> 1428.7 | I34: =+I35 -> 1428.7
A35: 09 | F35: ԿՐԹՈՒԹՅՈՒՆ | G35: =+G37 -> 1428.7 | H35: =+H37 -> 1428.7 | I35: =+I37 -> 1428.7
F36: այդ թվում`
B37: 08 | F37: Կրթություն (այլ դասերին չպատկանող) | G37: =+G39 -> 1428.7 | H37: =+H39 -> 1428.7 | I37: =+I39 -> 1428.7
F38: այդ թվում`
C39: 01 | F39: Կրթություն (այլ դասերին չպատկանող) | G39: =+G41 -> 1428.7 | H39: =+H41 -> 1428.7 | I39: =+I41 -> 1428.7
F40: այդ թվում`
F41: ՀՀ կրթության, գիտության, մշակույթի և սպորտի նախարարություն | G41: =+G43 -> 1428.7 | H41: =+H43 -> 1428.7 | I41: =+I43 -> 1428.7
F42: այդ թվում՝
D43: 1130 | E43: Կրթության, գիտության, մշակույթի և սպորտի բնագավառի պետական քաղաքականության մշակում, ծրագրերի համակարգում և մոնիտորինգ | G43: =+G45 -> 1428.7 | H43: =+H45 -> 1428.7 | I43: =+I45 -> 1428.7
F44: այդ թվում`
E45: 32001 | F45: ՀՀ կրթության, գիտության, մշակույթի և սպորտի բնագավառում օժանդակ ծրագրեր իրականացնող կազմակերպությունների շենքային պայմանների և գույքային հագեցվածության բարելավում | G45: =+G47 -> 1428.7 | H45: =+H47 -> 1428.7 | I45: =+I47 -> 1428.7
...
