Workbook
Name a: #REF!
Name a: #REF!
Name a: #REF!
Name a: #REF!
Name a: #REF!
Name AgencyCode: #REF!
Name AgencyCode: #REF!
Name AgencyCode: #REF!
Name AgencyCode: #REF!
Name AgencyCode: #REF!
Name AgencyName: #REF!
Name AgencyName: #REF!
Name AgencyName: #REF!
Name AgencyName: #REF!
Name AgencyName: #REF!
Name davit: #REF!
Name davit: #REF!
Name davit: #REF!
Name davit: #REF!
Name Functional1: #REF!
Name Functional1: #REF!
Name Functional1: #REF!
Name Functional1: #REF!
Name Functional1: #REF!
Name ggg: #REF!
Name ggg: #REF!
Name ggg: #REF!
Name ggg: #REF!
Name PANature: #REF!
Name PANature: #REF!
Name PANature: #REF!
Name PANature: #REF!
Name PANature: #REF!
Name PAType: #REF!
Name PAType: #REF!
Name PAType: #REF!
Name PAType: #REF!
Name PAType: #REF!
Name Performance2: #REF!
Name Performance2: #REF!
Name Performance2: #REF!
Name Performance2: #REF!
Name Performance2: #REF!
Name PerformanceType: #REF!
Name PerformanceType: #REF!
Name PerformanceType: #REF!
Name PerformanceType: #REF!
Name PerformanceType: #REF!
Name Հավելված: #REF!
Name Հավելված: #REF!
Name Հավելված: #REF!
Name Հավելված: #REF!
Name Հավելված: #REF!
Name Մաս: #REF!
Name Մաս: #REF!
Name Մաս: #REF!
Name Մաս: #REF!
Name շախմատիստ: #REF!
Name շախմատիստ: #REF!
Name շախմատիստ: #REF!

Sheet Հավելված N 1
A1: Հավելված N 1
A2: ՀՀ կառավարության 2023 թվականի
A3: ______________ ի ___Ն որոշման
A7: «ՀԱՅԱՍՏԱՆԻ ՀԱՆՐԱՊԵՏՈՒԹՅԱՆ 2023 ԹՎԱԿԱՆԻ ՊԵՏԱԿԱՆ ԲՅՈՒՋԵԻ ՄԱՍԻՆ» ՀԱՅԱՍՏԱՆԻ ՀԱՆՐԱՊԵՏՈՒԹՅԱՆ ՕՐԵՆՔԻ 2-ՐԴ ՀՈԴՎԱԾԻ ԱՂՅՈՒՍԱԿՈՒՄ ԿԱՏԱՐՎՈՂ ԼՐԱՑՈՒՄԸ
B9: հազար դրամներով
B10: Ցուցանիշների փոփոխությունը (ավելացումները նշված են դրական նշանով)
A11: Եկամուտների գծով | B11: 0
A12: Ծախսերի գծով | B12: =+'Հավելված N 3'!F12 -> 16145.4
A13: Դեֆիցիտը (պակասուրդը) | B13: =+B12-B11 -> 16145.4

Sheet Հավելված N 2
D1: Հավելված N 2
D2: ՀՀ կառավարության 2023 թվականի
D3: ______________ ի ___Ն որոշման
A5: «ՀԱՅԱՍՏԱՆԻ ՀԱՆՐԱՊԵՏՈՒԹՅԱՆ 2023 ԹՎԱԿԱՆԻ ՊԵՏԱԿԱՆ ԲՅՈՒՋԵԻ ՄԱՍԻՆ» ՕՐԵՆՔԻ 3-ՐԴ ՀՈԴՎԱԾԻ, N 3 ՀԱՎԵԼՎԱԾԻ N 1 ԱՂՅՈՒՍԱԿՈՒՄ ԵՎ ՀԱՅԱՍՏԱՆԻ ՀԱՆՐԱՊԵՏՈՒԹՅԱՆ ԿԱՌԱՎԱՐՈՒԹՅԱՆ 2022 ԹՎԱԿԱՆԻ ԴԵԿՏԵՄԲԵՐԻ 29-Ի N 2111-Ն ՈՐՈՇՄԱՆ N 1 ՀԱՎԵԼՎԱԾԻ N 1 ԱՂՅՈՒՍԱԿՈՒՄ ԿԱՏԱՐՎՈՂ ԼՐԱՑՈՒՄԸ
D7: հազ. դրամ
A8: Պետական բյուջեի դեֆիցիտի ֆինանսավորման աղբյուրներն ու դրանց տարրերի անվանումները | B8: Ցուցանիշների փոփոխությունը (ավելացումները նշված են դրական նշանով)
B9: Առաջին կիսամյակ | C9: Ինն ամիս | D9: Տարի
A10: ԸՆԴԱՄԵՆԸ | B10: =+B12 -> 16145.4 | C10: =+C12 -> 16145.4 | D10: =+D12 -> 16145.4
A11: այդ թվում՝
A12: Բ.Արտաքին աղբյուրներ - ընդամենը | B12: =+B14 -> 16145.4 | C12: =+C14 -> 16145.4 | D12: =+D14 -> 16145.4
A13: այդ թվում
A14: 2. Ֆինանսական զուտ ակտիվներ | B14: =+B16 -> 16145.4 | C14: =+C16 -> 16145.4 | D14: =+D16 -> 16145.4
A15: այդ թվում՝
A16: 2.4. Այլ | B16: =+B18 -> 16145.4 | C16: =+C18 -> 16145.4 | D16: =+D18 -> 16145.4
A17: որից՝
A18: Ելքերի ֆինանսավորմանն ուղղվող ՀՀ 2023 թ. պետական բյուջեի տարեսկզբի ազատ մնացորդի միջոցներ | B18: =+'Հավելված N 3'!D112 -> 16145.4 | C18: =+'Հավելված N 3'!E112 -> 16145.4 | D18: =+'Հավելված N 3'!F112 -> 16145.4

Sheet Հավելված N 3
C1: Հավելված N 3
C2: ՀՀ կառավարության 2023 թվականի
C3: ______________ ի ___Ն որոշման
A6: «ՀԱՅԱUՏԱՆԻ ՀԱՆՐԱՊԵՏՈՒԹՅԱՆ 2023 ԹՎԱԿԱՆԻ ՊԵՏԱԿԱՆ ԲՅՈՒՋԵԻ ՄԱUԻՆ» ՀԱՅԱUՏԱՆԻ ՀԱՆՐԱՊԵՏՈՒԹՅԱՆ OՐԵՆՔԻ N 1 ՀԱՎԵԼՎԱԾԻ N 2 ԱՂՅՈՒՍԱԿՈՒՄ ԿԱՏԱՐՎՈՂ ՎԵՐԱԲԱՇԽՈՒՄԸ ԵՎ ՀԱՅԱՍՏԱՆԻ ՀԱՆՐԱՊԵՏՈՒԹՅԱՆ ԿԱՌԱՎԱՐՈՒԹՅԱՆ 2022 ԹՎԱԿԱՆԻ ԴԵԿՏԵՄԲԵՐԻ 29-Ի N 2111-Ն ՈՐՈՇՄԱՆ N 5 ՀԱՎԵԼՎԱԾԻ N 1 ԱՂՅՈՒՍԱԿՈՒՄ ԿԱՏԱՐՎՈՂ ՓՈՓՈԽՈՒԹՅՈՒՆՆԵՐԸ ԵՎ ԼՐԱՑՈՒՄՆԵՐԸ
F9: հազ. դրամներով
A10: Ծրագրային դասիչը | C10: Բյուջետային հատկացումների գլխավոր կարգադրիչների, ծրագրերի և միջոցառումների անվանումները | D10: Ցուցանիշների փոփոխությունը (ավելացումները նշված են դրական նշանով, իսկ նվազեցումները՝ փակագծերում)
A11: Ծրագիր | B11: Միջոցառում | D11: Ինն ամիս | E11: Ինն ամիս | F11: Տարի
A12: 1192 | C12: ԸՆԴԱՄԵՆԸ | D12: =+D14+D118 -> 16145.4 | E12: =+E14+E118 -> 16145.4 | F12: =+F14+F118 -> 16145.4
C13: այդ թվում
C14: ՀՀ ԿՐԹՈՒԹՅԱՆ, ԳԻՏՈՒԹՅԱՆ, ՄՇԱԿՈՒՅԹԻ ԵՎ ՍՊՈՐՏԻ ՆԱԽԱՐԱՐՈՒԹՅՈՒՆ | D14: =+D16+D29+D42+D55+D68+D105 -> 16145.4 | E14: =+E16+E29+E42+E55+E68+E105 -> 16145.4 | F14: =+F16+F29+F42+F55+F68+F105 -> 16145.4
A15: 1045 | C15: Ծրագրի անվանումը`
C16: Նախնական (արհեստագործական) և միջին մասնագիտական կրթություն | D16: =+D23 -> 438.9 | E16: =+E23 -> -30735.8 | F16: =+F23 -> -30735.8
C17: Ծրագրի նպատակը`
C18: Աշխատաշուկայի արդի պահանջներին համապատասխան նախնական մասնագիտական (արհեստագործական) և միջին մասնագիտական կրթության որակավորում ունեցող մասնագետների պատրաստում, կրթության մատչելիության ապահովում:
C19: Վերջնական արդյունքի նկարագրությունը`
C20: Նախնական (արհեստագործական) և միջին մասնագիտական կրթության գրավչության բարձրացում, մատչելի և մրցունակ նախնական (արհեստագործական) և միջին մասնագիտական կրթության ապահովում
C21: Ծրագրի միջոցառումներ
B22: 32001 | C22: Միջոցառման անվանումը`
C23: Նախնական մասնագիտական (արհեստագործական) և միջին մասնագիտական ուսումնական հաստատությունների շենքային պայմանների բարելավում | D23: =+'Հավելված N 4'!G40 -> 438.9 | E23: =+'Հավելված N 4'!H40 -> -30735.8 | F23: =+'Հավելված N 4'!I40 -> -30735.8
C24: Միջոցառման նկարագրությունը`
C25: ՆՄՄԿՈՒ հաստատությունների շենքերի հիմնանորոգման և նախագծման (շինարարական աշխատանքներ, ջեռուցման համակարգի ստեղծում, ներքին հարդարում, տարածքի բարեկարգում) աշխատանքների իրականացում
C26: Միջոցառման տեսակը
C27: Այլ պետական կազմակերպությունների կողմից օգտագործվող ոչ ֆինանսական ակտիվների հետ գործառնություններ
A28: 1130 | C28: Ծրագրի անվանումը`
C29: Կրթության, գիտության, մշակույթի և սպորտի բնագավառի պետական քաղաքականության մշակում, ծրագրերի համակարգում և մոնիտորինգ | D29: =+D36 -> 1428.7 | E29: =+E36 -> 1428.7 | F29: =+F36 -> 1428.7
C30: Ծրագրի նպատակը`
C31: Ապահովել համընդհանուր, հավասարապես հասանելի, ներառական և որակյալ կրթություն՛ բավարարելով տնտեսության ու հասարակության պահանջները, լիարժեք ծառայելով ազգային շահերին
C32: Վերջնական արդյունքի նկարագրությունը`
C33: Կրթության, գիտության, մշակույթի և սպորտի բնագավառում իրականացվող ծրագրերի ազդեցության և արդյունավետության բարելավում
C34: Ծրագրի միջոցառումներ
B35: 32001 | C35: Միջոցառման անվանումը`
C36: ՀՀ կրթության, գիտության, մշակույթի և սպորտի բնագավառում օժանդակ ծրագրեր իրականացնող կազմակերպությունների շենքային պայմանների և գույքային հագեցվածության բարելավում | D36: =+'Հավելված N 4'!G142 -> 1428.7 | E36: =+'Հավելված N 4'!H142 -> 1428.7 | F36: =+'Հավելված N 4'!I142 -> 1428.7
C37: Միջոցառման նկարագրությունը`
C38: ՀՀ կրթության, գիտության, մշակույթի և սպորտի բնագավառում օժանդակ ծրագրեր իրականացնող կազմակերպությունների աշխատանքային պայմանների բարելավում
C39: Միջոցառման տեսակը
C40: Այլ պետական կազմակերպությունների կողմից օգտագործվող ոչ ֆինանսական ակտիվների հետ գործառնություններ
A41: 1148 | C41: Ծրագրի անվանումը`
C42: Արտադպրոցական դաստիարակության ծրագիր | D42: =+D49 -> -31174.7 | E42: =+E49 -> 0 | F42: =+F49 -> 0
C43: Ծրագրի նպատակը`
C44: Նպաստել հանրակրթական ուսուցման համակարգում ընդգրկված երեխաների ֆիզիկական, հոգևոր և գեղագիտական զարգացմանը, բնապահպանական և կիրառական գիտելիքների ձեռքբերմանը
C45: Վերջնական արդյունքի նկարագրությունը`
C46: Ստեղծել պայմաններ սովորողների ազատ ժամանացի կազմակերպան միջոցով նրանց հետաքրքրությունների բացահայտման, ձևավորման և զարգացման համար
C47: Ծրագրի միջոցառումներ
B48: 11016 | C48: Միջոցառման անվանումը`
C49: ՀՀ հանրակրթական ծրագրեր իրականացնող ուսումնական հաստատությունների 11-րդ դասարանների աշակերտների ռազմամարզական ճամբարի կազմակերպում | D49: =+'Հավելված N 4'!G23 -> -31174.7 | E49: =+'Հավելված N 4'!H23 -> 0 | F49: =+'Հավելված N 4'!I23 -> 0
C50: Միջոցառման նկարագրությունը`
C51: Նպաստել 11-րդ դասարաններում սովորող դպրոցականների մոտ «Նախնական զինվորական պատրաստություն» առարկայից ստացած գիտելիքների հարստացմանը և դրանց համապատասխան կարողությունների և հմտությունների զարգացմանը
C52: Միջոցառման տեսակը
C53: Ծառայությունների մատուցում
A54: 1163 | C54: Ծրագրի անվանումը`
C55: Մասսայական սպորտ | D55: =+D62 -> 5315.9 | E55: =+E62 -> 5315.9 | F55: =+F62 -> 5315.9
C56: Ծրագրի նպատակը`
C57: Բնակչության շրջանում առողջ ապրելակերպի արմատավորում, անհատի բազմակողմանի ու ներդաշնակ զարգացման գործում ֆիզիկական կուլտուրայի և սպորտի դերի բարձրացում
C58: Վերջնական արդյունքի նկարագրությունը`
C59: Սպորտի նկատմամբ հետաքրքրվածության և մասնակցության ընդլայնում
C60: Ծրագրի միջոցառումներ
B61: 32002 | C61: Միջոցառման անվանումը`
C62: Մարզական օբյեկտների հիմնանորոգում | D62: =+'Հավելված N 4'!G58 -> 5315.9 | E62: =+'Հավելված N 4'!H58 -> 5315.9 | F62: =+'Հավելված N 4'!I58 -> 5315.9
C63: Միջոցառման նկարագրությունը`
C64: Մարզական օբյեկտների շենքերի (մասնաշենքերի) հիմնանորոգում
C65: Միջոցառման տեսակը
C66: Այլ պետական կազմակերպությունների կողմից օգտագործվող ոչ ֆինանսական ակտիվների հետ գործառնություններ
A67: 1183 | C67: Ծրագրի անվանումը`
C68: Ապահով դպրոց | D68: =+D75+D81+D87+D93+D99 -> 23991.2 | E68: =+E75+E81+E87+E93+E99 -> 23991.2 | F68: =+F75+F81+F87+F93+F99 -> 23991.2
C69: Ծրագրի նպատակը`
C70: Դպրոցներին սպառնացող աղետների ռիսկի կառավարման կարողությունների հզորացում, դպրոցի անձնակազմի և աշակերտների անվտանգության ապահովման մակարդակի բարձրացում՛ կիրառելով ներառական և երեխայակենտրոն մոտեցում
C71: Վերջնական արդյունքի նկարագրությունը`
C72: Դպրոցական միջավայրի բարելավում
C73: Ծրագրի միջոցառումներ
B74: 32001 | C74: Միջոցառման անվանումը`
C75: Կրթական օբյեկտների շենքային պայմանների բարելավում | D75: =+'Հավելված N 4'!G69 -> 942.1 | E75: =+'Հավելված N 4'!H69 -> 942.1 | F75: =+'Հավելված N 4'!I69 -> 942.1
C76: Միջոցառման նկարագրությունը`
C77: Կրթական օբյեկտների շենքերի (մասնաշենքերի) հիմնանորոգում (համաշինարարական աշխատանքներ, ջեռուցման համակարգի իրականացում, ներքին հարդարում, տարածքի բարեկարգում) և նախագծում
C78: Միջոցառման տեսակը
C79: Այլ պետական կազմակերպությունների կողմից օգտագործվող ոչ ֆինանսական ակտիվների հետ գործառնություններ
B80: 32003 | C80: Միջոցառման անվանումը`
C81: Փոքրաքանակ երեխաներով համալրված հանրակրթական դպրոցների և կրթահամալիրներ մոդուլային շենքերի կառուցում | D81: =+'Հավելված N 4'!G78 -> 12579.3 | E81: =+'Հավելված N 4'!H78 -> 5829.3 | F81: =+'Հավելված N 4'!I78 -> 5829.3
C82: Միջոցառման նկարագրությունը`
C83: Կրթական հաստատությունների կառուցում համայնքային կենտրոնների մոդելով
C84: Միջոցառման տեսակը
C85: Այլ պետական կազմակերպությունների կողմից օգտագործվող ոչ ֆինանսական ակտիվների հետ գործառնություններ
B86: 32007 | C86: Միջոցառման անվանումը`
C87: Հանրակրթական կրթություն իրականացնող ուսումնական հաստատությունների նոր մարզադահլիճների կառուցում | D87: =+'Հավելված N 4'!G94 -> 1930.2 | E87: =+'Հավելված N 4'!H94 -> 1930.2 | F87: =+'Հավելված N 4'!I94 -> 1930.2
C88: Միջոցառման նկարագրությունը`
C89: Հանրակրթական ուսուցում իրականացնող ուսումնական հաստատությունների նոր մարզադահլիճների կառուցման նախագծանախահաշվային փաստաթղթերի մշակում
C90: Միջոցառման տեսակը
C91: Այլ պետական կազմակերպությունների կողմից օգտագործվող ոչ ֆինանսական ակտիվների հետ գործառնություններ
B92: 32012 | C92: Միջոցառման անվանումը`
C93: Հանրակրթական դպրոցների գույքով և տեխնիկայով ապահովում | D93: =+'Հավելված N 4'!G103 -> 8539.6 | E93: =+'Հավելված N 4'!H103 -> 8539.6 | F93: =+'Հավելված N 4'!I103 -> 8539.6
C94: Միջոցառման նկարագրությունը`
C95: Կրթական ժամանակակից նորմերին համապատասխանող գույքի ձեռքբերում
C96: Միջոցառման տեսակը
C97: Այլ պետական կազմակերպությունների կողմից օգտագործվող ոչ ֆինանսական ակտիվների հետ գործառնություններ
B98: 32013 | C98: Միջոցառման անվանումը`
C99: ՀՀ մարզերում կրթական որակյալ ծառայությունների հասանելիության ապահովման ծրագրի շրջանակներում կրթական կենտրոնների ստեղծում | D99: =+'Հավելված N 4'!G112 -> 0 | E99: =+'Հավելված N 4'!H112 -> 6750 | F99: =+'Հավելված N 4'!I112 -> 6750
C100: Միջոցառման նկարագրությունը`
C101: ՀՀ մարզերում կրթական որակյալ ծառայությունների հասանելիության ապահովման ծրագրի շրջանակներում հանրակրթական և նախադպրոցական կրթության հասանելիության ապահովման նպատակով կրթական կենտրոնների կառուցում
C102: Միջոցառման տեսակը
C103: Այլ պետական կազմակերպությունների կողմից օգտագործվող ոչ ֆինանսական ակտիվների հետ գործառնություններ
A104: 1193 | C104: Ծրագրի անվանումը`
...

Sheet Հավելված N 4
F1: Հավելված N 4
F2: ՀՀ կառավարության 2023 թվականի
F3: ______________ ի ___Ն որոշման
A5: ՀԱՅԱՍՏԱՆԻ ՀԱՆՐԱՊԵՏՈՒԹՅԱՆ ԿԱՌԱՎԱՐՈՒԹՅԱՆ 2022 ԹՎԱԿԱՆԻ ԴԵԿՏԵՄԲԵՐԻ 29-Ի N2111-Ն ՈՐՈՇՄԱՆ N 3 ԵՎ N 4 ՀԱՎԵԼՎԱԾՆԵՐՈՒՄ ԿԱՏԱՐՎՈՂ ՓՈՓՈԽՈՒԹՅՈՒՆՆԵՐԸ ԵՎ ԼՐԱՑՈՒՄՆԵՐԸ
I7: հազ. դրամներով
A8: Գործառական դասիչը | D8: Ծրագրային դասիչը | F8: Բյուջետային հատկացումների գլխավոր կարգադրիչների, ծրագրերի, միջոցառումների և միջոցառումները կատարող պետական մարմինների անվանումները | G8: Ցուցանիշների փոփոխությունը (ավելացումները նշված են դրական նշանով, իսկ նվազեցումները՝ փակագծերում)
A9: Բաժին | B9: Խումբ | C9: Դաս | D9: Ծրագիր | E9: Միջոցառում | G9: Առաջին կիսամյակ | H9: Ինն ամիս | I9: Տարի
F10: ԸՆԴԱՄԵՆԸ | G10: =+G12+G152 -> 16145.4 | H10: =+H12+H152 -> 16145.4 | I10: =+I12+I152 -> 16145.4
F11: այդ թվում
F12: ՀՀ ԿՐԹՈՒԹՅԱՆ, ԳԻՏՈՒԹՅԱՆ, ՄՇԱԿՈՒՅԹԻ ԵՎ ՍՊՈՐՏԻ ՆԱԽԱՐԱՐՈՒԹՅՈՒՆ | G12: =+G13 -> 16145.4 | H12: =+H13 -> 16145.4 | I12: =+I13 -> 16145.4
A13: 09 | F13: ԿՐԹՈՒԹՅՈՒՆ | G13: =+G15+G32+G134 -> 16145.4 | H13: =+H15+H32+H134 -> 16145.4 | I13: =+I15+I32+I134 -> 16145.4
F14: այդ թվում`
B15: 05 | F15: Ըստ մակարդակների չդասակարգվող կրթություն | G15: =+G17 -> -31174.7 | H15: =+H17 -> 0 | I15: =+I17 -> 0
F16: այդ թվում`
C17: 01 | F17: Արտադպրոցական դաստիարակություն | G17: =+G19 -> -31174.7 | H17: =+H19 -> 0 | I17: =+I19 -> 0
F18: այդ թվում`
F19: ՀՀ կրթության, գիտության, մշակույթի և սպորտի նախարարություն | G19: =+G21 -> -31174.7 | H19: =+H21 -> 0 | I19: =+I21 -> 0
F20: այդ թվում՝
D21: 1148 | E21: Արտադպրոցական դաստիարակության ծրագիր | G21: =+G23 -> -31174.7 | H21: =+H23 -> 0 | I21: =+I23 -> 0
F22: այդ թվում`
E23: 11016 | F23: ՀՀ հանրակրթական ծրագրեր իրականացնող ուսումնական հաստատությունների 11-րդ դասարանների աշակերտների ռազմամարզական ճամբարի կազմակերպում | G23: =+G25 -> -31174.7 | H23: =+H25 -> 0 | I23: =+I25 -> 0
F24: այդ թվում` ըստ կատարողների
F25: ՀՀ կրթության, գիտության, մշակույթի և սպորտի նախարարություն | G25: =G27 -> -31174.7 | H25: =H27 -> 0 | I25: =I27 -> 0
F26: այդ թվում՝ բյուջետային ծախսերի տնտեսագիտական դասակարգման հոդվածներ
F27: ԸՆԴԱՄԵՆԸ ԾԱԽՍԵՐ | G27: =+G28 -> -31174.7 | H27: =+H28 -> 0 | I27: =+I28 -> 0
F28: ԸՆԹԱՑԻԿ ԾԱԽՍԵՐ | G28: =G29 -> -31174.7 | H28: =H29 -> 0 | I28: =I29 -> 0
F29: ԴՐԱՄԱՇՆՈՐՀՆԵՐ | G29: =+G30 -> -31174.7 | H29: =+H30 -> 0 | I29: =+I30 -> 0
F30: Ընթացիկ դրամաշնորհներ պետական հատվածի այլ մակարդակներին | G30: =+G31 -> -31174.7 | H30: =+H31 -> 0 | I30: =+I31 -> 0
F31: - Ընթացիկ դրամաշնորհներ պետական և համայնքների ոչ առևտրային կազմակերպություններին | G31: =-'Հավելված N 6'!E12 -> -31174.7 | H31: 0 | I31: 0
B32: 06 | F32: Կրթությանը տրամադրվող օժանդակ ծառայություններ | G32: =+G34 -> 45891.4 | H32: =+H34 -> 14716.7 | I32: =+I34 -> 14716.7
F33: այդ թվում`
C34: 01 | F34: Կրթությանը տրամադրվող օժանդակ ծառայություններ | G34: =+G36 -> 45891.4 | H34: =+H36 -> 14716.7 | I34: =+I36 -> 14716.7
F35: այդ թվում`
F36: ՀՀ կրթության, գիտության, մշակույթի և սպորտի նախարարություն | G36: =+G38+G56+G67+G121 -> 45891.4 | H36: =+H38+H56+H67+H121 -> 14716.7 | I36: =+I38+I56+I67+I121 -> 14716.7
F37: այդ թվում՝
D38: 1045 | E38: Նախնական (արհեստագործական) և միջին մասնագիտական կրթություն | G38: =+G40 -> 438.9 | H38: =+H40 -> -30735.8 | I38: =+I40 -> -30735.8
F39: այդ թվում`
E40: 32001 | F40: Նախնական մասնագիտական (արհեստագործական) և միջին մասնագիտական ուսումնական հաստատությունների շենքային պայմանների բարելավում | G40: =+G42+G49 -> 438.9 | H40: =+H42+H49 -> -30735.8 | I40: =+I42+I49 -> -30735.8
F41: այդ թվում` ըստ կատարողների
F42: ՀՀ կրթության, գիտության, մշակույթի և սպորտի նախարարություն | G42: =G44 -> -57352.1 | H42: =H44 -> -88526.8 | I42: =I44 -> -88526.8
F43: այդ թվում՝ բյուջետային ծախսերի տնտեսագիտական դասակարգման հոդվածներ
F44: ԸՆԴԱՄԵՆԸ ԾԱԽՍԵՐ | G44: =+G45 -> -57352.1 | H44: =+H45 -> -88526.8 | I44: =+I45 -> -88526.8
F45: ՈՉ ՖԻՆԱՆՍԱԿԱՆ ԱԿՏԻՎՆԵՐԻ ԳԾՈՎ ԾԱԽՍԵՐ | G45: =G46 -> -57352.1 | H45: =H46 -> -88526.8 | I45: =I46 -> -88526.8
F46: ՀԻՄՆԱԿԱՆ ՄԻՋՈՑՆԵՐ | G46: =+G47 -> -57352.1 | H46: =+H47 -> -88526.8 | I46: =+I47 -> -88526.8
F47: ՇԵՆՔԵՐ ԵՎ ՇԻՆՈՒԹՅՈՒՆՆԵՐ | G47: =+G48 -> -57352.1 | H47: =+H48 -> -88526.8 | I47: =+I48 -> -88526.8
F48: - Շենքերի և շինությունների կապիտալ վերանորոգում | G48: =+'Հավելված N 6'!E16 -> -57352.1 | H48: =+'Հավելված N 6'!F16 -> -88526.8 | I48: =+'Հավելված N 6'!G16 -> -88526.8
F49: ՀՀ քաղաքաշինության կոմիտե | G49: =+G51 -> 57791 | H49: =+H51 -> 57791 | I49: =I51 -> 57791
F50: այդ թվում՝ բյուջետային ծախսերի տնտեսագիտական դասակարգման հոդվածներ
F51: ԸՆԴԱՄԵՆԸ ԾԱԽՍԵՐ | G51: =+G52 -> 57791 | H51: =+H52 -> 57791 | I51: =+I52 -> 57791
F52: ՈՉ ՖԻՆԱՆՍԱԿԱՆ ԱԿՏԻՎՆԵՐԻ ԳԾՈՎ ԾԱԽՍԵՐ | G52: =G53 -> 57791 | H52: =H53 -> 57791 | I52: =I53 -> 57791
F53: ՀԻՄՆԱԿԱՆ ՄԻՋՈՑՆԵՐ | G53: =+G54 -> 57791 | H53: =+H54 -> 57791 | I53: =+I54 -> 57791
F54: ՇԵՆՔԵՐ ԵՎ ՇԻՆՈՒԹՅՈՒՆՆԵՐ | G54: =+G55 -> 57791 | H54: =+H55 -> 57791 | I54: =+I55 -> 57791
F55: - Շենքերի և շինությունների կապիտալ վերանորոգում | G55: =+'Հավելված N 6'!E20 -> 57791 | H55: =+'Հավելված N 6'!F20 -> 57791 | I55: =+'Հավելված N 6'!G20 -> 57791
D56: 1163 | E56: Մասսայական սպորտ | G56: =+G58 -> 5315.9 | H56: =+H58 -> 5315.9 | I56: =+I58 -> 5315.9
F57: այդ թվում`
E58: 32002 | F58: Մարզական օբյեկտների հիմնանորոգում | G58: =+G60 -> 5315.9 | H58: =+H60 -> 5315.9 | I58: =+I60 -> 5315.9
F59: այդ թվում` ըստ կատարողների
F60: ՀՀ քաղաքաշինության կոմիտե | G60: =G62 -> 5315.9 | H60: =H62 -> 5315.9 | I60: =I62 -> 5315.9
F61: այդ թվում՝ բյուջետային ծախսերի տնտեսագիտական դասակարգման հոդվածներ
F62: ԸՆԴԱՄԵՆԸ ԾԱԽՍԵՐ | G62: =G63 -> 5315.9 | H62: =H63 -> 5315.9 | I62: =I63 -> 5315.9
F63: ՈՉ ՖԻՆԱՆՍԱԿԱՆ ԱԿՏԻՎՆԵՐԻ ԳԾՈՎ ԾԱԽՍԵՐ | G63: =G64 -> 5315.9 | H63: =H64 -> 5315.9 | I63: =I64 -> 5315.9
F64: ՀԻՄՆԱԿԱՆ ՄԻՋՈՑՆԵՐ | G64: =+G65 -> 5315.9 | H64: =+H65 -> 5315.9 | I64: =+I65 -> 5315.9
F65: ՇԵՆՔԵՐ ԵՎ ՇԻՆՈՒԹՅՈՒՆՆԵՐ | G65: =+G66 -> 5315.9 | H65: =+H66 -> 5315.9 | I65: =+I66 -> 5315.9
F66: - Շենքերի և շինությունների կապիտալ վերանորոգում | G66: =+'Հավելված N 6'!E36 -> 5315.9 | H66: =+'Հավելված N 6'!F36 -> 5315.9 | I66: =+'Հավելված N 6'!G36 -> 5315.9
D67: 1183 | E67: Ապահով դպրոց | G67: =+G69+G78+G94+G103+G112 -> 23991.2 | H67: =+H69+H78+H94+H103+H112 -> 23991.2 | I67: =+I69+I78+I94+I103+I112 -> 23991.2
F68: այդ թվում`
E69: 32001 | F69: Կրթական օբյեկտների շենքային պայմանների բարելավում | G69: =+G71 -> 942.1 | H69: =+H71 -> 942.1 | I69: =+I71 -> 942.1
F70: այդ թվում` ըստ կատարողների
F71: ՀՀ կրթության, գիտության, մշակույթի և սպորտի նախարարություն | G71: =G73 -> 942.1 | H71: =H73 -> 942.1 | I71: =I73 -> 942.1
F72: այդ թվում՝ բյուջետային ծախսերի տնտեսագիտական դասակարգման հոդվածներ
F73: ԸՆԴԱՄԵՆԸ ԾԱԽՍԵՐ | G73: =G74 -> 942.1 | H73: =H74 -> 942.1 | I73: =I74 -> 942.1
F74: ՈՉ ՖԻՆԱՆՍԱԿԱՆ ԱԿՏԻՎՆԵՐԻ ԳԾՈՎ ԾԱԽՍԵՐ | G74: =G75 -> 942.1 | H74: =H75 -> 942.1 | I74: =I75 -> 942.1
F75: ՀԻՄՆԱԿԱՆ ՄԻՋՈՑՆԵՐ | G75: =+G76 -> 942.1 | H75: =+H76 -> 942.1 | I75: =+I76 -> 942.1
F76: ՇԵՆՔԵՐ ԵՎ ՇԻՆՈՒԹՅՈՒՆՆԵՐ | G76: =+G77 -> 942.1 | H76: =+H77 -> 942.1 | I76: =+I77 -> 942.1
F77: - Շենքերի և շինությունների կապիտալ վերանորոգում | G77: =+'Հավելված N 6'!E42 -> 942.1 | H77: =+'Հավելված N 6'!F42 -> 942.1 | I77: =+'Հավելված N 6'!G42 -> 942.1
E78: 32003 | F78: Փոքրաքանակ երեխաներով համալրված հանրակրթական դպրոցների և կրթահամալիրների մոդուլային շենքերի կառուցում | G78: =+G80+G87 -> 12579.3 | H78: =+H80+H87 -> 5829.3 | I78: =+I80+I87 -> 5829.3
F79: այդ թվում` ըստ կատարողների
F80: ՀՀ քաղաքաշինության կոմիտե | G80: =G82 -> 12579.3 | H80: =H82 -> 12579.3 | I80: =I82 -> 12579.3
F81: այդ թվում՝ բյուջետային ծախսերի տնտեսագիտական դասակարգման հոդվածներ
F82: ԸՆԴԱՄԵՆԸ ԾԱԽՍԵՐ | G82: =G83 -> 12579.3 | H82: =H83 -> 12579.3 | I82: =I83 -> 12579.3
F83: ՈՉ ՖԻՆԱՆՍԱԿԱՆ ԱԿՏԻՎՆԵՐԻ ԳԾՈՎ ԾԱԽՍԵՐ | G83: =G84 -> 12579.3 | H83: =H84 -> 12579.3 | I83: =I84 -> 12579.3
F84: ՀԻՄՆԱԿԱՆ ՄԻՋՈՑՆԵՐ | G84: =+G85 -> 12579.3 | H84: =+H85 -> 12579.3 | I84: =+I85 -> 12579.3
F85: ՇԵՆՔԵՐ ԵՎ ՇԻՆՈՒԹՅՈՒՆՆԵՐ | G85: =+G86 -> 12579.3 | H85: =+H86 -> 12579.3 | I85: =+I86 -> 12579.3
F86: - Շենքերի և շինությունների շինարարություն | G86: =+'Հավելված N 6'!E48 -> 12579.3 | H86: =+'Հավելված N 6'!F48 -> 12579.3 | I86: =+'Հավելված N 6'!G48 -> 12579.3
F87: ՀՀ կառավարություն | G87: =G89 -> 0 | H87: =H89 -> -6750 | I87: =I89 -> -6750
F88: այդ թվում՝ բյուջետային ծախսերի տնտեսագիտական դասակարգման հոդվածներ
F89: ԸՆԴԱՄԵՆԸ ԾԱԽՍԵՐ | G89: =G90 -> 0 | H89: =H90 -> -6750 | I89: =I90 -> -6750
F90: ՈՉ ՖԻՆԱՆՍԱԿԱՆ ԱԿՏԻՎՆԵՐԻ ԳԾՈՎ ԾԱԽՍԵՐ | G90: =G91 -> 0 | H90: =H91 -> -6750 | I90: =I91 -> -6750
F91: ՀԻՄՆԱԿԱՆ ՄԻՋՈՑՆԵՐ | G91: =+G92 -> 0 | H91: =+H92 -> -6750 | I91: =+I92 -> -6750
F92: ՇԵՆՔԵՐ ԵՎ ՇԻՆՈՒԹՅՈՒՆՆԵՐ | G92: =+G93 -> 0 | H92: =+H93 -> -6750 | I92: =+I93 -> -6750
F93: - Շենքերի և շինությունների շինարարություն | G93: =+'Հավելված N 6'!E56 -> 0 | H93: =+'Հավելված N 6'!F56 -> -6750 | I93: =+'Հավելված N 6'!G56 -> -6750
E94: 32007 | F94: Հանրակրթական կրթություն իրականացնող ուսումնական հաստատությունների նոր մարզադահլիճների կառուցում | G94: =+G96 -> 1930.2 | H94: =+H96 -> 1930.2 | I94: =+I96 -> 1930.2
F95: այդ թվում` ըստ կատարողների
F96: ՀՀ քաղաքաշինության կոմիտե | G96: =G98 -> 1930.2 | H96: =H98 -> 1930.2 | I96: =I98 -> 1930.2
F97: այդ թվում՝ բյուջետային ծախսերի տնտեսագիտական դասակարգման հոդվածներ
F98: ԸՆԴԱՄԵՆԸ ԾԱԽՍԵՐ | G98: =G99 -> 1930.2 | H98: =H99 -> 1930.2 | I98: =I99 -> 1930.2
F99: ՈՉ ՖԻՆԱՆՍԱԿԱՆ ԱԿՏԻՎՆԵՐԻ ԳԾՈՎ ԾԱԽՍԵՐ | G99: =G100 -> 1930.2 | H99: =H100 -> 1930.2 | I99: =I100 -> 1930.2
F100: ՀԻՄՆԱԿԱՆ ՄԻՋՈՑՆԵՐ | G100: =+G101 -> 1930.2 | H100: =+H101 -> 1930.2 | I100: =+I101 -> 1930.2
F101: ՇԵՆՔԵՐ ԵՎ ՇԻՆՈՒԹՅՈՒՆՆԵՐ | G101: =+G102 -> 1930.2 | H101: =+H102 -> 1930.2 | I101: =+I102 -> 1930.2
F102: - Շենքերի և շինությունների շինարարություն | G102: =+'Հավելված N 6'!E59 -> 1930.2 | H102: =+'Հավելված N 6'!F59 -> 1930.2 | I102: =+'Հավելված N 6'!G59 -> 1930.2
...

Sheet Հավելված N 5
F1: Հավելված N 5
F2: ՀՀ կառավարության 2023 թվականի
F3: ______________ ի ___Ն որոշման
A5: «ՀԱՅԱUՏԱՆԻ ՀԱՆՐԱՊԵՏՈՒԹՅԱՆ 2022 ԹՎԱԿԱՆԻ ՊԵՏԱԿԱՆ ԲՅՈՒՋԵԻ ՄԱUԻՆ» ՀԱՅԱUՏԱՆԻ ՀԱՆՐԱՊԵՏՈՒԹՅԱՆ OՐԵՆՔԻ N 1 ՀԱՎԵԼՎԱԾԻ N 3 ԱՂՅՈՒՍԱԿՈՒՄ ԿԱՏԱՐՎՈՂ ՓՈՓՈԽՈՒԹՅՈՒՆՆԵՐԸ ԵՎ ԼՐԱՑՈՒՄՆԵՐԸ
H8: հազ. դրամներով
A9: Ծրագրային դասիչ | C9: Բյուջետային գլխավոր կարգադրիչների, ծրագրերի, միջոցառումների և ուղղությունների անվանումները | D9: Ընդամենը | E9: Ցուցանիշների փոփոխությունը (ավելացումները նշված են դրական նշանով, իսկ նվազեցումները՝ փակագծերում)
A10: Ծրագիր | B10: Միջոցառում | E10: Կառուցման աշխատանքներ | F10: Վերակառուցման, վերանորոգման և վերականգնման աշխատանքներ | G10: Նախագծահե- տազոտական, գեոդեզիա- քարտեզագրա- կան աշխա- տանքներ | H10: Ոչ ֆինանսական այլ ակտիվների ձեռքբերում
C11: ԸՆԴԱՄԵՆԸ | D11: =SUM(E11:H11) -> 0 | E11: =+E13 -> 7759.5 | F11: =+F13 -> -24477.8 | G11: =+G13 -> 6750 | H11: =+H13 -> 9968.3
C12: այդ թվում՝
C13: ՀՀ ԿՐԹՈՒԹՅԱՆ, ԳԻՏՈՒԹՅԱՆ, ՄՇԱԿՈՒՅԹԻ ԵՎ ՍՊՈՐՏԻ ՆԱԽԱՐԱՐՈՒԹՅՈՒՆ | D13: =SUM(E13:H13) -> 0 | E13: =+E15+E21+E29+E33+E37+E46+E52+E94 -> 7759.5 | F13: =+F15+F21+F29+F33+F37+F46+F52+F94 -> -24477.8 | G13: =+G15+G21+G29+G33+G37+G46+G52+G94 -> 6750 | H13: =+H15+H21+H29+H33+H37+H46+H52+H94 -> 9968.3
C14: այդ թվում`
A15: 1045 | B15: 32001 | C15: Նախնական մասնագիտական (արհեստագործական) և միջին մասնագիտական ուսումնական հաստատությունների շենքային պայմանների բարելավում | D15: =+E15+F15+G15+H15 -> -30735.8 | E15: =+E17+E19 -> 0 | F15: =+F17+F19 -> -30735.8 | G15: =+G17+G19 -> 0 | H15: =+H17+H19 -> 0
C16: այդ թվում`
C17: Երևան քաղաք | D17: =SUM(E17:H17) -> -88526.8 | E17: =+E18 -> 0 | F17: =+F18 -> -88526.8 | G17: =+G18 -> 0 | H17: =+H18 -> 0
C18: «Երևանի հ․8 արհեստագործական պետական ուսումնարան» ՊՈԱԿ | D18: =+E18+F18+G18+H18 -> -88526.8 | F18: =+'Հավելված N 10'!I15 -> -88526.8
C19: ՀՀ Լոռու մարզ | D19: =SUM(E19:H19) -> 57791 | E19: =+E20 -> 0 | F19: =+F20 -> 57791 | G19: =+G20 -> 0 | H19: =+H20 -> 0
C20: ք. Վանաձորի գյուղատնտեսական պետական քոլեջ ՊՈԱԿ | D20: =+E20+F20+G20+H20 -> 57791 | F20: =+'Հավելված N 10'!I61+18228 -> 57791
A21: 1130 | B21: 32001 | C21: ՀՀ կրթության, գիտության, մշակույթի և սպորտի բնագավառում օժանդակ ծրագրեր իրականացնող կազմակերպությունների շենքային պայմանների և գույքային հագեցվածության բարելավում | D21: =+E21+F21+G21+H21 -> 1428.7 | E21: =+E23+E25+E27 -> 0 | F21: =+F23+F25+F27 -> 0 | G21: =+G23+G25+G27 -> 0 | H21: =+H23+H25+H27 -> 1428.7
C22: այդ թվում`
C23: ՀՀ Լոռու մարզ | D23: =SUM(E23:H23) -> 476.2 | E23: =+E24 -> 0 | F23: =+F24 -> 0 | G23: =+G24 -> 0 | H23: =+H24 -> 476.2
C24: «Վանաձորի տարածքային մանկավարժահոգեբանական աջակցության կենտրոն» ՊՈԱԿ | D24: =+E24+F24+G24+H24 -> 476.2 | H24: 476.2
C25: ՀՀ Շիրակի մարզ | D25: =SUM(E25:H25) -> 476.2 | E25: =+E26 -> 0 | F25: =+F26 -> 0 | G25: =+G26 -> 0 | H25: =+H26 -> 476.2
C26: «Արթիկի տարածքային մանկավարժահոգեբանական աջակցության կենտրոն» ՊՈԱԿ | D26: =+E26+F26+G26+H26 -> 476.2 | H26: 476.2
C27: ՀՀ Սյունիքի մարզ | D27: =SUM(E27:H27) -> 476.3 | E27: =+E28 -> 0 | F27: =+F28 -> 0 | G27: =+G28 -> 0 | H27: =+H28 -> 476.3
C28: «Գորիսի տարածքային մանկավարժահոգեբանական աջակցության կենտրոն» ՊՈԱԿ | D28: =+E28+F28+G28+H28 -> 476.3 | H28: 476.3
A29: 1163 | B29: 32002 | C29: Մարզական օբյեկտների հիմնանորոգում | D29: =+E29+F29+G29+H29 -> 5315.9 | E29: =+E31 -> 0 | F29: =+F31 -> 5315.9 | G29: =+G31 -> 0 | H29: =+H31 -> 0
C30: այդ թվում`
C31: Երևան քաղաք | D31: =SUM(E31:H31) -> 5315.9 | E31: =SUM(E32:E32) -> 0 | F31: =SUM(F32:F32) -> 5315.9 | G31: =SUM(G32:G32) -> 0 | H31: =SUM(H32:H32) -> 0
C32: «Երևանի օլիմպիական հերթափոխի պետական մարզական քոլեջ» ՊՈԱԿ | D32: =+E32+F32+G32+H32 -> 5315.9 | F32: 5315.9
A33: 1183 | B33: 32001 | C33: Կրթական օբյեկտների շենքային պայմանների բարելավում | D33: =+E33+F33+G33+H33 -> 942.1 | E33: =+E35 -> 0 | F33: =+F35 -> 942.1 | G33: =+G35 -> 0 | H33: =+H35 -> 0
C34: այդ թվում`
C35: ՀՀ Արագածոտնի մարզ | D35: =SUM(E35:H35) -> 942.1 | E35: =SUM(E36:E36) -> 0 | F35: =SUM(F36:F36) -> 942.1 | G35: =SUM(G36:G36) -> 0 | H35: =SUM(H36:H36) -> 0
C36: «Ռյա Թազայի Ա․ Ավդալի անվան միջնակարգ դպրոց» ՊՈԱԿ | D36: =+E36+F36+G36+H36 -> 942.1 | F36: =+'Հավելված N 10'!I21 -> 942.1
A37: 1183 | B37: 32003 | C37: Փոքրաքանակ երեխաներով համալրված հանրակրթական դպրոցների և կրթահամալիրների մոդուլային շենքերի կառուցում | D37: =SUM(E37:H37) -> 5829.3 | E37: =+E39+E40+E43 -> 5829.3 | F37: =+F39+F40+F43 -> 0 | G37: =+G39+G40+G43 -> 0 | H37: =+H39+H40+H43 -> 0
C38: այդ թվում`
C39: Փոքրաքանակ երեխաներով համալրված հանրակրթական դպրոցների և կրթահամալիրների մոդուլային շենքերի կառուցում | D39: =+E39+F39+G39+H39 -> -6750 | E39: -6750
C40: ՀՀ Գեղարքունիքի մարզ | D40: =SUM(E40:H40) -> 1050.8 | E40: =SUM(E41:E42) -> 1050.8 | F40: =SUM(F41:F42) -> 0 | G40: =SUM(G41:G42) -> 0 | H40: =SUM(H41:H42) -> 0
C41: «Լեռնահովիտ գյուղի Վ. Բարեղամյանի անվան հիմնական դպրոց» ՊՈԱԿ | D41: =SUM(E41:H41) -> 373.4 | E41: 373.4
C42: «Ջիլի միջնակարգ դպրոց» ՊՈԱԿ | D42: =SUM(E42:H42) -> 677.4 | E42: 677.4
C43: ՀՀ Լոռու մարզ | D43: =SUM(E43:H43) -> 11528.5 | E43: =SUM(E44:E45) -> 11528.5 | F43: =SUM(F44:F45) -> 0 | G43: =SUM(G44:G45) -> 0 | H43: =SUM(H44:H45) -> 0
C44: «Հագվու հիմնական դպրոց» ՊՈԱԿ | D44: =SUM(E44:H44) -> 5914.6 | E44: 5914.6
C45: «Մեդովկայի միջնակարգ դպրոց» ՊՈԱԿ | D45: =SUM(E45:H45) -> 5613.9 | E45: 5613.9
A46: 1183 | B46: 32007 | C46: Հանրակրթական կրթություն իրականացնող ուսումնական հաստատությունների նոր մարզադահլիճների կառուցում | D46: =SUM(E46:H46) -> 1930.2 | E46: =+E48+E50 -> 1930.2 | F46: =+F48+F50 -> 0 | G46: =+G48+G50 -> 0 | H46: =+H48+H50 -> 0
C47: այդ թվում`
C48: ՀՀ Գեղարքունիքի մարզ | D48: =SUM(E48:H48) -> 1080 | E48: =+E49 -> 1080 | F48: =+F49 -> 0 | G48: =+G49 -> 0 | H48: =+H49 -> 0
C49: Գագարինի միջնակարգ դպրոց ՊՈԱԿ | D49: =SUM(E49:H49) -> 1080 | E49: 1080
C50: ՀՀ Լոռու մարզ | D50: =SUM(E50:H50) -> 850.2 | E50: =+E51 -> 850.2 | F50: =+F51 -> 0 | G50: =+G51 -> 0 | H50: =+H51 -> 0
C51: «Վանաձորի Խ.Աբովյանի անվան թիվ 9 հիմնական դպրոց» ՊՈԱԿ | D51: =SUM(E51:H51) -> 850.2 | E51: 850.2
A52: 1183 | B52: 32012 | C52: Հանրակրթական դպրոցների գույքով և տեխնիկայով ապահովում | D52: =SUM(E52:H52) -> 8539.6 | E52: =+E54+E56+E58+E74+E77+E82+E92 -> 0 | F52: =+F54+F56+F58+F74+F77+F82+F92 -> 0 | G52: =+G54+G56+G58+G74+G77+G82+G92 -> 0 | H52: =+H54+H56+H58+H74+H77+H82+H92 -> 8539.6
C53: այդ թվում`
C54: ՀՀ Արարատի մարզ | D54: =SUM(E54:H54) -> 1179.6 | E54: =+E55 -> 0 | F54: =+F55 -> 0 | G54: =+G55 -> 0 | H54: =+H55 -> 1179.6
C55: «Դեղձուտի միջնակարգ դպրոց» ՊՈԱԿ | D55: =SUM(E55:H55) -> 1179.6 | H55: =+ROUND((6*'Հավելված N 10'!$G$25/1000+4*'Հավելված N 10'!$G$26/1000),1) -> 1179.6
C56: ՀՀ Արմավիրի մարզ | D56: =SUM(E56:H56) -> 809.7 | E56: =+E57 -> 0 | F56: =+F57 -> 0 | G56: =+G57 -> 0 | H56: =+H57 -> 809.7
C57: «Արգինայի միջնակարգ դպրոց» ՊՈԱԿ | D57: =SUM(E57:H57) -> 809.7 | H57: =+ROUND((5*'Հավելված N 10'!$G$25/1000+2*'Հավելված N 10'!$G$26/1000),1) -> 809.7
C58: ՀՀ Լոռու մարզ | D58: =SUM(E58:H58) -> 2142.5 | E58: =SUM(E59:E73) -> 0 | F58: =SUM(F59:F73) -> 0 | G58: =SUM(G59:G73) -> 0 | H58: =SUM(H59:H73) -> 2142.5
C59: «Հագվու հիմնական դպրոց» ՊՈԱԿ | D59: =SUM(E59:H59) -> 809.7 | H59: =+ROUND((5*'Հավելված N 10'!$G$25/1000+2*'Հավելված N 10'!$G$26/1000),1) -> 809.7
C60: «Վանաձորի Ա.Պուշկինի անվան թիվ 4 հիմնական դպրոց» ՊՈԱԿ | D60: =SUM(E60:H60) -> 95.2 | H60: =ROUND(6*'Հավելված N 10'!$G$24/1000,1) -> 95.2
C61: «Վանաձորի Խ.Աբովյանի անվան թիվ 9 հիմնական դպրոց» ՊՈԱԿ | D61: =SUM(E61:H61) -> 95.2 | H61: =ROUND(6*'Հավելված N 10'!$G$24/1000,1) -> 95.2
C62: «Վանաձորի Վ.Համբարձումյանի անվան թիվ 25 հիմնական դպրոց» ՊՈԱԿ | D62: =SUM(E62:H62) -> 95.2 | H62: =ROUND(6*'Հավելված N 10'!$G$24/1000,1) -> 95.2
C63: «Վանաձորի Ղ.Ալիշանի անվան թիվ 27 հիմնական դպրոց» ՊՈԱԿ | D63: =SUM(E63:H63) -> 95.2 | H63: =ROUND(6*'Հավելված N 10'!$G$24/1000,1) -> 95.2
C64: «Վանաձորի Պ.Սևակի անվան թիվ 30 հիմնական դպրոց» ՊՈԱԿ | D64: =SUM(E64:H64) -> 95.2 | H64: =ROUND(6*'Հավելված N 10'!$G$24/1000,1) -> 95.2
C65: «Ստեփանավանի Ստ.Շահումյանի անվան թիվ 1 հիմնական դպրոց» ՊՈԱԿ | D65: =SUM(E65:H65) -> 95.2 | H65: =ROUND(6*'Հավելված N 10'!$G$24/1000,1) -> 95.2
C66: «Ստեփանավանի Սուրբ Գրիգոր Լուսավորիչի անվան թիվ 2 հիմնական դպրոց» ՊՈԱԿ | D66: =SUM(E66:H66) -> 95.2 | H66: =ROUND(6*'Հավելված N 10'!$G$24/1000,1) -> 95.2
C67: «Սարատովկայի միջնակարգ դպրոց» ՊՈԱԿ | D67: =SUM(E67:H67) -> 95.2 | H67: =ROUND(6*'Հավելված N 10'!$G$24/1000,1) -> 95.2
C68: «Սպիտակի Դ. Տեր-Սիմոնյանի անվան թիվ 2 հիմնական դպրոց» ՊՈԱԿ | D68: =SUM(E68:H68) -> 95.2 | H68: =ROUND(6*'Հավելված N 10'!$G$24/1000,1) -> 95.2
C69: «Սպիտակի թիվ 3 հիմնական դպրոց» ՊՈԱԿ | D69: =SUM(E69:H69) -> 95.2 | H69: =ROUND(6*'Հավելված N 10'!$G$24/1000,1) -> 95.2
C70: «Ալավերդու Ս.Սպանդարյանի անվան թիվ 1 հիմնական դպրոց» ՊՈԱԿ | D70: =SUM(E70:H70) -> 95.2 | H70: =ROUND(6*'Հավելված N 10'!$G$24/1000,1) -> 95.2
C71: «Ալավերդու թիվ 12 հիմնական դպրոց» ՊՈԱԿ | D71: =SUM(E71:H71) -> 95.2 | H71: =ROUND(6*'Հավելված N 10'!$G$24/1000,1) -> 95.2
... C73: «Շամլուղի միջնակարգ դպրոց» ՊՈԱԿ | D73: =SUM(E73:H73) -> 95.2 | H73: =ROUND(6*'Հավելված N 10'!$G$24/1000,1) -> 95.2
C74: ՀՀ Կոտայքի մարզ | D74: =SUM(E74:H74) -> 2359.2 | E74: =+E75+E76 -> 0 | F74: =+F75+F76 -> 0 | G74: =+G75+G76 -> 0 | H74: =+H75+H76 -> 2359.2
C75: «Ջրառատի միջնակարգ դպրոց» ՊՈԱԿ | D75: =SUM(E75:H75) -> 1179.6 | H75: =+ROUND((6*'Հավելված N 10'!$G$25/1000+4*'Հավելված N 10'!$G$26/1000),1) -> 1179.6
C76: «Կաթնաղբյուրի հիմնական դպրոց» ՊՈԱԿ | D76: =SUM(E76:H76) -> 1179.6 | H76: =+ROUND((6*'Հավելված N 10'!$G$25/1000+4*'Հավելված N 10'!$G$26/1000),1) -> 1179.6
C77: ՀՀ Շիրակի մարզ | D77: =SUM(E77:H77) -> 381.2 | E77: =SUM(E78:E81) -> 0 | F77: =SUM(F78:F81) -> 0 | G77: =SUM(G78:G81) -> 0 | H77: =SUM(H78:H81) -> 381.2
C78: «Գյումրու թիվ 8 հիմնական դպրոց» ՊՈԱԿ | D78: =SUM(E78:H78) -> 95.3 | H78: 95.3
C79: «Գյումրու թիվ 30 հիմնական դպրոց» ՊՈԱԿ | D79: =SUM(E79:H79) -> 95.3 | H79: 95.3
C80: «Մարալիկի թիվ 1 հիմնական դպրոց» ՊՈԱԿ | D80: =SUM(E80:H80) -> 95.3 | H80: 95.3
C81: «Կամոյի թիվ 2 հիմնական դպրոց» ՊՈԱԿ | D81: =SUM(E81:H81) -> 95.3 | H81: 95.3
C82: ՀՀ Սյունիքի մարզ | D82: =SUM(E82:H82) -> 857.6 | E82: =SUM(E83:E91) -> 0 | F82: =SUM(F83:F91) -> 0 | G82: =SUM(G83:G91) -> 0 | H82: =SUM(H83:H91) -> 857.6
C83: «Գորիսի N 2 հիմնական դպրոց» ՊՈԱԿ | D83: =SUM(E83:H83) -> 95.3 | H83: 95.3
C84: «Գորիսի N 3 հիմնական դպրոց» ՊՈԱԿ | D84: =SUM(E84:H84) -> 95.3 | H84: 95.3
C85: «Սիսիանի N 4 հիմնական դպրոց» ՊՈԱԿ | D85: =SUM(E85:H85) -> 95.3 | H85: 95.3
C86: «Շաքիի միջնակարգ դպրոց» ՊՈԱԿ | D86: =SUM(E86:H86) -> 95.3 | H86: 95.3
C87: «Շինուհայրի միջնակարգ դպրոց» ՊՈԱԿ | D87: =SUM(E87:H87) -> 95.3 | H87: 95.3
C88: «Կապանի N 5 հիմնական դպրոց» ՊՈԱԿ | D88: =SUM(E88:H88) -> 95.3 | H88: 95.3
C89: «Կապանի N 6 հիմնական դպրոց» ՊՈԱԿ | D89: =SUM(E89:H89) -> 95.3 | H89: 95.3
C90: «Կապանի N 10 հիմնական դպրոց» ՊՈԱԿ | D90: =SUM(E90:H90) -> 95.3 | H90: 95.3
C91: «Կապանի N 13 հիմնական դպրոց» ՊՈԱԿ | D91: =SUM(E91:H91) -> 95.2 | H91: =ROUND(6*'Հավելված N 10'!$G$24/1000,1) -> 95.2
C92: ՀՀ Վայոց Ձորի մարզ | D92: =SUM(E92:H92) -> 809.8 | E92: =+E93 -> 0 | F92: =+F93 -> 0 | G92: =+G93 -> 0 | H92: =+H93 -> 809.8
C93: «Եղեգիսի միջնակարգ դպրոց» ՊՈԱԿ | D93: =SUM(E93:H93) -> 809.8 | H93: 809.8
A94: 1183 | B94: 32013 | C94: ՀՀ մարզերում կրթական որակյալ ծառայությունների հասանելիության ապահովման ծրագրի շրջանակներում կրթական կենտրոնների ստեղծում | D94: =SUM(E94:H94) -> 6750 | E94: =+E96 -> 0 | F94: =+F96 -> 0 | G94: =+G96 -> 6750 | H94: =+H96 -> 0
C95: այդ թվում`
C96: ՀՀ Սյունիքի մարզ | D96: =SUM(E96:H96) -> 6750 | E96: =SUM(E97:E132) -> 0 | F96: =SUM(F97:F132) -> 0 | G96: =SUM(G97:G132) -> 6750 | H96: =SUM(H97:H132) -> 0
C97: Կապան համայնքի Սյունիքի կրթահամալիր | D97: =+E97+F97+G97+H97 -> 1125 | G97: =+'Հավելված N 10'!I64 -> 1125
C98: Կապան համայնքի Արծվանիկի կրթահամալիր | D98: =+E98+F98+G98+H98 -> 1125 | G98: =+'Հավելված N 10'!I65 -> 1125
C99: Կապան համայնքի Նորաշենիկի կրթահամալիր | D99: =+E99+F99+G99+H99 -> 1125 | G99: =+'Հավելված N 10'!I66 -> 1125
C100: Կապան համայնքի Աճանանի կրթահամալիր | D100: =+E100+F100+G100+H100 -> 1125 | G100: =+'Հավելված N 10'!I67 -> 1125
C101: Կապան համայնքի Գեղանուշի կրթահամալիր | D101: =+E101+F101+G101+H101 -> 1125 | G101: =+'Հավելված N 10'!I68 -> 1125
C102: Կապան համայնքի Ծավի կրթահամալիր | D102: =+E102+F102+G102+H102 -> 1125 | G102: =+'Հավելված N 10'!I69 -> 1125

Sheet Հավելված N 6
D1: Հավելված N 6
D2: ՀՀ կառավարության 2023 թվականի
D3: ______________ ի ___Ն որոշման
B5: ՀԱՅԱՍՏԱՆԻ ՀԱՆՐԱՊԵՏՈՒԹՅԱՆ ԿԱՌԱՎԱՐՈՒԹՅԱՆ 2022 ԹՎԱԿԱՆԻ ԴԵԿՏԵՄԲԵՐԻ 29-Ի N 2111-Ն ՈՐՈՇՄԱՆ N 5 ՀԱՎԵԼՎԱԾԻ N 2 ԱՂՅՈՒՍԱԿՈՒՄ ԿԱՏԱՐՎՈՂ ՓՈՓՈԽՈՒԹՅՈՒՆՆԵՐԸ ԵՎ ԼՐԱՑՈՒՄՆԵՐԸ
G8: հազ. դրամներով
B9: Ծրագրային դասիչ | D9: Բյուջետային գլխավոր կարգադրիչների, ծրագրերի, միջոցառումների, միջոցառումները կատարող պետական մարմինների և ուղղությունների անվանումները | E9: Ցուցանիշների փոփոխությունը (ավելացումները նշված են դրական նշանով, իսկ նվազեցումները՝ փակագծերում)
B10: Ծրագիր | C10: Միջոցառում | E10: Առաջին կիսամյակ | F10: Ինն ամիս | G10: Տարի
D12: ՀՀ ԿՐԹՈՒԹՅԱՆ, ԳԻՏՈՒԹՅԱՆ, ՄՇԱԿՈՒՅԹԻ ԵՎ ՍՊՈՐՏԻ ՆԱԽԱՐԱՐՈՒԹՅՈՒՆ | E12: =+E14+E24+E34+E40+E46+E57+E65+E109 -> 31174.7 | F12: =+ROUND((F14+F24+F34+F40+F46+F57+F65+F109),1) -> 0 | G12: =+ROUND((G14+G24+G34+G40+G46+G57+G65+G109),1) -> 0
D13: այդ թվում՝
B14: 1045 | C14: 32001 | D14: Նախնական մասնագիտական (արհեստագործական) և միջին մասնագիտական ուսումնական հաստատությունների շենքային պայմանների բարելավում | E14: =+E16+E20 -> 438.9 | F14: =+F16+F20 -> -30735.8 | G14: =+G16+G20 -> -30735.8
D15: այդ թվում` ըստ կատարողների
D16: ՀՀ կրթության, գիտության, մշակույթի և սպորտի նախարարություն | E16: =+E18 -> -57352.1 | F16: =+F18 -> -88526.8 | G16: =+G18 -> -88526.8
D17: այդ թվում` ըստ ուղղությունների
D18: Երևան քաղաք | E18: =+E19 -> -57352.1 | F18: =+F19 -> -88526.8 | G18: =+G19 -> -88526.8
D19: «Երևանի հ․8 արհեստագործական պետական ուսումնարան» ՊՈԱԿ | E19: -57352.1 | F19: =+'Հավելված N 5'!D18 -> -88526.8 | G19: =+F19 -> -88526.8
D20: ՀՀ քաղաքաշինության կոմիտե | E20: =+E22 -> 57791 | F20: =+F22 -> 57791 | G20: =+G22 -> 57791
D21: այդ թվում` ըստ ուղղությունների
D22: ՀՀ Լոռու մարզ | E22: =+E23 -> 57791 | F22: =+F23 -> 57791 | G22: =+G23 -> 57791
D23: ք. Վանաձորի գյուղատնտեսական պետական քոլեջ ՊՈԱԿ | E23: =+'Հավելված N 5'!D20 -> 57791 | F23: =+E23 -> 57791 | G23: =+F23 -> 57791
B24: 1130 | C24: 32001 | D24: ՀՀ կրթության, գիտության, մշակույթի և սպորտի բնագավառում օժանդակ ծրագրեր իրականացնող կազմակերպությունների շենքային պայմանների և գույքային հագեցվածության բարելավում | E24: =+E26 -> 1428.7 | F24: =+F26 -> 1428.7 | G24: =+G26 -> 1428.7
D25: այդ թվում` ըստ կատարողների
D26: ՀՀ կրթության, գիտության, մշակույթի և սպորտի նախարարություն | E26: =+E28+E30+E32 -> 1428.7 | F26: =+F28+F30+F32 -> 1428.7 | G26: =+G28+G30+G32 -> 1428.7
D27: այդ թվում` ըստ ուղղությունների
D28: ՀՀ Լոռու մարզ | E28: =+E29 -> 476.2 | F28: =+F29 -> 476.2 | G28: =+G29 -> 476.2
D29: «Վանաձորի տարածքային մանկավարժահոգեբանական աջակցության կենտրոն» ՊՈԱԿ | E29: =+'Հավելված N 5'!H24 -> 476.2 | F29: =+E29 -> 476.2 | G29: =+F29 -> 476.2
D30: ՀՀ Շիրակի մարզ | E30: =+E31 -> 476.2 | F30: =+F31 -> 476.2 | G30: =+G31 -> 476.2
D31: «Արթիկի տարածքային մանկավարժահոգեբանական աջակցության կենտրոն» ՊՈԱԿ | E31: =+'Հավելված N 5'!H26 -> 476.2 | F31: =+E31 -> 476.2 | G31: =+F31 -> 476.2
D32: ՀՀ Սյունիքի մարզ | E32: =+E33 -> 476.3 | F32: =+F33 -> 476.3 | G32: =+G33 -> 476.3
D33: «Գորիսի տարածքային մանկավարժահոգեբանական աջակցության կենտրոն» ՊՈԱԿ | E33: =+'Հավելված N 5'!H28 -> 476.3 | F33: =+E33 -> 476.3 | G33: =+F33 -> 476.3
B34: 1163 | C34: 32002 | D34: Մարզական օբյեկտների հիմնանորոգում | E34: =+E36 -> 5315.9 | F34: =+F36 -> 5315.9 | G34: =+G36 -> 5315.9
D35: այդ թվում` ըստ կատարողների
D36: ՀՀ քաղաքաշինության կոմիտե | E36: =+E38 -> 5315.9 | F36: =+F38 -> 5315.9 | G36: =+G38 -> 5315.9
D37: այդ թվում` ըստ ուղղությունների
D38: Երևան քաղաք | E38: =+E39 -> 5315.9 | F38: =+F39 -> 5315.9 | G38: =+G39 -> 5315.9
D39: «Երևանի օլիմպիական հերթափոխի պետական մարզական քոլեջ» ՊՈԱԿ | E39: =+'Հավելված N 5'!D32 -> 5315.9 | F39: =+E39 -> 5315.9 | G39: =+F39 -> 5315.9
B40: 1183 | C40: 32001 | D40: Կրթական օբյեկտների շենքային պայմանների բարելավում | E40: =+E42 -> 942.1 | F40: =+F42 -> 942.1 | G40: =+G42 -> 942.1
D41: այդ թվում` ըստ կատարողների
D42: ՀՀ կրթության, գիտության, մշակույթի և սպորտի նախարարություն | E42: =+E44 -> 942.1 | F42: =+F44 -> 942.1 | G42: =+G44 -> 942.1
D43: այդ թվում` ըստ ուղղությունների
D44: ՀՀ Արագածոտնի մարզ | E44: =+E45 -> 942.1 | F44: =+F45 -> 942.1 | G44: =+G45 -> 942.1
D45: «Ռյա Թազայի Ա․ Ավդալի անվան միջնակարգ դպրոց» ՊՈԱԿ | E45: =+'Հավելված N 5'!D36 -> 942.1 | F45: =+E45 -> 942.1 | G45: =+F45 -> 942.1
B46: 1183 | C46: 32003 | D46: Փոքրաքանակ երեխաներով համալրված հանրակրթական դպրոցների և կրթահամալիրների մոդուլային շենքերի կառուցում | E46: =++E48+E56 -> 12579.3 | F46: =++F48+F56 -> 5829.3 | G46: =++G48+G56 -> 5829.3
D47: այդ թվում` ըստ կատարողների
D48: ՀՀ քաղաքաշինության կոմիտե | E48: =+E50+E53 -> 12579.3 | F48: =+F50+F53 -> 12579.3 | G48: =+G50+G53 -> 12579.3
D49: այդ թվում` ըստ ուղղությունների
D50: ՀՀ Գեղարքունիքի մարզ | E50: =SUM(E51:E52) -> 1050.8 | F50: =SUM(F51:F52) -> 1050.8 | G50: =SUM(G51:G52) -> 1050.8
D51: «Լեռնահովիտ գյուղի Վ. Բարեղամյանի անվան հիմնական դպրոց» ՊՈԱԿ | E51: =+'Հավելված N 5'!D41 -> 373.4 | F51: =+E51 -> 373.4 | G51: =+F51 -> 373.4
D52: «Ջիլի միջնակարգ դպրոց» ՊՈԱԿ | E52: =+'Հավելված N 5'!D42 -> 677.4 | F52: =+E52 -> 677.4 | G52: =+F52 -> 677.4
D53: ՀՀ Լոռու մարզ | E53: =SUM(E54:E55) -> 11528.5 | F53: =SUM(F54:F55) -> 11528.5 | G53: =SUM(G54:G55) -> 11528.5
D54: «Հագվու հիմնական դպրոց» ՊՈԱԿ | E54: =+'Հավելված N 5'!D44 -> 5914.6 | F54: =+E54 -> 5914.6 | G54: =+F54 -> 5914.6
D55: «Մեդովկայի միջնակարգ դպրոց» ՊՈԱԿ | E55: =+'Հավելված N 5'!D45 -> 5613.9 | F55: =+E55 -> 5613.9 | G55: =+F55 -> 5613.9
D56: ՀՀ կառավարություն | E56: 0 | F56: =+'Հավելված N 5'!D39 -> -6750 | G56: =+F56 -> -6750
B57: 1183 | C57: 32007 | D57: Հանրակրթական կրթություն իրականացնող ուսումնական հաստատությունների նոր մարզադահլիճների կառուցում | E57: =+E59 -> 1930.2 | F57: =+F59 -> 1930.2 | G57: =+G59 -> 1930.2
D58: այդ թվում` ըստ կատարողների
D59: ՀՀ քաղաքաշինության կոմիտե | E59: =+E61+E63 -> 1930.2 | F59: =+F61+F63 -> 1930.2 | G59: =+G61+G63 -> 1930.2
D60: այդ թվում` ըստ ուղղությունների
D61: ՀՀ Գեղարքունիքի մարզ | E61: =+E62 -> 1080 | F61: =+F62 -> 1080 | G61: =+G62 -> 1080
D62: Գագարինի միջնակարգ դպրոց ՊՈԱԿ | E62: =+'Հավելված N 5'!D49 -> 1080 | F62: =+E62 -> 1080 | G62: =+F62 -> 1080
D63: ՀՀ Լոռու մարզ | E63: =+E64 -> 850.2 | F63: =+F64 -> 850.2 | G63: =+G64 -> 850.2
D64: «Վանաձորի Խ.Աբովյանի անվան թիվ 9 հիմնական դպրոց» ՊՈԱԿ | E64: =+'Հավելված N 5'!D51 -> 850.2 | F64: =+E64 -> 850.2 | G64: =+F64 -> 850.2
B65: 1183 | C65: 32012 | D65: Հանրակրթական դպրոցների գույքով և տեխնիկայով ապահովում | E65: =+E67 -> 8539.6 | F65: =+F67 -> 8539.6 | G65: =+G67 -> 8539.6
D66: այդ թվում` ըստ կատարողների
D67: ՀՀ կրթության, գիտության, մշակույթի և սպորտի նախարարություն | E67: =+E69+E71+E73+E89+E92+E97+E107 -> 8539.6 | F67: =+F69+F71+F73+F89+F92+F97+F107 -> 8539.6 | G67: =+G69+G71+G73+G89+G92+G97+G107 -> 8539.6
D68: այդ թվում` ըստ ուղղությունների
D69: ՀՀ Արարատի մարզ | E69: =+E70 -> 1179.6 | F69: =+F70 -> 1179.6 | G69: =+G70 -> 1179.6
D70: «Դեղձուտի միջնակարգ դպրոց» ՊՈԱԿ | E70: =+'Հավելված N 5'!D55 -> 1179.6 | F70: =+E70 -> 1179.6 | G70: =+F70 -> 1179.6
D71: ՀՀ Արմավիրի մարզ | E71: =+E72 -> 809.7 | F71: =+F72 -> 809.7 | G71: =+G72 -> 809.7
D72: «Արգինայի միջնակարգ դպրոց» ՊՈԱԿ | E72: =+'Հավելված N 5'!D57 -> 809.7 | F72: =+E72 -> 809.7 | G72: =+F72 -> 809.7
D73: ՀՀ Լոռու մարզ | E73: =SUM(E74:E88) -> 2142.5 | F73: =SUM(F74:F88) -> 2142.5 | G73: =SUM(G74:G88) -> 2142.5
D74: «Հագվու հիմնական դպրոց» ՊՈԱԿ | E74: =+'Հավելված N 5'!D59 -> 809.7 | F74: =+E74 -> 809.7 | G74: =+F74 -> 809.7
D75: «Վանաձորի Ա.Պուշկինի անվան թիվ 4 հիմնական դպրոց» ՊՈԱԿ | E75: =+'Հավելված N 5'!D60 -> 95.2 | F75: =+E75 -> 95.2 | G75: =+F75 -> 95.2
D76: «Վանաձորի Խ.Աբովյանի անվան թիվ 9 հիմնական դպրոց» ՊՈԱԿ | E76: =+'Հավելված N 5'!D61 -> 95.2 | F76: =+E76 -> 95.2 | G76: =+F76 -> 95.2
D77: «Վանաձորի Վ.Համբարձումյանի անվան թիվ 25 հիմնական դպրոց» ՊՈԱԿ | E77: =+'Հավելված N 5'!D62 -> 95.2 | F77: =+E77 -> 95.2 | G77: =+F77 -> 95.2
D78: «Վանաձորի Ղ.Ալիշանի անվան թիվ 27 հիմնական դպրոց» ՊՈԱԿ | E78: =+'Հավելված N 5'!D63 -> 95.2 | F78: =+E78 -> 95.2 | G78: =+F78 -> 95.2
D79: «Վանաձորի Պ.Սևակի անվան թիվ 30 հիմնական դպրոց» ՊՈԱԿ | E79: =+'Հավելված N 5'!D64 -> 95.2 | F79: =+E79 -> 95.2 | G79: =+F79 -> 95.2
D80: «Ստեփանավանի Ստ.Շահումյանի անվան թիվ 1 հիմնական դպրոց» ՊՈԱԿ | E80: =+'Հավելված N 5'!D65 -> 95.2 | F80: =+E80 -> 95.2 | G80: =+F80 -> 95.2
D81: «Ստեփանավանի Սուրբ Գրիգոր Լուսավորիչի անվան թիվ 2 հիմնական դպրոց» ՊՈԱԿ | E81: =+'Հավելված N 5'!D66 -> 95.2 | F81: =+E81 -> 95.2 | G81: =+F81 -> 95.2
D82: «Սարատովկայի միջնակարգ դպրոց» ՊՈԱԿ | E82: =+'Հավելված N 5'!D67 -> 95.2 | F82: =+E82 -> 95.2 | G82: =+F82 -> 95.2
D83: «Սպիտակի Դ. Տեր-Սիմոնյանի անվան թիվ 2 հիմնական դպրոց» ՊՈԱԿ | E83: =+'Հավելված N 5'!D68 -> 95.2 | F83: =+E83 -> 95.2 | G83: =+F83 -> 95.2
D84: «Սպիտակի թիվ 3 հիմնական դպրոց» ՊՈԱԿ | E84: =+'Հավելված N 5'!D69 -> 95.2 | F84: =+E84 -> 95.2 | G84: =+F84 -> 95.2
D85: «Ալավերդու Ս.Սպանդարյանի անվան թիվ 1 հիմնական դպրոց» ՊՈԱԿ | E85: =+'Հավելված N 5'!D70 -> 95.2 | F85: =+E85 -> 95.2 | G85: =+F85 -> 95.2
... D88: «Շամլուղի միջնակարգ դպրոց» ՊՈԱԿ | E88: =+'Հավելված N 5'!D73 -> 95.2 | F88: =+E88 -> 95.2 | G88: =+F88 -> 95.2
D89: ՀՀ Կոտայքի մարզ | E89: =SUM(E90:E91) -> 2359.2 | F89: =SUM(F90:F91) -> 2359.2 | G89: =SUM(G90:G91) -> 2359.2
D90: «Ջրառատի միջնակարգ դպրոց» ՊՈԱԿ | E90: =+'Հավելված N 5'!D75 -> 1179.6 | F90: =+E90 -> 1179.6 | G90: =+F90 -> 1179.6
D91: «Կաթնաղբյուրի հիմնական դպրոց» ՊՈԱԿ | E91: =+'Հավելված N 5'!D76 -> 1179.6 | F91: =+E91 -> 1179.6 | G91: =+F91 -> 1179.6
D92: ՀՀ Շիրակի մարզ | E92: =SUM(E93:E96) -> 381.2 | F92: =SUM(F93:F96) -> 381.2 | G92: =SUM(G93:G96) -> 381.2
D93: «Գյումրու թիվ 8 հիմնական դպրոց» ՊՈԱԿ | E93: =+'Հավելված N 5'!D78 -> 95.3 | F93: =+E93 -> 95.3 | G93: =+F93 -> 95.3
D94: «Գյումրու թիվ 30 հիմնական դպրոց» ՊՈԱԿ | E94: =+'Հավելված N 5'!D79 -> 95.3 | F94: =+E94 -> 95.3 | G94: =+F94 -> 95.3
D95: «Մարալիկի թիվ 1 հիմնական դպրոց» ՊՈԱԿ | E95: =+'Հավելված N 5'!D80 -> 95.3 | F95: =+E95 -> 95.3 | G95: =+F95 -> 95.3
D96: «Կամոյի թիվ 2 հիմնական դպրոց» ՊՈԱԿ | E96: =+'Հավելված N 5'!D81 -> 95.3 | F96: =+E96 -> 95.3 | G96: =+F96 -> 95.3
D97: ՀՀ Սյունիքի մարզ | E97: =SUM(E98:E106) -> 857.6 | F97: =SUM(F98:F106) -> 857.6 | G97: =SUM(G98:G106) -> 857.6
D98: «Գորիսի N 2 հիմնական դպրոց» ՊՈԱԿ | E98: =+'Հավելված N 5'!D83 -> 95.3 | F98: =+E98 -> 95.3 | G98: =+F98 -> 95.3
D99: «Գորիսի N 3 հիմնական դպրոց» ՊՈԱԿ | E99: =+'Հավելված N 5'!D84 -> 95.3 | F99: =+E99 -> 95.3 | G99: =+F99 -> 95.3
D100: «Սիսիանի N 4 հիմնական դպրոց» ՊՈԱԿ | E100: =+'Հավելված N 5'!D85 -> 95.3 | F100: =+E100 -> 95.3 | G100: =+F100 -> 95.3
D101: «Շաքիի միջնակարգ դպրոց» ՊՈԱԿ | E101: =+'Հավելված N 5'!D86 -> 95.3 | F101: =+E101 -> 95.3 | G101: =+F101 -> 95.3
D102: «Շինուհայրի միջնակարգ դպրոց» ՊՈԱԿ | E102: =+'Հավելված N 5'!D87 -> 95.3 | F102: =+E102 -> 95.3 | G102: =+F102 -> 95.3
D103: «Կապանի N 5 հիմնական դպրոց» ՊՈԱԿ | E103: =+'Հավելված N 5'!D88 -> 95.3 | F103: =+E103 -> 95.3 | G103: =+F103 -> 95.3
D104: «Կապանի N 6 հիմնական դպրոց» ՊՈԱԿ | E104: =+'Հավելված N 5'!D89 -> 95.3 | F104: =+E104 -> 95.3 | G104: =+F104 -> 95.3
D105: «Կապանի N 10 հիմնական դպրոց» ՊՈԱԿ | E105: =+'Հավելված N 5'!D90 -> 95.3 | F105: =+E105 -> 95.3 | G105: =+F105 -> 95.3
D106: «Կապանի N 13 հիմնական դպրոց» ՊՈԱԿ | E106: =+'Հավելված N 5'!D91 -> 95.2 | F106: =+E106 -> 95.2 | G106: =+F106 -> 95.2
...

Sheet Հավելված N 7
I1: Հավելված N 7
I2: ՀՀ կառավարության 2023 թվականի
I3: ______________ ի ___Ն որոշման
A6: «ՀԱՅԱUՏԱՆԻ ՀԱՆՐԱՊԵՏՈՒԹՅԱՆ 2023 ԹՎԱԿԱՆԻ ՊԵՏԱԿԱՆ ԲՅՈՒՋԵԻ ՄԱUԻՆ» ՀԱՅԱUՏԱՆԻ ՀԱՆՐԱՊԵՏՈՒԹՅԱՆ OՐԵՆՔԻ N 1 ՀԱՎԵԼՎԱԾԻ N 5 ԱՂՅՈՒՍԱԿՈՒՄ ԵՎ ՀԱՅԱՍՏԱՆԻ ՀԱՆՐԱՊԵՏՈՒԹՅԱՆ ԿԱՌԱՎԱՐՈՒԹՅԱՆ 2022 ԹՎԱԿԱՆԻ ԴԵԿՏԵՄԲԵՐԻ 29-Ի N 2111-Ն ՈՐՈՇՄԱՆ N 5 ՀԱՎԵԼՎԱԾԻ N 4 ԱՂՅՈՒՍԱԿՈՒՄ ԿԱՏԱՐՎՈՂ ԼՐԱՑՈՒՄԸ
L8: հազ. դրամներով
A9: Ծրագրային դասիչ | C9: Բյուջետային գլխավոր կարգադրիչների, ծրագրերի և միջոցառումների և միջոցառումները կատարող պետական մարմինների անվանումները | D9: Առաջին կիսամյակ | G9: Ինն ամիս | J9: Տարի
D10: Ընդամենը | E10: այդ թվում | G10: Ընդամենը | H10: այդ թվում | J10: Ընդամենը | K10: այդ թվում
A11: Ծրագիր | B11: Միջոցառում | E11: Դրամաշնորհային միջոցներ | F11: Համաֆինան սավորում | H11: Դրամաշնորհային միջոցներ | I11: Համաֆինան սավորում | K11: Դրամաշնորհային միջոցներ | L11: Համաֆինան սավորում
C12: ԸՆԴԱՄԵՆԸ | D12: =E12+F12 -> 16145.4 | E12: =+E14 -> 16145.4 | F12: =+F14 -> 0 | G12: =H12+I12 -> 16145.4 | H12: =+H14 -> 16145.4 | I12: =+I14 -> 0 | J12: =K12+L12 -> 16145.4 | K12: =+K14 -> 16145.4 | L12: =+L14 -> 0
C13: այդ թվում`
C14: ՈՉ ՖԻՆԱՆՍԱԿԱՆ ԱԿՏԻՎՆԵՐԻ ԳԾՈՎ ԾԱԽՍԵՐ | D14: =E14+F14 -> 16145.4 | E14: =+E15 -> 16145.4 | F14: =+F15 -> 0 | G14: =H14+I14 -> 16145.4 | H14: =+H15 -> 16145.4 | I14: =+I15 -> 0 | J14: =K14+L14 -> 16145.4 | K14: =+K15 -> 16145.4 | L14: =+L15 -> 0
C15: ՀՀ ԿՐԹՈՒԹՅԱՆ, ԳԻՏՈՒԹՅԱՆ, ՄՇԱԿՈՒՅԹԻ ԵՎ ՍՊՈՐՏԻ ՆԱԽԱՐԱՐՈՒԹՅՈՒՆ | D15: =E15+F15 -> 16145.4 | E15: =E16 -> 16145.4 | F15: =F16 -> 0 | G15: =H15+I15 -> 16145.4 | H15: =H16 -> 16145.4 | I15: =I16 -> 0 | J15: =K15+L15 -> 16145.4 | K15: =K16 -> 16145.4 | L15: =L16 -> 0
A16: 1193 | C16: Համընդհանուր ներառական կրթության համակարգի ներդրում | D16: =E16+F16 -> 16145.4 | E16: =+E18 -> 16145.4 | F16: =+F18 -> 0 | G16: =H16+I16 -> 16145.4 | H16: =+H18 -> 16145.4 | I16: =+I18 -> 0 | J16: =K16+L16 -> 16145.4 | K16: =+K18 -> 16145.4 | L16: =+L18 -> 0
C17: այդ թվում`
B18: 31001 | C18: Ամերիկայի Միացյալ Նահանգների միջազգային զարգացման գործակալության աջակցությամբ իրականացվող «Ներառական կրթության համակարգի ներդրում» դրամաշնորհային ծրագիր | D18: =E18+F18 -> 16145.4 | E18: =+E20 -> 16145.4 | F18: =+F20 -> 0 | G18: =H18+I18 -> 16145.4 | H18: =+H20 -> 16145.4 | I18: =+I20 -> 0 | J18: =K18+L18 -> 16145.4 | K18: =+K20 -> 16145.4 | L18: =+L20 -> 0
C19: այդ թվում` ըստ կատարողների
C20: ՀՀ կրթության , գիտության, մշակույթի և սպորտի նախարարություն | D20: =+E20+F20 -> 16145.4 | E20: =+E22 -> 16145.4 | F20: =+F22 -> 0 | G20: =+H20+I20 -> 16145.4 | H20: =+H22 -> 16145.4 | I20: =+I22 -> 0 | J20: =+K20+L20 -> 16145.4 | K20: =+K22 -> 16145.4 | L20: =+L22 -> 0
C21: այդ թվում` բյուջետային ծախսերի տնտեսագիտական դասակարգման հոդվածներ
C22: ԸՆԴԱՄԵՆԸ ԾԱԽՍԵՐ | D22: =+E22+F22 -> 16145.4 | E22: =+E23 -> 16145.4 | F22: =+F23 -> 0 | G22: =+H22+I22 -> 16145.4 | H22: =+H23 -> 16145.4 | I22: =+I23 -> 0 | J22: =+K22+L22 -> 16145.4 | K22: =+K23 -> 16145.4 | L22: =+L23 -> 0
C23: ՈՉ ՖԻՆԱՆՍԱԿԱՆ ԱԿՏԻՎՆԵՐԻ ԳԾՈՎ ԾԱԽՍԵՐ | D23: =+E23+F23 -> 16145.4 | E23: =+E24 -> 16145.4 | F23: =+F24 -> 0 | G23: =+H23+I23 -> 16145.4 | H23: =+H24 -> 16145.4 | I23: =+I24 -> 0 | J23: =+K23+L23 -> 16145.4 | K23: =+K24 -> 16145.4 | L23: =+L24 -> 0
C24: ՀԻՄՆԱԿԱՆ ՄԻՋՈՑՆԵՐ | D24: =+E24+F24 -> 16145.4 | E24: =+E25+E27 -> 16145.4 | F24: =+F25+F27 -> 0 | G24: =+H24+I24 -> 16145.4 | H24: =+H25+H27 -> 16145.4 | I24: =+I25+I27 -> 0 | J24: =+K24+L24 -> 16145.4 | K24: =+K25+K27 -> 16145.4 | L24: =+L25+L27 -> 0
C25: ՇԵՆՔԵՐ ԵՎ ՇԻՆՈՒԹՅՈՒՆՆԵՐ | D25: =+E25+F25 -> 14345.4 | E25: =+E26 -> 14345.4 | F25: =+F26 -> 0 | G25: =+H25+I25 -> 14345.4 | H25: =+H26 -> 14345.4 | I25: =+I26 -> 0 | J25: =+K25+L25 -> 14345.4 | K25: =+K26 -> 14345.4 | L25: =+L26 -> 0
C26: - Շենքերի և շինությունների կապիտալ վերանորոգում | D26: =+E26+F26 -> 14345.4 | E26: =+'Հավելված N 10'!I30+'Հավելված N 10'!I43 -> 14345.4 | F26: 0 | G26: =+H26+I26 -> 14345.4 | H26: =+E26 -> 14345.4 | I26: 0 | J26: =+K26+L26 -> 14345.4 | K26: =+H26 -> 14345.4 | L26: 0
C27: ՄԵՔԵՆԱՆԵՐ ԵՎ ՍԱՐՔԱՎՈՐՈՒՄՆԵՐ | D27: =+E27+F27 -> 1800 | E27: =+E28 -> 1800 | F27: =+F28 -> 0 | G27: =+H27+I27 -> 1800 | H27: =+H28 -> 1800 | I27: =+I28 -> 0 | J27: =+K27+L27 -> 1800 | K27: =+K28 -> 1800 | L27: =+L28 -> 0
C28: - Վարչական սարքավորումներ | D28: =+E28+F28 -> 1800 | E28: =+'Հավելված N 10'!I28 -> 1800 | F28: 0 | G28: =+H28+I28 -> 1800 | H28: =+E28 -> 1800 | I28: 0 | J28: =+K28+L28 -> 1800 | K28: =+H28 -> 1800 | L28: 0

Sheet Հավելված N 8
C1: Հավելված N 8
C2: ՀՀ կառավարության 2023 թվականի
C3: ______________ ի ___Ն որոշման
B5: ՀԱՅԱՍՏԱՆԻ ՀԱՆՐԱՊԵՏՈՒԹՅԱՆ ԿԱՌԱՎԱՐՈՒԹՅԱՆ 2022 ԹՎԱԿԱՆԻ ԴԵԿՏԵՄԲԵՐԻ 29-Ի N 2111-Ն ՈՐՈՇՄԱՆ N 9 ՀԱՎԵԼՎԱԾԻ N 9.13 ԵՎ 9.47 ԱՂՅՈՒՍԱԿՆԵՐՈՒՄ ԿԱՏԱՐՎՈՂ ՓՈՓՈԽՈՒԹՅՈՒՆՆԵՐԸ ԵՎ ԼՐԱՑՈՒՄՆԵՐԸ
A7: Աղյուսակ 9․13
C8: ՀՀ կրթության, գիտության, մշակույթի և սպորտի նախարարություն
B9: ՄԱՍ 2. ՊԵՏԱԿԱՆ ՄԱՐՄՆԻ ԳԾՈՎ ԱՐԴՅՈՒՆՔԱՅԻՆ (ԿԱՏԱՐՈՂԱԿԱՆ) ՑՈՒՑԱՆԻՇՆԵՐԸ
B12: Ծրագրի դասիչը | C12: Ծրագրի անվանումը
B13: 1045 | C13: Նախնական (արհեստագործական) և միջին մասնագիտական կրթություն
B15: Ծրագրի միջոցառումները
B16: Ծրագրի դասիչը՝ | C16: 1045 | D16: Ցուցանիշների փոփոխությունը (ավելացումները նշված են դրական նշանով, իսկ նվազեցումները՝ փակագծերում)
B17: Միջոցառման դասիչը՝ | C17: 32001 | D17: Առաջին կիսամյակ | E17: Ինն ամիս | F17: Տարի
B18: Միջոցառման անվանումը՝ | C18: Նախնական մասնագիտական (արհեստագործական) և միջին մասնագիտական ուսումնական հաստատությունների շենքային պայմանների բարելավում
B19: Նկարագրությունը՝ | C19: ՆՄՄԿՈՒ հաստատությունների շենքերի հիմնանորոգման և նախագծման (շինարարական աշխատանքներ, ջեռուցման համակարգի ստեղծում, ներքին հարդարում, տարածքի բարեկարգում) աշխատանքների իրականացում
B20: Միջոցառման տեսակը՝ | C20: Այլ պետական կազմակերպությունների կողմից օգտագործվող ոչ ֆինանսական ակտիվների հետ գործառնություններ
B21: Ակտիվն օգտագործող կազմակերպությունների անվանումները | C21: Նախնական մասնագիտական (արհեստագործական) և միջին մասնագիտական ուսումնական հաստատություններ
B22: Արդյունքի չափորոշիչներ
B23: Հիմնանորոգվող միջին մասնագիտական ուսումնական հաստատությունների քանակ, հատ | D23: 1 | E23: 1 | F23: 1
B24: Հաստատությունների քանակ, որոնց շինարարական աշխատանքների ավարտվածության աստիճանը 100% է, հատ | F24: -1
B25: Միջոցառման վրա կատարվող ծախսը (հազար դրամ) | D25: =+'Հավելված N 3'!D23 -> 438.9 | E25: =+'Հավելված N 3'!E23 -> -30735.8 | F25: =+'Հավելված N 3'!F23 -> -30735.8
B27: Ծրագրի դասիչը | C27: Ծրագրի անվանումը
B28: 1130 | C28: Կրթության, գիտության, մշակույթի և սպորտի բնագավառի պետական քաղաքականության մշակում, ծրագրերի համակարգում և մոնիտորինգ
B30: Ծրագրի միջոցառումները
B31: Ծրագրի դասիչը՝ | C31: 1130 | D31: Ցուցանիշների փոփոխությունը (ավելացումները նշված են դրական նշանով)
B32: Միջոցառման դասիչը՝ | C32: 32001 | D32: Առաջին կիսամյակ | E32: Ինն ամիս | F32: Տարի
B33: Միջոցառման անվանումը՝ | C33: ՀՀ կրթության, գիտության, մշակույթի և սպորտի բնագավառում օժանդակ ծրագրեր իրականացնող կազմակերպությունների շենքային պայմանների և գույքային հագեցվածության բարելավում
B34: Նկարագրությունը՝ | C34: ՀՀ կրթության, գիտության, մշակույթի և սպորտի բնագավառում օժանդակ ծրագրեր իրականացնող կազմակերպությունների աշխատանքային պայմանների բարելավում
B35: Միջոցառման տեսակը՝ | C35: Այլ պետական կազմակերպությունների կողմից օգտագործվող ոչ ֆինանսական ակտիվների հետ գործառնություններ
B36: Ակտիվն օգտագործող կազմակերպության անվանումը | C36: Մասնագիտացված կազմակերպություններ
B37: Արդյունքի չափորոշիչներ
B38: Կազմակերպությունների թիվը, որոնք ապահովվում են գույքով, հատ | D38: 3 | E38: 3 | F38: 3
B39: Միջոցառման վրա կատարվող ծախսը (հազար դրամ) | D39: =+'Հավելված N 3'!D36 -> 1428.7 | E39: =+'Հավելված N 3'!E36 -> 1428.7 | F39: =+'Հավելված N 3'!F36 -> 1428.7
B41: Ծրագրի դասիչը | C41: Ծրագրի անվանումը
B42: 1148 | C42: Արտադպրոցական դաստիարակության ծրագիր
B44: Ծրագրի միջոցառումները
B45: Ծրագրի դասիչը՝ | C45: 1148 | D45: Ցուցանիշների փոփոխությունը (նվազեցումները նշված են փակագծերում)
B46: Միջոցառման դասիչը՝ | C46: 11016 | D46: Առաջին կիսամյակ | E46: Ինն ամիս | F46: Տարի
B47: Միջոցառման անվանումը՝ | C47: ՀՀ հանրակրթական ծրագրեր իրականացնող ուսումնական հաստատությունների 11-րդ դասարանների աշակերտների ռազմամարզական ճամբարի կազմակերպում
B48: Նկարագրությունը՝ | C48: Նպաստել 11-րդ դասարաններում սովորող դպրոցականների մոտ «Նախնական զինվորական պատրաստություն» առարկայից ստացած գիտելիքների հարստացմանը և դրանց համապատասխան կարողությունների և հմտությունների զարգացմանը
B49: Միջոցառման տեսակը՝ | C49: Ծառայությունների մատուցում
B50: Ծառայությունը մատուցող կազմակերպության(ների) անվանում(ներ)ը՛ | C50: Մասնագիտացված կազմակերպություն
B51: Արդյունքի չափորոշիչներ
B52: Միջոցառման վրա կատարվող ծախսը (հազար դրամ) | D52: =+'Հավելված N 3'!D49 -> -31174.7 | E52: =+'Հավելված N 3'!E49 -> 0 | F52: =+'Հավելված N 3'!F49 -> 0
B54: Ծրագրի դասիչը | C54: Ծրագրի անվանումը
B55: 1163 | C55: Մասսայական սպորտ
B57: Ծրագրի միջոցառումները
B58: Ծրագրի դասիչը` | C58: 1163 | D58: Ցուցանիշների փոփոխությունը (ավելացումները նշված են դրական նշանով)
B59: Միջոցառման դասիչը` | C59: 32002 | D59: Առաջին կիսամյակ | E59: Ինն ամիս | F59: Տարի
B60: Միջոցառման անվանումը՝ | C60: Մարզական օբյեկտների հիմնանորոգում
B61: Նկարագրությունը՝ | C61: Մարզական օբյեկտների շենքերի (մասնաշենքերի) հիմնանորոգում
B62: Միջոցառման տեսակը՝ | C62: Այլ պետական կազմակերպությունների կողմից օգտագործվող ոչ ֆինանսական ակտիվների հետ գործառնություններ
B63: Ակտիվն օգտագործող կազմակերպությունների անվանումները | C63: Մարզական հաստատություններ
B64: Արդյունքի չափորոշիչներ
B65: Միջոցառման վրա կատարվող ծախսը (հազար դրամ) | D65: =+'Հավելված N 3'!D62 -> 5315.9 | E65: =+'Հավելված N 3'!E62 -> 5315.9 | F65: =+'Հավելված N 3'!F62 -> 5315.9
B67: Ծրագրի դասիչը | C67: Ծրագրի անվանումը
B68: 1183 | C68: Ապահով դպրոց
B70: Ծրագրի միջոցառումները
B71: Ծրագրի դասիչը` | C71: 1183 | D71: Ցուցանիշների փոփոխությունը (ավելացումները նշված են դրական նշանով)
B72: Միջոցառման դասիչը` | C72: 32001 | D72: Առաջին կիսամյակ | E72: Ինն ամիս | F72: Տարի
B73: Միջոցառման անվանումը` | C73: Կրթական օբյեկտների շենքային պայմանների բարելավում
B74: Նկարագրությունը` | C74: Կրթական օբյեկտների շենքերի (մասնաշենքերի) հիմնանորոգում (համաշինարարական աշխատանքներ, ջեռուցման համակարգի իրականացում, ներքին հարդարում, տարածքի բարեկարգում) և նախագծում
B75: Միջոցառման տեսակը` | C75: Այլ պետական կազմակերպությունների կողմից օգտագործվող ոչ ֆինանսական ակտիվների հետ գործառնություններ
B76: Ակտիվն օգտագործող կազմակերպությունների անվանումները | C76: Հանրակրթական դպրոցներ
B77: Արդյունքի չափորոշիչներ
B78: Կազմակերպությունների թիվը, որտեղ կատարվում են ներդրումները, հատ | D78: 1 | E78: 1 | F78: 1
B79: Հաստատությունների քանակ, որոնց շինարարական աշխատանքների ավարտվածության աստիճանը 100% է, հատ | D79: 1 | E79: 1 | F79: 1
B80: Միջոցառման վրա կատարվող ծախսը (հազար դրամ) | D80: =+'Հավելված N 3'!D75 -> 942.1 | E80: =+'Հավելված N 3'!E75 -> 942.1 | F80: =+'Հավելված N 3'!F75 -> 942.1
B82: Ծրագրի միջոցառումները
B83: Ծրագրի դասիչը` | C83: 1183 | D83: Ցուցանիշների փոփոխությունը (ավելացումները նշված են դրական նշանով)
B84: Միջոցառման դասիչը` | C84: 32003 | D84: Առաջին կիսամյակ | E84: Ինն ամիս | F84: Տարի
B85: Միջոցառման անվանումը՝ | C85: Փոքրաքանակ երեխաներով համալրված հանրակրթական դպրոցների մոդուլային շենքերի կառուցում
B86: Նկարագրությունը՝ | C86: Կրթական հաստատությունների կառուցում համայնքային կենտրոնների մոդելով
B87: Միջոցառման տեսակը՝ | C87: Այլ պետական կազմակերպությունների կողմից օգտագործվող ոչ ֆինանսական ակտիվների հետ գործառնություններ
B88: Ակտիվն օգտագործող կազմակերպությունների անվանում | C88: Փոքրաքանակ երեխաներով համալրված հանրակրթական դպրոցներ
B89: Արդյունքի չափորոշիչներ
B90: Միջոցառման վրա կատարվող ծախսը (հազար դրամ) | D90: =+'Հավելված N 3'!D81 -> 12579.3 | E90: =+'Հավելված N 3'!E81 -> 5829.3 | F90: =+'Հավելված N 3'!F81 -> 5829.3
B92: Ծրագրի միջոցառումները
B93: Ծրագրի դասիչը` | C93: 1183 | D93: Ցուցանիշների փոփոխությունը (ավելացումները նշված են դրական նշանով)
B94: Միջոցառման դասիչը` | C94: 32007 | D94: Առաջին կիսամյակ | E94: Ինն ամիս | F94: Տարի
B95: Միջոցառման անվանումը` | C95: Հանրակրթական կրթություն իրականացնող ուսումնական հաստատությունների նոր մարզադահլիճների կառուցում
B96: Նկարագրությունը` | C96: Հանրակրթական ուսուցում իրականացնող ուսումնական հաստատությունների նոր մարզադահլիճների կառուցման նախագծանախահաշվային փաստաթղթերի մշակում
B97: Միջոցառման տեսակը` | C97: Այլ պետական կազմակերպությունների կողմից օգտագործվող ոչ ֆինանսական ակտիվների հետ գործառնություններ
B98: Ակտիվն օգտագործող կազմակերպությունների անվանումները | C98: Հանրակրթական դպրոցներ
B99: Արդյունքի չափորոշիչներ
B100: Միջոցառման վրա կատարվող ծախսը (հազար դրամ) | D100: =+'Հավելված N 3'!D87 -> 1930.2 | E100: =+'Հավելված N 3'!E87 -> 1930.2 | F100: =+'Հավելված N 3'!F87 -> 1930.2
B102: Ծրագրի միջոցառումները
B103: Ծրագրի դասիչը` | C103: 1183 | D103: Ցուցանիշների փոփոխությունը (ավելացումները նշված են դրական նշանով)
B104: Միջոցառման դասիչը` | C104: 32012 | D104: Առաջին կիսամյակ | E104: Ինն ամիս | F104: Տարի
B105: Միջոցառման անվանումը` | C105: Հանրակրթական դպրոցների գույքով և տեխնիկայով ապահովում
B106: Նկարագրությունը` | C106: Կրթական ժամանակակից նորմերին համապատասխանող գույքի ձեռքբերում
B107: Միջոցառման տեսակը` | C107: Այլ պետական կազմակերպությունների կողմից օգտագործվող ոչ ֆինանսական ակտիվների հետ գործառնություններ
B108: Ակտիվն օգտագործող կազմակերպությունների անվանումները | C108: Հանրակրթական դպրոցներ
B109: Արդյունքի չափորոշիչներ
B110: Մոդուլային դպրոցների թիվը, որոնք ապահովվում են գույքով (հատ) | D110: 6 | E110: 6 | F110: 6
B111: ԱՄՆ ՄԶԳ աջակցությամբ իրականացվող «Ներառական կրթության համակարգի ներդրում» դրամաշնորհային ծրագրի շրջանակներում նորոգված դպրոցների թիվը, որոնք ապահովվում են գույքով (հատ) | D111: 27 | E111: 27 | F111: 27
B112: Միջոցառման վրա կատարվող ծախսը (հազար դրամ) | D112: =+'Հավելված N 3'!D93 -> 8539.6 | E112: =+'Հավելված N 3'!E93 -> 8539.6 | F112: =+'Հավելված N 3'!F93 -> 8539.6
B114: Ծրագրի միջոցառումները
B115: Ծրագրի դասիչը` | C115: 1183 | D115: Ցուցանիշների փոփոխությունը (ավելացումները նշված են դրական նշանով)
B116: Միջոցառման դասիչը` | C116: 32013 | D116: Առաջին կիսամյակ | E116: Ինն ամիս | F116: Տարի
B117: Միջոցառման անվանումը՝ | C117: ՀՀ մարզերում կրթական որակյալ ծառայությունների հասանելիության ապահովման ծրագրի շրջանակներում կրթական կենտրոնների ստեղծում
...

Sheet Հավելված N 9
C1: Հավելված N 9
C2: ՀՀ կառավարության 2023 թվականի
C3: ______________ ի ___Ն որոշման
B5: ՀԱՅԱՍՏԱՆԻ ՀԱՆՐԱՊԵՏՈՒԹՅԱՆ ԿԱՌԱՎԱՐՈՒԹՅԱՆ 2022 ԹՎԱԿԱՆԻ ԴԵԿՏԵՄԲԵՐԻ 29-Ի N 2111-Ն ՈՐՈՇՄԱՆ N 9.1 ՀԱՎԵԼՎԱԾԻ N 9.1.13, 9.1.41 ԵՎ 9.1.58 ԱՂՅՈՒՍԱԿՆԵՐՈՒՄ ԿԱՏԱՐՎՈՂ ՓՈՓՈԽՈՒԹՅՈՒՆՆԵՐԸ ԵՎ ԼՐԱՑՈՒՄՆԵՐԸ
A7: Աղյուսակ 9․1.13
C8: ՀՀ կրթության, գիտության, մշակույթի և սպորտի նախարարություն
B9: ՄԱՍ 1. ՊԵՏԱԿԱՆ ՄԱՐՄՆԻ ԳԾՈՎ ԱՐԴՅՈՒՆՔԱՅԻՆ (ԿԱՏԱՐՈՂԱԿԱՆ) ՑՈՒՑԱՆԻՇՆԵՐԸ
B12: Ծրագրի դասիչը | C12: Ծրագրի անվանումը
B13: 1045 | C13: Նախնական (արհեստագործական) և միջին մասնագիտական կրթություն
B15: Ծրագրի միջոցառումները
B16: Ծրագրի դասիչը՝ | C16: 1045 | D16: Ցուցանիշների փոփոխությունը (նվազեցումները նշված են փակագծերում)
B17: Միջոցառման դասիչը՝ | C17: 32001 | D17: Առաջին կիսամյակ | E17: Ինն ամիս | F17: Տարի
B18: Միջոցառման անվանումը՝ | C18: Նախնական մասնագիտական (արհեստագործական) և միջին մասնագիտական ուսումնական հաստատությունների շենքային պայմանների բարելավում
B19: Նկարագրությունը՝ | C19: ՆՄՄԿՈՒ հաստատությունների շենքերի հիմնանորոգման և նախագծման (շինարարական աշխատանքներ, ջեռուցման համակարգի ստեղծում, ներքին հարդարում, տարածքի բարեկարգում) աշխատանքների իրականացում
B20: Միջոցառման տեսակը՝ | C20: Այլ պետական կազմակերպությունների կողմից օգտագործվող ոչ ֆինանսական ակտիվների հետ գործառնություններ
B21: Ակտիվն օգտագործող կազմակերպությունների անվանումները | C21: Նախնական մասնագիտական (արհեստագործական) և միջին մասնագիտական ուսումնական հաստատություններ
B22: Արդյունքի չափորոշիչներ
B23: Հաստատությունների քանակ, որոնց շինարարական աշխատանքների ավարտվածության աստիճանը 100% է, հատ | F23: -1
B24: Միջոցառման վրա կատարվող ծախսը (հազար դրամ) | D24: =+'Հավելված N 4'!G42 -> -57352.1 | E24: =+'Հավելված N 4'!H42 -> -88526.8 | F24: =+'Հավելված N 4'!I42 -> -88526.8
B26: Ծրագրի դասիչը | C26: Ծրագրի անվանումը
B27: 1130 | C27: Կրթության, գիտության, մշակույթի և սպորտի բնագավառի պետական քաղաքականության մշակում, ծրագրերի համակարգում և մոնիտորինգ
B29: Ծրագրի միջոցառումները
B30: Ծրագրի դասիչը՝ | C30: 1130 | D30: Ցուցանիշների փոփոխությունը (ավելացումները նշված են դրական նշանով)
B31: Միջոցառման դասիչը՝ | C31: 32001 | D31: Առաջին կիսամյակ | E31: Ինն ամիս | F31: Տարի
B32: Միջոցառման անվանումը՝ | C32: ՀՀ կրթության, գիտության, մշակույթի և սպորտի բնագավառում օժանդակ ծրագրեր իրականացնող կազմակերպությունների շենքային պայմանների և գույքային հագեցվածության բարելավում
B33: Նկարագրությունը՝ | C33: ՀՀ կրթության, գիտության, մշակույթի և սպորտի բնագավառում օժանդակ ծրագրեր իրականացնող կազմակերպությունների աշխատանքային պայմանների բարելավում
B34: Միջոցառման տեսակը՝ | C34: Այլ պետական կազմակերպությունների կողմից օգտագործվող ոչ ֆինանսական ակտիվների հետ գործառնություններ
B35: Ակտիվն օգտագործող կազմակերպության անվանումը | C35: Մասնագիտացված կազմակերպություններ
B36: Արդյունքի չափորոշիչներ
B37: Կազմակերպությունների թիվը, որոնք ապահովվում են գույքով, հատ | D37: 3 | E37: 3 | F37: 3
B38: Միջոցառման վրա կատարվող ծախսը (հազար դրամ) | D38: =+'Հավելված N 4'!G144 -> 1428.7 | E38: =+'Հավելված N 4'!H144 -> 1428.7 | F38: =+'Հավելված N 4'!I144 -> 1428.7
B40: Ծրագրի դասիչը | C40: Ծրագրի անվանումը
B41: 1148 | C41: Արտադպրոցական դաստիարակության ծրագիր
B43: Ծրագրի միջոցառումները
B44: Ծրագրի դասիչը՝ | C44: 1148 | D44: Ցուցանիշների փոփոխությունը (նվազեցումները նշված են փակագծերում)
B45: Միջոցառման դասիչը՝ | C45: 11016 | D45: Առաջին կիսամյակ | E45: Ինն ամիս | F45: Տարի
B46: Միջոցառման անվանումը՝ | C46: ՀՀ հանրակրթական ծրագրեր իրականացնող ուսումնական հաստատությունների 11-րդ դասարանների աշակերտների ռազմամարզական ճամբարի կազմակերպում
B47: Նկարագրությունը՝ | C47: Նպաստել 11-րդ դասարաններում սովորող դպրոցականների մոտ «Նախնական զինվորական պատրաստություն» առարկայից ստացած գիտելիքների հարստացմանը և դրանց համապատասխան կարողությունների և հմտությունների զարգացմանը
B48: Միջոցառման տեսակը՝ | C48: Ծառայությունների մատուցում
B49: Ծառայությունը մատուցող կազմակերպության(ների) անվանում(ներ)ը՛ | C49: Մասնագիտացված կազմակերպություն
B50: Արդյունքի չափորոշիչներ
B51: Միջոցառման վրա կատարվող ծախսը (հազար դրամ) | D51: =+'Հավելված N 4'!G25 -> -31174.7 | E51: =+'Հավելված N 4'!H25 -> 0 | F51: =+'Հավելված N 4'!I25 -> 0
B53: Ծրագրի դասիչը | C53: Ծրագրի անվանումը
B54: 1183 | C54: Ապահով դպրոց
B56: Ծրագրի միջոցառումները
B57: Ծրագրի դասիչը` | C57: 1183 | D57: Ցուցանիշների փոփոխությունը (ավելացումները նշված են դրական նշանով)
B58: Միջոցառման դասիչը` | C58: 32001 | D58: Առաջին կիսամյակ | E58: Ինն ամիս | F58: Տարի
B59: Միջոցառման անվանումը` | C59: Կրթական օբյեկտների շենքային պայմանների բարելավում
B60: Նկարագրությունը` | C60: Կրթական օբյեկտների շենքերի (մասնաշենքերի) հիմնանորոգում (համաշինարարական աշխատանքներ, ջեռուցման համակարգի իրականացում, ներքին հարդարում, տարածքի բարեկարգում) և նախագծում
B61: Միջոցառման տեսակը` | C61: Այլ պետական կազմակերպությունների կողմից օգտագործվող ոչ ֆինանսական ակտիվների հետ գործառնություններ
B62: Ակտիվն օգտագործող կազմակերպությունների անվանումները | C62: Հանրակրթական դպրոցներ
B63: Արդյունքի չափորոշիչներ
B64: Կազմակերպությունների թիվը, որտեղ կատարվում են ներդրումները, հատ | D64: 1 | E64: 1 | F64: 1
B65: Հաստատությունների քանակ, որոնց շինարարական աշխատանքների ավարտվածության աստիճանը 100% է, հատ | D65: 1 | E65: 1 | F65: 1
B66: Միջոցառման վրա կատարվող ծախսը (հազար դրամ) | D66: =+'Հավելված N 4'!G71 -> 942.1 | E66: =+'Հավելված N 4'!H71 -> 942.1 | F66: =+'Հավելված N 4'!I71 -> 942.1
B68: Ծրագրի միջոցառումները
B69: Ծրագրի դասիչը` | C69: 1183 | D69: Ցուցանիշների փոփոխությունը (ավելացումները նշված են դրական նշանով)
B70: Միջոցառման դասիչը` | C70: 32012 | D70: Առաջին կիսամյակ | E70: Ինն ամիս | F70: Տարի
B71: Միջոցառման անվանումը` | C71: Հանրակրթական դպրոցների գույքով և տեխնիկայով ապահովում
B72: Նկարագրությունը` | C72: Կրթական ժամանակակից նորմերին համապատասխանող գույքի ձեռքբերում
B73: Միջոցառման տեսակը` | C73: Այլ պետական կազմակերպությունների կողմից օգտագործվող ոչ ֆինանսական ակտիվների հետ գործառնություններ
B74: Ակտիվն օգտագործող կազմակերպությունների անվանումները | C74: Հանրակրթական դպրոցներ
B75: Արդյունքի չափորոշիչներ
B76: Մոդուլային դպրոցների թիվը, որոնք ապահովվում են գույքով (հատ) | D76: 6 | E76: 6 | F76: 6
B77: ԱՄՆ ՄԶԳ աջակցությամբ իրականացվող «Ներառական կրթության համակարգի ներդրում» դրամաշնորհային ծրագրի շրջանակներում նորոգված դպրոցների թիվը, որոնք ապահովվում են գույքով (հատ) | D77: 27 | E77: 27 | F77: 27
B78: Միջոցառման վրա կատարվող ծախսը (հազար դրամ) | D78: =+'Հավելված N 4'!G105 -> 8539.6 | E78: =+'Հավելված N 4'!H105 -> 8539.6 | F78: =+'Հավելված N 4'!I105 -> 8539.6
B80: Ծրագրի դասիչը | C80: Ծրագրի անվանումը
B81: 1193 | C81: Համընդհանուր ներառական կրթության համակարգի ներդրում
B83: Ծրագրի միջոցառումները
B84: Ծրագրի դասիչը՝ | C84: 1193 | D84: Ցուցանիշների փոփոխությունը (ավելացումները նշված են դրական նշանով)
B85: Միջոցառման դասիչը՝ | C85: 31001 | D85: Ինն ամիս | E85: Ինն ամիս | F85: Տարի
B86: Միջոցառման անվանումը` | C86: Ամերիկայի Միացյալ Նահանգների միջազգային զարգացման գործակալության աջակցությամբ իրականացվող «Ներառական կրթության համակարգի ներդրում» դրամաշնորհային ծրագիր
B87: Նկարագրությունը` | C87: Ներառական կրթության համակարգի հզորացում բոլոր երեխաներին որակյալ ուսուցում ապահովելու նպատակով
B88: Միջոցառման տեսակը` | C88: Պետական մարմինների կողմից օգտագործվող ոչ ֆինանսական ակտիվների հետ գործառնություններ
B89: Ծառայությունը մատուցող կազմակերպության(ների) անվանում(ներ)ը | C89: Ուսումնական հաստատություններ (դպրոցներ)
B90: Արդյունքի չափորոշիչներ
B91: Դպրոցների թիվը, որոնց շենքերի ներառական կրթության հարմարեցման շինարարական աշխատանքների ավարտվածության աստիճանը 100% է, հատ | D91: 12 | E91: 12 | F91: 12
B92: Մանկավարժահոգեբանական աջակցության կենտրոնների թիվը, , որոնց շենքերի ներառական կրթության հարմարեցման շինարարական աշխատանքների ավարտվածության աստիճանը 100% է, հատ | D92: 1 | E92: 1 | F92: 1
B93: Դպրոցների թիվը, որոնք ապահովվում են գույքով, հատ | D93: 18 | E93: 18 | F93: 18
B94: Մանկավարժահոգեբանական աջակցության կենտրոնների թիվը, որոնք ապահովվում են գույքով, հատ | D94: 2 | E94: 2 | F94: 2
B95: Միջոցառման վրա կատարվող ծախսը (հազար դրամ) | D95: =+'Հավելված N 4'!G125 -> 16145.4 | E95: =+'Հավելված N 4'!H125 -> 16145.4 | F95: =+'Հավելված N 4'!I125 -> 16145.4
A99: Աղյուսակ 9․1.41
C100: ՀՀ քաղաքաշինության կոմիտե
B101: ՄԱՍ 1. ՊԵՏԱԿԱՆ ՄԱՐՄՆԻ ԳԾՈՎ ԱՐԴՅՈՒՆՔԱՅԻՆ (ԿԱՏԱՐՈՂԱԿԱՆ) ՑՈՒՑԱՆԻՇՆԵՐԸ
B104: Ծրագրի դասիչը | C104: Ծրագրի անվանումը
B105: 1045 | C105: Նախնական (արհեստագործական) և միջին մասնագիտական կրթություն
B107: Ծրագրի միջոցառումները
B108: Ծրագրի դասիչը՝ | C108: 1045 | D108: Ցուցանիշների փոփոխությունը (ավելացումները նշված են դրական նշանով)
B109: Միջոցառման դասիչը՝ | C109: 32001 | D109: Առաջին կիսամյակ | E109: Ինն ամիս | F109: Տարի
B110: Միջոցառման անվանումը՝ | C110: Նախնական մասնագիտական (արհեստագործական) և միջին մասնագիտական ուսումնական հաստատությունների շենքային պայմանների բարելավում
B111: Նկարագրությունը՝ | C111: ՆՄՄԿՈՒ հաստատությունների շենքերի հիմնանորոգման և նախագծման (շինարարական աշխատանքներ, ջեռուցման համակարգի ստեղծում, ներքին հարդարում, տարածքի բարեկարգում) աշխատանքների իրականացում
B112: Միջոցառման տեսակը՝ | C112: Այլ պետական կազմակերպությունների կողմից օգտագործվող ոչ ֆինանսական ակտիվների հետ գործառնություններ
B113: Ակտիվն օգտագործող կազմակերպությունների անվանումները | C113: Նախնական մասնագիտական (արհեստագործական) և միջին մասնագիտական ուսումնական հաստատություններ
B114: Արդյունքի չափորոշիչներ
B115: Հիմնանորոգվող միջին մասնագիտական ուսումնական հաստատությունների քանակ, հատ | D115: 1 | E115: 1 | F115: 1
B116: Հաստատությունների քանակ, որոնց շինարարական աշխատանքների ավարտվածության աստիճանը 100% է, հատ | D116: 1 | E116: 1 | F116: 1
B117: Միջոցառման վրա կատարվող ծախսը (հազար դրամ) | D117: =+'Հավելված N 4'!G49 -> 57791 | E117: =+'Հավելված N 4'!H49 -> 57791 | F117: =+'Հավելված N 4'!I49 -> 57791
B119: Ծրագրի դասիչը | C119: Ծրագրի անվանումը
B120: 1163 | C120: Մասսայական սպորտ
B122: Ծրագրի միջոցառումները
...

Sheet Հավելված N 10
H1: Հավելված N 10
H2: ՀՀ կառավարության 2023 թվականի
H3: ______________ ի ___Ն որոշման
A6: ՀԱՅԱՍՏԱՆԻ ՀԱՆՐԱՊԵՏՈՒԹՅԱՆ ԿԱՌԱՎԱՐՈՒԹՅԱՆ 2022 ԹՎԱԿԱՆԻ ԴԵԿՏԵՄԲԵՐԻ 29-Ի N 2111-Ն ՈՐՈՇՄԱՆ N 10 ՀԱՎԵԼՎԱԾՈՒՄ ԿԱՏԱՐՎՈՂ ՓՈՓՈԽՈՒԹՅՈՒՆԸ ԵՎ ԼՐԱՑՈՒՄՆԵՐԸ
A8: Կոդը | B8: Անվանումը | E8: Գնման ձևը | F8: Չափման միավորը | G8: Միավորի գինը | H8: Ցուցանիշների փոփոխությունը (ավելացումները նշված են դրական նշանով, իսկ նվազեցումները` փակագծերում)
H9: Քանակը | I9: Գումարը (հազար դրամ)
A10: 1 | B10: 2 | E10: 3 | F10: 4 | G10: 5 | H10: 6 | I10: 7
A11: ՀՀ կրթության, գիտության, մշակույթի և սպորտի նախարարություն | I11: =+I12 -> -61471
A12: Բաժին N 09 | B12: Խումբ N 06 | C12: Դաս N 01 | D12: Կրթությանը տրամադրվող օժանդակ ծառայություններ | I12: =+I13+I16+I19+I22+I27 -> -61471
A13: 1045-32001 | B13: Նախնական մասնագիտական (արհեստագործական) և միջին մասնագիտական ուսումնական հաստատությունների շենքային պայմանների բարելավում | I13: =+I14 -> -88526.8 | J13: =+I13+'Հավելված N 5'!E39 -> -95276.8
B14: ՄԱՍ II. ԱՇԽԱՏԱՆՔՆԵՐ | I14: =+I15 -> -88526.8
A15: 45611100-537 | B15: կրթական օբյեկտների հիմնանորոգում | E15: ԲՄ | F15: դրամ | I15: -88526.8
A16: 1130-32001 | B16: ՀՀ կրթության, գիտության, մշակույթի և սպորտի բնագավառում օժանդակ ծրագրեր իրականացնող կազմակերպությունների շենքային պայմանների և գույքային հագեցվածության բարելավում | I16: =+I17 -> 1428.7
B17: ՄԱՍ I. ԱՊՐԱՆՔՆԵՐ | I17: =+I18 -> 1428.7
A18: 39111140 | B18: աթոռներ | E18: ԷԱՃ | F18: հատ | G18: 15874 | H18: 90 | I18: =+ROUND(H18*G18/1000,1) -> 1428.7
A19: 1183-32001 | B19: Կրթական օբյեկտների շենքային պայմանների բարելավում | I19: =+I20 -> 942.1
B20: ՄԱՍ II. ԱՇԽԱՏԱՆՔՆԵՐ | I20: =+I21 -> 942.1
A21: 45231129 | B21: ջեռուցման հետ կապված աշխատանքներ | E21: ԳՀ | F21: դրամ | G21: 942100 | H21: 1 | I21: =+ROUND(H21*G21/1000,1) -> 942.1
A22: 1183-32012 | B22: Հանրակրթական դպրոցների գույքով և տեխնիկայով ապահովում | I22: =+I23 -> 8539.6
B23: ՄԱՍ I. ԱՊՐԱՆՔՆԵՐ | I23: =SUM(I24:I26) -> 8539.6
A24: 39111140 | B24: աթոռներ | E24: ԷԱՃ | F24: հատ | G24: 15874 | H24: 162 | I24: =+ROUND(H24*G24/1000,1) -> 2571.6
A25: 39292110 | B25: գրատախտակներ | E25: ՀՄԱ | F25: հատ | G25: 109969 | H25: 33 | I25: =+ROUND(H25*G25/1000,1) -> 3629
A26: 39292110 | B26: գրատախտակներ | E26: ՀՄԱ | F26: հատ | G26: 129944 | H26: 18 | I26: =+ROUND(H26*G26/1000,1) -> 2339
A27: 1193-31001 | B27: Ամերիկայի Միացյալ Նահանգների միջազգային զարգացման գործակալության աջակցությամբ իրականացվող «Ներառական կրթության համակարգի ներդրում» դրամաշնորհային ծրագիր | I27: =+I28+I30+I43 -> 16145.4
B28: ՄԱՍ I. ԱՊՐԱՆՔՆԵՐ | I28: =+I29 -> 1800
A29: 39121520-501 | B29: գրապահարաններ | E29: ԷԱՃ | F29: հատ | G29: 64285 | H29: 28 | I29: =+ROUND(H29*G29/1000,1) -> 1800
B30: ՄԱՍ II. ԱՇԽԱՏԱՆՔՆԵՐ | I30: =SUM(I31:I42) -> 13626.6
A31: 45611100 | B31: կրթական օբյեկտների հիմնանորոգում | E31: ԳՀ | F31: դրամ | G31: 1554290 | H31: 1 | I31: =+ROUND(H31*G31/1000,1) -> 1554.3
A32: 45611100 | B32: կրթական օբյեկտների հիմնանորոգում | E32: ԳՀ | F32: դրամ | G32: 1687960 | H32: 1 | I32: =+ROUND(H32*G32/1000,1) -> 1688
A33: 45611100 | B33: կրթական օբյեկտների հիմնանորոգում | E33: ԳՀ | F33: դրամ | G33: 266000 | H33: 1 | I33: =+ROUND(H33*G33/1000,1) -> 266
A34: 45611100 | B34: կրթական օբյեկտների հիմնանորոգում | E34: ԳՀ | F34: դրամ | G34: 93380 | H34: 1 | I34: =+ROUND(H34*G34/1000,1) -> 93.4
A35: 45611100 | B35: կրթական օբյեկտների հիմնանորոգում | E35: ԳՀ | F35: դրամ | G35: 131550 | H35: 1 | I35: =+ROUND(H35*G35/1000,1) -> 131.6
A36: 45611100 | B36: կրթական օբյեկտների հիմնանորոգում | E36: ԳՀ | F36: դրամ | G36: 466846 | H36: 1 | I36: =+ROUND(H36*G36/1000,1) -> 466.8
A37: 45611100 | B37: կրթական օբյեկտների հիմնանորոգում | E37: ԳՀ | F37: դրամ | G37: 512539 | H37: 1 | I37: =+ROUND(H37*G37/1000,1) -> 512.5
A38: 45611100 | B38: կրթական օբյեկտների հիմնանորոգում | E38: ԳՀ | F38: դրամ | G38: 1190800 | H38: 1 | I38: =+ROUND(H38*G38/1000,1) -> 1190.8
A39: 45611100 | B39: կրթական օբյեկտների հիմնանորոգում | E39: ԳՀ | F39: դրամ | G39: 5784137 | H39: 1 | I39: =+ROUND(H39*G39/1000,1) -> 5784.1
A40: 45611100 | B40: կրթական օբյեկտների հիմնանորոգում | E40: ԳՀ | F40: դրամ | G40: 230853 | H40: 1 | I40: =+ROUND(H40*G40/1000,1) -> 230.9
A41: 45611100 | B41: կրթական օբյեկտների հիմնանորոգում | E41: ԳՀ | F41: դրամ | G41: 509617 | H41: 1 | I41: =+ROUND(H41*G41/1000,1) -> 509.6
A42: 45611100 | B42: կրթական օբյեկտների հիմնանորոգում | E42: ԳՀ | F42: դրամ | G42: 1198586 | H42: 1 | I42: =+ROUND(H42*G42/1000,1) -> 1198.6
B43: ՄԱՍ III. ԾԱՌԱՅՈՒԹՅՈՒՆՆԵՐ | I43: =SUM(I44:I55) -> 718.8
A44: 71351540 | B44: տեխնիկական հսկողության ծառայություններ | E44: ԳՀ | F44: դրամ | G44: 39000 | H44: 1 | I44: =+ROUND(H44*G44/1000,1) -> 39
A45: 71351540 | B45: տեխնիկական հսկողության ծառայություններ | E45: ԳՀ | F45: դրամ | G45: 12562 | H45: 1 | I45: =+ROUND(H45*G45/1000,1) -> 12.6
A46: 71351540 | B46: տեխնիկական հսկողության ծառայություններ | E46: ԳՀ | F46: դրամ | G46: 11578 | H46: 1 | I46: =+ROUND(H46*G46/1000,1) -> 11.6
A47: 71351540 | B47: տեխնիկական հսկողության ծառայություններ | E47: ԳՀ | F47: դրամ | G47: 11596 | H47: 1 | I47: =+ROUND(H47*G47/1000,1) -> 11.6
A48: 71351540 | B48: տեխնիկական հսկողության ծառայություններ | E48: ԳՀ | F48: դրամ | G48: 264000 | H48: 1 | I48: =+ROUND(H48*G48/1000,1) -> 264
A49: 71351540 | B49: տեխնիկական հսկողության ծառայություններ | E49: ԳՀ | F49: դրամ | G49: 90000 | H49: 1 | I49: =+ROUND(H49*G49/1000,1) -> 90
A50: 71351540 | B50: տեխնիկական հսկողության ծառայություններ | E50: ԳՀ | F50: դրամ | G50: 91000 | H50: 1 | I50: =+ROUND(H50*G50/1000,1) -> 91
A51: 71351540 | B51: տեխնիկական հսկողության ծառայություններ | E51: ԳՀ | F51: դրամ | G51: 47000 | H51: 1 | I51: =+ROUND(H51*G51/1000,1) -> 47
A52: 71351540 | B52: տեխնիկական հսկողության ծառայություններ | E52: ԳՀ | F52: դրամ | G52: 67000 | H52: 1 | I52: =+ROUND(H52*G52/1000,1) -> 67
A53: 98111140 | B53: հեղինակային հսկողության ծառայություններ | E53: ՄԱ | F53: դրամ | G53: 29857 | H53: 1 | I53: =+ROUND(H53*G53/1000,1) -> 29.9
A54: 98111140 | B54: հեղինակային հսկողության ծառայություններ | E54: ՄԱ | F54: դրամ | G54: 27522 | H54: 1 | I54: =+ROUND(H54*G54/1000,1) -> 27.5
A55: 98111140 | B55: հեղինակային հսկողության ծառայություններ | E55: ՄԱ | F55: դրամ | G55: 27565 | H55: 1 | I55: =+ROUND(H55*G55/1000,1) -> 27.6
A57: ՀՀ քաղաքաշինության կոմիտե | I57: =+I58 -> 46313
A58: Բաժին N 09 | B58: Խումբ N 06 | C58: Դաս N 01 | D58: Կրթությանը տրամադրվող օժանդակ ծառայություններ | I58: =+I59+I62 -> 46313
A59: 1045-32001 | B59: Նախնական մասնագիտական (արհեստագործական) և միջին մասնագիտական ուսումնական հաստատությունների շենքային պայմանների բարելավում | I59: =+I60 -> 39563
B60: ՄԱՍ II. ԱՇԽԱՏԱՆՔՆԵՐ | I60: =+I61 -> 39563
A61: 45611100 | B61: կրթական օբյեկտների հիմնանորոգում | E61: ԲՄ | F61: դրամ | G61: 39563014 | H61: 1 | I61: =ROUND(H61*G61/1000,1) -> 39563
A62: 1183-32013 | B62: ՀՀ մարզերում կրթական որակյալ ծառայությունների հասանելիության ապահովման ծրագրի շրջանակներում կրթական կենտրոնների ստեղծում | I62: =+I63 -> 6750
B63: ՄԱՍ III. ԾԱՌԱՅՈՒԹՅՈՒՆՆԵՐ | I63: =SUM(I64:I69) -> 6750
A64: 71241200 | B64: նախագծերի պատրաստում, ծախսերի գնահատում | E64: ՄԱ | F64: դրամ | G64: 1125000 | H64: 1 | I64: =+H64*G64/1000 -> 1125
A65: 71241200 | B65: նախագծերի պատրաստում, ծախսերի գնահատում | E65: ՄԱ | F65: դրամ | G65: 1125000 | H65: 1 | I65: =+H65*G65/1000 -> 1125
A66: 71241200 | B66: նախագծերի պատրաստում, ծախսերի գնահատում | E66: ՄԱ | F66: դրամ | G66: 1125000 | H66: 1 | I66: =+H66*G66/1000 -> 1125
A67: 71241200 | B67: նախագծերի պատրաստում, ծախսերի գնահատում | E67: ՄԱ | F67: դրամ | G67: 1125000 | H67: 1 | I67: =+H67*G67/1000 -> 1125
A68: 71241200 | B68: նախագծերի պատրաստում, ծախսերի գնահատում | E68: ՄԱ | F68: դրամ | G68: 1125000 | H68: 1 | I68: =+H68*G68/1000 -> 1125
A69: 71241200 | B69: նախագծերի պատրաստում, ծախսերի գնահատում | E69: ՄԱ | F69: դրամ | G69: 1125000 | H69: 1 | I69: =+H69*G69/1000 -> 1125

Sheet Հավելված N 11
H1: Հավելված N 11
I2: ՀՀ կառավարության 2023 թվականի
I3: ______________ ի ___Ն որոշման
A6: ՀԱՅԱՍՏԱՆԻ ՀԱՆՐԱՊԵՏՈՒԹՅԱՆ 2023 ԹՎԱԿԱՆԻ ՊԵՏԱԿԱՆ ԲՅՈՒՋԵՈՎ ՆԱԽԱՏԵՍՎԱԾ՝ ՀԱՅԱՍՏԱՆԻ ՀԱՆՐԱՊԵՏՈՒԹՅԱՆ ԿԱՌԱՎԱՐՈՒԹՅԱՆ ՊԱՀՈՒՍՏԱՅԻՆ ՖՈՆԴԻՑ ՀԱՏԿԱՑՈՒՄՆԵՐ ԿԱՏԱՐԵԼՈՒ ՎԵՐԱԲԵՐՅԱԼ
I9: հազ. դրամներով
A10: Գործառական դասիչը | D10: Ծրագրային դասիչը | F10: Բյուջետային հատկացումների գլխավոր կարգադրիչների, ծրագրերի, միջոցառումների և միջոցառումները կատարող պետական մարմինների անվանումները | G10: Ցուցանիշների փոփոխությունը (ավելացումները նշված են դրական նշանով, իսկ նվազեցումները՝ փակագծերում)
A11: Բաժին | B11: Խումբ | C11: Դաս | D11: Ծրագիր | E11: Միջոցառում | G11: Առաջին կիսամյակ | H11: Ինն ամիս | I11: Տարի
F12: ԸՆԴԱՄԵՆԸ | G12: =+G34+G14 -> 0 | H12: =+H34+H14 -> 0 | I12: =+I34+I14 -> 0
F13: այդ թվում
F14: ՀՀ ԿԱՌԱՎԱՐՈՒԹՅՈՒՆ | G14: =+G15 -> -1428.7 | H14: =+H15 -> -1428.7 | I14: =+I15 -> -1428.7
A15: 11 | F15: ՀԻՄՆԱԿԱՆ ԲԱԺԻՆՆԵՐԻՆ ՉԴԱՍՎՈՂ ՊԱՀՈՒՍՏԱՅԻՆ ՖՈՆԴԵՐ | G15: =+G17 -> -1428.7 | H15: =+H17 -> -1428.7 | I15: =+I17 -> -1428.7
F16: այդ թվում`
B17: 01 | F17: ՀՀ կառավարության և համայնքների պահուստային ֆոնդ | G17: =+G19 -> -1428.7 | H17: =+H19 -> -1428.7 | I17: =+I19 -> -1428.7
F18: այդ թվում`
C19: 01 | F19: ՀՀ կառավարության պահուստային ֆոնդ | G19: =+G21 -> -1428.7 | H19: =+H21 -> -1428.7 | I19: =+I21 -> -1428.7
F20: այդ թվում`
F21: ՀՀ կառավարություն | G21: =+G23 -> -1428.7 | H21: =+H23 -> -1428.7 | I21: =+I23 -> -1428.7
F22: այդ թվում`
D23: 1139 | E23: ՀՀ կառավարության պահուստային ֆոնդ | F23: ՀՀ կառավարության պահուստային ֆոնդ | G23: =+G25 -> -1428.7 | H23: =+H25 -> -1428.7 | I23: =+I25 -> -1428.7
F24: այդ թվում`
E25: 11001 | F25: ՀՀ կառավարության պահուստային ֆոնդ | G25: =+G27 -> -1428.7 | H25: =+H27 -> -1428.7 | I25: =+I27 -> -1428.7
F26: այդ թվում` ըստ կատարողների
F27: ՀՀ կառավարություն | G27: =+G29 -> -1428.7 | H27: =+H29 -> -1428.7 | I27: =+I29 -> -1428.7
F28: այդ թվում` բյուջետային ծախսերի տնտեսագիտական դասակարգման հոդվածներ
F29: ԸՆԴԱՄԵՆԸ ԾԱԽՍԵՐ | G29: =+G30 -> -1428.7 | H29: =+H30 -> -1428.7 | I29: =+I30 -> -1428.7
F30: ԸՆԹԱՑԻԿ ԾԱԽՍԵՐ | G30: =+G31 -> -1428.7 | H30: =+H31 -> -1428.7 | I30: =+I31 -> -1428.7
F31: ԱՅԼ ԾԱԽՍԵՐ | G31: =+G32 -> -1428.7 | H31: =+H32 -> -1428.7 | I31: =+I32 -> -1428.7
F32: Պահուստային միջոցներ | G32: =+'Հավելված N 4'!G179 -> -1428.7 | H32: =+'Հավելված N 4'!H179 -> -1428.7 | I32: =+'Հավելված N 4'!I179 -> -1428.7
F34: ՀՀ ԿՐԹՈՒԹՅԱՆ, ԳԻՏՈՒԹՅԱՆ, ՄՇԱԿՈՒՅԹԻ ԵՎ ՍՊՈՐՏԻ ՆԱԽԱՐԱՐՈՒԹՅՈՒՆ | G34: =+G35 -> 1428.7 | H34: =+H35 -> 1428.7 | I34: =+I35 -> 1428.7
A35: 09 | F35: ԿՐԹՈՒԹՅՈՒՆ | G35: =+G37 -> 1428.7 | H35: =+H37 -> 1428.7 | I35: =+I37 -> 1428.7
F36: այդ թվում`
B37: 08 | F37: Կրթություն (այլ դասերին չպատկանող) | G37: =+G39 -> 1428.7 | H37: =+H39 -> 1428.7 | I37: =+I39 -> 1428.7
F38: այդ թվում`
C39: 01 | F39: Կրթություն (այլ դասերին չպատկանող) | G39: =+G41 -> 1428.7 | H39: =+H41 -> 1428.7 | I39: =+I41 -> 1428.7
F40: այդ թվում`
F41: ՀՀ կրթության, գիտության, մշակույթի և սպորտի նախարարություն | G41: =+G43 -> 1428.7 | H41: =+H43 -> 1428.7 | I41: =+I43 -> 1428.7
F42: այդ թվում՝
D43: 1130 | E43: Կրթության, գիտության, մշակույթի և սպորտի բնագավառի պետական քաղաքականության մշակում, ծրագրերի համակարգում և մոնիտորինգ | G43: =+G45 -> 1428.7 | H43: =+H45 -> 1428.7 | I43: =+I45 -> 1428.7
F44: այդ թվում`
E45: 32001 | F45: ՀՀ կրթության, գիտության, մշակույթի և սպորտի բնագավառում օժանդակ ծրագրեր իրականացնող կազմակերպությունների շենքային պայմանների և գույքային հագեցվածության բարելավում | G45: =+G47 -> 1428.7 | H45: =+H47 -> 1428.7 | I45: =+I47 -> 1428.7
F46: այդ թվում` ըստ կատարողների
F47: ՀՀ կրթության, գիտության, մշակույթի և սպորտի նախարարություն | G47: =G49 -> 1428.7 | H47: =H49 -> 1428.7 | I47: =I49 -> 1428.7
F48: այդ թվում՝ բյուջետային ծախսերի տնտեսագիտական դասակարգման հոդվածներ
F49: ԸՆԴԱՄԵՆԸ ԾԱԽՍԵՐ | G49: =+G50 -> 1428.7 | H49: =+H50 -> 1428.7 | I49: =+I50 -> 1428.7
F50: ՈՉ ՖԻՆԱՆՍԱԿԱՆ ԱԿՏԻՎՆԵՐԻ ԳԾՈՎ ԾԱԽՍԵՐ | G50: =G51 -> 1428.7 | H50: =H51 -> 1428.7 | I50: =I51 -> 1428.7
F51: ՀԻՄՆԱԿԱՆ ՄԻՋՈՑՆԵՐ | G51: =+G52+G54 -> 1428.7 | H51: =+H52+H54 -> 1428.7 | I51: =+I52+I54 -> 1428.7
F52: ՄԵՔԵՆԱՆԵՐ ԵՎ ՍԱՐՔԱՎՈՐՈՒՄՆԵՐ | G52: =+G53 -> 1428.7 | H52: =+H53 -> 1428.7 | I52: =+I53 -> 1428.7
F53: - Վարչական սարքավորումներ | G53: =+'Հավելված N 4'!G150 -> 1428.7 | H53: =+'Հավելված N 4'!H150 -> 1428.7 | I53: =+'Հավելված N 4'!I150 -> 1428.7
