Workbook

Sheet 1
F1: Հավելված N 1
F2: ՀՀ կառավարության 2023 թվականի
F3: -ի N -Ն որոշման
A4: «ՀԱՅԱՍՏԱՆԻ ՀԱՆՐԱՊԵՏՈՒԹՅԱՆ 2023 ԹՎԱԿԱՆԻ ՊԵՏԱԿԱՆ ԲՅՈՒՋԵԻ ՄԱՍԻՆ» ՀԱՅԱՍՏԱՆԻ ՀԱՆՐԱՊԵՏՈՒԹՅԱՆ ՕՐԵՆՔԻ N 1 ՀԱՎԵԼՎԱԾԻ N 2 ԱՂՅՈՒՍԱԿՈՒՄ ԿԱՏԱՐՎՈՂ ՎԵՐԱԲԱՇԽՈՒՄԸ , ՓՈՓՈԽՈՒԹՅՈՒՆՆԵՐԸ ԵՎ ԼՐԱՑՈՒՄՆԵՐԸ, ՀԱՅԱՍՏԱՆԻ ՀԱՆՐԱՊԵՏՈՒԹՅԱՆ ԿԱՌԱՎԱՐՈՒԹՅԱՆ 2022 ԹՎԱԿԱՆԻ ԴԵԿՏԵՄԲԵՐԻ 29-Ի N 2111-Ն ՈՐՈՇՄԱՆ N 5 ՀԱՎԵԼՎԱԾԻ N 1 ԱՂՅՈՒՍԱԿՈՒՄ ԿԱՏԱՐՎՈՂ ՓՈՓՈԽՈՒԹՅՈՒՆՆԵՐԸ ԵՎ ԼՐԱՑՈՒՄՆԵՐԸ
F6: (հազ. դրամ)
A7: Ծրագրային դասիչը | C7: Բյուջետային գլխավոր կարգադրիչների, ծրագրերի և միջոցառումների անվանումները | D7: Ցուցանիշների փոփոխությունը (ավելացումները նշված են դրական նշանով, իսկ նվազեցումները՝ փակագծերում)
A8: Ծրագիր | B8: Միջոցառում | D8: Առաջին կիսամյակ | E8: Ինն ամիս | F8: Տարի
C9: ԸՆԴԱՄԵՆԸ | D9: =D10 -> 2.9558578e-12 | E9: =E10 -> 2.9558578e-12 | F9: =F10 -> 2.9558578e-12
C10: ՀՀ տարածքային կառավարման և ենթակառուցվածքների նախարարություն | D10: =D11+D24+D37 -> 2.9558578e-12 | E10: =E11+E24+E37 -> 2.9558578e-12 | F10: =F11+F24+F37 -> 2.9558578e-12
A11: 1004 | C11: Ծրագրի անվանումը` | D11: =D18 -> -50933.7 | E11: =E18 -> -50933.7 | F11: =F18 -> -50933.7
C12: Ոռոգման համակարգի առողջացում
C13: Ծրագրի նպատակը`
C14: Ոռոգման ծառայությունների հասանելիության և մատչելիության ապահովում
C15: Վերջնական արդյունքի նկարագրությունը`
C16: Ոռոգման ջրի մատակարարման արդյունավետության և հասանելիության բարելավում, կորուստների կրճատում
A17: Ծրագրի միջոցառումներ
B18: 11010 | C18: Միջոցառման անվանումը` | D18: ='5'!F26 -> -50933.7 | E18: ='5'!G26 -> -50933.7 | F18: ='5'!L26 -> -50933.7
C19: Գերմանիայի զարգացման վարկերի բանկի աջակցությամբ իրականացվող Ախուրյան գետի ջրային ռեսուրսների ինտեգրացված կառավարում փուլ 1 ծրագրով Ջրաձոր գյուղի վերաբնակեցման գործողությունների խորհրդատվություն և կառավարում
C20: Միջոցառման նկարագրությունը`
C21: Գերմանիայի զարգացման վարկերի բանկի աջակցությամբ իրականացվող Ախուրյան գետի ջրային ռեսուրսների ինտեգրացված կառավարում փուլ 1 ծրագրով Ջրաձոր գյուղի վերաբնակեցման գործողությունների համակարգում և ղեկավարում
C22: Միջոցառման տեսակը
C23: Ծառայությունների մատուցում
A24: 1072 | C24: Ծրագրի անվանումը` | D24: =D31 -> 49617 | E24: =E31 -> 49617 | F24: =F31 -> 49617
C25: Ջրամատակարարման և ջրահեռացման բարելավում
C26: Ծրագրի նպատակը`
C27: Ջրամատակարարման ծառայությունների հասանելիության և մատչելիության ապահովում
C28: Վերջնական արդյունքի նկարագրությունը`
C29: Խմելու ջրի մատակարարման և ջրահեռացման համակարգի բարելավում, կորուստների կրճատում
A30: Ծրագրի միջոցառումներ
B31: 31012 | C31: Միջոցառման անվանումը` | D31: ='3'!G41 -> 49617 | E31: ='3'!H41 -> 49617 | F31: ='3'!I41 -> 49617
C32: Ջրամատակարարման և ջրահեռացման ոլորտում անշարժ գույքի ձեռքբերում
C33: Միջոցառման նկարագրությունը`
C34: Ջրամատակարարման և ջրահեռացման ոլորտում շենքերի և շինությունների, հողերի և այլ անշարժ գույքի ձեռքբերում
C35: Միջոցառման տեսակը
C36: Պետական մարմինների կողմից օգտագործվող ոչ ֆինանսական ակտիվների հետ գործառնություններ
A37: 1109 | C37: Ծրագրի անվանումը` | D37: =D44 -> 1316.7 | E37: =E44 -> 1316.7 | F37: =F44 -> 1316.7
C38: Ջրային տնտեսության ոլորտում ծրագրերի համակարգում և մոնիտորինգ
C39: Ծրագրի նպատակը`
C40: Ջրային տնտեսության ոլորտում պետական արդյունավետ ծրագրերի մշակման և իրականացման ապահովում
C41: Վերջնական արդյունքի նկարագրությունը`
C42: Ջրային տնտեսության ոլորտում իրականացվող ծրագրերի ազդեցության և արդյունավետության բարելավում
A43: Ծրագրի միջոցառումներ
B44: 11001 | C44: Միջոցառման անվանումը` | D44: ='3'!G63 -> 1316.7 | E44: ='3'!H63 -> 1316.7 | F44: ='3'!I63 -> 1316.7
C45: Ջրային տնտեսության ոլորտում պետական քաղաքականության մշակում, ծրագրերի համակարգում և մոնիտորինգ
C46: Միջոցառման նկարագրությունը`
C47: Ոլորտի քաղաքականության խորհրդատվության, կոմիտեի իրավասության տակ ընկնող ծառայությունների ու ծրագրերի համակարգման ծառայություններ
C48: Միջոցառման տեսակը`
C49: Ծառայությունների մատուցում
C50: ՀՀ կառավարություն | D50: =D51 -> 0 | E50: =E51 -> 0 | F50: =F51 -> 0
A51: 1139 | C51: Ծրագրի անվանումը` | D51: =D58+D64 -> 0 | E51: =E58+E64 -> 0 | F51: =F58+F64 -> 0
C52: ՀՀ կառավարության պահուստային ֆոնդ
C53: Ծրագրի նպատակը`
C54: Պետական բյուջեում չկանխատեսված՝ ինչպես նաեւ բյուջետային երաշխիքների ապահովման ծախսերի ֆինանսավորման ապահովում
C55: Վերջնական արդյունքի նկարագրությունը`
C56: Պահուստային ֆոնդի կառավարման արդյունավետության և թափանցիկության ապահովում
A57: Ծրագրի միջոցառումներ
B58: 11001 | C58: Միջոցառման անվանումը` | D58: =-D18 -> 50933.7 | E58: =D58 -> 50933.7 | F58: =E58 -> 50933.7
C59: ՀՀ կառավարության պահուստային ֆոնդ
C60: Միջոցառման նկարագրությունը`
C61: ՀՀ պետական բյուջեում նախատեսված ելքերի լրացուցիչ ֆինանսավորման՝ պետական բյուջեում չկանխատեսված ելքերի՝ ինչպես նաև բյուջետային երաշխիքների ապահովման ելքերի ֆինանսավորման ապահովում
C62: Միջոցառման տեսակը
C63: Ծառայությունների մատուցում
B64: 11001 | C64: Միջոցառման անվանումը` | D64: =-D58 -> -50933.7 | E64: =D64 -> -50933.7 | F64: =E64 -> -50933.7
C65: ՀՀ կառավարության պահուստային ֆոնդ
C66: Միջոցառման նկարագրությունը`
C67: ՀՀ պետական բյուջեում նախատեսված ելքերի լրացուցիչ ֆինանսավորման՝ պետական բյուջեում չկանխատեսված ելքերի՝ ինչպես նաև բյուջետային երաշխիքների ապահովման ելքերի ֆինանսավորման ապահովում
C68: Միջոցառման տեսակը
C69: Ծառայությունների մատուցում

Sheet 2
A1: Հավելված N 2
A2: ՀՀ կառավարության 2023 թվականի
A3: -ի N -Ն որոշման
A4: «ՀԱՅԱՍՏԱՆԻ ՀԱՆՐԱՊԵՏՈՒԹՅԱՆ 2023 ԹՎԱԿԱՆԻ ՊԵՏԱԿԱՆ ԲՅՈՒՋԵԻ ՄԱՍԻՆ» ՀԱՅԱՍՏԱՆԻ ՀԱՆՐԱՊԵՏՈՒԹՅԱՆ ՕՐԵՆՔԻ N 1 ՀԱՎԵԼՎԱԾԻ N 3 ԱՂՅՈՒՍԱԿՈՒՄ ԿԱՏԱՐՎՈՂ ԼՐԱՑՈՒՄՆԵՐԸ
G5: (հազ. դրամ)
A6: Ծրագրային դասիչ | C6: Բյուջետային գլխավոր կարգադրիչների, ծրագրերի, միջոցառումների և ուղղությունների անվանումները | D6: Ցուցանիշների փոփոխությունը (ավելացումները նշված են դրական նշանով)
D7: Ընդամենը, | E7: այդ թվում՝
A8: Ծրագիր | B8: Միջոցառում | E8: Կառուցման աշխատանքներ | F8: Վերակառուցման, վերանորոգման և վերականգնման աշխատանքներ | G8: Նախագծահե- տազոտական, գեոդեզիա- քարտեզագրա- կան աշխա- տանքներ | H8: Ոչ ֆինանսական այլ ակտիվների ձեռքբերում
C9: ԸՆԴԱՄԵՆԸ | D9: =SUM(E9:H9) -> 49617 | E9: =E11 -> 0 | F9: =F11 -> 0 | G9: =G11 -> 0 | H9: =H11 -> 49617
C10: այդ թվում՝
C11: ՀՀ ՏԱՐԱԾՔԱՅԻՆ ԿԱՌԱՎԱՐՄԱՆ ԵՎ ԵՆԹԱԿԱՌՈՒՑՎԱԾՔՆԵՐԻ ՆԱԽԱՐԱՐՈՒԹՅՈՒՆ | D11: =SUM(E11:H11) -> 49617 | E11: =E14 -> 0 | F11: =F14 -> 0 | G11: =G14 -> 0 | H11: =H14 -> 49617
C12: այդ թվում`
A14: 1072 | B14: 31012 | C14: Ջրամատակարարման և ջրահեռացման ոլորտում անշարժ գույքի ձեռքբերում | D14: =SUM(E14:H14) -> 49617 | H14: =H16 -> 49617
C15: այդ թվում`
C16: ՀՀ Տավուշի մարզի Նոյեմբերյան համայնքի Կողբ բնակավայրում անշարժ գույքի և հողամասի ձեռքբերում | D16: =SUM(D14:D15) -> 49617 | H16: ='3'!I49+'3'!I51 -> 49617

Sheet 3
H1: Հավելված N3
A2: ՀՀ կառավարության 2023 թվականի
A3: -ի N -Ն որոշման
A4: ՀԱՅԱՍՏԱՆԻ ՀԱՆՐԱՊԵՏՈՒԹՅԱՆ ԿԱՌԱՎԱՐՈՒԹՅԱՆ 2022 ԹՎԱԿԱՆԻ ԴԵԿՏԵՄԲԵՐԻ 29-Ի N 2111-Ն ՈՐՈՇՄԱՆ N 3 ԵՎ N 4 ՀԱՎԵԼՎԱԾՆԵՐՈՒՄ ԿԱՏԱՐՎՈՂ ՓՈՓՈԽՈՒԹՅՈՒՆՆԵՐԸ ԵՎ ԼՐԱՑՈՒՄՆԵՐԸ
I6: (հազ. դրամ)
A7: Գործառական դասիչը | D7: Ծրագրային դասիչը | F7: Բյուջետային ծախսերի գործառական դասակարգման բաժինների, խմբերի և դասերի, բյուջետային ծրագրերի միջոցառումների, բյուջետային հատկացումների գլխավոր կարգադրիչների անվանումները | G7: Ցուցանիշների փոփոխությունը (ավելացումները նշված են դրական նշանով, իսկ նվազեցումները՝ փակագծերում)
G8: Առաջին կիսամյակ | H8: Ինն ամիս | I8: Տարի
A9: Բաժին | B9: Խումբ | C9: Դաս | D9: Ծրագիր | E9: Միջոցառում
F10: ԸՆԴԱՄԵՆԸ ԾԱԽՍԵՐ | G10: - | H10: - | I10: -
F11: այդ թվում`
A12: 04 | F12: ՏՆՏԵՍԱԿԱՆ ՀԱՐԱԲԵՐՈՒԹՅՈՒՆՆԵՐ | G12: =G14 -> 0 | H12: =H14 -> 0 | I12: =I14 -> 0
F13: այդ թվում`
B14: 02 | F14: Գյուղատնտեսություն, անտառային տնտեսություն, ձկնորսություն և որսորդություն | G14: =G16 -> 0 | H14: =H16 -> 0 | I14: =I16 -> 0
F15: այդ թվում`
C16: 04 | F16: Ոռոգում | G16: =G18 -> 0 | H16: =H18 -> 0 | I16: =I18 -> 0
F17: այդ թվում`
F18: ՀՀ տարածքային կառավարման և ենթակառուցվածքների նախարարություն | G18: =G20+G31 -> 0 | H18: =H20+H31 -> 0 | I18: =I20+I31 -> 0
F19: այդ թվում`
D20: 1004 | F20: Ոռոգման համակարգի առողջացում | G20: =G22 -> -50933.7 | H20: =H22 -> -50933.7 | I20: =I22 -> -50933.7
F21: այդ թվում`
E22: 11010 | F22: Գերմանիայի զարգացման վարկերի բանկի աջակցությամբ իրականացվող Ախուրյան գետի ջրային ռեսուրսների ինտեգրացված կառավարում փուլ 1 ծրագրով Ջրաձոր գյուղի վերաբնակեցման գործողությունների խորհրդատվություն և կառավարում | G22: =G24 -> -50933.7 | H22: =H24 -> -50933.7 | I22: =I24 -> -50933.7
F23: այդ թվում` ըստ կատարողների
F24: ՀՀ տարածքային կառավարման և ենթակառուցվածքների նախարարության ջրային կոմիտե | G24: =G26 -> -50933.7 | H24: =H26 -> -50933.7 | I24: =I26 -> -50933.7
F25: այդ թվում` բյուջետային ծախսերի տնտեսագիտական դասակարգման հոդվածներ
F26: ԸՆԴԱՄԵՆԸ ԾԱԽՍԵՐ | G26: =G27 -> -50933.7 | H26: =H27 -> -50933.7 | I26: =I27 -> -50933.7
F27: ԸՆԹԱՑԻԿ ԾԱԽՍԵՐ | G27: =SUM(G28) -> -50933.7 | H27: =SUM(H28) -> -50933.7 | I27: =SUM(I28) -> -50933.7
F28: ԴՐԱՄԱՇՆՈՐՀՆԵՐ | G28: =SUM(G29) -> -50933.7 | H28: =SUM(H29) -> -50933.7 | I28: =SUM(I29) -> -50933.7
F29: Ընթացիկ դրամաշնորհներ պետական հատվածի այլ մակարդակներին | G29: =SUM(G30) -> -50933.7 | H29: =SUM(H30) -> -50933.7 | I29: =SUM(I30) -> -50933.7
F30: - Այլ ընթացիկ դրամաշնորհներ | G30: ='1'!D18 -> -50933.7 | H30: ='1'!E18 -> -50933.7 | I30: ='1'!F18 -> -50933.7
A31: 06 | F31: ԲՆԱԿԱՐԱՆԱՅԻՆ ՇԻՆԱՐԱՐՈՒԹՅՈՒՆ ԵՎ ԿՈՄՈՒՆԱԼ ԾԱՌԱՅՈՒԹՅՈՒՆՆԵՐ | G31: =G33 -> 50933.7 | H31: =H33 -> 50933.7 | I31: =I33 -> 50933.7
F32: այդ թվում`
B33: 03 | F33: Ջրամատակարարում | G33: =G35 -> 50933.7 | H33: =H35 -> 50933.7 | I33: =I35 -> 50933.7
F34: այդ թվում`
C35: 01 | F35: Ջրամատակարարում | G35: =G37 -> 50933.7 | H35: =H37 -> 50933.7 | I35: =I37 -> 50933.7
F36: այդ թվում`
F37: ՀՀ տարածքային կառավարման և ենթակառուցվածքների նախարարություն | G37: =G39+G53 -> 50933.7 | H37: =H39+H53 -> 50933.7 | I37: =I39+I53 -> 50933.7
F38: այդ թվում`
D39: 1072 | F39: Ջրամատակարարման և ջրահեռացման բարելավում | G39: =G41 -> 49617 | H39: =H41 -> 49617 | I39: =I41 -> 49617
F40: այդ թվում`
E41: 31012 | F41: Ջրամատակարարման և ջրահեռացման ոլորտում անշարժ գույքի ձեռքբերում | G41: =G43 -> 49617 | H41: =H43 -> 49617 | I41: =I43 -> 49617
F42: այդ թվում` ըստ կատարողների
F43: ՀՀ տարածքային կառավարման և ենթակառուցվածքների նախարարության ջրային կոմիտե | G43: =G45 -> 49617 | H43: =H45 -> 49617 | I43: =I45 -> 49617
F44: այդ թվում` բյուջետային ծախսերի տնտեսագիտական դասակարգման հոդվածներ
F45: ԸՆԴԱՄԵՆԸ ԾԱԽՍԵՐ | G45: =G46 -> 49617 | H45: =H46 -> 49617 | I45: =I46 -> 49617
F46: ՈՉ ՖԻՆԱՆՍԱԿԱՆ ԱԿՏԻՎՆԵՐԻ ԳԾՈՎ ԾԱԽՍԵՐ | G46: =G47+G50 -> 49617 | H46: =H47+H50 -> 49617 | I46: =I47+I50 -> 49617
F47: ՀԻՄՆԱԿԱՆ ՄԻՋՈՑՆԵՐ | G47: =G48 -> 27823 | H47: =H48 -> 27823 | I47: =I48 -> 27823
F48: ՇԵՆՔԵՐ ԵՎ ՇԻՆՈՒԹՅՈՒՆՆԵՐ | G48: =G49 -> 27823 | H48: =H49 -> 27823 | I48: =I49 -> 27823
F49: - Շենքերի և շինությունների ձեռքբերում | G49: 27823 | H49: =G49 -> 27823 | I49: =H49 -> 27823
F50: ՉԱՐՏԱԴՐՎԱԾ ԱԿՏԻՎՆԵՐ | G50: =G51 -> 21794 | H50: =H51 -> 21794 | I50: =I51 -> 21794
F51: ՀՈՂ | G51: 21794 | H51: =G51 -> 21794 | I51: =H51 -> 21794
F52: - ՀՈՂ | G52: 21794 | H52: =G52 -> 21794 | I52: =H52 -> 21794
D53: 1109 | F53: Ջրային տնտեսության ոլորտում ծրագրերի համակարգում և մոնիտորինգ | G53: =G55 -> 1316.7 | H53: =H55 -> 1316.7 | I53: =I55 -> 1316.7
F54: այդ թվում`
E55: 11001 | F55: Ջրային տնտեսության ոլորտում պետական քաղաքականության մշակում, ծրագրերի համակարգում և մոնիտորինգ | G55: =G57 -> 1316.7 | H55: =H57 -> 1316.7 | I55: =I57 -> 1316.7
F56: այդ թվում` ըստ կատարողների
F57: ՀՀ տարածքային կառավարման և ենթակառուցվածքների նախարարության ջրային կոմիտե | G57: =G59 -> 1316.7 | H57: =H59 -> 1316.7 | I57: =I59 -> 1316.7
F58: այդ թվում` բյուջետային ծախսերի տնտեսագիտական դասակարգման հոդվածներ
F59: ԸՆԴԱՄԵՆԸ ԾԱԽՍԵՐ | G59: =G60 -> 1316.7 | H59: =H60 -> 1316.7 | I59: =I60 -> 1316.7
F60: ԸՆԹԱՑԻԿ ԾԱԽՍԵՐ | G60: =G61 -> 1316.7 | H60: =H61 -> 1316.7 | I60: =I61 -> 1316.7
F61: ԱՅԼ ԾԱԽՍԵՐ | G61: =G62 -> 1316.7 | H61: =H62 -> 1316.7 | I61: =I62 -> 1316.7
F62: Հարկեր, պարտադիր վճարներ և տույժեր, որոնք կառավարման տարբեր մակարդակների կողմից կիրառվում են միմյանց նկատմամբ | G62: 1316.7 | H62: =G62 -> 1316.7 | I62: =H62 -> 1316.7
F63: - Պարտադիր վճարներ | G63: 1316.7 | H63: =G63 -> 1316.7 | I63: =H63 -> 1316.7
A64: 11 | F64: ՀԻՄՆԱԿԱՆ ԲԱԺԻՆՆԵՐԻՆ ՉԴԱՍՎՈՂ ՊԱՀՈՒՍՏԱՅԻՆ ՖՈՆԴԵՐ | G64: =G66 -> 0 | H64: =H66 -> 0 | I64: =I66 -> 0
F65: այդ թվում`
B66: 01 | F66: ՀՀ կառավարության և համայնքների պահուստային ֆոնդ | G66: =G68 -> 0 | H66: =H68 -> 0 | I66: =I68 -> 0
F67: այդ թվում`
C68: 01 | F68: ՀՀ կառավարության պահուստային ֆոնդ | G68: =G70 -> 0 | H68: =H70 -> 0 | I68: =I70 -> 0
F69: այդ թվում`
F70: ՀՀ կառավարություն | G70: =G72 -> 0 | H70: =H72 -> 0 | I70: =I72 -> 0
F71: այդ թվում`
D72: 1139 | F72: ՀՀ կառավարության պահուստային ֆոնդ | G72: =G74+G83 -> 0 | H72: =H74+H83 -> 0 | I72: =I74+I83 -> 0
F73: այդ թվում`
E74: 11001 | F74: ՀՀ կառավարության պահուստային ֆոնդ | G74: =G76 -> 50933.7 | H74: =H76 -> 50933.7 | I74: =I76 -> 50933.7
F75: այդ թվում` ըստ կատարողների
F76: ՀՀ կառավարություն | G76: =G78 -> 50933.7 | H76: =H78 -> 50933.7 | I76: =I78 -> 50933.7
F77: այդ թվում` բյուջետային ծախսերի տնտեսագիտական դասակարգման հոդվածներ
F78: ԸՆԴԱՄԵՆԸ ԾԱԽՍԵՐ | G78: =G79 -> 50933.7 | H78: =H79 -> 50933.7 | I78: =I79 -> 50933.7
F79: ԸՆԹԱՑԻԿ ԾԱԽՍԵՐ | G79: =G80 -> 50933.7 | H79: =H80 -> 50933.7 | I79: =I80 -> 50933.7
F80: ԱՅԼ ԾԱԽՍԵՐ | G80: =G81 -> 50933.7 | H80: =H81 -> 50933.7 | I80: =I81 -> 50933.7
F81: Պահուստային միջոցներ | G81: =G82 -> 50933.7 | H81: =H82 -> 50933.7 | I81: =I82 -> 50933.7
F82: -Պահուստային միջոցներ | G82: ='1'!D58 -> 50933.7 | H82: ='1'!E58 -> 50933.7 | I82: ='1'!F58 -> 50933.7
E83: 11001 | F83: ՀՀ կառավարության պահուստային ֆոնդ | G83: =G85 -> -50933.7 | H83: =H85 -> -50933.7 | I83: =I85 -> -50933.7
F84: այդ թվում` ըստ կատարողների
F85: ՀՀ կառավարություն | G85: =G87 -> -50933.7 | H85: =H87 -> -50933.7 | I85: =I87 -> -50933.7
F86: այդ թվում` բյուջետային ծախսերի տնտեսագիտական դասակարգման հոդվածներ
F87: ԸՆԴԱՄԵՆԸ ԾԱԽՍԵՐ | G87: =G88 -> -50933.7 | H87: =H88 -> -50933.7 | I87: =I88 -> -50933.7
F88: ԸՆԹԱՑԻԿ ԾԱԽՍԵՐ | G88: =G89 -> -50933.7 | H88: =H89 -> -50933.7 | I88: =I89 -> -50933.7
F89: ԱՅԼ ԾԱԽՍԵՐ | G89: =G90 -> -50933.7 | H89: =H90 -> -50933.7 | I89: =I90 -> -50933.7
F90: Պահուստային միջոցներ | G90: =G91 -> -50933.7 | H90: =H91 -> -50933.7 | I90: =I91 -> -50933.7
F91: -Պահուստային միջոցներ | G91: ='1'!D64 -> -50933.7 | H91: ='1'!E64 -> -50933.7 | I91: ='1'!F64 -> -50933.7

Sheet 4
A1: Հավելված N 4
A2: ՀՀ կառավարության 2023 թվականի
A3: -ի N -Ն որոշման
A4: ՀԱՅԱՍՏԱՆԻ ՀԱՆՐԱՊԵՏՈՒԹՅԱՆ ԿԱՌԱՎԱՐՈՒԹՅԱՆ 2022 ԹՎԱԿԱՆԻ ԴԵԿՏԵՄԲԵՐԻ 29-Ի N 2111-Ն ՈՐՈՇՄԱՆ N 5 ՀԱՎԵԼՎԱԾԻ N 2 ԱՂՅՈՒՍԱԿՈՒՄ ԿԱՏԱՐՎՈՂ ԼՐԱՑՈՒՄՆԵՐԸ
F5: (հազ. դրամ)
A6: Ծրագրային դասիչ | C6: Բյուջետային գլխավոր կարգադրիչների, ծրագրերի, միջոցառումների, միջոցառումները կատարող պետական մարմինների և ուղղությունների անվանումները | D6: Ցուցանիշների փոփոխությունը (ավելացումները նշված են դրական նշանով)
D7: Առաջին կիսամյակ | E7: Ինն ամիս | F7: Տարի
A8: Ծրագիր | B8: Միջոցառում
C9: ԸՆԴԱՄԵՆԸ | D9: =D11 -> 49617 | E9: =E11 -> 49617 | F9: =F11 -> 49617
C10: այդ թվում՝
C11: ՀՀ ՏԱՐԱԾՔԱՅԻՆ ԿԱՌԱՎԱՐՄԱՆ ԵՎ ԵՆԹԱԿԱՌՈՒՑՎԱԾՔՆԵՐԻ ՆԱԽԱՐԱՐՈՒԹՅՈՒՆ | D11: =D13 -> 49617 | E11: =E13 -> 49617 | F11: =F13 -> 49617
C12: այդ թվում`
A13: 1072 | B13: 31012 | C13: Ջրամատակարարման և ջրահեռացման ոլորտում անշարժ գույքի ձեռքբերում | D13: =D15 -> 49617 | E13: =E15 -> 49617 | F13: =F15 -> 49617
C14: այդ թվում` ըստ կատարողների
C15: ՀՀ տարածքային կառավարման և ենթակառուցվածքների նախարարության ջրային կոմիտե | D15: =D17 -> 49617 | E15: =E17 -> 49617 | F15: =F17 -> 49617
C16: այդ թվում` ըստ ուղղությունների
C17: ՀՀ Տավուշի մարզի Նոյեմբերյան համայնքի Կողբ բնակավայրում անշարժ գույքի և հողամասի ձեռքբերում | D17: ='2'!D9 -> 49617 | E17: =D17 -> 49617 | F17: =E17 -> 49617

Sheet 5
L1: Հավելված N5
L2: ՀՀ կառավարության 2023 թվականի
L3: ______________ ի ___Ն որոշման
A5: «ՀԱՅԱUՏԱՆԻ ՀԱՆՐԱՊԵՏՈՒԹՅԱՆ 2023 ԹՎԱԿԱՆԻ ՊԵՏԱԿԱՆ ԲՅՈՒՋԵԻ ՄԱUԻՆ» OՐԵՆՔԻ N 1 ՀԱՎԵԼՎԱԾԻ N 4 ԱՂՅՈՒՍԱԿՈՒՄ ԵՎ ՀԱՅԱՍՏԱՆԻ ՀԱՆՐԱՊԵՏՈՒԹՅԱՆ ԿԱՌԱՎԱՐՈՒԹՅԱՆ 2022 ԹՎԱԿԱՆԻ ԴԵԿՏԵՄԲԵՐԻ 29-Ի N 2111-Ն ՈՐՈՇՄԱՆ N 5 ՀԱՎԵԼՎԱԾԻ N 3 ԱՂՅՈՒՍԱԿՈՒՄ ԿԱՏԱՐՎՈՂ ՓՈՓՈԽՈՒԹՅՈՒՆՆԵՐԸ
L6: հազ. դրամ
A7: Ծրագրային դասիչը | C7: Բյուջետային գլխավոր կարգադրիչների, ծրագրերի և միջոցառումների անվանումները
D8: Առաջին կիսամյակ | G8: Ինն ամիս | J8: Տարի
D9: Ընդամենը | E9: այդ թվում` | G9: Ընդամենը | H9: այդ թվում` | J9: Ընդամենը | K9: այդ թվում`
A10: Ծրագիր | B10: Միջոց առում | E10: Վարկային միջոցներ | F10: Համաֆինան սավորում | H10: Վարկային միջոցներ | I10: Համաֆինան սավորում | K10: Վարկային միջոցներ | L10: Համաֆինան սավորում
C11: ԸՆԴԱՄԵՆԸ | D11: =+E11+F11 -> -50933.7 | E11: =+E15 -> 0 | F11: =+F15 -> -50933.7 | G11: =+H11+I11 -> -50933.7 | H11: =+H15 -> 0 | I11: =+I15 -> -50933.7 | J11: =+K11+L11 -> -50933.7 | K11: =+K15 -> 0 | L11: =+L15 -> -50933.7
C12: այդ թվում`
C13: ԸՆԹԱՑԻԿ ԾԱԽՍԵՐ | D13: =+E13+F13 -> -50933.7 | F13: =F23 -> -50933.7 | G13: =+H13+I13 -> -50933.7 | I13: =I23 -> -50933.7 | J13: =+K13+L13 -> -50933.7 | L13: =L23 -> -50933.7
C14: ՈՉ ՖԻՆԱՆՍԱԿԱՆ ԱԿՏԻՎՆԵՐԻ ԳԾՈՎ ԾԱԽՍԵՐ | D14: =+E14+F14 -> 0 | E14: =+E23 -> 0 | G14: =+H14+I14 -> 0 | H14: =+H23 -> 0 | J14: =+K14+L14 -> 0 | K14: =+K23 -> 0
C15: ՀՀ ՏԱՐԱԾՔԱՅԻՆ ԿԱՌԱՎԱՐՄԱՆ ԵՎ ԵՆԹԱԿԱՌՈՒՑՎԱԾՔՆԵՐԻ ՆԱԽԱՐԱՐՈՒԹՅՈՒՆ | D15: =+E15+F15 -> -50933.7 | E15: =+E16 -> 0 | F15: =+F16 -> -50933.7 | G15: =+H15+I15 -> -50933.7 | H15: =+H16 -> 0 | I15: =+I16 -> -50933.7 | J15: =+K15+L15 -> -50933.7 | K15: =+K16 -> 0 | L15: =+L16 -> -50933.7
A16: 1004 | C16: Ոռոգման համակարգի առողջացում | D16: =+E16+F16 -> -50933.7 | E16: =+E18 -> 0 | F16: =+F18 -> -50933.7 | G16: =+H16+I16 -> -50933.7 | H16: =+H18 -> 0 | I16: =+I18 -> -50933.7 | J16: =+K16+L16 -> -50933.7 | K16: =+K18 -> 0 | L16: =+L18 -> -50933.7
C17: այդ թվում`
B18: 11010 | C18: Գերմանիայի զարգացման վարկերի բանկի աջակցությամբ իրականացվող Ախուրյան գետի ջրային ռեսուրսների ինտեգրացված կառավարում փուլ 1 ծրագրով Ջրաձոր գյուղի վերաբնակեցման գործողությունների խորհրդատվություն և կառավարում | D18: =+E18+F18 -> -50933.7 | E18: =+E20 -> 0 | F18: =+F20 -> -50933.7 | G18: =+H18+I18 -> -50933.7 | H18: =+H20 -> 0 | I18: =+I20 -> -50933.7 | J18: =+K18+L18 -> -50933.7 | K18: =+K20 -> 0 | L18: =+L20 -> -50933.7
C19: այդ թվում` ըստ կատարողների
C20: ՀՀ տարածքային կառավարման և ենթակառուցվածքների նախարարության ջրային կոմիտե | D20: =E20+F20 -> -50933.7 | E20: =+E22 -> 0 | F20: =+F22 -> -50933.7 | G20: =H20+I20 -> -50933.7 | H20: =+H22 -> 0 | I20: =+I22 -> -50933.7 | J20: =K20+L20 -> -50933.7 | K20: =+K22 -> 0 | L20: =+L22 -> -50933.7
C21: այդ թվում` բյուջետային ծախսերի տնտեսագիտական դասակարգման հոդվածներ
C22: ԸՆԴԱՄԵՆԸ ԾԱԽՍԵՐ | D22: =+D23 -> -50933.7 | E22: =+E23 -> 0 | F22: =+F23 -> -50933.7 | G22: =+G23 -> -50933.7 | H22: =+H23 -> 0 | I22: =+I23 -> -50933.7 | J22: =+J23 -> -50933.7 | K22: =+K23 -> 0 | L22: =+L23 -> -50933.7
C23: ԸՆԹԱՑԻԿ ԾԱԽՍԵՐ | D23: =E23+F23 -> -50933.7 | E23: =+E24 -> 0 | F23: =+F24 -> -50933.7 | G23: =H23+I23 -> -50933.7 | H23: =+H24 -> 0 | I23: =+I24 -> -50933.7 | J23: =K23+L23 -> -50933.7 | K23: =+K24 -> 0 | L23: =+L24 -> -50933.7
C24: ԴՐԱՄԱՇՆՈՐՀՆԵՐ | D24: =+E24+F24 -> -50933.7 | E24: =E26 -> 0 | F24: =F26 -> -50933.7 | G24: =+H24+I24 -> -50933.7 | H24: =H26 -> 0 | I24: =I26 -> -50933.7 | J24: =+K24+L24 -> -50933.7 | K24: =K26 -> 0 | L24: =L26 -> -50933.7
C25: Ընթացիկ դրամաշնորհներ պետական հատվածի այլ մակարդակներին
C26: - Այլ ընթացիկ դրամաշնորհներ | D26: =+E26+F26 -> -50933.7 | F26: -50933.7 | G26: =+H26+I26 -> -50933.7 | I26: -50933.7 | J26: =+K26+L26 -> -50933.7 | L26: -50933.7

Sheet 6-1
E1: Հավելված N 6
E2: ՀՀ կառավարության 2023 թվականի
E3: -ի N -Ն որոշման
E4: Աղյուսակ 1
A5: ՀԱՅԱՍՏԱՆԻ ՀԱՆՐԱՊԵՏՈՒԹՅԱՆ ԿԱՌԱՎԱՐՈՒԹՅԱՆ 2022 ԹՎԱԿԱՆԻ ԴԵԿՏԵՄԲԵՐԻ 29-Ի N 2111-Ն ՈՐՈՇՄԱՆ N 9 ՀԱՎԵԼՎԱԾԻ N 9.7 և N 9.47 ԱՂՅՈՒՍԱԿՆԵՐՈՒՄ ԿԱՏԱՐՎՈՂ ՓՈՓՈԽՈՒԹՅՈՒՆՆԵՐԸ ԵՎ ԼՐԱՑՈՒՄՆԵՐԸ
D7: Աղյուսակ 9.7
A8: ՀՀ տարածքային կառավարման և ենթակառուցվածքների նախարարություն
A10: ՄԱՍ 2. ՊԵՏԱԿԱՆ ՄԱՐՄՆԻ ԳԾՈՎ ԱՐԴՅՈՒՆՔԱՅԻՆ (ԿԱՏԱՐՈՂԱԿԱՆ) ՑՈՒՑԱՆԻՇՆԵՐԸ
A12: Ծրագրի դասիչը | B12: Ծրագրի անվանումը
A13: 1004 | B13: Ոռոգման համակարգի առողջացում
A14: Ծրագրի միջոցառումները
A16: Ծրագրի դասիչը` | B16: 1004 | C16: Ցուցանիշներ
C17: Ցուցանիշների փոփոխությունը (նվազեցումները նշված են փակագծերում)
A18: Միջոցառման դասիչը` | B18: 11010 | C18: Առաջին կիսամյակ | D18: Ինն ամիս | E18: Տարի
A19: Միջոցառման անվանումը` | B19: Գերմանիայի զարգացման վարկերի բանկի աջակցությամբ իրականացվող Ախուրյան գետի ջրային ռեսուրսների ինտեգրացված կառավարում փուլ 1 ծրագրով Ջրաձոր գյուղի վերաբնակեցման գործողությունների խորհրդատվություն և կառավարում
A20: Նկարագրությունը` | B20: Գերմանիայի զարգացման վարկերի բանկի աջակցությամբ իրականացվող Ախուրյան գետի ջրային ռեսուրսների ինտեգրացված կառավարում փուլ 1 ծրագրով Ջրաձոր գյուղի վերաբնակեցման գործողությունների համակարգում և ղեկավարում
A21: Միջոցառման տեսակը` | B21: Ծառայությունների մատուցում
A22: Ակտիվն օգտագործող կազմակերպության(ների) անվանում(ները)՛ | B22: Մասնագիտացված միավոր
A23: Արդյունքի չափորոշիչներ
A24: Միջոցառման վրա կատարվող ծախսը (հազար դրամ) | C24: ='1'!D18 -> -50933.7 | D24: ='1'!E18 -> -50933.7 | E24: ='1'!F18 -> -50933.7
A27: Ծրագրի դասիչը | B27: Ծրագրի անվանումը
A28: 1072 | B28: Ջրամատակարարաման և ջրահեռացման բարելավում
A29: Ծրագրի միջոցառումները
A31: Ծրագրի դասիչը` | B31: 1072 | C31: Ցուցանիշներ
C32: Ցուցանիշների փոփոխությունը (ավելացումները նշված են դրական նշանով)
A33: Միջոցառման դասիչը` | B33: 31012 | C33: Առաջին կիսամյակ | D33: Ինն ամիս | E33: Տարի
A34: Միջոցառման անվանումը` | B34: Ջրամատակարարման և ջրահեռացման ոլորտում անշարժ գույքի ձեռքբերում
A35: Նկարագրությունը` | B35: Ջրամատակարարման և ջրահեռացման ոլորտում շենքերի և շինությունների, հողերի և այլ անշարժ գույքի ձեռքբերում
A36: Միջոցառման տեսակը` | B36: Պետական մարմինների կողմից օգտագործվող ոչ ֆինանսական ակտիվների հետ գործառնություններ
A37: Ակտիվն օգտագործող կազմակերպության(ների) անվանում(ները)՛ | B37: ՀՀ ՏԿԵՆ ջրային կոմիտե
A38: Արդյունքի չափորոշիչներ
A39: Գույքի ձեռքբերում, քառ.մ | C39: 394.81 | D39: =C39 -> 394.81 | E39: =D39 -> 394.81
A40: Հողամասի ձեռքբերում ,քառ.մ | C40: 5836.5 | D40: =C40 -> 5836.5 | E40: =D40 -> 5836.5
A41: Միջոցառման վրա կատարվող ծախսը (հազար դրամ) | C41: ='1'!D31 -> 49617 | D41: ='1'!E31 -> 49617 | E41: ='1'!F31 -> 49617
A43: Ծրագրի դասիչը | B43: Ծրագրի անվանումը
A44: 1109 | B44: Ջրային տնտեսության ոլորտում ծրագրերի համակարգում և մոնիտորինգ
A45: Ծրագրի միջոցառումները
A47: Ծրագրի դասիչը` | B47: 1109 | C47: Ցուցանիշներ
C48: Ցուցանիշների փոփոխությունը (ավելացումները նշված են դրական նշանով)
A49: Միջոցառման դասիչը` | B49: 11001 | C49: Առաջին կիսամյակ | D49: Ինն ամիս | E49: Տարի
A50: Միջոցառման անվանումը` | B50: Ջրային տնտեսության ոլորտում պետական քաղաքականության մշակում, ծրագրերի համակարգում և մոնիտորինգ
A51: Նկարագրությունը` | B51: Ոլորտի քաղաքականության խորհրդատվության, կոմիտեի իրավասության տակ ընկնող ծառայությունների ու ծրագրերի համակարգման ծառայություններ
A52: Միջոցառման տեսակը` | B52: Ծառայությունների մատուցում
A53: Ակտիվն օգտագործող կազմակերպության(ների) անվանում(ները)՛ | B53: ՀՀ ՏԿԵՆ ջրային կոմիտե
A54: Արդյունքի չափորոշիչներ
A55: Միջոցառման վրա կատարվող ծախսը (հազար դրամ) | C55: ='1'!D44 -> 1316.7 | D55: ='1'!E44 -> 1316.7 | E55: ='1'!F44 -> 1316.7
D58: Աղյուսակ 9.47
A59: ՀՀ կառավարություն
A60: ՄԱՍ 2. ՊԵՏԱԿԱՆ ՄԱՐՄՆԻ ԳԾՈՎ ԱՐԴՅՈՒՆՔԱՅԻՆ (ԿԱՏԱՐՈՂԱԿԱՆ) ՑՈՒՑԱՆԻՇՆԵՐԸ
A62: Ծրագրի դասիչը | B62: Ծրագրի անվանումը
A63: 1139 | B63: ՀՀ կառավարության պահուստային ֆոնդ
A65: Ծրագրի միջոցառումները
C66: Ցուցանիշներ
A67: Ծրագրի դասիչը` | B67: 1139 | C67: Ցուցանիշների փոփոխությունը (նվազեցումները նշված են փակագծերում)
A68: Միջոցառման դասիչը` | B68: 11001 | C68: Առաջին կիսամյակ | D68: Ինն ամիս | E68: Տարի
A69: Միջոցառման անվանումը` | B69: ՀՀ կառավարության պահուստային ֆոնդ
A70: Նկարագրությունը` | B70: ՀՀ պետական բյուջեում նախատեսված ելքերի լրացուցիչ ֆինանսավորման՝ պետական բյուջեում չկանխատեսված ելքերի՝ ինչպես նաև բյուջետային երաշխիքների ապահովման ելքերի ֆինանսավորման ապահովում
A71: Միջոցառման տեսակը` | B71: Ծառայությունների մատուցում
A72: Միջոցառումն իրականացնողի անվանումը | B72: ՀՀ կառավարություն
A73: Արդյունքի չափորոշիչներ
A74: Միջոցառման վրա կատարվող ծախսը (հազար դրամ) | C74: ='1'!D58 -> 50933.7 | D74: ='1'!E58 -> 50933.7 | E74: ='1'!F58 -> 50933.7
A77: Ծրագրի դասիչը | B77: Ծրագրի անվանումը
A78: 1139 | B78: ՀՀ կառավարության պահուստային ֆոնդ
A80: Ծրագրի միջոցառումները
C81: Ցուցանիշներ
A82: Ծրագրի դասիչը` | B82: 1139 | C82: Ցուցանիշների փոփոխությունը (նվազեցումները նշված են փակագծերում)
A83: Միջոցառման դասիչը` | B83: 11001 | C83: Առաջին կիսամյակ | D83: Ինն ամիս | E83: Տարի
A84: Միջոցառման անվանումը` | B84: ՀՀ կառավարության պահուստային ֆոնդ
A85: Նկարագրությունը` | B85: ՀՀ պետական բյուջեում նախատեսված ելքերի լրացուցիչ ֆինանսավորման՝ պետական բյուջեում չկանխատեսված ելքերի՝ ինչպես նաև բյուջետային երաշխիքների ապահովման ելքերի ֆինանսավորման ապահովում
A86: Միջոցառման տեսակը` | B86: Ծառայությունների մատուցում
A87: Միջոցառումն իրականացնողի անվանումը | B87: ՀՀ կառավարություն
A88: Արդյունքի չափորոշիչներ
A89: Միջոցառման վրա կատարվող ծախսը (հազար դրամ) | C89: ='1'!D64 -> -50933.7 | D89: ='1'!E64 -> -50933.7 | E89: ='1'!F64 -> -50933.7

Sheet 6-2
D1: Աղյուսակ 2
A2: ՀԱՅԱՍՏԱՆԻ ՀԱՆՐԱՊԵՏՈՒԹՅԱՆ ԿԱՌԱՎԱՐՈՒԹՅԱՆ 2022 ԹՎԱԿԱՆԻ ԴԵԿՏԵՄԲԵՐԻ 29-Ի N 2111-Ն ՈՐՈՇՄԱՆ N 9.1 ՀԱՎԵԼՎԱԾԻ N 9.1.25 և N 9.1.58 ԱՂՅՈՒՍԱԿՆԵՐՈՒՄ ԿԱՏԱՐՎՈՂ ՓՈՓՈԽՈՒԹՅՈՒՆՆԵՐԸ ԵՎ ԼՐԱՑՈՒՄՆԵՐԸ
E3: Աղյուսակ 9.1.25
A4: ՀՀ տարածքային կառավարման և ենթակառուցվածքների նախարարության ջրային կոմիտե
A5: ՄԱՍ 1. ՊԵՏԱԿԱՆ ՄԱՐՄՆԻ ԳԾՈՎ ԱՐԴՅՈՒՆՔԱՅԻՆ (ԿԱՏԱՐՈՂԱԿԱՆ) ՑՈՒՑԱՆԻՇՆԵՐԸ
A7: Ծրագրի դասիչը | B7: Ծրագրի անվանումը
A8: 1004 | B8: Ոռոգման համակարգի առողջացում
A9: Ծրագրի միջոցառումները
A11: Ծրագրի դասիչը` | B11: 1004 | C11: Ցուցանիշներ
C12: Ցուցանիշների փոփոխությունը (նվազեցումները նշված են փակագծերում)
A13: Միջոցառման դասիչը` | B13: 11010 | C13: Առաջին կիսամյակ | D13: Ինն ամիս | E13: Տարի
A14: Միջոցառման անվանումը` | B14: Գերմանիայի զարգացման վարկերի բանկի աջակցությամբ իրականացվող Ախուրյան գետի ջրային ռեսուրսների ինտեգրացված կառավարում փուլ 1 ծրագրով Ջրաձոր գյուղի վերաբնակեցման գործողությունների խորհրդատվություն և կառավարում
A15: Նկարագրությունը` | B15: Գերմանիայի զարգացման վարկերի բանկի աջակցությամբ իրականացվող Ախուրյան գետի ջրային ռեսուրսների ինտեգրացված կառավարում փուլ 1 ծրագրով Ջրաձոր գյուղի վերաբնակեցման գործողությունների համակարգում և ղեկավարում
A16: Միջոցառման տեսակը` | B16: Ծառայությունների մատուցում
A17: Ակտիվն օգտագործող կազմակերպության(ների) անվանում(ները)՛ | B17: Մասնագիտացված միավոր
A18: Արդյունքի չափորոշիչներ
A19: Միջոցառման վրա կատարվող ծախսը (հազար դրամ) | C19: ='6-1'!C24 -> -50933.7 | D19: ='6-1'!D24 -> -50933.7 | E19: ='6-1'!E24 -> -50933.7
A22: 1072 | B22: Ջրամատակարարաման և ջրահեռացման բարելավում
A23: Ծրագրի միջոցառումները
A25: Ծրագրի դասիչը` | B25: 1072 | C25: Ցուցանիշներ
C26: Ցուցանիշների փոփոխությունը (ավելացումները նշված են դրական նշանով)
A27: Միջոցառման դասիչը` | B27: 31012 | C27: Առաջին կիսամյակ | D27: Ինն ամիս | E27: Տարի
A28: Միջոցառման անվանումը` | B28: Ջրամատակարարման և ջրահեռացման ոլորտում անշարժ գույքի ձեռքբերում
A29: Նկարագրությունը` | B29: Ջրամատակարարման և ջրահեռացման ոլորտում շենքերի և շինությունների, հողերի և այլ անշարժ գույքի ձեռքբերում
A30: Միջոցառման տեսակը` | B30: Պետական մարմինների կողմից օգտագործվող ոչ ֆինանսական ակտիվների հետ գործառնություններ
A31: Ակտիվն օգտագործող կազմակերպության(ների) անվանում(ները)՛ | B31: ՀՀ ՏԿԵՆ ջրային կոմիտե
A32: Արդյունքի չափորոշիչներ
A33: Գույքի ձեռքբերում, քառ.մ | C33: ='6-1'!C39 -> 394.81 | D33: ='6-1'!D39 -> 394.81 | E33: ='6-1'!E39 -> 394.81
A34: Հողամասի ձեռքբերում ,քառ.մ | C34: ='6-1'!C40 -> 5836.5 | D34: ='6-1'!D40 -> 5836.5 | E34: ='6-1'!E40 -> 5836.5
A35: Միջոցառման վրա կատարվող ծախսը (հազար դրամ) | C35: ='6-1'!C41 -> 49617 | D35: ='6-1'!D41 -> 49617 | E35: ='6-1'!E41 -> 49617
A38: Ծրագրի դասիչը | B38: Ծրագրի անվանումը
A39: 1109 | B39: Ջրային տնտեսության ոլորտում ծրագրերի համակարգում և մոնիտորինգ
A40: Ծրագրի միջոցառումները
A42: Ծրագրի դասիչը` | B42: 1109 | C42: Ցուցանիշներ
C43: Ցուցանիշների փոփոխությունը (ավելացումները նշված են դրական նշանով)
A44: Միջոցառման դասիչը` | B44: 11001 | C44: Առաջին կիսամյակ | D44: Ինն ամիս | E44: Տարի
A45: Միջոցառման անվանումը` | B45: Ջրային տնտեսության ոլորտում պետական քաղաքականության մշակում, ծրագրերի համակարգում և մոնիտորինգ
A46: Նկարագրությունը` | B46: Ոլորտի քաղաքականության խորհրդատվության, կոմիտեի իրավասության տակ ընկնող ծառայությունների ու ծրագրերի համակարգման ծառայություններ
A47: Միջոցառման տեսակը` | B47: Ծառայությունների մատուցում
A48: Ակտիվն օգտագործող կազմակերպության(ների) անվանում(ները)՛ | B48: ՀՀ ՏԿԵՆ ջրային կոմիտե
A49: Արդյունքի չափորոշիչներ
A50: Միջոցառման վրա կատարվող ծախսը (հազար դրամ) | C50: ='6-1'!C55 -> 1316.7 | D50: ='6-1'!D55 -> 1316.7 | E50: ='6-1'!E55 -> 1316.7
D52: Աղյուսակ 9.1.58
A54: ՀՀ կառավարություն
A55: ՄԱՍ 1. ՊԵՏԱԿԱՆ ՄԱՐՄՆԻ ԳԾՈՎ ԱՐԴՅՈՒՆՔԱՅԻՆ (ԿԱՏԱՐՈՂԱԿԱՆ) ՑՈՒՑԱՆԻՇՆԵՐԸ
A57: Ծրագրի դասիչը | B57: Ծրագրի անվանումը
A58: 1139 | B58: ՀՀ կառավարության պահուստային ֆոնդ
A60: Ծրագրի միջոցառումները
C61: Ցուցանիշներ
A62: Ծրագրի դասիչը` | B62: 1139 | C62: Ցուցանիշների փոփոխությունը (նվազեցումները նշված են փակագծերում)
A63: Միջոցառման դասիչը` | B63: 11001 | C63: Առաջին կիսամյակ | D63: Ինն ամիս | E63: Տարի
A64: Միջոցառման անվանումը` | B64: ՀՀ կառավարության պահուստային ֆոնդ
A65: Նկարագրությունը` | B65: ՀՀ պետական բյուջեում նախատեսված ելքերի լրացուցիչ ֆինանսավորման՝ պետական բյուջեում չկանխատեսված ելքերի՝ ինչպես նաև բյուջետային երաշխիքների ապահովման ելքերի ֆինանսավորման ապահովում
A66: Միջոցառման տեսակը` | B66: Ծառայությունների մատուցում
A67: Միջոցառումն իրականացնողի անվանումը | B67: ՀՀ կառավարություն
A68: Արդյունքի չափորոշիչներ
A69: Միջոցառման վրա կատարվող ծախսը (հազար դրամ) | C69: ='6-1'!C74 -> 50933.7 | D69: ='6-1'!D74 -> 50933.7 | E69: ='6-1'!E74 -> 50933.7
A72: Ծրագրի դասիչը | B72: Ծրագրի անվանումը
A73: 1139 | B73: ՀՀ կառավարության պահուստային ֆոնդ
A75: Ծրագրի միջոցառումները
C76: Ցուցանիշներ
A77: Ծրագրի դասիչը` | B77: 1139 | C77: Ցուցանիշների փոփոխությունը (նվազեցումները նշված են փակագծերում)
A78: Միջոցառման դասիչը` | B78: 11001 | C78: Առաջին կիսամյակ | D78: Ինն ամիս | E78: Տարի
A79: Միջոցառման անվանումը` | B79: ՀՀ կառավարության պահուստային ֆոնդ
A80: Նկարագրությունը` | B80: ՀՀ պետական բյուջեում նախատեսված ելքերի լրացուցիչ ֆինանսավորման՝ պետական բյուջեում չկանխատեսված ելքերի՝ ինչպես նաև բյուջետային երաշխիքների ապահովման ելքերի ֆինանսավորման ապահովում
A81: Միջոցառման տեսակը` | B81: Ծառայությունների մատուցում
A82: Միջոցառումն իրականացնողի անվանումը | B82: ՀՀ կառավարություն
A83: Արդյունքի չափորոշիչներ
A84: Միջոցառման վրա կատարվող ծախսը (հազար դրամ) | C84: ='6-1'!C89 -> -50933.7 | D84: ='6-1'!D89 -> -50933.7 | E84: ='6-1'!E89 -> -50933.7

Sheet 7
A1: Հավելված N 7
A2: ՀՀ կառավարության 2023 թվականի
A3: -ի N -Ն որոշման
A5: ՀՀ ԿԱՌԱՎԱՐՈՒԹՅԱՆ 2022 ԹՎԱԿԱՆԻ ԴԵԿՏԵՄԲԵՐԻ 29-Ի N 2111-Ն ՈՐՈՇՄԱՆ N 10 ՀԱՎԵԼՎԱԾՈՒՄ ԿԱՏԱՐՎՈՂ ՓՈՓՈԽՈՒԹՅՈՒՆԸ ԵՎ ԼՐԱՑՈՒՄՆԵՐԸ
A7: Կոդը | B7: Անվանումը | C7: Գնման ձևը | D7: Չափի միավորը | E7: Ցուցանիշների փոփոխությունը (ավելացումները նշված են դրական նշանով)
E8: Միավորի գինը | F8: քանակը | G8: գումարը (հազ. դրամ)
A9: ՀՀ տարածքային կառավարման և ենթակառուցվածքների նախարարության ջրային կոմիտե | G9: =G12 -> 49617
A10: Բաժին N 06 | B10: Խումբ N 03 | C10: Դաս N 01 | D10: Ջրամատակարարում
A11: 1072 31012 | B11: Ջրամատակարարաման և ջրահեռացման համակարգերի ձեռքբերում
B12: ՄԱՍ III ԾԱՌԱՅՈՒԹՅՈՒՆՆԵՐ | G12: =G13+G14 -> 49617
A13: 70121140/1 | B13: հողերի գնման ծառայություններ | C13: ՄԱ | D13: դրամ | E13: 21794000 | G13: =E13/1000 -> 21794
A14: 70121200/1 | B14: ոչ բնակելի անշարժ գույքի գնման ծառայություններ | C14: ՄԱ | D14: դրամ | E14: 27823000 | G14: =E14/1000 -> 27823
