Workbook
Name AgencyCode: #REF!
Name AgencyCode: #REF!
Name AgencyCode: #REF!
Name AgencyCode: #REF!
Name AgencyName: #REF!
Name AgencyName: #REF!
Name AgencyName: #REF!
Name AgencyName: #REF!
Name åû: #REF!
Name davit: #REF!
Name davit: #REF!
Name davit: #REF!
Name Functional1: #REF!
Name Functional1: #REF!
Name Functional1: #REF!
Name Functional1: #REF!
Name ggg: #REF!
Name ggg: #REF!
Name ggg: #REF!
Name mas: #REF!
Name mass: #REF!
Name PANature: #REF!
Name PANature: #REF!
Name PANature: #REF!
Name PANature: #REF!
Name PAType: #REF!
Name PAType: #REF!
Name PAType: #REF!
Name PAType: #REF!
Name Performance2: #REF!
Name Performance2: #REF!
Name Performance2: #REF!
Name Performance2: #REF!
Name PerformanceType: #REF!
Name PerformanceType: #REF!
Name PerformanceType: #REF!
Name PerformanceType: #REF!
Name x: #REF!
Name Հավելված: #REF!
Name Հավելված: #REF!
Name Հավելված: #REF!
Name Մաս: #REF!
Name Մաս: #REF!
Name Մաս: #REF!
Name շախմատիստ: #REF!
Name շախմատիստ: #REF!
Name շախմատիստ: #REF!

Sheet havelvac 1
G2: Հավելված N 1
D3: ՀՀ կառավարության 2023 թվականի
D4: ______________ ի ___Ն որոշման
A6: «ՀԱՅԱՍՏԱՆԻ ՀԱՆՐԱՊԵՏՈՒԹՅԱՆ 2023 ԹՎԱԿԱՆԻ ՊԵՏԱԿԱՆ ԲՅՈՒՋԵԻ ՄԱՍԻՆ» ՕՐԵՆՔԻ N 1 ՀԱՎԵԼՎԱԾԻ N 2 ԱՂՅՈՒՍԱԿՈՒՄ ԵՎ ՀԱՅԱՍՏԱՆԻ ՀԱՆՐԱՊԵՏՈՒԹՅԱՆ ԿԱՌԱՎԱՐՈՒԹՅԱՆ 2022 ԹՎԱԿԱՆԻ ԴԵԿՏԵՄԲԵՐԻ 29-Ի N 2111-Ն ՈՐՈՇՄԱՆ N 5 ՀԱՎԵԼՎԱԾԻ N 1 ԱՂՅՈՒՍԱԿՈՒՄ ԿԱՏԱՐՎՈՂ ՓՈՓՈԽՈՒԹՅՈՒՆՆԵՐԸ ԵՎ ԼՐԱՑՈՒՄՆԵՐԸ
G8: հազար դրամ/
A9: Ծրագրային դասիչը | C9: Բյուջետային հատկացումների գլխավոր կարգադրիչների, ծրագրերի և միջոցառումների անվանումները | D9: Ցուցանիշների փոփոխությունը (ավելացումները նշված են դրական նշանով, իսկ նվազեցումները` փակագծերում)
A10: Ծրագիր | B10: Միջոցառում | D10: Առաջին եռամսյակ | E10: Առաջին կիսամյակ | F10: Ինն ամիս | G10: Տարի
B11: ԸՆԴԱՄԵՆԸ | D11: =+D12+D27 -> 0 | E11: =+E12+E27 -> 0 | F11: =+F12+F27 -> 0 | G11: =+G12+G27 -> 0
C12: ՀՀ կառավարություն | D12: =+D20 -> 0 | E12: =+E20 -> -480000 | F12: =+F20 -> -480000 | G12: =+G20 -> -480000
A13: 1139 | C13: Ծրագրի անվանումը` | D13: =+D20 -> 0 | E13: =+E20 -> -480000 | F13: =+F20 -> -480000 | G13: =+G20 -> -480000
C14: ՀՀ կառավարության պահուստային ֆոնդ
C15: Ծրագրի նպատակը`
C16: Պետական բյուջեում չկանխատեսված՝ ինչպես նաև բյուջետային երաշխիքների ապահովման ծախսերի ֆինանսավորման ապահովում
C17: Վերջնական արդյունքի նկարագրությունը`
C18: Պահուստային ֆոնդի կառավարման արդյունավետություն և թափանցիկություն
A19: Ծրագրի միջոցառումներ
B20: 11001 | C20: Միջոցառման անվանումը` | E20: -480000 | F20: =E20 -> -480000 | G20: =F20 -> -480000
C21: ՀՀ կառավարության պահուստային ֆոնդ
C22: Միջոցառման նկարագրությունը`
C23: ՀՀ պետական բյուջեում նախատեսված ելքերի լրացուցիչ ֆինանսավորման՝ պետական բյուջեում չկանխատեսված ելքերի՝ ինչպես նաև բյուջետային երաշխիքների ապահովման ելքերի ֆինանսավորման ապահովում
C24: Միջոցառման տեսակը
C25: Ծառայությունների մատուցում
C26: ՀՀ տարածքային կառավարման և ենթակառուցվածքների նախարարություն | D26: =+D27 -> 0 | E26: =+E27 -> 480000 | F26: =+F27 -> 480000 | G26: =+G27 -> 480000
A27: 1157 | C27: Ծրագրի անվանումը՝ | D27: =+D34 -> 0 | E27: =+E34 -> 480000 | F27: =+F34 -> 480000 | G27: =+G34 -> 480000
C28: Քաղաքային զարգացում
C29: Ծրագրի նպատակը՝
C30: Քաղաքային ենթակառուցվածքների զարգացում
C31: Վերջնական արդյունքի նկարագրությունը՝
C32: Քաղաքային ենթակառուցվածքների արդիականացում և բարելավում
A33: Ծրագրի միջոցառումներ
B34: 21001 | C34: Միջոցառման անվանումը՝ | E34: 480000 | F34: 480000 | G34: 480000
C35: Երևանի մետրոպոլիտենի ենթակառուցվածքների նորոգում
C36: Միջոցառման նկարագրությունը՝
C37: Երևանի մետրոպոլիտենի ենթակառուցվածքների նորոգում
C38: Միջոցառման տեսակը՝
C39: Հանրության կողմից անմիջականորեն օգտագործվող ակտիվների հետ կապված միջոցառումներ
A42: ՀԱՅԱՍՏԱՆԻ ՀԱՆՐԱՊԵՏՈՒԹՅԱՆ
A43: ՎԱՐՉԱՊԵՏԻ ԱՇԽԱՏԱԿԱԶՄԻ
B44: ՂԵԿԱՎԱՐ ՝ Ա. ՀԱՐՈՒԹՅՈՒՆՅԱՆ

Sheet havelvac 2
G1: Հավելված N 2
F2: ՀՀ կառավարության 2023 թվականի
F3: ______________ ի ___Ն որոշման
A6: ՀԱՅԱՍՏԱՆԻ ՀԱՆՐԱՊԵՏՈՒԹՅԱՆ ԿԱՌԱՎԱՐՈՒԹՅԱՆ 2022 ԹՎԱԿԱՆԻ ԴԵԿՏԵՄԲԵՐԻ 29-Ի N 2111-Ն ՈՐՈՇՄԱՆ NN 3 ԵՎ 4 ՀԱՎԵԼՎԱԾՆԵՐՈՒՄ ԿԱՏԱՐՎՈՂ ՓՈՓՈԽՈՒԹՅՈՒՆՆԵՐԸ ԵՎ ԼՐԱՑՈՒՄՆԵՐԸ
J8: /հազար դրամ/
A9: Գործառական դասիչը | D9: Ծրագրային դասիչը | F9: Բյուջետային ծախսերի գործառական դասակարգման բաժինների, խմբերի և դասերի, բյուջետային ծրագրերի, միջոցառումների բյուջետային հատկացումնեյի գլխավոր կարգադրիչների անվանումները | G9: Ցուցանիշների փոփոխությունը (ավելացումները նշված են դրական նշանով, իսկ նվազեցումները` փակագծերում)
A10: Բաժին | B10: Խումբ | C10: Դաս | D10: Ծրագիր | E10: Միջոցառում | G10: Առաջին եռամսյակ | H10: Առաջին կիսամյակ | I10: Ինն ամիս | J10: Տարի
F11: ԸՆԴԱՄԵՆԸ | G11: =+G13+G32 -> 0 | H11: =+H13+H32 -> 0 | I11: =+I13+I32 -> 0 | J11: =+J13+J32 -> 0
F12: ՀՀ կառավարություն | G12: =+G13 -> 0 | H12: =+H13 -> -480000 | I12: =+I13 -> -480000 | J12: =+J13 -> -480000
A13: 11 | F13: ՀԻՄՆԱԿԱՆ ԲԱԺԻՆՆԵՐԻՆ ՉԴԱՍՎՈՂ ՊԱՀՈՒՍՏԱՅԻՆ ՖՈՆԴԵՐ | G13: =+G15 -> 0 | H13: =+H15 -> -480000 | I13: =+I15 -> -480000 | J13: =+J15 -> -480000
F14: այդ թվում`
B15: 01 | F15: ՀՀ կառավարության և համայնքների պահուստային ֆոնդ | G15: =G17 -> 0 | H15: =+H17 -> -480000 | I15: =+I17 -> -480000 | J15: =J17 -> -480000
F16: այդ թվում`
C17: 01 | F17: ՀՀ կառավարության պահուստային ֆոնդ | G17: =G19 -> 0 | H17: =+H19 -> -480000 | I17: =+I19 -> -480000 | J17: =J19 -> -480000
F18: այդ թվում`
F19: ՀՀ կառավարություն | G19: =G21 -> 0 | H19: =+H21 -> -480000 | I19: =+I21 -> -480000 | J19: =J21 -> -480000
F20: այդ թվում`
D21: 1139 | F21: ՀՀ կառավարության պահուստային ֆոնդ | G21: =G25 -> 0 | H21: =+H25 -> -480000 | I21: =+I25 -> -480000 | J21: =J25 -> -480000
F22: այդ թվում`
E23: 11001 | F23: ՀՀ կառավարության պահուստային ֆոնդ | G23: =+G25 -> 0 | H23: =+H25 -> -480000 | I23: =+I25 -> -480000 | J23: =+J25 -> -480000
F24: այդ թվում` ըստ կատարողների
F25: ՀՀ կառավարություն | G25: =G27 -> 0 | H25: -480000 | I25: =+I27 -> -480000 | J25: =J27 -> -480000
F26: այդ թվում` բյուջետային ծախսերի տնտեսագիտական դասակարգման հոդվածներ
F27: ԸՆԴԱՄԵՆԸ ԾԱԽՍԵՐ | G27: =G28 -> 0 | H27: =+H28 -> -480000 | I27: =+I28 -> -480000 | J27: =J28 -> -480000
F28: ԸՆԹԱՑԻԿ ԾԱԽՍԵՐ | G28: =G29 -> 0 | H28: =H29 -> -480000 | I28: =I29 -> -480000 | J28: =J29 -> -480000
F29: ԱՅԼ ԾԱԽՍԵՐ | G29: =G30 -> 0 | H29: =+H30 -> -480000 | I29: =+I30 -> -480000 | J29: =J30 -> -480000
F30: Պահուստային միջոցներ | G30: 0 | H30: -480000 | I30: =H30 -> -480000 | J30: =I30 -> -480000
F31: ՀՀ տարածքային կառավարման և ենթակառուցվածքների նախարարություն | G31: =+G32 -> 0 | H31: =+H32 -> 480000 | I31: =+I32 -> 480000 | J31: =+J32 -> 480000
A32: 04 | F32: ՏՆՏԵՍԱԿԱՆ ՀԱՐԱԲԵՐՈՒԹՅՈՒՆՆԵՐ | G32: =+G34 -> 0 | H32: =+H34 -> 480000 | I32: =+I34 -> 480000 | J32: =+J34 -> 480000
F33: այդ թվում`
B34: 05 | F34: Տրանսպորտ | G34: =+G36 -> 0 | H34: =+H36 -> 480000 | I34: =+I36 -> 480000 | J34: =+J36 -> 480000
F35: այդ թվում՝
C36: 05 | F36: Խողովակաշարային և այլ տրանսպորտ | G36: =G40 -> 0 | H36: =+H38 -> 480000 | I36: =+I38 -> 480000 | J36: =J40 -> 480000
F37: այդ թվում`
F38: ՀՀ տարածքային կառավարման և ենթակառուցվածքների նախարարություն | G38: =+G40 -> 0 | H38: =+H40 -> 480000 | I38: =+I40 -> 480000 | J38: =+J40 -> 480000
F39: այդ թվում`
D40: 1157 | F40: Քաղաքային զարգացում | G40: =+G44 -> 0 | H40: =+H44 -> 480000 | I40: =+I44 -> 480000 | J40: =+J44 -> 480000
F41: այդ թվում`
E42: 21001 | F42: Երևանի մետրոպոլիտենի ենթակառուցվածքների նորոգում | G42: =+G44 -> 0 | H42: =+H44 -> 480000 | I42: =+I44 -> 480000 | J42: =+J44 -> 480000
F43: այդ թվում` ըստ կատարողների
...

Sheet havelvac3
D1: Հավելված N 3
C2: ՀՀ կառավարության 2023 թվականի
C3: ______________ ի ___Ն որոշման
A5: ՀԱՅԱՍՏԱՆԻ ՀԱՆՐԱՊԵՏՈՒԹՅԱՆ ԿԱՌԱՎԱՐՈՒԹՅԱՆ 2022 ԹՎԱԿԱՆԻ ԴԵԿՏԵՄԲԵՐԻ 29-Ի N 2111-Ն ՈՐՈՇՄԱՆ N 5 ՀԱՎԵԼՎԱԾԻ N 2 ԱՂՅՈՒՍԱԿԻ ՑՈՒՑԱՆԻՇՆԵՐՈՒՄ ԿԱՏԱՐՎՈՂ ԼՐԱՑՈՒՄՆԵՐԸ
G7: /հազար դրամ/
A8: Ծրագրային դասիչը | C8: Բյուջետային գլխավոր կարգադրիչների, ծրագրերի, միջոցառումների և ուղղությունների անվանումները | D8: Ցուցանիշների փոփոխությունը (ավելացումները նշված են դրական նշանով)
A9: Ծրագիր | B9: Միջոցառում | D9: =+'havelvac 1'!D10 -> Առաջին եռամսյակ | E9: =+'havelvac 1'!E10 -> Առաջին կիսամյակ | F9: =+'havelvac 1'!F10 -> Ինն ամիս | G9: =+'havelvac 1'!G10 -> Տարի
C10: Ընդամենը | D10: =+D13+#REF! -> #REF! | E10: =+E13 -> 480000 | F10: =+F13 -> 480000 | G10: =+G13 -> 480000
A11: այդ թվում`
C13: ՀՀ ՏԱՐԱԾՔԱՅԻՆ ԿԱՌԱՎԱՐՄԱՆ ԵՎ ԵՆԹԱԿԱՌՈՒՑՎԱԾՔՆԵՐԻ ՆԱԽԱՐԱՐՈՒԹՅՈՒՆ | D13: =+D15 -> 0 | E13: =+E15 -> 480000 | F13: =+F15 -> 480000 | G13: =+G15 -> 480000
C14: այդ թվում`
A15: 1157 | B15: 21001 | C15: Երևանի մետրոպոլիտենի ենթակառուցվածքների նորոգում | D15: =+D17 -> 0 | E15: =+E17 -> 480000 | F15: =+F17 -> 480000 | G15: =+G17 -> 480000
C16: այդ թվում` ըստ կատարողների
C17: ՀՀ տարածքային կառավարման և ենթակառուցվածքների նախարարություն | D17: =+'havelvac 1'!D34 -> 0 | E17: =+'havelvac 1'!E34 -> 480000 | F17: =+'havelvac 1'!F34 -> 480000 | G17: =+'havelvac 1'!G34 -> 480000
C21: ՀԱՅԱՍՏԱՆԻ ՀԱՆՐԱՊԵՏՈՒԹՅԱՆ
C22: ՎԱՐՉԱՊԵՏԻ ԱՇԽԱՏԱԿԱԶՄԻ
C23: ՂԵԿԱՎԱՐ` | D23: Ա. ՀԱՐՈՒԹՅՈՒՆՅԱՆ | E23: Ա. ՀԱՐՈՒԹՅՈՒՆՅԱՆ

Sheet havelvac 4
E2: Հավելված N 4
G3: ՀՀ կառավարության 2023 թվականի
C4: ______________ ի ___Ն որոշման
A6: «ՀԱՅԱՍՏԱՆԻ ՀԱՆՐԱՊԵՏՈՒԹՅԱՆ 2023 ԹՎԱԿԱՆԻ ՊԵՏԱԿԱՆ ԲՅՈՒՋԵԻ ՄԱՍԻՆ» ՕՐԵՆՔԻ N 1 ՀԱՎԵԼՎԱԾԻ N 3 ԱՂՅՈՒՍԱԿՈՒՄ ԿԱՏԱՐՎՈՂ ԼՐԱՑՈՒՄՆԵՐԸ
H8: /հազար դրամ/
A9: Ծրագրային դասիչ | C9: Բյուջետային գլխավոր կարգադրիչների, ծրագրերի, միջոցառումների և ուղղությունների անվանումները | D9: Ընդամենը | E9: այդ թվում
A10: Ծրագիր | B10: Միջոցառում | E10: Կառուցման աշխատանքներ | F10: Վերակառուցման, վերանորոգման և վերականգնման աշխատանքներ | G10: Նախագծահե- տազոտական, գեոդեզիա- քարտեզագրա- կան աշխա- տանքներ | H10: Ոչ ֆինանսական այլ ակտիվների ձեռքբերում
C11: ԸՆԴԱՄԵՆԸ | D11: =+G11+H11+E11+F11 -> 480000 | E11: =E13 -> 0 | F11: =F13 -> 0 | G11: =G13 -> 0 | H11: =H13 -> 480000
C13: ՀՀ ՏԱՐԱԾՔԱՅԻՆ ԿԱՌԱՎԱՐՄԱՆ ԵՎ ԵՆԹԱԿԱՌՈՒՑՎԱԾՔՆԵՐԻ ՆԱԽԱՐԱՐՈՒԹՅՈՒՆ | D13: =+D15 -> 480000 | E13: =+E15 -> 0 | F13: =+F15 -> 0 | G13: =+G15 -> 0 | H13: =+H15 -> 480000
C14: այդ թվում`
A15: 1157 | B15: 21001 | C15: Երևանի մետրոպոլիտենի ենթակառուցվածքների նորոգում | D15: =SUM(E15:H15) -> 480000 | E15: 0 | F15: 0 | G15: 0 | H15: ='havelvac 7'!I13 -> 480000
B18: ՀԱՅԱՍՏԱՆԻ ՀԱՆՐԱՊԵՏՈՒԹՅԱՆ
B19: ՎԱՐՉԱՊԵՏԻ ԱՇԽԱՏԱԿԱԶՄԻ
C20: ՂԵԿԱՎԱՐ` | E20: Ա. ՀԱՐՈՒԹՅՈՒՆՅԱՆ

Sheet havelvac 5
C1: Հավելված հ.5
C2: ՀՀ կառավարության 2023 թվականի
C3: ______________ ի ___Ն որոշման
A5: ՀԱՅԱՍՏԱՆԻ ՀԱՆՐԱՊԵՏՈՒԹՅԱՆ ԿԱՌԱՎԱՐՈՒԹՅԱՆ 2022 ԹՎԱԿԱՆԻ ԴԵԿՏԵՄԲԵՐԻ 29-Ի N 2111-Ն ՈՐՈՇՄԱՆ N 8 ՀԱՎԵԼՎԱԾՆԵՐՈՒՄ ԿԱՏԱՐՎՈՂ ՓՈՓՈԽՈՒԹՅՈՒՆՆԵՐԸ ԵՎ ԼՐԱՑՈՒՄՆԵՐԸ
G6: Հազ. դրամ
A7: Գործառական դասիչը | D7: Ծրագրային դասիչը | F7: Բյուջետային հատակացումների գլխավոր կարգադրիչներ, ծրագրերի, միջոցառումների և միջոցառումներն իրականացնող պետական մարմինների անվանումները | G7: Գումարը (հազար դրամ)
A8: Բաժին | B8: Խումբ | C8: Դաս | D8: Ծրագիր | E8: Միջոցառում
F9: ԸՆԴԱՄԵՆԸ ԾԱԽՍԵՐ | G9: =G10 -> 480000
A10: 04 | F10: ՏՆՏԵՍԱԿԱՆ ՀԱՐԱԲԵՐՈՒԹՅՈՒՆՆԵՐ | G10: =G11 -> 480000
B11: 05 | F11: Տրանսպորտ | G11: =G13 -> 480000
C12: 05 | F12: Խողովակաշարային և այլ տրանսպորտ | G12: =G13 -> 480000
D13: 1157 | F13: Քաղաքային զարգացում | G13: =+G14 -> 480000
E14: 21001 | F14: Երևանի մետրոպոլիտենի ենթակառուցվածքների նորոգում | G14: 480000
B18: ՀԱՅԱՍՏԱՆԻ ՀԱՆՐԱՊԵՏՈՒԹՅԱՆ ՎԱՐՉԱՊԵՏԻ ԱՇԽԱՏԱԿԱԶՄԻ ՂԵԿԱՎԱՐ`
G20: Ա. ՀԱՐՈՒԹՅՈՒՆՅԱՆ

Sheet havelvac 6
D2: Հավելված N 6
C3: ՀՀ կառավարության 2023 թվականի
D4: ______________ ի ___Ն որոշման
G5: Աղյուսակ 1
A7: ՀԱՅԱՍՏԱՆԻ ՀԱՆՐԱՊԵՏՈՒԹՅԱՆ ԿԱՌԱՎԱՐՈՒԹՅԱՆ 2022 ԹՎԱԿԱՆԻ ԴԵԿՏԵՄԲԵՐԻ 29-Ի N 2111-Ն ՈՐՈՇՄԱՆ NN 9 ԵՎ 9.1 ՀԱՎԵԼՎԱԾՆԵՐԻ NN 9.7 ԵՎ 9.1.7 ԱՂՅՈՒՍԱԿՆԵՐՈՒՄ ԿԱՏԱՐՎՈՂ ՓՈՓՈԽՈՒԹՅՈՒՆՆԵՐԸ ԵՎ ԼՐԱՑՈՒՄՆԵՐԸ
A8: =+havelvac3!C17 -> ՀՀ տարածքային կառավարման և ենթակառուցվածքների նախարարություն
B11: Ծրագրի դասիչը | C11: Ծրագրի անվանումը
B12: 1157 | C12: Քաղաքային զարգացում
B13: Ծրագրի միջոցառումները
B14: Ծրագրի դասիչը՝ | C14: 1157 | D14: Ցուցանիշների փոփոխությունը (ավելացումները նշված են դրական նշանով)
B15: Միջոցառման դասիչը՝ | C15: 21001 | D15: =+havelvac3!D9 -> Առաջին եռամսյակ | E15: =+havelvac3!E9 -> Առաջին կիսամյակ | F15: =+havelvac3!F9 -> Ինն ամիս | G15: =+havelvac3!G9 -> Տարի
B16: Միջոցառման անվանումը՝ | C16: Երևանի մետրոպոլիտենի ենթակառուցվածքների նորոգում
B17: Նկարագրությունը՝ | C17: =+'havelvac 1'!C37 -> Երևանի մետրոպոլիտենի ենթակառուցվածքների նորոգում
B18: Միջոցառման տեսակը՝ | C18: =+'havelvac 1'!C39 -> Հանրության կողմից անմիջականորեն օգտագործվող ակտիվների հետ կապված միջոցառումներ
B19: Միջոցառումն իրականացնողի անվանումը | C19: Մասնագիտացված միավոր
B20: Արդյունքի չափորոշիչներ
B21: Թունելային հզոր օդափոխիչներ d=2400մմ հատ | D21: 0 | E21: 6 | F21: 6 | G21: 6
B22: Թունելային հզոր օդափոխիչներ d=2000մմ հատ | D22: 0 | E22: 8 | F22: 8 | G22: 8
B23: Կայարանային համալիրներում և թունելներում խոնավության նվազեցում, տոկոս | D23: 0 | E23: 10 | F23: 10 | G23: 10
B24: Միջոցառման վրա կատարվող ծախսը (հազար դրամ) | D24: 0 | E24: 480000 | F24: =E24 -> 480000 | G24: 480000
G26: Աղյուսակ 2
B27: ՀԱՅԱՍՏԱՆԻ ՀԱՆՐԱՊԵՏՈՒԹՅԱՆ ԿԱՌԱՎԱՐՈՒԹՅԱՆ 2022 ԹՎԱԿԱՆԻ ԴԵԿՏԵՄԲԵՐԻ 29-Ի N 2111-Ն ՈՐՈՇՄԱՆ N 9 ՀԱՎԵԼՎԱԾԻ N 9.47 ԵՎ N 9.1 ՀԱՎԵԼՎԱԾԻ N 9. 1.58 ԱՂՅՈՒՍԱԿՆԵՐՈՒՄ ԿԱՏԱՐՎՈՂ ՓՈՓՈԽՈՒԹՅՈՒՆՆԵՐԸ
B28: ՀՀ կառավարություն
B30: Ծրագրի դասիչը | C30: Ծրագրի անվանումը
B31: 1139 | C31: ՀՀ կառավարության պահուստային ֆոնդ
B32: Ծրագրի միջոցառումները
B33: Ծրագրի դասիչը՝ | C33: 1139 | D33: Ցուցանիշների փոփոխությունը (նվազեցումները նշված են փակագծերում)
B34: Միջոցառման դասիչը՝ | C34: 11001 | D34: =+D15 -> Առաջին եռամսյակ | E34: =+E15 -> Առաջին կիսամյակ | F34: =+F15 -> Ինն ամիս | G34: =+G15 -> Տարի
B35: Միջոցառման անվանումը՝ | C35: ՀՀ կառավարության պահուստային ֆոնդ
B36: Նկարագրությունը՝ | C36: ՀՀ պետական բյուջեում նախատեսված ելքերի լրացուցիչ ֆինանսավորման՝ պետական բյուջեում չկանխատեսված ելքերի, ինչպես նաև բյուջետային երաշխիքների ապահովման ելքերի ֆինանսավորման ապահովում
B37: Միջոցառման տեսակը՝ | C37: Ծառայությունների մատուցում
C38: Արդյունքի չափորոշիչներ
B39: Միջոցառման վրա կատարվող ծախսը (հազար դրամ) | D39: =+'havelvac 1'!D12 -> 0 | E39: =+'havelvac 1'!E12 -> -480000 | F39: =+'havelvac 1'!F12 -> -480000 | G39: =+'havelvac 1'!G12 -> -480000
B43: ՀԱՅԱՍՏԱՆԻ ՀԱՆՐԱՊԵՏՈՒԹՅԱՆ
B44: ՎԱՐՉԱՊԵՏԻ ԱՇԽԱՏԱԿԱԶՄԻ
B45: ՂԵԿԱՎԱՐ` | C45: Ա. ՀԱՐՈՒԹՅՈՒՆՅԱՆ

Sheet havelvac 7
D1: Հավելված N 7
A2: ՀՀ կառավարության 2023 թվականի
A3: ______________ ի ___Ն որոշման
A5: ՀԱՅԱՍՏԱՆԻ ՀԱՆՐԱՊԵՏՈՒԹՅԱՆ ԿԱՌԱՎԱՐՈՒԹՅԱՆ 2022 ԹՎԱԿԱՆԻ ԴԵԿՏԵՄԲԵՐԻ 29-Ի N 2111-Ն ՈՐՈՇՄԱՆ N 10 ՀԱՎԵԼՎԱԾՈՒՄ ԿԱՏԱՐՎՈՂ ԼՐԱՑՈՒՄՆԵՐԸ
A7: Կոդը | B7: Անվանումը | E7: Գնման ձևը | F7: Չափման միավորը | G7: Միավորի գինը | H7: Քանակը | I7: Ցուցանիշների փոփոխությունը (ավելացումները նշված են դրական նշանով)
I8: Գումարը (հազար դրամ)
A9: 1 | B9: 2 | E9: 3 | F9: 4 | G9: 5 | H9: 6 | I9: 7
A10: ՀՀ տարածքային կառավարման և ենթակառուցվածքների նախարարություն | I10: =I11 -> 480000
A11: Բաժին N 04 | B11: Խումբ N 05 | C11: Դաս N 05 | D11: Խողովակաշարային և այլ տրանսպորտ | I11: =I12 -> 480000
A12: 1157-21001 | B12: Երևանի մետրոպոլիտենի ենթակառուցվածքների նորոգում | I12: =I13 -> 480000
B13: ՄԱՍ I. ԱՊՐԱՆՔՆԵՐ | I13: =I14+I15+I16 -> 480000
A14: 39714100 | B14: Oդափոխիչներ | E14: ԲՄ | F14: հատ | G14: 40000000 | H14: 6 | I14: =G14*H14/1000 -> 240000
A15: 39714100 | B15: Oդափոխիչներ | E15: ԲՄ | F15: հատ | G15: 30000000 | H15: 8 | I15: =G15*H15/1000 -> 240000
A16: 34911151 | B16: վագոնների պահեստամասեր | E16: ԲՄ | F16: հատ | G16: 13875000 | H16: 24
B20: ՀԱՅԱՍՏԱՆԻ ՀԱՆՐԱՊԵՏՈՒԹՅԱՆ ՎԱՐՉԱՊԵՏԻ ԱՇԽԱՏԱԿԱԶՄԻ ՂԵԿԱՎԱՐ`
G22: Ա. ՀԱՐՈՒԹՅՈՒՆՅԱՆ

Sheet havelvac 8
C1: Հավելված N 8
A2: ՀՀ կառավարության 2023 թվականի
A3: ______________ ի ___Ն որոշման
A7: Ց Ա Ն Կ «ԿԱՐԵՆ ԴԵՄԻՐՃՅԱՆԻ ԱՆՎԱՆ ԵՐԵՎԱՆԻ ՄԵՏՐՈՊՈԼԻՏԵՆ» ՓԲԸ-Ի ԿՈՂՄԻՑ 2022 ԹՎԱԿԱՆԻ ԸՆԹԱՑՔՈՒՄ «ԳՆՈՒՄՆԵՐԻ ՄԱՍԻՆ» ՕՐԵՆՔԻ 15-ՐԴ ՀՈԴՎԱԾԻ 6-ՐԴ ՄԱՍԻ ՀԻՄԱՆ ՎՐԱ ԿԱԶՄԱԿԵՐՊՎԱԾ ԱՊՐԱՆՔՆԵՐԻ ԳՆՄԱՆ ԳՈՐԾԸՆԹԱՑՆԵՐԻ ԱՐԴՅՈՒՆՔՈՒՄ ԿՆՔՎԱԾ ՊԱՅՄԱՆԱԳՐԵՐԻ
A9: NN | B9: Պայմանագրի ծածկագիրը | C9: Պայմանագրի կնքման ամսաթիվը
A10: 1 | B10: N ԵՄ-ԲՄԱՊՁԲ-22/13-1 | C10: 27.05.2022թ.
B13: ՀԱՅԱՍՏԱՆԻ ՀԱՆՐԱՊԵՏՈՒԹՅԱՆ ՎԱՐՉԱՊԵՏԻ ԱՇԽԱՏԱԿԱԶՄԻ ՂԵԿԱՎԱՐ` | C13: Ա.ՀԱՐՈՒԹՅՈՒՆՅԱՆ
