Workbook
Name AgencyCode: #REF!
Name AgencyCode: #REF!
Name AgencyCode: #REF!
Name AgencyCode: #REF!
Name AgencyName: #REF!
Name AgencyName: #REF!
Name AgencyName: #REF!
Name Functional1: #REF!
Name Functional1: #REF!
Name Functional1: #REF!
Name PANature: #REF!
Name PANature: #REF!
Name PANature: #REF!
Name PAType: #REF!
Name PAType: #REF!
Name PAType: #REF!
Name Performance2: #REF!
Name Performance2: #REF!
Name Performance2: #REF!
Name PerformanceType: #REF!
Name PerformanceType: #REF!
Name PerformanceType: #REF!

Sheet 1
D1: Հավելված N 1
D2: ՀՀ կառավարության 2023 թվականի
D3: ______________ ի ___Ն որոշման
B6: «ՀԱՅԱՍՏԱՆԻ ՀԱՆՐԱՊԵՏՈՒԹՅԱՆ 2023 ԹՎԱԿԱՆԻ ՊԵՏԱԿԱՆ ԲՅՈՒՋԵԻ ՄԱՍԻՆ» ՀԱՅԱՍՏԱՆԻ ՀԱՆՐԱՊԵՏՈՒԹՅԱՆ ՕՐԵՆՔԻ N 1 ՀԱՎԵԼՎԱԾԻ N 2 ԱՂՅՈՒՍԱԿՈՒՄ ՎԵՐԱԲԱՇԽՈՒՄ ԵՎ ՀԱՅԱՍՏԱՆԻ ՀԱՆՐԱՊԵՏՈՒԹՅԱՆ ԿԱՌԱՎԱՐՈՒԹՅԱՆ 2022 ԹՎԱԿԱՆԻ ԴԵԿՏԵՄԲԵՐԻ 29-Ի N 2111-Ն ՈՐՈՇՄԱՆ N 5 ՀԱՎԵԼՎԱԾԻ N 1 ԱՂՅՈՒՍԱԿՈՒՄ ԿԱՏԱՐՎՈՂ ՓՈՓՈԽՈՒԹՅՈՒՆՆԵՐԸ ԵՎ ԼՐԱՑՈՒՄՆԵՐԸ
G8: հազար դրամ/
B9: Ծրագրային դասիչը | D9: Բյուջետային հատկացումների գլխավոր կարգադրիչների, ծրագրերի և միջոցառումների անվանումները | E9: Ցուցանիշների փոփոխությունը (ավելացումները նշված են դրական նշանով, իսկ նվազեցումները` փակագծերում)
B10: Ծրագիր | C10: Միջոցառում | E10: ='2'!G9 -> Առաջին կիսամյակ | F10: ինն ամիս | G10: Տարի
D11: ='2'!F10 -> ԸՆԴԱՄԵՆԸ ԾԱԽՍԵՐ | E11: =E12+E62 -> 0 | F11: =F12+F62 -> 0 | G11: =G12+G62 -> 0
D12: ՀՀ տարածքային կառավարման և ենթակառուցվածքների նախարարություն | E12: =+E13 -> 1658874.5 | F12: =+F13 -> 3000000 | G12: =+G13 -> 9994024.6
B13: 1157 | D13: Ծրագրի անվանումը՝ | E13: =E20+E26+E32+E38+E44+E50+E56 -> 1658874.5 | F13: =F20+F26+F32+F38+F44+F50+F56 -> 3000000 | G13: =G20+G26+G32+G38+G44+G50+G56 -> 9994024.6
D14: Քաղաքային զարգացում
D15: Ծրագրի նպատակը՝
D16: Քաղաքային ենթակառուցվածքների զարգացում
D17: Վերջնական արդյունքի նկարագրությունը`
D18: Քաղաքային ենթակառուցվածքների արդիականացում և բարելավում
D19: Ծրագրի միջոցառումներ
C20: 21031 | D20: Միջոցառման անվանումը՝ | E20: 104592.7 | F20: 261481.7 | G20: 522963.4
D21: Նոր Խարբերդ թաղամասում գազատարի կառուցման աշխատանքներ
D22: Միջոցառման նկարագրությունը՝
D23: Նոր Խարբերդ թաղամասում գազատարի և գազաբաշխիչ կայանի (ԳԲԿ) կառուցում
D24: Միջոցառման տեսակը՝
D25: Հանրության կողմից անմիջականորեն օգտագործվող ակտիվների հետ կապված միջոցառումներ
C26: 21032 | D26: Միջոցառման անվանումը՝ | E26: 535755.8 | F26: 828308.4 | G26: 1651196
D27: Երևան քաղաքում ճանապարհների կառուցման և միջին նորոգման աշխատանքներ
D28: Միջոցառման նկարագրությունը՝
D29: Երևան քաղաքաում նոր ճանապարհատվածներիի կառուցում և ճանապարհների պատվածքի մաշված վերին շերտի վերականգնում և շինարարական նորմերով նախատեսված սկզբնական որակական ցուցանիշների ապահովում
D30: Միջոցառման տեսակը՝
D31: Հանրության կողմից անմիջականորեն օգտագործվող ակտիվների հետ կապված միջոցառումներ
C32: 21033 | D32: Միջոցառման անվանումը՝ | E32: 500000 | F32: 1000000 | G32: 4729840
D33: Երևան քաղաքի բազմաբնակարան շենքերի վերելակների արդիականացում
D34: Միջոցառման նկարագրությունը՝
D35: Երևան քաղաքաի բազմաբնակարան շենքերի շահագործման ոչ պիտանի վերելակների փոխարինում նոր վերելակներով
D36: Միջոցառման տեսակը՝
D37: Հանրության կողմից անմիջականորեն օգտագործվող ակտիվների հետ կապված միջոցառումներ
C38: 21034 | D38: Միջոցառման անվանումը՝ | E38: 126610.1 | F38: 202576.1 | G38: 452878.1
D39: Երևան քաղաքի կոյուղատար համակարգի արդիականացման և ընդլայնման աշխատանքներ
D40: Միջոցառման նկարագրությունը՝
D41: Երևան քաղաքի կոյուղատար համակարգի կառուցում և վերակառուցում
D42: Միջոցառման տեսակը՝
D43: Հանրության կողմից անմիջականորեն օգտագործվող ակտիվների հետ կապված միջոցառումներ
C44: 21035 | D44: Միջոցառման անվանումը՝ | E44: 60552.2 | F44: 121104.4 | G44: 242208.7
D45: Երևան քաղաքում առողջապահական կազմակերպությունների հիմնանորոգում
D46: Միջոցառման նկարագրությունը՝
D47: Երևան քաղաքում բնակչությանը որակյալ բժշկական օգնության ծառայություններ մատուցելու նպատակով առողջապահական կազմակերպությունների հիմնանորոգում
D48: Միջոցառման տեսակը՝
D49: Հանրության կողմից անմիջականորեն օգտագործվող ակտիվների հետ կապված միջոցառումներ
C50: 21036 | D50: Միջոցառման անվանումը՝ | E50: 140893.6 | F50: 281787.2 | G50: 1563036.2
D51: Երևան քաղաքում հանգստի գոտիների և այգիների կառուցման և հիմնանորոգման աշխատանքներ
D52: Միջոցառման նկարագրությունը՝
D53: Երևան քաղաքում հանգստի գոտիների և այգիների կառուցում և հիմնանորոգում, ինչպես նաև կանաչ գոտիների արդիականացում
D54: Միջոցառման տեսակը՝
D55: Հանրության կողմից անմիջականորեն օգտագործվող ակտիվների հետ կապված միջոցառումներ
C56: 21037 | D56: Միջոցառման անվանումը՝ | E56: 190470.1 | F56: 304742.2 | G56: 831902.2
D57: Երևան քաղաքի նախադպրոցական ուսումնական հաստատությունների կառուցման և հիմնանորոգման աշխատանքներ
D58: Միջոցառման նկարագրությունը՝
D59: Նախադպրոցական ուսումնական հաստատությունների և դրանց բակային տարածքների հիմնանորոգում, ինչպես նաև նորերի կառուցում
D60: Միջոցառման տեսակը՝
D61: Հանրության կողմից անմիջականորեն օգտագործվող ակտիվների հետ կապված միջոցառումներ
D62: ՀՀ կառավարություն | E62: =E63 -> -1658874.5 | F62: =F63 -> -3000000 | G62: =G63 -> -9994024.6
B63: 1139 | D63: Ծրագրի անվանումը` | E63: =E69 -> -1658874.5 | F63: =F69 -> -3000000 | G63: =G69 -> -9994024.6
D64: ՀՀ կառավարության պահուստային ֆոնդ
D65: Ծրագրի նպատակը`
D66: Պետական բյուջեում չկանխատեսված՝ ինչպես նաև բյուջետային երաշխիքների ապահովման ծախսերի ֆինանսավորման ապահովում
D67: Վերջնական արդյունքի նկարագրությունը`
D68: Պահուստային ֆոնդի կառավարման արդյունավետություն և թափանցիկություն
C69: 11001 | D69: Միջոցառման անվանումը` | E69: -1658874.5 | F69: -3000000 | G69: -9994024.6
D70: ՀՀ կառավարության պահուստային ֆոնդ
D71: Միջոցառման նկարագրությունը`
D72: ՀՀ պետական բյուջեում նախատեսված ելքերի լրացուցիչ ֆինանսավորման՝ պետական բյուջեում չկանխատեսված ելքերի՝ ինչպես նաև բյուջետային երաշխիքների ապահովման ելքերի ֆինանսավորման ապահովում
D73: Միջոցառման տեսակը
D74: Ծառայությունների մատուցում
B77: ՀԱՅԱՍՏԱՆԻ ՀԱՆՐԱՊԵՏՈՒԹՅԱՆ
B78: ՎԱՐՉԱՊԵՏԻ ԱՇԽԱՏԱԿԱԶՄԻ
C79: ՂԵԿԱՎԱՐ ՝ Ա. ՀԱՐՈՒԹՅՈՒՆՅԱՆ

Sheet 2
I1: Հավելված N 2
I2: ՀՀ կառավարության 2023 թվականի
I3: ______________ ի ___Ն որոշման
A5: ՀԱՅԱՍՏԱՆԻ ՀԱՆՐԱՊԵՏՈՒԹՅԱՆ ԿԱՌԱՎԱՐՈՒԹՅԱՆ 2022 ԹՎԱԿԱՆԻ ԴԵԿՏԵՄԲԵՐԻ 29-Ի N 2111-Ն ՈՐՈՇՄԱՆ NN 3 ԵՎ 4 ՀԱՎԵԼՎԱԾՆԵՐՈՒՄ ԿԱՏԱՐՎՈՂ ՓՈՓՈԽՈՒԹՅՈՒՆՆԵՐԸ ԵՎ ԼՐԱՑՈՒՄՆԵՐԸ
H7: հազար դրամներով
A8: Գործառական դասիչը | D8: Ծրագրային դասիչը | F8: Բյուջետային ծախսերի գործառական դասակարգման բաժինների, խմբերի և դասերի, բյուջետային հատկացումների գլխավոր կարգադրիչների, ծրագրերի, միջոցառումների և միջոցառումները կատարող պետական մարմինների անվանումները | G8: Ցուցանիշների փոփոխությունը (ավելացումները նշված են դրական նշանով, իսկ նվազեցումները` փակագծերում)
A9: Բաժին | B9: Խումբ | C9: Դաս | D9: Ծրագիր | E9: Միջոցառում | G9: Առաջին կիսամյակ | H9: ինն ամիս | I9: Տարի
F10: ԸՆԴԱՄԵՆԸ ԾԱԽՍԵՐ | G10: =G12+G64+G83+G102+G122+G142 -> 0 | H10: =H12+H64+H83+H102+H122+H142 -> 0 | I10: =I12+I64+I83+I102+I122+I142 -> 0
F11: այդ թվում`
A12: 04 | F12: ՏՆՏԵՍԱԿԱՆ ՀԱՐԱԲԵՐՈՒԹՅՈՒՆՆԵՐ | G12: =G14++G31 -> 1140348.5 | H12: =H14++H31 -> 2089790.1 | I12: =I14++I31 -> 6903999.4
F13: այդ թվում`
B14: 03 | F14: Վառելիք և էներգետիկա | G14: =G16 -> 104592.7 | H14: =H16 -> 261481.7 | I14: =I16 -> 522963.4
F15: այդ թվում`
C16: 02 | F16: Նավթամթերք և բնական գազ | G16: =G18 -> 104592.7 | H16: =H18 -> 261481.7 | I16: =I18 -> 522963.4
F17: այդ թվում`
F18: ՀՀ տարածքային կառավարման և ենթակառուցվածքների նախարարություն | G18: =G20 -> 104592.7 | H18: =H20 -> 261481.7 | I18: =I20 -> 522963.4
F19: այդ թվում`
D20: 1157 | F20: Քաղաքային զարգացում | G20: =+G22 -> 104592.7 | H20: =+H22 -> 261481.7 | I20: =+I22 -> 522963.4
F21: այդ թվում`
E22: 21031 | F22: Նոր Խարբերդ թաղամասում գազատարի կառուցման աշխատանքներ | G22: =+G24 -> 104592.7 | H22: =+H24 -> 261481.7 | I22: =+I24 -> 522963.4
F23: այդ թվում` ըստ կատարողների
F24: ՀՀ տարածքային կառավարման և ենթակառուցվածքների նախարարություն | G24: =+G26 -> 104592.7 | H24: =+H26 -> 261481.7 | I24: =+I26 -> 522963.4
F25: այդ թվում` բյուջետային ծախսերի տնտեսագիտական դասակարգման հոդվածների
F26: ԸՆԴԱՄԵՆԸ ԾԱԽՍԵՐ | G26: =+G27 -> 104592.7 | H26: =+H27 -> 261481.7 | I26: =+I27 -> 522963.4
F27: ՈՉ ՖԻՆԱՆՍԱԿԱՆ ԱԿՏԻՎՆԵՐԻ ԳԾՈՎ ԾԱԽՍԵՐ | G27: =+G28 -> 104592.7 | H27: =+H28 -> 261481.7 | I27: =+I28 -> 522963.4
F28: ՀԻՄՆԱԿԱՆ ՄԻՋՈՑՆԵՐ | G28: =+G29 -> 104592.7 | H28: =+H29 -> 261481.7 | I28: =+I29 -> 522963.4
F29: ՇԵՆՔԵՐ ԵՎ ՇԻՆՈՒԹՅՈՒՆՆԵՐ | G29: =+G30 -> 104592.7 | H29: =+H30 -> 261481.7 | I29: =+I30 -> 522963.4
F30: - Շենքերի և շինությունների շինարարություն | G30: 104592.7 | H30: 261481.7 | I30: 522963.4
B31: 05 | F31: Տրանսպորտ | G31: =G33+G49 -> 1035755.8 | H31: =H33+H49 -> 1828308.4 | I31: =I33+I49 -> 6381036
F32: այդ թվում`
C33: 01 | F33: Ճանապարհային տրանսպորտ | G33: =G35 -> 535755.8 | H33: =H35 -> 828308.4 | I33: =I35 -> 1651196
F34: այդ թվում`
F35: ՀՀ տարածքային կառավարման և ենթակառուցվածքների նախարարություն | G35: =G37 -> 535755.8 | H35: =H37 -> 828308.4 | I35: =I37 -> 1651196
F36: այդ թվում`
D37: 1157 | F37: Քաղաքային զարգացում | G37: =+G39 -> 535755.8 | H37: =+H39 -> 828308.4 | I37: =+I39 -> 1651196
F38: այդ թվում`
E39: 21032 | F39: Երևան քաղաքում ճանապարհների կառուցման և միջին նորոգման աշխատանքներ | G39: =+G41 -> 535755.8 | H39: =+H41 -> 828308.4 | I39: =+I41 -> 1651196
F40: այդ թվում` ըստ կատարողների
F41: ՀՀ տարածքային կառավարման և ենթակառուցվածքների նախարարություն | G41: =+G43 -> 535755.8 | H41: =+H43 -> 828308.4 | I41: =+I43 -> 1651196
F42: այդ թվում` բյուջետային ծախսերի տնտեսագիտական դասակարգման հոդվածների
F43: ԸՆԴԱՄԵՆԸ ԾԱԽՍԵՐ | G43: =+G44 -> 535755.8 | H43: =+H44 -> 828308.4 | I43: =+I44 -> 1651196
F44: ՈՉ ՖԻՆԱՆՍԱԿԱՆ ԱԿՏԻՎՆԵՐԻ ԳԾՈՎ ԾԱԽՍԵՐ | G44: =+G45 -> 535755.8 | H44: =+H45 -> 828308.4 | I44: =+I45 -> 1651196
F45: ՀԻՄՆԱԿԱՆ ՄԻՋՈՑՆԵՐ | G45: =+G46 -> 535755.8 | H45: =+H46 -> 828308.4 | I45: =+I46 -> 1651196
F46: ՇԵՆՔԵՐ ԵՎ ՇԻՆՈՒԹՅՈՒՆՆԵՐ | G46: =SUM(G47:G48) -> 535755.8 | H46: =SUM(H47:H48) -> 828308.4 | I46: =SUM(I47:I48) -> 1651196
F47: - Շենքերի և շինությունների կապիտալ վերանորոգում | G47: 535755.8 | H47: 734766.4 | I47: 1339389.6
F48: - Շենքերի և շինությունների շինարարություն | G48: 0 | H48: 93542 | I48: 311806.4
C49: 05 | F49: Խողովակաշարային և այլ տրանսպորտ | G49: =G51 -> 500000 | H49: =H51 -> 1000000 | I49: =I51 -> 4729840
F50: այդ թվում`
F51: ՀՀ տարածքային կառավարման և ենթակառուցվածքների նախարարություն | G51: =+G53 -> 500000 | H51: =+H53 -> 1000000 | I51: =+I53 -> 4729840
F52: այդ թվում`
D53: 1157 | F53: Քաղաքային զարգացում | G53: =+G55 -> 500000 | H53: =+H55 -> 1000000 | I53: =+I55 -> 4729840
F54: այդ թվում`
E55: 21033 | F55: Երևան քաղաքի բազմաբնակարան շենքերի վերելակների արդիականացում | G55: =+G57 -> 500000 | H55: =+H57 -> 1000000 | I55: =+I57 -> 4729840
F56: այդ թվում` ըստ կատարողների
F57: ՀՀ տարածքային կառավարման և ենթակառուցվածքների նախարարություն | G57: =+G59 -> 500000 | H57: =+H59 -> 1000000 | I57: =+I59 -> 4729840
F58: այդ թվում` բյուջետային ծախսերի տնտեսագիտական դասակարգման հոդվածների
F59: ԸՆԴԱՄԵՆԸ ԾԱԽՍԵՐ | G59: =+G60 -> 500000 | H59: =+H60 -> 1000000 | I59: =+I60 -> 4729840
F60: ՈՉ ՖԻՆԱՆՍԱԿԱՆ ԱԿՏԻՎՆԵՐԻ ԳԾՈՎ ԾԱԽՍԵՐ | G60: =+G61 -> 500000 | H60: =+H61 -> 1000000 | I60: =+I61 -> 4729840
F61: ՀԻՄՆԱԿԱՆ ՄԻՋՈՑՆԵՐ | G61: =+G62 -> 500000 | H61: =+H62 -> 1000000 | I61: =+I62 -> 4729840
F62: ՄԵՔԵՆԱՆԵՐ ԵՎ ՍԱՐՔԱՎՈՐՈՒՄՆԵՐ | G62: =+G63 -> 500000 | H62: =+H63 -> 1000000 | I62: =+I63 -> 4729840
F63: - Այլ մեքենաներ և սարքավորումներ | G63: 500000 | H63: 1000000 | I63: 4729840
A64: 06 | F64: ԲՆԱԿԱՐԱՆԱՅԻՆ ՇԻՆԱՐԱՐՈՒԹՅՈՒՆ ԵՎ ԿՈՄՈՒՆԱԼ ԾԱՌԱՅՈՒԹՅՈՒՆՆԵՐ | G64: =G66 -> 126610.1 | H64: =H66 -> 202576.1 | I64: =I66 -> 452878.1
F65: այդ թվում`
B66: 03 | F66: Ջրամատակարարում | G66: =G68 -> 126610.1 | H66: =H68 -> 202576.1 | I66: =I68 -> 452878.1
F67: այդ թվում`
C68: 01 | F68: Ջրամատակարարում | G68: =G70 -> 126610.1 | H68: =H70 -> 202576.1 | I68: =I70 -> 452878.1
F69: այդ թվում`
F70: ՀՀ տարածքային կառավարման և ենթակառուցվածքների նախարարություն | G70: =+G72 -> 126610.1 | H70: =+H72 -> 202576.1 | I70: =+I72 -> 452878.1
F71: այդ թվում`
D72: 1157 | F72: Քաղաքային զարգացում | G72: =+G74 -> 126610.1 | H72: =+H74 -> 202576.1 | I72: =+I74 -> 452878.1
F73: այդ թվում`
E74: 21034 | F74: Երևան քաղաքի կոյուղատար համակարգի արդիականացման և ընդլայնման աշխատանքներ | G74: =+G76 -> 126610.1 | H74: =+H76 -> 202576.1 | I74: =+I76 -> 452878.1
F75: այդ թվում` ըստ կատարողների
F76: ՀՀ տարածքային կառավարման և ենթակառուցվածքների նախարարություն | G76: =+G78 -> 126610.1 | H76: =+H78 -> 202576.1 | I76: =+I78 -> 452878.1
F77: այդ թվում` բյուջետային ծախսերի տնտեսագիտական դասակարգման հոդվածների
F78: ԸՆԴԱՄԵՆԸ ԾԱԽՍԵՐ | G78: =+G79 -> 126610.1 | H78: =+H79 -> 202576.1 | I78: =+I79 -> 452878.1
F79: ՈՉ ՖԻՆԱՆՍԱԿԱՆ ԱԿՏԻՎՆԵՐԻ ԳԾՈՎ ԾԱԽՍԵՐ | G79: =+G80 -> 126610.1 | H79: =+H80 -> 202576.1 | I79: =+I80 -> 452878.1
F80: ՀԻՄՆԱԿԱՆ ՄԻՋՈՑՆԵՐ | G80: =+G81 -> 126610.1 | H80: =+H81 -> 202576.1 | I80: =+I81 -> 452878.1
F81: ՇԵՆՔԵՐ ԵՎ ՇԻՆՈՒԹՅՈՒՆՆԵՐ | G81: =+G82 -> 126610.1 | H81: =+H82 -> 202576.1 | I81: =+I82 -> 452878.1
F82: - Շենքերի և շինությունների շինարարություն | G82: 126610.1 | H82: 202576.1 | I82: 452878.1
A83: 07 | F83: ԱՌՈՂՋԱՊԱՀՈՒԹՅՈՒՆ | G83: =G85 -> 60552.2 | H83: =H85 -> 121104.4 | I83: =I85 -> 242208.7
F84: այդ թվում`
B85: 06 | F85: Առողջապահություն (այլ դասերին չպատկանող) | G85: =G87 -> 60552.2 | H85: =H87 -> 121104.4 | I85: =I87 -> 242208.7
F86: այդ թվում`
C87: 02 | F87: Առողջապահություն (այլ դասերին չպատկանող) | G87: =G89 -> 60552.2 | H87: =H89 -> 121104.4 | I87: =I89 -> 242208.7
F88: այդ թվում`
F89: ՀՀ տարածքային կառավարման և ենթակառուցվածքների նախարարություն | G89: =+G91 -> 60552.2 | H89: =+H91 -> 121104.4 | I89: =+I91 -> 242208.7
F90: այդ թվում`
D91: 1157 | F91: Քաղաքային զարգացում | G91: =+G93 -> 60552.2 | H91: =+H93 -> 121104.4 | I91: =+I93 -> 242208.7
F92: այդ թվում`
E93: 21035 | F93: Երևան քաղաքում առողջապահական կազմակերպությունների հիմնանորոգում | G93: =+G95 -> 60552.2 | H93: =+H95 -> 121104.4 | I93: =+I95 -> 242208.7
F94: այդ թվում` ըստ կատարողների
F95: ՀՀ տարածքային կառավարման և ենթակառուցվածքների նախարարություն | G95: =+G97 -> 60552.2 | H95: =+H97 -> 121104.4 | I95: =+I97 -> 242208.7
F96: այդ թվում` բյուջետային ծախսերի տնտեսագիտական դասակարգման հոդվածների
F97: ԸՆԴԱՄԵՆԸ ԾԱԽՍԵՐ | G97: =+G98 -> 60552.2 | H97: =+H98 -> 121104.4 | I97: =+I98 -> 242208.7
F98: ՈՉ ՖԻՆԱՆՍԱԿԱՆ ԱԿՏԻՎՆԵՐԻ ԳԾՈՎ ԾԱԽՍԵՐ | G98: =+G99 -> 60552.2 | H98: =+H99 -> 121104.4 | I98: =+I99 -> 242208.7
F99: ՀԻՄՆԱԿԱՆ ՄԻՋՈՑՆԵՐ | G99: =+G100 -> 60552.2 | H99: =+H100 -> 121104.4 | I99: =+I100 -> 242208.7
F100: ՇԵՆՔԵՐ ԵՎ ՇԻՆՈՒԹՅՈՒՆՆԵՐ | G100: =+G101 -> 60552.2 | H100: =+H101 -> 121104.4 | I100: =+I101 -> 242208.7
F101: - Շենքերի և շինությունների կապիտալ վերանորոգում | G101: 60552.2 | H101: 121104.4 | I101: 242208.7
A102: 08 | F102: ՀԱՆԳԻՍՏ, ՄՇԱԿՈՒՅԹ ԵՎ ԿՐՈՆ | G102: =+G104 -> 140893.6 | H102: =+H104 -> 281787.2 | I102: =+I104 -> 1563036.2
...

Sheet 3
F1: Հավելված N 3
E2: ՀՀ կառավարության 2022 թվականի
E3: ______________ ի ___Ն որոշման
A5: «ՀԱՅԱUՏԱՆԻ ՀԱՆՐԱՊԵՏՈՒԹՅԱՆ 2023 ԹՎԱԿԱՆԻ ՊԵՏԱԿԱՆ ԲՅՈՒՋԵԻ ՄԱUԻՆ» OՐԵՆՔԻ N 1 ՀԱՎԵԼՎԱԾԻ N 3 ԱՂՅՈՒՍԱԿՈՒՄ ԿԱՏԱՐՎՈՂ ՓՈՓՈԽՈՒԹՅՈՒՆՆԵՐԸ ԵՎ ԼՐԱՑՈՒՄՆԵՐԸ
G6: հազար դրամներով
A7: Ծրագրային դասիչ | C7: Բյուջետային գլխավոր կարգադրիչների, ծրագրերի, միջոցառումների և ուղղությունների անվանումները | D7: Ընդամենը | E7: այդ թվում`
A8: Ծրագիր | B8: Միջոցառում | E8: Կառուցման աշխատանքներ | F8: Վերակառուցման, վերանորոգման և վերականգնման աշխատանքներ | G8: Նախագծահե- տազոտական, գեոդեզիա- քարտեզագրա- կան աշխա- տանքներ | H8: Ոչ ֆինանսական այլ ակտիվների ձեռքբերում
C9: ԸՆԴԱՄԵՆԸ | D9: =D11+D20 -> 285000 | E9: =E11+E20 -> 1639881.9 | F9: =F11+F20 -> -6084721.9 | G9: =G11+G20 -> 0 | H9: =H11+H20 -> 4729840
C10: այդ թվում՝
C11: ՀՀ ՏԱՐԱԾՔԱՅԻՆ ԿԱՌԱՎԱՐՄԱՆ ԵՎ ԵՆԹԱԿԱՌՈՒՑՎԱԾՔՆԵՐԻ ՆԱԽԱՐԱՐՈՒԹՅՈՒՆ | D11: =E11+F11+G11+H11 -> 9994024.6 | E11: =SUM(E13:E19) -> 1639881.9 | F11: =SUM(F13:F19) -> 3624302.7 | G11: =SUM(G13:G19) -> 0 | H11: =SUM(H13:H19) -> 4729840
C12: այդ թվում`
A13: 1157 | B13: 21031 | C13: Նոր Խարբերդ թաղամասում գազատարի կառուցման աշխատանքներ | D13: =SUM(E13:H13) -> 522963.4 | E13: 522963.4 | F13: 0 | G13: 0 | H13: 0
A14: 1157 | B14: 21032 | C14: Երևան քաղաքում ճանապարհների կառուցման և միջին նորոգման աշխատանքներ | D14: =SUM(E14:H14) -> 1651196 | E14: 311806.4 | F14: 1339389.6 | G14: 0 | H14: 0
A15: 1157 | B15: 21033 | C15: Երևան քաղաքի բազմաբնակարան շենքերի վերելակների արդիականացում | D15: =SUM(E15:H15) -> 4729840 | E15: 0 | F15: 0 | G15: 0 | H15: 4729840
A16: 1157 | B16: 21034 | C16: Երևան քաղաքի կոյուղատար համակարգի արդիականացման և ընդլայնման աշխատանքներ | D16: =SUM(E16:H16) -> 452878.1 | E16: 452878.1 | F16: 0 | G16: 0 | H16: 0
A17: 1157 | B17: 21035 | C17: Երևան քաղաքում առողջապահական կազմակերպությունների հիմնանորոգում | D17: =SUM(E17:H17) -> 242208.7 | E17: 0 | F17: 242208.7 | G17: 0 | H17: 0
A18: 1157 | B18: 21036 | C18: Երևան քաղաքում հանգստի գոտիների և այգիների կառուցման և հիմնանորոգման աշխատանքներ | D18: =SUM(E18:H18) -> 1563036.2 | E18: 352234 | F18: 1210802.2 | G18: 0 | H18: 0
A19: 1157 | B19: 21037 | C19: Երևան քաղաքի նախադպրոցական ուսումնական հաստատությունների կառուցման և հիմնանորոգման աշխատանքներ | D19: =SUM(E19:H19) -> 831902.2 | E19: 0 | F19: 831902.2 | G19: 0 | H19: 0
C20: ՀՀ ԿԱՌԱՎԱՐՈՒԹՅՈՒՆ | D20: =D22 -> -9709024.6 | E20: 0 | F20: =D22 -> -9709024.6 | G20: 0 | H20: 0
C21: այդ թվում`
A22: 1139 | B22: 11001 | C22: Պահուստային ֆոնդ | D22: ='2'!I161 -> -9709024.6 | E22: 0 | F22: =F20 -> -9709024.6 | G22: 0 | H22: 0
C24: ՀԱՅԱՍՏԱՆԻ ՀԱՆՐԱՊԵՏՈՒԹՅԱՆ ՎԱՐՉԱՊԵՏԻ ԱՇԽԱՏԱԿԱԶՄԻ ՂԵԿԱՎԱՐ | F24: Ա.ՀԱՐՈՒԹՅՈՒՆՅԱՆ

Sheet 4
F1: Հավելված N 4
F2: ՀՀ կառավարության 2023 թվականի
F3: ______________ ի ___Ն որոշման
A5: ՀԱՅԱՍՏԱՆԻ ՀԱՆՐԱՊԵՏՈՒԹՅԱՆ ԿԱՌԱՎԱՐՈՒԹՅԱՆ 2022 ԹՎԱԿԱՆԻ ԴԵԿՏԵՄԲԵՐԻ 29-Ի N 2111-Ն ՈՐՈՇՄԱՆ N 5 ՀԱՎԵԼՎԱԾԻ N 2 ԱՂՅՈՒՍԱԿՈՒՄ ԿԱՏԱՐՎՈՂ ՓՈՓՈԽՈՒԹՅՈՒՆՆԵՐԸ ԵՎ ԼՐԱՑՈՒՄՆԵՐԸ
F6: հազար դրամներով
A7: Ծրագրային դասիչ | C7: Բյուջետային գլխավոր կարգադրիչների, ծրագրերի, միջոցառումների և ուղղությունների անվանումները | D7: Ցուցանիշների փոփոխությունը (ավելացումները նշված են դրական նշանով, իսկ նվազեցումները՝ փակագծերում)
A8: Ծրագիր | B8: Միջոցառում | D8: ='2'!G9 -> Առաջին կիսամյակ | E8: ինն ամիս | F8: Տարի
C9: ԸՆԴԱՄԵՆԸ | D9: =D11+D34 -> 0 | E9: =E11+E34 -> 0 | F9: =F11+F34 -> 285000
C10: այդ թվում՝
C11: ՀՀ ՏԱՐԱԾՔԱՅԻՆ ԿԱՌԱՎԱՐՄԱՆ ԵՎ ԵՆԹԱԿԱՌՈՒՑՎԱԾՔՆԵՐԻ ՆԱԽԱՐԱՐՈՒԹՅՈՒՆ | D11: =D22+D13+D16+D19+D25+D28+D31 -> 1658874.5 | E11: =E22+E13+E16+E19+E25+E28+E31 -> 3000000 | F11: =F22+F13+F16+F19+F25+F28+F31 -> 9994024.6
C12: այդ թվում`
A13: 1157 | B13: 21031 | C13: Նոր Խարբերդ թաղամասում գազատարի կառուցման աշխատանքներ | D13: =D15 -> 104592.7 | E13: =E15 -> 261481.7 | F13: =F15 -> 522963.4
C14: այդ թվում` ըստ կատարողների
C15: ՀՀ տարածքային կառավարման և ենթակառուցվածքների նախարարություն | D15: 104592.7 | E15: 261481.7 | F15: 522963.4
A16: 1157 | B16: 21032 | C16: Երևան քաղաքում ճանապարհների կառուցման և միջին նորոգման աշխատանքներ | D16: =D18 -> 535755.8 | E16: =E18 -> 828308.4 | F16: =F18 -> 1651196
C17: այդ թվում` ըստ կատարողների
C18: ՀՀ տարածքային կառավարման և ենթակառուցվածքների նախարարություն | D18: 535755.8 | E18: 828308.4 | F18: 1651196
A19: 1157 | B19: 21033 | C19: Երևան քաղաքի բազմաբնակարան շենքերի վերելակների արդիականացում | D19: =D21 -> 500000 | E19: =E21 -> 1000000 | F19: =F21 -> 4729840
C20: այդ թվում` ըստ կատարողների
C21: ՀՀ տարածքային կառավարման և ենթակառուցվածքների նախարարություն | D21: 500000 | E21: 1000000 | F21: 4729840
A22: 1157 | B22: 21034 | C22: Երևան քաղաքի կոյուղատար համակարգի արդիականացման և ընդլայնման աշխատանքներ | D22: =D24 -> 126610.1 | E22: =E24 -> 202576.1 | F22: =F24 -> 452878.1
C23: այդ թվում` ըստ կատարողների
C24: ՀՀ տարածքային կառավարման և ենթակառուցվածքների նախարարություն | D24: 126610.1 | E24: 202576.1 | F24: 452878.1
A25: 1157 | B25: 21035 | C25: Երևան քաղաքում առողջապահական կազմակերպությունների հիմնանորոգում | D25: =D27 -> 60552.2 | E25: =E27 -> 121104.4 | F25: =F27 -> 242208.7
C26: այդ թվում` ըստ կատարողների
C27: ՀՀ տարածքային կառավարման և ենթակառուցվածքների նախարարություն | D27: 60552.2 | E27: 121104.4 | F27: 242208.7
A28: 1157 | B28: 21036 | C28: Երևան քաղաքում հանգստի գոտիների և այգիների կառուցման և հիմնանորոգման աշխատանքներ | D28: =D30 -> 140893.6 | E28: =E30 -> 281787.2 | F28: =F30 -> 1563036.2
C29: այդ թվում` ըստ կատարողների
C30: ՀՀ տարածքային կառավարման և ենթակառուցվածքների նախարարություն | D30: 140893.6 | E30: 281787.2 | F30: 1563036.2
A31: 1157 | B31: 21037 | C31: Երևան քաղաքի նախադպրոցական ուսումնական հաստատությունների կառուցման և հիմնանորոգման աշխատանքներ | D31: =D33 -> 190470.1 | E31: =E33 -> 304742.2 | F31: =F33 -> 831902.2
C32: այդ թվում` ըստ կատարողների
C33: ՀՀ տարածքային կառավարման և ենթակառուցվածքների նախարարություն | D33: 190470.1 | E33: 304742.2 | F33: 831902.2
C34: ՀՀ ԿԱՌԱՎԱՐՈՒԹՅՈՒՆ | D34: =D36 -> -1658874.5 | E34: =E36 -> -3000000 | F34: ='2'!I161 -> -9709024.6
C35: այդ թվում`
A36: 1139 | B36: 11001 | C36: Պահուստային ֆոնդ | D36: ='1'!E62 -> -1658874.5 | E36: ='1'!F62 -> -3000000 | F36: =F34 -> -9709024.6
C39: ՀԱՅԱՍՏԱՆԻ ՀԱՆՐԱՊԵՏՈՒԹՅԱՆ ՎԱՐՉԱՊԵՏԻ ԱՇԽԱՏԱԿԱԶՄԻ ՂԵԿԱՎԱՐ | E39: Ա.ՀԱՐՈՒԹՅՈՒՆՅԱՆ

Sheet 5
C1: Հավելված N 5
C2: ՀՀ կառավարության 2023 թվականի
C3: ______________ ի ___Ն որոշման
A5: ՀԱՅԱՍՏԱՆԻ ՀԱՆՐԱՊԵՏՈՒԹՅԱՆ ԿԱՌԱՎԱՐՈՒԹՅԱՆ 2022 ԹՎԱԿԱՆԻ ԴԵԿՏԵՄԲԵՐԻ 29-Ի N 2111-Ն ՈՐՈՇՄԱՆ N 8 ՀԱՎԵԼՎԱԾՆԵՐՈՒՄ ԿԱՏԱՐՎՈՂ ՓՈՓՈԽՈՒԹՅՈՒՆՆԵՐԸ ԵՎ ԼՐԱՑՈՒՄՆԵՐԸ
A6: Գործառական դասիչը | D6: Ծրագրային դասիչը | F6: Բյուջետային հատակացումների գլխավոր կարգադրիչներ, ծրագրերի, միջոցառումների և միջոցառումներն իրականացնող պետական մարմինների անվանումները | G6: Գումարը (հազար դրամ)
A7: Բաժին | B7: Խումբ | C7: Դաս | D7: Ծրագիր | E7: Միջոցառում
F8: ԸՆԴԱՄԵՆԸ ԾԱԽՍԵՐ | G8: =+G9+G28+G33+G38+G45 -> 9994024.6
A9: 04 | F9: ՏՆՏԵՍԱԿԱՆ ՀԱՐԱԲԵՐՈՒԹՅՈՒՆՆԵՐ | G9: =G10+G16 -> 6903999.4 | H9: =H10 -> #REF!
B10: 03 | F10: Վառելիք և էներգետիկա | G10: =G11 -> 522963.4 | H10: =H11 -> #REF!
C11: 02 | F11: Նավթամթերք և բնական գազ | G11: =G12 -> 522963.4 | H11: =#REF! -> #REF!
D12: 1157 | F12: Քաղաքային զարգացում | G12: =+G13 -> 522963.4 | H12: =+H13 -> #REF!
E13: 21031 | F13: Նոր Խարբերդ թաղամասում գազատարի կառուցման աշխատանքներ | G13: 522963.4 | H13: =+#REF! -> #REF!
F14: ՏՆՏԵՍԱԿԱՆ ՀԱՐԱԲԵՐՈՒԹՅՈՒՆՆԵՐ | G14: =G16 -> 6381036 | H14: =H16 -> #REF!
F15: այդ թվում`
B16: 05 | F16: Տրանսպորտ | G16: =G17+G25 -> 6381036 | H16: =H17 -> #REF!
C17: 01 | F17: Ճանապարհային տրանսպորտ | G17: =+G19 -> 1651196 | H17: =#REF! -> #REF!
F18: այդ թվում`
D19: 1157 | F19: Քաղաքային զարգացում | G19: =+G20 -> 1651196 | H19: =+H20 -> #REF!
E20: 21032 | F20: Երևան քաղաքում ճանապարհների կառուցման և միջին նորոգման աշխատանքներ | G20: 1651196 | H20: =+#REF! -> #REF!
F21: ՏՆՏԵՍԱԿԱՆ ՀԱՐԱԲԵՐՈՒԹՅՈՒՆՆԵՐ | G21: =G23 -> 4729840 | H21: =H23 -> #REF!
F22: այդ թվում`
F23: Տրանսպորտ | G23: =G25 -> 4729840 | H23: =H25 -> #REF!
F24: այդ թվում`
C25: 05 | F25: Խողովակաշարային և այլ տրանսպորտ | G25: =G26 -> 4729840 | H25: =#REF! -> #REF!
D26: 1157 | F26: Քաղաքային զարգացում | G26: =+G27 -> 4729840 | H26: =+H27 -> #REF!
E27: 21033 | F27: Երևան քաղաքի բազմաբնակարան շենքերի վերելակների արդիականացում | G27: 4729840 | H27: =+#REF! -> #REF!
A28: 06 | F28: ԲՆԱԿԱՐԱՆԱՅԻՆ ՇԻՆԱՐԱՐՈՒԹՅՈՒՆ ԵՎ ԿՈՄՈՒՆԱԼ ԾԱՌԱՅՈՒԹՅՈՒՆՆԵՐ | G28: =G29 -> 452878.1 | H28: =H29 -> #REF!
B29: 03 | F29: Ջրամատակարարում | G29: =G30 -> 452878.1 | H29: =H30 -> #REF!
C30: 01 | F30: Ջրամատակարարում | G30: =G31 -> 452878.1 | H30: =#REF! -> #REF!
D31: 1157 | F31: Քաղաքային զարգացում | G31: =+G32 -> 452878.1 | H31: =+H32 -> #REF!
E32: 21034 | F32: Երևան քաղաքի կոյուղատար համակարգի արդիականացման և ընդլայնման աշխատանքներ | G32: 452878.1 | H32: =+#REF! -> #REF!
A33: 07 | F33: ԱՌՈՂՋԱՊԱՀՈՒԹՅՈՒՆ | G33: =G34 -> 242208.7 | H33: =H34 -> #REF!
B34: 06 | F34: Առողջապահություն (այլ դասերին չպատկանող) | G34: =G35 -> 242208.7 | H34: =H35 -> #REF!
C35: 02 | F35: Առողջապահություն (այլ դասերին չպատկանող) | G35: =G36 -> 242208.7 | H35: =#REF! -> #REF!
D36: 1157 | F36: Քաղաքային զարգացում | G36: =+G37 -> 242208.7 | H36: =+H37 -> #REF!
E37: 21035 | F37: Երևան քաղաքում առողջապահական կազմակերպությունների հիմնանորոգում | G37: 242208.7 | H37: =+#REF! -> #REF!
A38: 08 | F38: ՀԱՆԳԻՍՏ, ՄՇԱԿՈՒՅԹ ԵՎ ԿՐՈՆ | G38: =G39 -> 1563036.2 | H38: =H39 -> #REF!
B39: 01 | F39: Հանգստի և սպորտի ծառայություններ | G39: =G40 -> 1563036.2 | H39: =H40 -> #REF!
C40: 01 | F40: Հանգստի և սպորտի ծառայություններ | G40: =G41 -> 1563036.2 | H40: =#REF! -> #REF!
D41: 1157 | F41: Քաղաքային զարգացում | G41: =+G42 -> 1563036.2 | H41: =+H42 -> #REF!
E42: 21036 | F42: Երևան քաղաքում հանգստի գոտիների և այգիների կառուցման և հիմնանորոգման աշխատանքներ | G42: 1563036.2 | H42: =+#REF! -> #REF!
A43: 08 | F43: ՀԱՆԳԻՍՏ, ՄՇԱԿՈՒՅԹ ԵՎ ԿՐՈՆ | G43: =#REF! -> #REF! | H43: =#REF! -> #REF!
F44: այդ թվում`
A45: 09 | F45: ԿՐԹՈՒԹՅՈՒՆ | G45: =G46 -> 831902.2 | H45: =H46 -> #REF!
B46: 01 | F46: Նախադպրոցական և տարրական ընդհանուր կրթություն | G46: =G47 -> 831902.2 | H46: =H47 -> #REF!
C47: 01 | F47: Նախադպրոցական կրթություն | G47: =G48 -> 831902.2 | H47: =#REF! -> #REF!
D48: 1157 | F48: Հանրակրթության ծրագիր | G48: =+G49 -> 831902.2 | H48: =+H49 -> 0
E49: 21037 | F49: Երևան քաղաքի նախադպրոցական ուսումնական հաստատությունների կառուցման և հիմնանորոգման աշխատանքներ | G49: 831902.2 | H49: =+H52 -> 0
B54: ՀԱՅԱՍՏԱՆԻ ՀԱՆՐԱՊԵՏՈՒԹՅԱՆ ՎԱՐՉԱՊԵՏԻ ԱՇԽԱՏԱԿԱԶՄԻ ՂԵԿԱՎԱՐ
G56: Ա. ՀԱՐՈՒԹՅՈՒՆՅԱՆ

Sheet 6
F1: Հավելված N 6
E2: ՀՀ կառավարության 2023 թվականի
D3: ______________ ի ___Ն որոշման
A5: ՀԱՅԱՍՏԱՆԻ ՀԱՆՐԱՊԵՏՈՒԹՅԱՆ ԿԱՌԱՎԱՐՈՒԹՅԱՆ 2022 ԹՎԱԿԱՆԻ ԴԵԿՏԵՄԲԵՐԻ 29-Ի N 2111-Ն ՈՐՈՇՄԱՆ N 9 և N 9.1 ՀԱՎԵԼՎԱԾՆԵՐԻ N 9.7, 9.47 և 9.1.7, 9.1.58 ԱՂՅՈՒՍԱԿՆԵՐՈՒՄ ԿԱՏԱՐՎՈՂ ԼՐԱՑՈՒՄՆԵՐԸ
F6: Աղյուսակ N 9.7
F7: Աղյուսակ N 9.1.7
C8: ՀՀ տարածքային կառավարման և ենթակառուցվածնքերի նախարարություն
A10: ՄԱՍ 2. ՊԵՏԱԿԱՆ ՄԱՐՄՆԻ ԳԾՈՎ ԱՐԴՅՈՒՆՔԱՅԻՆ (ԿԱՏԱՐՈՂԱԿԱՆ) ՑՈՒՑԱՆԻՇՆԵՐԸ
B12: Ծրագրի դասիչը | C12: Ծրագրի անվանումը
B13: 1157 | C13: Քաղաքային զարգացում
B14: Ծրագրի միջոցառումները
B15: Ծրագրի դասիչը՝ | C15: 1157 | D15: Ցուցանիշների փոփոխությունը (ավելացումները նշված են դրական նշանով)
B16: Միջոցառման դասիչը՝ | C16: 21031 | D16: ='2'!G9 -> Առաջին կիսամյակ | E16: ինն ամիս | F16: Տարի
B17: Միջոցառման անվանումը՝ | C17: Նոր Խարբերդ թաղամասում գազատարի կառուցման աշխատանքներ
B18: Նկարագրությունը՝ | C18: Նոր Խարբերդ թաղամասում գազատարի և գազաբաշխիչ կայանի (ԳԲԿ) կառուցում
B19: Միջոցառման տեսակը՝ | C19: Հանրության կողմից անմիջականորեն օգտագործվող ակտիվների հետ կապված միջոցառումներ
B20: Շահառուների ընտրության չափանիշները | C20: ՀՀ բնակչություն
B21: Արդյունքի չափորոշիչներ
B22: Գազատարի կառուցում, կմ | D22: 10.6 | E22: 10.6 | F22: 10.6
B27: Միջոցառման վրա կատարվող ծախսը (հազար դրամ) | D27: 104592.7 | E27: 261481.7 | F27: 522963.4
B29: Ծրագրի դասիչը | C29: Ծրագրի անվանումը
B30: 1157 | C30: Քաղաքային զարգացում
B31: Ծրագրի միջոցառումները
B32: Ծրագրի դասիչը՝ | C32: 1157 | D32: =D15 -> Ցուցանիշների փոփոխությունը (ավելացումները նշված են դրական նշանով)
B33: Միջոցառման դասիչը՝ | C33: 21032 | D33: =D16 -> Առաջին կիսամյակ | E33: ինն ամիս | F33: Տարի
B34: Միջոցառման անվանումը՝ | C34: Երևան քաղաքում ճանապարհների կառուցման և միջին նորոգման աշխատանքներ
B35: Նկարագրությունը՝ | C35: Երևան քաղաքաում նոր ճանապարհատվածներիի կառուցում և ճանապարհների պատվածքի մաշված վերին շերտի վերականգնում և շինարարական նորմերով նախատեսված սկզբնական որակական ցուցանիշների ապահովում
B36: Միջոցառման տեսակը՝ | C36: Հանրության կողմից անմիջականորեն օգտագործվող ակտիվների հետ կապված միջոցառումներ
B37: Շահառուների ընտրության չափանիշները | C37: ՀՀ բնակչություն
B38: Արդյունքի չափորոշիչներ
B39: Նոր ճանապարհի կառուցում, կմ | D39: 1.4 | E39: 1.4 | F39: 1.4
B40: Ճանապարհների միջին նորոգում, վարչական շրջանների քանակ | D40: 5 | E40: 5 | F40: 5
B45: Միջոցառման վրա կատարվող ծախսը (հազար դրամ) | D45: 535755.8 | E45: 828308.4 | F45: 1651196
B48: Ծրագրի դասիչը | C48: Ծրագրի անվանումը
B49: 1157 | C49: Քաղաքային զարգացում
B50: Ծրագրի միջոցառումները
B51: Ծրագրի դասիչը՝ | C51: 1157 | D51: =D32 -> Ցուցանիշների փոփոխությունը (ավելացումները նշված են դրական նշանով)
B52: Միջոցառման դասիչը՝ | C52: 21033 | D52: =D33 -> Առաջին կիսամյակ | E52: ինն ամիս | F52: Տարի
B53: Միջոցառման անվանումը՝ | C53: Երևան քաղաքի բազմաբնակարան շենքերի վերելակների արդիականացում
B54: Նկարագրությունը՝ | C54: Երևան քաղաքաի բազմաբնակարան շենքերի շահագործման ոչ պիտանի վերելակների փոխարինում նոր վերելակներով
B55: Միջոցառման տեսակը՝ | C55: Հանրության կողմից անմիջականորեն օգտագործվող ակտիվների հետ կապված միջոցառումներ
B56: Շահառուների ընտրության չափանիշները | C56: ՀՀ բնակչություն
B57: Արդյունքի չափորոշիչներ
B58: Վերելակների փոխարինում նորով, հատ | D58: 473 | E58: 473 | F58: 473
B59: Միջոցառման վրա կատարվող ծախսը (հազար դրամ) | D59: 500000 | E59: 1000000 | F59: 4729840
B61: Ծրագրի դասիչը | C61: Ծրագրի անվանումը
B62: 1157 | C62: Քաղաքային զարգացում
B63: Ծրագրի միջոցառումները
B64: Ծրագրի դասիչը՝ | C64: 1157 | D64: =D51 -> Ցուցանիշների փոփոխությունը (ավելացումները նշված են դրական նշանով)
B65: Միջոցառման դասիչը՝ | C65: 21034 | D65: =D52 -> Առաջին կիսամյակ | E65: ինն ամիս | F65: Տարի
B66: Միջոցառման անվանումը՝ | C66: Երևան քաղաքի կոյուղատար համակարգի արդիականացման և ընդլայնման աշխատանքներ
B67: Նկարագրությունը՝ | C67: Երևան քաղաքի կոյուղատար համակարգի կառուցում և վերակառուցում
B68: Միջոցառման տեսակը՝ | C68: Հանրության կողմից անմիջականորեն օգտագործվող ակտիվների հետ կապված միջոցառումներ
B69: Շահառուների ընտրության չափանիշները | C69: ՀՀ բնակչություն
B70: Արդյունքի չափորոշիչներ
B71: Կոյուղատար համակարգերի կառուցում, գծմ | D71: 5367 | E71: 5367 | F71: 5367
B72: Միջոցառման վրա կատարվող ծախսը (հազար դրամ) | D72: 126610.1 | E72: 202576.1 | F72: 452878.1
B75: Ծրագրի դասիչը | C75: Ծրագրի անվանումը
B76: 1157 | C76: Քաղաքային զարգացում
B77: Ծրագրի միջոցառումները
B78: Ծրագրի դասիչը՝ | C78: 1157 | D78: =D64 -> Ցուցանիշների փոփոխությունը (ավելացումները նշված են դրական նշանով)
B79: Միջոցառման դասիչը՝ | C79: 21035 | D79: =D65 -> Առաջին կիսամյակ | E79: ինն ամիս | F79: Տարի
B80: Միջոցառման անվանումը՝ | C80: Երևան քաղաքում առողջապահական կազմակերպությունների հիմնանորոգում
B81: Նկարագրությունը՝ | C81: Երևան քաղաքում բնակչությանը որակյալ բժշկական օգնության ծառայություններ մատուցելու նպատակով առողջապահական կազմակերպությունների հիմնանորոգում
B82: Միջոցառման տեսակը՝ | C82: Հանրության կողմից անմիջականորեն օգտագործվող ակտիվների հետ կապված միջոցառումներ
B83: Շահառուների ընտրության չափանիշները | C83: ՀՀ բնակչություն
B84: Արդյունքի չափորոշիչներ
B85: Հիմնանորոգվող պոլիկլինիկաներ, հատ | D85: 2 | E85: 2 | F85: 2
B90: Միջոցառման վրա կատարվող ծախսը (հազար դրամ) | D90: 60552.2 | E90: 121104.4 | F90: 242208.7
B93: Ծրագրի դասիչը | C93: Ծրագրի անվանումը
B94: 1157 | C94: Քաղաքային զարգացում
B95: Ծրագրի միջոցառումները
B96: Ծրագրի դասիչը՝ | C96: 1157 | D96: =D78 -> Ցուցանիշների փոփոխությունը (ավելացումները նշված են դրական նշանով)
B97: Միջոցառման դասիչը՝ | C97: 21036 | D97: =D79 -> Առաջին կիսամյակ | E97: ինն ամիս | F97: Տարի
B98: Միջոցառման անվանումը՝ | C98: Երևան քաղաքում հանգստի գոտիների և այգիների կառուցման և հիմնանորոգման աշխատանքներ
B99: Նկարագրությունը՝ | C99: Երևան քաղաքում հանգստի գոտիների և այգիների կառուցում և հիմնանորոգում, ինչպես նաև կանաչ գոտիների արդիականացում
B100: Միջոցառման տեսակը՝ | C100: Հանրության կողմից անմիջականորեն օգտագործվող ակտիվների հետ կապված միջոցառումներ
B101: Շահառուների ընտրության չափանիշները | C101: ՀՀ բնակչություն
B102: Արդյունքի չափորոշիչներ
B103: Մշակութային և զբոսաշրջային նշանակություն ունեցող հանգստի գոտու ստեղծում, հատ | D103: 1 | E103: 1 | F103: 1
B104: Հիմնանորոգվող այգիներ, հատ | D104: 2 | E104: 2 | F104: 2
B105: Միջոցառման վրա կատարվող ծախսը (հազար դրամ) | D105: 140893.6 | E105: 281787.2 | F105: 1563036.2
B107: Ծրագրի դասիչը | C107: Ծրագրի անվանումը
B108: 1157 | C108: Քաղաքային զարգացում
B109: Ծրագրի միջոցառումները
B110: Ծրագրի դասիչը՝ | C110: 1157 | D110: =D96 -> Ցուցանիշների փոփոխությունը (ավելացումները նշված են դրական նշանով)
B111: Միջոցառման դասիչը՝ | C111: 21037 | D111: =D97 -> Առաջին կիսամյակ | E111: ինն ամիս | F111: Տարի
B112: Միջոցառման անվանումը՝ | C112: Երևան քաղաքի նախադպրոցական ուսումնական հաստատությունների կառուցման և հիմնանորոգման աշխատանքներ
B113: Նկարագրությունը՝ | C113: Նախադպրոցական ուսումնական հաստատությունների և դրանց բակային տարածքների հիմնանորոգում, ինչպես նաև նորերի կառուցում
B114: Միջոցառման տեսակը՝ | C114: Հանրության կողմից անմիջականորեն օգտագործվող ակտիվների հետ կապված միջոցառումներ
B115: Շահառուների ընտրության չափանիշները | C115: ՀՀ բնակչություն
B116: Արդյունքի չափորոշիչներ
B117: Հիմնանորոգվող մանկապարտեզներ, այդ թվում մանկապարտեզների բակային տարածքներ, հատ | D117: 5 | E117: 5 | F117: 5
B118: Միջոցառման վրա կատարվող ծախսը (հազար դրամ) | D118: 190470.1 | E118: 304742.2 | F118: 831902.2
F120: Աղյուսակ N 9.47
F121: Աղյուսակ N 9.1.58
B122: ՀՀ կառավարություն
B123: ՄԱՍ 2. ՊԵՏԱԿԱՆ ՄԱՐՄՆԻ ԳԾՈՎ ԱՐԴՅՈՒՆՔԱՅԻՆ (ԿԱՏԱՐՈՂԱԿԱՆ) ՑՈՒՑԱՆԻՇՆԵՐԸ
B124: Ծրագրի դասիչը | C124: Ծրագրի անվանումը
B125: 1139 | C125: ՀՀ կառավարության պահուստային ֆոնդ
...

Sheet 7
D1: Հավելված N 7
A2: ՀՀ կառավարության 2023 թվականի
A3: ______________ ի ___Ն որոշման
A5: ՀԱՅԱՍՏԱՆԻ ՀԱՆՐԱՊԵՏՈՒԹՅԱՆ ԿԱՌԱՎԱՐՈՒԹՅԱՆ 2022 ԹՎԱԿԱՆԻ ԴԵԿՏԵՄԲԵՐԻ 29-Ի N 2111-Ն ՈՐՈՇՄԱՆ N 10 ՀԱՎԵԼՎԱԾՈՒՄ ԿԱՏԱՐՎՈՂ ԼՐԱՑՈՒՄՆԵՐԸ
A7: Կոդը | B7: Անվանումը | E7: Գնման ձևը | F7: Չափման միավորը | G7: Ցուցանիշների փոփոխությունը (ավելացումները նշված են դրական նշանով)
G8: Միավորի գինը | H8: Քանակը | I8: Գումարը (հազար դրամ)
A9: 1 | B9: 2 | E9: 3 | F9: 4 | G9: 5 | H9: 6 | I9: 7
A10: ՀՀ տարածքային կառավարման և ենթակառուցվածքների նախարարություն | I10: =+I11+I18+I30+I35++I45+I55+I68 -> 9994024.6
A11: Բաժին N 04 | B11: Խումբ N 03 | C11: Դաս N 02 | D11: Նավթամթերք և բնական գազ | I11: =I12 -> 522963.4
A12: 1057-21031 | B12: Նոր Խարբերդ թաղամասում գազատարի կառուցման աշխատանքներ | I12: =I13+I15 -> 522963.4
B13: ՄԱՍ II. ԱՇԽԱՏԱՆՔՆԵՐ | I13: =I14 -> 517140
A14: 45231116 | B14: Գազի մատակարարման և մագիստրալային խողովակների կառուցման աշխատանքներ | E14: ԲՄ | F14: դրամ | G14: 517140000 | H14: 1 | I14: =G14*H14/1000 -> 517140
B15: ՄԱՍ III. ԾԱՌԱՅՈՒԹՅՈՒՆՆԵՐ | I15: =SUM(I16:I17) -> 5823.4
A16: 71351540 | B16: տեխնիկական հսկողության ծառայություններ | E16: ԲՄ | F16: դրամ | G16: 2928000 | H16: 1 | I16: =G16*H16/1000 -> 2928
A17: 98111140 | B17: հեղինակային հսկողության ծառայություններ | E17: ՄԱ | F17: դրամ | G17: 2895400 | H17: 1 | I17: =G17*H17/1000 -> 2895.4
A18: Բաժին N 04 | B18: Խումբ N 05 | C18: Դաս N 01 | D18: Ճանապարհային տրանսպորտ | I18: =I19 -> 1651196
A19: 1157-21032 | B19: Երևան քաղաքում ճանապարհների կառուցման և միջին նորոգման աշխատանքներ | I19: =I20+I27 -> 1651196
B20: ՄԱՍ II. ԱՇԽԱՏԱՆՔՆԵՐ | I20: =SUM(I21:I26) -> 1644958
A21: 45231188-1 | B21: Ճանապարհային ծածկույթի թարմացման աշխատանքներ | E21: ԲՄ | F21: դրամ | G21: 303993600 | H21: 1 | I21: =G21*H21/1000 -> 303993.6
A22: 45231188-2 | B22: Ճանապարհային ծածկույթի թարմացման աշխատանքներ | E22: ԲՄ | F22: դրամ | G22: 216600000 | H22: 1 | I22: =G22*H22/1000 -> 216600
A23: 45231188-3 | B23: Ճանապարհային ծածկույթի թարմացման աշխատանքներ | E23: ԲՄ | F23: դրամ | G23: 229080000 | H23: 1 | I23: =G23*H23/1000 -> 229080
A24: 45231188-4 | B24: Ճանապարհային ծածկույթի թարմացման աշխատանքներ | E24: ԲՄ | F24: դրամ | G24: 170916000 | H24: 1 | I24: =G24*H24/1000 -> 170916
A25: 45231188-5 | B25: Ճանապարհային ծածկույթի թարմացման աշխատանքներ | E25: ԲՄ | F25: դրամ | G25: 418800000 | H25: 1 | I25: =G25*H25/1000 -> 418800
A26: 45221142 | B26: ընդհանուր շինարարական աշխատանքներ | E26: ԲՄ | F26: դրամ | G26: 305568400 | H26: 1 | I26: =G26*H26/1000 -> 305568.4
B27: ՄԱՍ III. ԾԱՌԱՅՈՒԹՅՈՒՆՆԵՐ | I27: =SUM(I28:I29) -> 6238
A28: 71351540 | B28: տեխնիկական հսկողության ծառայություններ | E28: ԲՄ | F28: դրամ | G28: 4456000 | H28: 1 | I28: =G28*H28/1000 -> 4456
A29: 98111140 | B29: հեղինակային հսկողության ծառայություններ | E29: ՄԱ | F29: դրամ | G29: 1782000 | H29: 1 | I29: =G29*H29/1000 -> 1782
A30: Բաժին N 04 | B30: Խումբ N 05 | C30: Դաս N 05 | D30: Խողովակաշարային և այլ տրանսպորտ | I30: =+I31 -> 4729840
A31: 1157-21033 | B31: Երևան քաղաքի բազմաբնակարան շենքերի վերելակների արդիականացում | I31: =I32 -> 4729840
B32: ՄԱՍ I. ԱՊՐԱՆՔՆԵՐ | I32: =SUM(I33:I34) -> 4729840
A33: 42414700-1 | B33: վերելակներ | E33: ԲՄ | F33: հատ | G33: 9999600 | H33: 400 | I33: =G33*H33/1000 -> 3999840
A34: 42414700-2 | B34: վերելակներ | E34: ԲՄ | F34: հատ | G34: 10000000 | H34: 73 | I34: =G34*H34/1000 -> 730000
A35: Բաժին N 06 | B35: Խումբ N 03 | C35: Դաս N 01 | D35: Ջրամատակարարում | I35: =+I36 -> 452878.1
A36: 1157-21034 | B36: Երևան քաղաքի կոյուղատար համակարգի արդիականացման և ընդլայնման աշխատանքներ | I36: =I37+I40 -> 452878.1
B37: ՄԱՍ II. ԱՇԽԱՏԱՆՔՆԵՐ | I37: =SUM(I38:I39) -> 441868.9
A38: 45231143-1 | B38: Կոյուղիների կառուցման աշխատանքներ | E38: ԲՄ | F38: դրամ | G38: 246432100 | H38: 1 | I38: =G38*H38/1000 -> 246432.1
A39: 45231143-2 | B39: Կոյուղիների կառուցման աշխատանքներ | E39: ԲՄ | F39: դրամ | G39: 195436800 | H39: 1 | I39: =G39*H39/1000 -> 195436.8
B40: ՄԱՍ III. ԾԱՌԱՅՈՒԹՅՈՒՆՆԵՐ | I40: =SUM(I41:I44) -> 11009.2
A41: 71351540-1 | B41: տեխնիկական հսկողության ծառայություններ | E41: ԲՄ | F41: դրամ | G41: 4849000 | H41: 1 | I41: =G41*H41/1000 -> 4849
A42: 71351540-2 | B42: տեխնիկական հսկողության ծառայություններ | E42: ԲՄ | F42: դրամ | G42: 3015100 | H42: 1 | I42: =G42*H42/1000 -> 3015.1
A43: 98111140-1 | B43: հեղինակային հսկողության ծառայություններ | E43: ՄԱ | F43: դրամ | G43: 1939000 | H43: 1 | I43: =G43*H43/1000 -> 1939
A44: 98111140-2 | B44: հեղինակային հսկողության ծառայություններ | E44: ՄԱ | F44: դրամ | G44: 1206100 | H44: 1 | I44: =G44*H44/1000 -> 1206.1
A45: Բաժին N 07 | B45: Խումբ N 06 | C45: Դաս N 02 | D45: Առողջապահություն (այլ դասերին չպատկանող) | I45: =+I46 -> 242208.7
A46: 1157-21035 | B46: Երևան քաղաքում առողջապահական կազմակերպությունների հիմնանորոգում | I46: =I47+I50 -> 242208.7
B47: ՄԱՍ II. ԱՇԽԱՏԱՆՔՆԵՐ | I47: =SUM(I48:I49) -> 240014.7
A48: 45221142-1 | B48: ընդհանուր շինարարական աշխատանքներ | E48: ԲՄ | F48: դրամ | G48: 198966000 | H48: 1 | I48: =G48*H48/1000 -> 198966
A49: 45221142-2 | B49: ընդհանուր շինարարական աշխատանքներ | E49: ԲՄ | F49: դրամ | G49: 41048700 | H49: 1 | I49: =G49*H49/1000 -> 41048.7
B50: ՄԱՍ III. ԾԱՌԱՅՈՒԹՅՈՒՆՆԵՐ | I50: =SUM(I51:I54) -> 2194
A51: 71351540-1 | B51: տեխնիկական հսկողության ծառայություններ | E51: ԲՄ | F51: դրամ | G51: 580000 | H51: 1 | I51: =G51*H51/1000 -> 580
A52: 71351540-2 | B52: տեխնիկական հսկողության ծառայություններ | E52: ՀԲՄ | F52: դրամ | G52: 140000 | H52: 1 | I52: =G52*H52/1000 -> 140
A53: 98111140-1 | B53: հեղինակային հսկողության ծառայություններ | E53: ՄԱ | F53: դրամ | G53: 1172000 | H53: 1 | I53: =G53*H53/1000 -> 1172
A54: 98111140-2 | B54: հեղինակային հսկողության ծառայություններ | E54: ՄԱ | F54: դրամ | G54: 302000 | H54: 1 | I54: =G54*H54/1000 -> 302
A55: Բաժին N 08 | B55: Խումբ N 01 | C55: Դաս N 01 | D55: Հանգստի և սպորտի ծառայություններ | I55: =+I56 -> 1563036.2
A56: 1157-21036 | B56: Երևան քաղաքում հանգստի գոտիների և այգիների կառուցման և հիմնանորոգման աշխատանքներ | I56: =I57+I61 -> 1563036.2
B57: ՄԱՍ II. ԱՇԽԱՏԱՆՔՆԵՐ | I57: =SUM(I58:I60) -> 1539020.2
A58: 45231270-1 | B58: հանգստի տարածքների վերանորոգման աշխատանքներ | E58: ԲՄ | F58: դրամ | G58: 348999000 | H58: 1 | I58: =G58*H58/1000 -> 348999
A59: 45231270-2 | B59: հանգստի տարածքների վերանորոգման աշխատանքներ | E59: ԲՄ | F59: դրամ | G59: 621777800 | H59: 1 | I59: =G59*H59/1000 -> 621777.8
A60: 45231270-3 | B60: հանգստի տարածքների վերանորոգման աշխատանքներ | E60: ԲՄ | F60: դրամ | G60: 568243400 | H60: 1 | I60: =G60*H60/1000 -> 568243.4
B61: ՄԱՍ III. ԾԱՌԱՅՈՒԹՅՈՒՆՆԵՐ | I61: =SUM(I62:I67) -> 24016
A62: 71351540-1 | B62: տեխնիկական հսկողության ծառայություններ | E62: ԲՄ | F62: դրամ | G62: 1298000 | H62: 1 | I62: =G62*H62/1000 -> 1298
A63: 71351540-2 | B63: տեխնիկական հսկողության ծառայություններ | E63: ԲՄ | F63: դրամ | G63: 7099000 | H63: 1 | I63: =G63*H63/1000 -> 7099
A64: 71351540-3 | B64: տեխնիկական հսկողության ծառայություններ | E64: ԲՄ | F64: դրամ | G64: 6933000 | H64: 1 | I64: =G64*H64/1000 -> 6933
A65: 98111140-1 | B65: հեղինակային հսկողության ծառայություններ | E65: ՄԱ | F65: դրամ | G65: 1937000 | H65: 1 | I65: =G65*H65/1000 -> 1937
A66: 98111140-2 | B66: հեղինակային հսկողության ծառայություններ | E66: ՄԱ | F66: դրամ | G66: 3549000 | H66: 1 | I66: =G66*H66/1000 -> 3549
A67: 98111140-3 | B67: հեղինակային հսկողության ծառայություններ | E67: ՄԱ | F67: դրամ | G67: 3200000 | H67: 1 | I67: =G67*H67/1000 -> 3200
A68: Բաժին N 09 | B68: Խումբ N 01 | C68: Դաս N 01 | D68: Նախադպրոցական կրթություն | I68: =+I69 -> 831902.2
A69: 1157-21037 | B69: Երևան քաղաքի նախադպրոցական ուսումնական հաստատությունների կառուցման և հիմնանորոգման աշխատանքներ | I69: =SUM(I70,I76) -> 831902.2
B70: ՄԱՍ II. ԱՇԽԱՏԱՆՔՆԵՐ | I70: =SUM(I71:I75) -> 816596.5
A71: 45611100-1 | B71: կրթական օբյեկտների հիմնանորոգում | E71: ԲՄ | F71: դրամ | G71: 176088400 | H71: 1 | I71: =G71*H71/1000 -> 176088.4
A72: 45611100-2 | B72: կրթական օբյեկտների հիմնանորոգում | E72: ԲՄ | F72: դրամ | G72: 198867100 | H72: 1 | I72: =G72*H72/1000 -> 198867.1
A73: 45611100-3 | B73: կրթական օբյեկտների հիմնանորոգում | E73: ԲՄ | F73: դրամ | G73: 222165000 | H73: 1 | I73: 222165
A74: 45221142-1 | B74: ընդհանուր շինարարական աշխատանքներ | E74: ԲՄ | F74: դրամ | G74: 129169000 | H74: 1 | I74: 129169
A75: 45221142-2 | B75: ընդհանուր շինարարական աշխատանքներ | E75: ԲՄ | F75: դրամ | G75: 90307000 | H75: 1 | I75: 90307
B76: ՄԱՍ III. ԾԱՌԱՅՈՒԹՅՈՒՆՆԵՐ | I76: =SUM(I77:I86) -> 15305.7
A77: 71351540-1 | B77: տեխնիկական հսկողության ծառայություններ | E77: ԲՄ | F77: դրամ | G77: 890000 | H77: 1 | I77: =G77*H77/1000 -> 890
A78: 71351540-2 | B78: տեխնիկական հսկողության ծառայություններ | E78: ԲՄ | F78: դրամ | G78: 2625500 | H78: 1 | I78: =G78*H78/1000 -> 2625.5
A79: 71351540-3 | B79: տեխնիկական հսկողության ծառայություններ | E79: ԲՄ | F79: դրամ | G79: 3230000 | H79: 1 | I79: 3230
A80: 71351540-4 | B80: տեխնիկական հսկողության ծառայություններ | E80: ԲՄ | F80: դրամ | G80: 1937000 | H80: 1 | I80: 1937
A81: 71351540-5 | B81: տեխնիկական հսկողության ծառայություններ | E81: ԲՄ | F81: դրամ | G81: 1567000 | H81: 1 | I81: 1567
A82: 98111140-1 | B82: հեղինակային հսկողության ծառայություններ | E82: ՄԱ | F82: դրամ | G82: 1165000 | H82: 1 | I82: =G82*H82/1000 -> 1165
A83: 98111140-2 | B83: հեղինակային հսկողության ծառայություններ | E83: ՄԱ | F83: դրամ | G83: 1304200 | H83: 1 | I83: =G83*H83/1000 -> 1304.2
A84: 98111140-3 | B84: հեղինակային հսկողության ծառայություններ | E84: ՄԱ | F84: դրամ | G84: 1290000 | H84: 1 | I84: 1290
A85: 98111140-4 | B85: հեղինակային հսկողության ծառայություններ | E85: ՄԱ | F85: դրամ | G85: 775000 | H85: 1 | I85: 775
A86: 98111140-5 | B86: հեղինակային հսկողության ծառայություններ | E86: ՄԱ | F86: դրամ | G86: 522000 | H86: 1 | I86: 522
B87: ՀԱՅԱՍՏԱՆԻ ՀԱՆՐԱՊԵՏՈՒԹՅԱՆ ՎԱՐՉԱՊԵՏԻ ԱՇԽԱՏԱԿԱԶՄԻ ՂԵԿԱՎԱՐ | G87: Ա.ՀԱՐՈՒԹՅՈՒՆՅԱՆ

Sheet 8
C1: Հավելված N 8
A2: ՀՀ կառավարության 2023 թվականի
A3: ______________ ի ___Ն որոշման
A7: Ց Ա Ն Կ ԵՐԵՎԱՆԻ ՔԱՂԱՔԱՊԵՏԱՐԱՆԻ ԿՈՂՄԻՑ 2022-2023 ԹՎԱԿԱՆՆԵՐԻ ԸՆԹԱՑՔՈՒՄ «ԳՆՈՒՄՆԵՐԻ ՄԱՍԻՆ» ՕՐԵՆՔԻ 15-ՐԴ ՀՈԴՎԱԾԻ 6-ՐԴ ՄԱՍԻ 2-ՐԴ ԿԵՏԻ ՀԻՄԱՆ ՎՐԱ ԿԱԶՄԱԿԵՐՊՎԱԾ ԱՊՐԱՆՔՆԵՐԻ, ԱՇԽԱՏԱՆՔՆԵՐԻ, ԾԱՌԱՅՈՒԹՅՈՒՆՆԵՐԻ ԳՆՄԱՆ ԳՈՐԾԸՆԹԱՑՆԵՐԻ ԱՐԴՅՈՒՆՔՈՒՄ ԿՆՔՎԱԾ ՊԱՅՄԱՆԱԳՐԵՐԻ
A9: NN | B9: Գնման ընթացակարգի ծածկագիրը | C9: Կնքված պայմանագրի ծածկագիրը
A10: 1 | B10: ԵՔ-ԲՄԱՊՁԲ-23/7 | C10: ԵՔ-ԲՄԱՊՁԲ-23/7
A11: 2 | B11: ԵՔ-ԲՄԱՊՁԲ-23/5 | C11: ԵՔ-ԲՄԱՊՁԲ-23/5
A12: 3 | B12: ԵՔ-ԲՄԱՇՁԲ-23/13 | C12: ԵՔ-ԲՄԱՇՁԲ-23/13
A13: 4 | B13: ԵՔ-ՄԱԾՁԲ-23/80
A14: 5 | B14: ԵՔ-ԲՄԽԾՁԲ-23/2 | C14: ԵՔ-ԲՄԽԾՁԲ-23/2-1
A15: 6 | B15: ԵՔ-ԲՄԱՇՁԲ-23/36 | C15: ԵՔ-ԲՄԱՇՁԲ-23/36
A16: 7 | B16: ԵՔ-ՄԱԾՁԲ-23/81
A17: 8 | B17: ԵՔ-ԲՄԽԾՁԲ-23/11 | C17: ԵՔ-ԲՄԽԾՁԲ-23/11-2
A18: 9 | B18: ԵՔ-ԲՄԱՇՁԲ-23/43
A19: 10 | B19: ԵՔ-ՄԱԾՁԲ-23/82
A20: 11 | B20: ԵՔ-ԲՄԽԾՁԲ-23/11
A21: 12 | B21: ԵՔ-ԲՄԱՇՁԲ-23/85
A22: 13 | B22: ԵՔ-ՄԱԾՁԲ-23/83
A23: 14 | B23: ԵՔ-ԲՄԽԾՁԲ-23/28
A24: 15 | B24: ԵՔ-ԲՄԱՇՁԲ-23/61
A25: 16 | B25: ԵՔ-ՄԱԾՁԲ-23/84
A26: 17 | B26: ԵՔ-ԲՄԽԾՁԲ-23/11
A27: 18 | B27: ԵՔ-ԲՄԱՇՁԲ-23/24 | C27: ԵՔ-ԲՄԱՇՁԲ-23/24
A28: 19 | B28: ԵՔ-ՄԱԾՁԲ-23/85
A29: 20 | B29: ԵՔ-ԲՄԽԾՁԲ-23/4 | C29: ԵՔ-ԲՄԽԾՁԲ-23/4-2
A30: 21 | B30: ԵՔ-ԳՀԱՇՁԲ-23/27 | C30: ԵՔ-ԳՀԱՇՁԲ-23/27
A31: 22 | B31: ԵՔ-ՄԱԾՁԲ-23/86
A32: 23 | B32: ԵՔ-ՀԲՄԽԾՁԲ-23/9 | C32: ԵՔ-ՀԲՄԽԾՁԲ-23/9-3
A33: 24 | B33: ԵՔ-ԲՄԱՇՁԲ-23/9 | C33: ԵՔ-ԲՄԱՇՁԲ-23/9
A34: 25 | B34: ԵՔ-ՄԱԾՁԲ-23/87
A35: 26 | B35: ԵՔ-ԲՄԽԾՁԲ-23/2 | C35: ԵՔ-ԲՄԽԾՁԲ-23/2-4
A36: 27 | B36: ԵՔ-ԲՄԱՇՁԲ-23/97
A37: 28 | B37: ԵՔ-ՄԱԾՁԲ-23/90
A38: 29 | B38: ԵՔ-ԲՄԽԾՁԲ-23/43
A39: 30 | B39: ԵՔ-ԲՄԱՇՁԲ-23/98
A40: 31 | B40: ԵՔ-ՄԱԾՁԲ-23/91
A41: 32 | B41: ԵՔ-ԲՄԽԾՁԲ-23/44
A42: 33 | B42: ԵՔ-ԲՄԱՇՁԲ-23/38 | C42: ԵՔ-ԲՄԱՇՁԲ-23/38-1
A43: 34 | B43: ԵՔ-ԲՄԱՇՁԲ-23/38 | C43: ԵՔ-ԲՄԱՇՁԲ-23/38-1
A44: 35 | B44: ԵՔ-ԲՄԱՇՁԲ-23/38 | C44: ԵՔ-ԲՄԱՇՁԲ-23/38-1
A45: 36 | B45: ԵՔ-ԲՄԱՇՁԲ-23/38 | C45: ԵՔ-ԲՄԱՇՁԲ-23/38-1
A46: 37 | B46: ԵՔ-ԲՄԱՇՁԲ-23/38 | C46: ԵՔ-ԲՄԱՇՁԲ-23/38-2
A47: 38 | B47: ԵՔ-ԲՄԱՇՁԲ-23/78
A48: 39 | B48: ԵՔ-ԲՄԽԾՁԲ-23/31 | C48: ԵՔ-ԲՄԽԾՁԲ-23/31
A49: 40 | B49: ԵՔ-ՄԱԾՁԲ-23/89
A50: 41 | B50: ԵՔ-ԲՄԱՇՁԲ-22/89 | C50: ԵՔ-ԲՄԱՇՁԲ-22/89
A51: 42 | B51: ԵՔ-ՄԱԾՁԲ-23/92
A52: 43 | B52: ԵՔ-ԲՄԽԾՁԲ-22/75 | C52: ԵՔ-ԲՄԽԾՁԲ-22/75
A53: 44 | B53: ԵՔ-ԲՄԱՇՁԲ-23/19 | C53: ԵՔ-ԲՄԱՇՁԲ-23/19
A54: 45 | B54: ԵՔ-ԲՄԽԾՁԲ-23/3 | C54: ԵՔ-ԲՄԽԾՁԲ-23/3-1
A55: 46 | B55: ԵՔ-ՄԱԾՁԲ-23/93
A56: 47 | B56: ԵՔ-ԲՄԱՇՁԲ-23/71
A57: 48 | B57: ԵՔ-ԲՄԽԾՁԲ-23/25
A58: 49 | B58: ԵՔ-ՄԱԾՁԲ-23/94
B60: ՀԱՅԱՍՏԱՆԻ ՀԱՆՐԱՊԵՏՈՒԹՅԱՆ ՎԱՐՉԱՊԵՏԻ ԱՇԽԱՏԱԿԱԶՄԻ ՂԵԿԱՎԱՐ | C60: Ա.ՀԱՐՈՒԹՅՈՒՆՅԱՆ
