Workbook
Name AgencyCode: #REF!
Name AgencyCode: #REF!
Name AgencyCode: #REF!
Name AgencyCode: #REF!
Name AgencyName: #REF!
Name AgencyName: #REF!
Name AgencyName: #REF!
Name Functional1: #REF!
Name Functional1: #REF!
Name Functional1: #REF!
Name PANature: #REF!
Name PANature: #REF!
Name PANature: #REF!
Name PAType: #REF!
Name PAType: #REF!
Name PAType: #REF!
Name Performance2: #REF!
Name Performance2: #REF!
Name Performance2: #REF!
Name PerformanceType: #REF!
Name PerformanceType: #REF!
Name PerformanceType: #REF!

Sheet 1
D1: Հավելված N 1
D2: ՀՀ կառավարության 2023 թվականի
D3: ______________ ի ___Ն որոշման
B6: «ՀԱՅԱՍՏԱՆԻ ՀԱՆՐԱՊԵՏՈՒԹՅԱՆ 2023 ԹՎԱԿԱՆԻ ՊԵՏԱԿԱՆ ԲՅՈՒՋԵԻ ՄԱՍԻՆ» ՀԱՅԱՍՏԱՆԻ ՀԱՆՐԱՊԵՏՈՒԹՅԱՆ ՕՐԵՆՔԻ N 1 ՀԱՎԵԼՎԱԾԻ N 2 ԱՂՅՈՒՍԱԿՈՒՄ ՎԵՐԱԲԱՇԽՈՒՄ ԵՎ ՀԱՅԱՍՏԱՆԻ ՀԱՆՐԱՊԵՏՈՒԹՅԱՆ ԿԱՌԱՎԱՐՈՒԹՅԱՆ 2022 ԹՎԱԿԱՆԻ ԴԵԿՏԵՄԲԵՐԻ 29-Ի N 2111-Ն ՈՐՈՇՄԱՆ N 5 ՀԱՎԵԼՎԱԾԻ N 1 ԱՂՅՈՒՍԱԿՈՒՄ ԿԱՏԱՐՎՈՂ ՓՈՓՈԽՈՒԹՅՈՒՆՆԵՐԸ ԵՎ ԼՐԱՑՈՒՄՆԵՐԸ
G8: հազար դրամ/
B9: Ծրագրային դասիչը | D9: Բյուջետային հատկացումների գլխավոր կարգադրիչների, ծրագրերի և միջոցառումների անվանումները | E9: Ցուցանիշների փոփոխությունը (ավելացումները նշված են դրական նշանով, իսկ նվազեցումները` փակագծերում)
B10: Ծրագիր | C10: Միջոցառում | E10: ='2'!G9 -> Առաջին կիսամյակ | F10: ինն ամիս | G10: Տարի
D11: ='2'!F10 -> ԸՆԴԱՄԵՆԸ ԾԱԽՍԵՐ | E11: =E12+E62 -> 0 | F11: =F12+F62 -> 0 | G11: =G12+G62 -> 0
D12: ՀՀ տարածքային կառավարման և ենթակառուցվածքների նախարարություն | E12: =+E13 -> 1658874.5 | F12: =+F13 -> 3000000 | G12: =+G13 -> 9994024.6
B13: 1157 | D13: Ծրագրի անվանումը՝ | E13: =E20+E26+E32+E38+E44+E50+E56 -> 1658874.5 | F13: =F20+F26+F32+F38+F44+F50+F56 -> 3000000 | G13: =G20+G26+G32+G38+G44+G50+G56 -> 9994024.6
D14: Քաղաքային զարգացում
D15: Ծրագրի նպատակը՝
D16: Քաղաքային ենթակառուցվածքների զարգացում
D17: Վերջնական արդյունքի նկարագրությունը`
D18: Քաղաքային ենթակառուցվածքների արդիականացում և բարելավում
D19: Ծրագրի միջոցառումներ
C20: 21031 | D20: Միջոցառման անվանումը՝ | E20: 104592.7 | F20: 261481.7 | G20: 522963.4
D21: Նոր Խարբերդ թաղամասում գազատարի կառուցման աշխատանքներ
D22: Միջոցառման նկարագրությունը՝
D23: Նոր Խարբերդ թաղամասում գազատարի և գազաբաշխիչ կայանի (ԳԲԿ) կառուցում
D24: Միջոցառման տեսակը՝
D25: Հանրության կողմից անմիջականորեն օգտագործվող ակտիվների հետ կապված միջոցառումներ
C26: 21032 | D26: Միջոցառման անվանումը՝ | E26: 535755.8 | F26: 828308.4 | G26: 1651196
D27: Երևան քաղաքում ճանապարհների կառուցման և միջին նորոգման աշխատանքներ
D28: Միջոցառման նկարագրությունը՝
D29: Երևան քաղաքաում նոր ճանապարհատվածներիի կառուցում և ճանապարհների պատվածքի մաշված վերին շերտի վերականգնում և շինարարական նորմերով նախատեսված սկզբնական որակական ցուցանիշների ապահովում
D30: Միջոցառման տեսակը՝
D31: Հանրության կողմից անմիջականորեն օգտագործվող ակտիվների հետ կապված միջոցառումներ
C32: 21033 | D32: Միջոցառման անվանումը՝ | E32: 500000 | F32: 1000000 | G32: 4729840
D33: Երևան քաղաքի բազմաբնակարան շենքերի վերելակների արդիականացում
D34: Միջոցառման նկարագրությունը՝
D35: Երևան քաղաքաի բազմաբնակարան շենքերի շահագործման ոչ պիտանի վերելակների փոխարինում նոր վերելակներով
D36: Միջոցառման տեսակը՝
D37: Հանրության կողմից անմիջականորեն օգտագործվող ակտիվների հետ կապված միջոցառումներ
C38: 21034 | D38: Միջոցառման անվանումը՝ | E38: 126610.1 | F38: 202576.1 | G38: 452878.1
D39: Երևան քաղաքի կոյուղատար համակարգի արդիականացման և ընդլայնման աշխատանքներ
D40: Միջոցառման նկարագրությունը՝
D41: Երևան քաղաքի կոյուղատար համակարգի կառուցում և վերակառուցում
D42: Միջոցառման տեսակը՝
D43: Հանրության կողմից անմիջականորեն օգտագործվող ակտիվների հետ կապված միջոցառումներ
...

Sheet 2
I1: Հավելված N 2
I2: ՀՀ կառավարության 2023 թվականի
I3: ______________ ի ___Ն որոշման
A5: ՀԱՅԱՍՏԱՆԻ ՀԱՆՐԱՊԵՏՈՒԹՅԱՆ ԿԱՌԱՎԱՐՈՒԹՅԱՆ 2022 ԹՎԱԿԱՆԻ ԴԵԿՏԵՄԲԵՐԻ 29-Ի N 2111-Ն ՈՐՈՇՄԱՆ NN 3 ԵՎ 4 ՀԱՎԵԼՎԱԾՆԵՐՈՒՄ ԿԱՏԱՐՎՈՂ ՓՈՓՈԽՈՒԹՅՈՒՆՆԵՐԸ ԵՎ ԼՐԱՑՈՒՄՆԵՐԸ
H7: հազար դրամներով
A8: Գործառական դասիչը | D8: Ծրագրային դասիչը | F8: Բյուջետային ծախսերի գործառական դասակարգման բաժինների, խմբերի և դասերի, բյուջետային հատկացումների գլխավոր կարգադրիչների, ծրագրերի, միջոցառումների և միջոցառումները կատարող պետական մարմինների անվանումները | G8: Ցուցանիշների փոփոխությունը (ավելացումները նշված են դրական նշանով, իսկ նվազեցումները` փակագծերում)
A9: Բաժին | B9: Խումբ | C9: Դաս | D9: Ծրագիր | E9: Միջոցառում | G9: Առաջին կիսամյակ | H9: ինն ամիս | I9: Տարի
F10: ԸՆԴԱՄԵՆԸ ԾԱԽՍԵՐ | G10: =G12+G64+G83+G102+G122+G142 -> 0 | H10: =H12+H64+H83+H102+H122+H142 -> 0 | I10: =I12+I64+I83+I102+I122+I142 -> 0
F11: այդ թվում`
A12: 04 | F12: ՏՆՏԵՍԱԿԱՆ ՀԱՐԱԲԵՐՈՒԹՅՈՒՆՆԵՐ | G12: =G14++G31 -> 1140348.5 | H12: =H14++H31 -> 2089790.1 | I12: =I14++I31 -> 6903999.4
F13: այդ թվում`
B14: 03 | F14: Վառելիք և էներգետիկա | G14: =G16 -> 104592.7 | H14: =H16 -> 261481.7 | I14: =I16 -> 522963.4
F15: այդ թվում`
C16: 02 | F16: Նավթամթերք և բնական գազ | G16: =G18 -> 104592.7 | H16: =H18 -> 261481.7 | I16: =I18 -> 522963.4
F17: այդ թվում`
F18: ՀՀ տարածքային կառավարման և ենթակառուցվածքների նախարարություն | G18: =G20 -> 104592.7 | H18: =H20 -> 261481.7 | I18: =I20 -> 522963.4
F19: այդ թվում`
D20: 1157 | F20: Քաղաքային զարգացում | G20: =+G22 -> 104592.7 | H20: =+H22 -> 261481.7 | I20: =+I22 -> 522963.4
F21: այդ թվում`
E22: 21031 | F22: Նոր Խարբերդ թաղամասում գազատարի կառուցման աշխատանքներ | G22: =+G24 -> 104592.7 | H22: =+H24 -> 261481.7 | I22: =+I24 -> 522963.4
F23: այդ թվում` ըստ կատարողների
F24: ՀՀ տարածքային կառավարման և ենթակառուցվածքների նախարարություն | G24: =+G26 -> 104592.7 | H24: =+H26 -> 261481.7 | I24: =+I26 -> 522963.4
F25: այդ թվում` բյուջետային ծախսերի տնտեսագիտական դասակարգման հոդվածների
F26: ԸՆԴԱՄԵՆԸ ԾԱԽՍԵՐ | G26: =+G27 -> 104592.7 | H26: =+H27 -> 261481.7 | I26: =+I27 -> 522963.4
F27: ՈՉ ՖԻՆԱՆՍԱԿԱՆ ԱԿՏԻՎՆԵՐԻ ԳԾՈՎ ԾԱԽՍԵՐ | G27: =+G28 -> 104592.7 | H27: =+H28 -> 261481.7 | I27: =+I28 -> 522963.4
F28: ՀԻՄՆԱԿԱՆ ՄԻՋՈՑՆԵՐ | G28: =+G29 -> 104592.7 | H28: =+H29 -> 261481.7 | I28: =+I29 -> 522963.4
F29: ՇԵՆՔԵՐ ԵՎ ՇԻՆՈՒԹՅՈՒՆՆԵՐ | G29: =+G30 -> 104592.7 | H29: =+H30 -> 261481.7 | I29: =+I30 -> 522963.4
F30: - Շենքերի և շինությունների շինարարություն | G30: 104592.7 | H30: 261481.7 | I30: 522963.4
B31: 05 | F31: Տրանսպորտ | G31: =G33+G49 -> 1035755.8 | H31: =H33+H49 -> 1828308.4 | I31: =I33+I49 -> 6381036
F32: այդ թվում`
C33: 01 | F33: Ճանապարհային տրանսպորտ | G33: =G35 -> 535755.8 | H33: =H35 -> 828308.4 | I33: =I35 -> 1651196
F34: այդ թվում`
F35: ՀՀ տարածքային կառավարման և ենթակառուցվածքների նախարարություն | G35: =G37 -> 535755.8 | H35: =H37 -> 828308.4 | I35: =I37 -> 1651196
F36: այդ թվում`
D37: 1157 | F37: Քաղաքային զարգացում | G37: =+G39 -> 535755.8 | H37: =+H39 -> 828308.4 | I37: =+I39 -> 1651196
F38: այդ թվում`
E39: 21032 | F39: Երևան քաղաքում ճանապարհների կառուցման և միջին նորոգման աշխատանքներ | G39: =+G41 -> 535755.8 | H39: =+H41 -> 828308.4 | I39: =+I41 -> 1651196
F40: այդ թվում` ըստ կատարողների
F41: ՀՀ տարածքային կառավարման և ենթակառուցվածքների նախարարություն | G41: =+G43 -> 535755.8 | H41: =+H43 -> 828308.4 | I41: =+I43 -> 1651196
F42: այդ թվում` բյուջետային ծախսերի տնտեսագիտական դասակարգման հոդվածների
...

Sheet 3
F1: Հավելված N 3
E2: ՀՀ կառավարության 2022 թվականի
E3: ______________ ի ___Ն որոշման
A5: «ՀԱՅԱUՏԱՆԻ ՀԱՆՐԱՊԵՏՈՒԹՅԱՆ 2023 ԹՎԱԿԱՆԻ ՊԵՏԱԿԱՆ ԲՅՈՒՋԵԻ ՄԱUԻՆ» OՐԵՆՔԻ N 1 ՀԱՎԵԼՎԱԾԻ N 3 ԱՂՅՈՒՍԱԿՈՒՄ ԿԱՏԱՐՎՈՂ ՓՈՓՈԽՈՒԹՅՈՒՆՆԵՐԸ ԵՎ ԼՐԱՑՈՒՄՆԵՐԸ
G6: հազար դրամներով
A7: Ծրագրային դասիչ | C7: Բյուջետային գլխավոր կարգադրիչների, ծրագրերի, միջոցառումների և ուղղությունների անվանումները | D7: Ընդամենը | E7: այդ թվում`
A8: Ծրագիր | B8: Միջոցառում | E8: Կառուցման աշխատանքներ | F8: Վերակառուցման, վերանորոգման և վերականգնման աշխատանքներ | G8: Նախագծահե- տազոտական, գեոդեզիա- քարտեզագրա- կան աշխա- տանքներ | H8: Ոչ ֆինանսական այլ ակտիվների ձեռքբերում
C9: ԸՆԴԱՄԵՆԸ | D9: =D11+D20 -> 285000 | E9: =E11+E20 -> 1639881.9 | F9: =F11+F20 -> -6084721.9 | G9: =G11+G20 -> 0 | H9: =H11+H20 -> 4729840
C10: այդ թվում՝
C11: ՀՀ ՏԱՐԱԾՔԱՅԻՆ ԿԱՌԱՎԱՐՄԱՆ ԵՎ ԵՆԹԱԿԱՌՈՒՑՎԱԾՔՆԵՐԻ ՆԱԽԱՐԱՐՈՒԹՅՈՒՆ | D11: =E11+F11+G11+H11 -> 9994024.6 | E11: =SUM(E13:E19) -> 1639881.9 | F11: =SUM(F13:F19) -> 3624302.7 | G11: =SUM(G13:G19) -> 0 | H11: =SUM(H13:H19) -> 4729840
C12: այդ թվում`
A13: 1157 | B13: 21031 | C13: Նոր Խարբերդ թաղամասում գազատարի կառուցման աշխատանքներ | D13: =SUM(E13:H13) -> 522963.4 | E13: 522963.4 | F13: 0 | G13: 0 | H13: 0
A14: 1157 | B14: 21032 | C14: Երևան քաղաքում ճանապարհների կառուցման և միջին նորոգման աշխատանքներ | D14: =SUM(E14:H14) -> 1651196 | E14: 311806.4 | F14: 1339389.6 | G14: 0 | H14: 0
A15: 1157 | B15: 21033 | C15: Երևան քաղաքի բազմաբնակարան շենքերի վերելակների արդիականացում | D15: =SUM(E15:H15) -> 4729840 | E15: 0 | F15: 0 | G15: 0 | H15: 4729840
A16: 1157 | B16: 21034 | C16: Երևան քաղաքի կոյուղատար համակարգի արդիականացման և ընդլայնման աշխատանքներ | D16: =SUM(E16:H16) -> 452878.1 | E16: 452878.1 | F16: 0 | G16: 0 | H16: 0
A17: 1157 | B17: 21035 | C17: Երևան քաղաքում առողջապահական կազմակերպությունների հիմնանորոգում | D17: =SUM(E17:H17) -> 242208.7 | E17: 0 | F17: 242208.7 | G17: 0 | H17: 0
A18: 1157 | B18: 21036 | C18: Երևան քաղաքում հանգստի գոտիների և այգիների կառուցման և հիմնանորոգման աշխատանքներ | D18: =SUM(E18:H18) -> 1563036.2 | E18: 352234 | F18: 1210802.2 | G18: 0 | H18: 0
A19: 1157 | B19: 21037 | C19: Երևան քաղաքի նախադպրոցական ուսումնական հաստատությունների կառուցման և հիմնանորոգման աշխատանքներ | D19: =SUM(E19:H19) -> 831902.2 | E19: 0 | F19: 831902.2 | G19: 0 | H19: 0
C20: ՀՀ ԿԱՌԱՎԱՐՈՒԹՅՈՒՆ | D20: =D22 -> -9709024.6 | E20: 0 | F20: =D22 -> -9709024.6 | G20: 0 | H20: 0
C21: այդ թվում`
A22: 1139 | B22: 11001 | C22: Պահուստային ֆոնդ | D22: ='2'!I161 -> -9709024.6 | E22: 0 | F22: =F20 -> -9709024.6 | G22: 0 | H22: 0
C24: ՀԱՅԱՍՏԱՆԻ ՀԱՆՐԱՊԵՏՈՒԹՅԱՆ ՎԱՐՉԱՊԵՏԻ ԱՇԽԱՏԱԿԱԶՄԻ ՂԵԿԱՎԱՐ | F24: Ա.ՀԱՐՈՒԹՅՈՒՆՅԱՆ

Sheet 4
F1: Հավելված N 4
F2: ՀՀ կառավարության 2023 թվականի
F3: ______________ ի ___Ն որոշման
A5: ՀԱՅԱՍՏԱՆԻ ՀԱՆՐԱՊԵՏՈՒԹՅԱՆ ԿԱՌԱՎԱՐՈՒԹՅԱՆ 2022 ԹՎԱԿԱՆԻ ԴԵԿՏԵՄԲԵՐԻ 29-Ի N 2111-Ն ՈՐՈՇՄԱՆ N 5 ՀԱՎԵԼՎԱԾԻ N 2 ԱՂՅՈՒՍԱԿՈՒՄ ԿԱՏԱՐՎՈՂ ՓՈՓՈԽՈՒԹՅՈՒՆՆԵՐԸ ԵՎ ԼՐԱՑՈՒՄՆԵՐԸ
F6: հազար դրամներով
A7: Ծրագրային դասիչ | C7: Բյուջետային գլխավոր կարգադրիչների, ծրագրերի, միջոցառումների և ուղղությունների անվանումները | D7: Ցուցանիշների փոփոխությունը (ավելացումները նշված են դրական նշանով, իսկ նվազեցումները՝ փակագծերում)
A8: Ծրագիր | B8: Միջոցառում | D8: ='2'!G9 -> Առաջին կիսամյակ | E8: ինն ամիս | F8: Տարի
C9: ԸՆԴԱՄԵՆԸ | D9: =D11+D34 -> 0 | E9: =E11+E34 -> 0 | F9: =F11+F34 -> 285000
C10: այդ թվում՝
C11: ՀՀ ՏԱՐԱԾՔԱՅԻՆ ԿԱՌԱՎԱՐՄԱՆ ԵՎ ԵՆԹԱԿԱՌՈՒՑՎԱԾՔՆԵՐԻ ՆԱԽԱՐԱՐՈՒԹՅՈՒՆ | D11: =D22+D13+D16+D19+D25+D28+D31 -> 1658874.5 | E11: =E22+E13+E16+E19+E25+E28+E31 -> 3000000 | F11: =F22+F13+F16+F19+F25+F28+F31 -> 9994024.6
C12: այդ թվում`
A13: 1157 | B13: 21031 | C13: Նոր Խարբերդ թաղամասում գազատարի կառուցման աշխատանքներ | D13: =D15 -> 104592.7 | E13: =E15 -> 261481.7 | F13: =F15 -> 522963.4
C14: այդ թվում` ըստ կատարողների
C15: ՀՀ տարածքային կառավարման և ենթակառուցվածքների նախարարություն | D15: 104592.7 | E15: 261481.7 | F15: 522963.4
A16: 1157 | B16: 21032 | C16: Երևան քաղաքում ճանապարհների կառուցման և միջին նորոգման աշխատանքներ | D16: =D18 -> 535755.8 | E16: =E18 -> 828308.4 | F16: =F18 -> 1651196
C17: այդ թվում` ըստ կատարողների
C18: ՀՀ տարածքային կառավարման և ենթակառուցվածքների նախարարություն | D18: 535755.8 | E18: 828308.4 | F18: 1651196
A19: 1157 | B19: 21033 | C19: Երևան քաղաքի բազմաբնակարան շենքերի վերելակների արդիականացում | D19: =D21 -> 500000 | E19: =E21 -> 1000000 | F19: =F21 -> 4729840
C20: այդ թվում` ըստ կատարողների
C21: ՀՀ տարածքային կառավարման և ենթակառուցվածքների նախարարություն | D21: 500000 | E21: 1000000 | F21: 4729840
A22: 1157 | B22: 21034 | C22: Երևան քաղաքի կոյուղատար համակարգի արդիականացման և ընդլայնման աշխատանքներ | D22: =D24 -> 126610.1 | E22: =E24 -> 202576.1 | F22: =F24 -> 452878.1
C23: այդ թվում` ըստ կատարողների
C24: ՀՀ տարածքային կառավարման և ենթակառուցվածքների նախարարություն | D24: 126610.1 | E24: 202576.1 | F24: 452878.1
A25: 1157 | B25: 21035 | C25: Երևան քաղաքում առողջապահական կազմակերպությունների հիմնանորոգում | D25: =D27 -> 60552.2 | E25: =E27 -> 121104.4 | F25: =F27 -> 242208.7
C26: այդ թվում` ըստ կատարողների
C27: ՀՀ տարածքային կառավարման և ենթակառուցվածքների նախարարություն | D27: 60552.2 | E27: 121104.4 | F27: 242208.7
A28: 1157 | B28: 21036 | C28: Երևան քաղաքում հանգստի գոտիների և այգիների կառուցման և հիմնանորոգման աշխատանքներ | D28: =D30 -> 140893.6 | E28: =E30 -> 281787.2 | F28: =F30 -> 1563036.2
C29: այդ թվում` ըստ կատարողների
C30: ՀՀ տարածքային կառավարման և ենթակառուցվածքների նախարարություն | D30: 140893.6 | E30: 281787.2 | F30: 1563036.2
A31: 1157 | B31: 21037 | C31: Երևան քաղաքի նախադպրոցական ուսումնական հաստատությունների կառուցման և հիմնանորոգման աշխատանքներ | D31: =D33 -> 190470.1 | E31: =E33 -> 304742.2 | F31: =F33 -> 831902.2
C32: այդ թվում` ըստ կատարողների
C33: ՀՀ տարածքային կառավարման և ենթակառուցվածքների նախարարություն | D33: 190470.1 | E33: 304742.2 | F33: 831902.2
C34: ՀՀ ԿԱՌԱՎԱՐՈՒԹՅՈՒՆ | D34: =D36 -> -1658874.5 | E34: =E36 -> -3000000 | F34: ='2'!I161 -> -9709024.6
C35: այդ թվում`
A36: 1139 | B36: 11001 | C36: Պահուստային ֆոնդ | D36: ='1'!E62 -> -1658874.5 | E36: ='1'!F62 -> -3000000 | F36: =F34 -> -9709024.6
C39: ՀԱՅԱՍՏԱՆԻ ՀԱՆՐԱՊԵՏՈՒԹՅԱՆ ՎԱՐՉԱՊԵՏԻ ԱՇԽԱՏԱԿԱԶՄԻ ՂԵԿԱՎԱՐ | E39: Ա.ՀԱՐՈՒԹՅՈՒՆՅԱՆ

Sheet 5
C1: Հավելված N 5
C2: ՀՀ կառավարության 2023 թվականի
C3: ______________ ի ___Ն որոշման
A5: ՀԱՅԱՍՏԱՆԻ ՀԱՆՐԱՊԵՏՈՒԹՅԱՆ ԿԱՌԱՎԱՐՈՒԹՅԱՆ 2022 ԹՎԱԿԱՆԻ ԴԵԿՏԵՄԲԵՐԻ 29-Ի N 2111-Ն ՈՐՈՇՄԱՆ N 8 ՀԱՎԵԼՎԱԾՆԵՐՈՒՄ ԿԱՏԱՐՎՈՂ ՓՈՓՈԽՈՒԹՅՈՒՆՆԵՐԸ ԵՎ ԼՐԱՑՈՒՄՆԵՐԸ
A6: Գործառական դասիչը | D6: Ծրագրային դասիչը | F6: Բյուջետային հատակացումների գլխավոր կարգադրիչներ, ծրագրերի, միջոցառումների և միջոցառումներն իրականացնող պետական մարմինների անվանումները | G6: Գումարը (հազար դրամ)
A7: Բաժին | B7: Խումբ | C7: Դաս | D7: Ծրագիր | E7: Միջոցառում
F8: ԸՆԴԱՄԵՆԸ ԾԱԽՍԵՐ | G8: =+G9+G28+G33+G38+G45 -> 9994024.6
A9: 04 | F9: ՏՆՏԵՍԱԿԱՆ ՀԱՐԱԲԵՐՈՒԹՅՈՒՆՆԵՐ | G9: =G10+G16 -> 6903999.4 | H9: =H10 -> #REF!
B10: 03 | F10: Վառելիք և էներգետիկա | G10: =G11 -> 522963.4 | H10: =H11 -> #REF!
C11: 02 | F11: Նավթամթերք և բնական գազ | G11: =G12 -> 522963.4 | H11: =#REF! -> #REF!
D12: 1157 | F12: Քաղաքային զարգացում | G12: =+G13 -> 522963.4 | H12: =+H13 -> #REF!
E13: 21031 | F13: Նոր Խարբերդ թաղամասում գազատարի կառուցման աշխատանքներ | G13: 522963.4 | H13: =+#REF! -> #REF!
F14: ՏՆՏԵՍԱԿԱՆ ՀԱՐԱԲԵՐՈՒԹՅՈՒՆՆԵՐ | G14: =G16 -> 6381036 | H14: =H16 -> #REF!
F15: այդ թվում`
B16: 05 | F16: Տրանսպորտ | G16: =G17+G25 -> 6381036 | H16: =H17 -> #REF!
C17: 01 | F17: Ճանապարհային տրանսպորտ | G17: =+G19 -> 1651196 | H17: =#REF! -> #REF!
F18: այդ թվում`
D19: 1157 | F19: Քաղաքային զարգացում | G19: =+G20 -> 1651196 | H19: =+H20 -> #REF!
E20: 21032 | F20: Երևան քաղաքում ճանապարհների կառուցման և միջին նորոգման աշխատանքներ | G20: 1651196 | H20: =+#REF! -> #REF!
F21: ՏՆՏԵՍԱԿԱՆ ՀԱՐԱԲԵՐՈՒԹՅՈՒՆՆԵՐ | G21: =G23 -> 4729840 | H21: =H23 -> #REF!
F22: այդ թվում`
F23: Տրանսպորտ | G23: =G25 -> 4729840 | H23: =H25 -> #REF!
F24: այդ թվում`
C25: 05 | F25: Խողովակաշարային և այլ տրանսպորտ | G25: =G26 -> 4729840 | H25: =#REF! -> #REF!
D26: 1157 | F26: Քաղաքային զարգացում | G26: =+G27 -> 4729840 | H26: =+H27 -> #REF!
E27: 21033 | F27: Երևան քաղաքի բազմաբնակարան շենքերի վերելակների արդիականացում | G27: 4729840 | H27: =+#REF! -> #REF!
A28: 06 | F28: ԲՆԱԿԱՐԱՆԱՅԻՆ ՇԻՆԱՐԱՐՈՒԹՅՈՒՆ ԵՎ ԿՈՄՈՒՆԱԼ ԾԱՌԱՅՈՒԹՅՈՒՆՆԵՐ | G28: =G29 -> 452878.1 | H28: =H29 -> #REF!
B29: 03 | F29: Ջրամատակարարում | G29: =G30 -> 452878.1 | H29: =H30 -> #REF!
C30: 01 | F30: Ջրամատակարարում | G30: =G31 -> 452878.1 | H30: =#REF! -> #REF!
D31: 1157 | F31: Քաղաքային զարգացում | G31: =+G32 -> 452878.1 | H31: =+H32 -> #REF!
E32: 21034 | F32: Երևան քաղաքի կոյուղատար համակարգի արդիականացման և ընդլայնման աշխատանքներ | G32: 452878.1 | H32: =+#REF! -> #REF!
A33: 07 | F33: ԱՌՈՂՋԱՊԱՀՈՒԹՅՈՒՆ | G33: =G34 -> 242208.7 | H33: =H34 -> #REF!
B34: 06 | F34: Առողջապահություն (այլ դասերին չպատկանող) | G34: =G35 -> 242208.7 | H34: =H35 -> #REF!
C35: 02 | F35: Առողջապահություն (այլ դասերին չպատկանող) | G35: =G36 -> 242208.7 | H35: =#REF! -> #REF!
D36: 1157 | F36: Քաղաքային զարգացում | G36: =+G37 -> 242208.7 | H36: =+H37 -> #REF!
E37: 21035 | F37: Երևան քաղաքում առողջապահական կազմակերպությունների հիմնանորոգում | G37: 242208.7 | H37: =+#REF! -> #REF!
A38: 08 | F38: ՀԱՆԳԻՍՏ, ՄՇԱԿՈՒՅԹ ԵՎ ԿՐՈՆ | G38: =G39 -> 1563036.2 | H38: =H39 -> #REF!
B39: 01 | F39: Հանգստի և սպորտի ծառայություններ | G39: =G40 -> 1563036.2 | H39: =H40 -> #REF!
C40: 01 | F40: Հանգստի և սպորտի ծառայություններ | G40: =G41 -> 1563036.2 | H40: =#REF! -> #REF!
D41: 1157 | F41: Քաղաքային զարգացում | G41: =+G42 -> 1563036.2 | H41: =+H42 -> #REF!
...

Sheet 6
F1: Հավելված N 6
E2: ՀՀ կառավարության 2023 թվականի
D3: ______________ ի ___Ն որոշման
A5: ՀԱՅԱՍՏԱՆԻ ՀԱՆՐԱՊԵՏՈՒԹՅԱՆ ԿԱՌԱՎԱՐՈՒԹՅԱՆ 2022 ԹՎԱԿԱՆԻ ԴԵԿՏԵՄԲԵՐԻ 29-Ի N 2111-Ն ՈՐՈՇՄԱՆ N 9 և N 9.1 ՀԱՎԵԼՎԱԾՆԵՐԻ N 9.7, 9.47 և 9.1.7, 9.1.58 ԱՂՅՈՒՍԱԿՆԵՐՈՒՄ ԿԱՏԱՐՎՈՂ ԼՐԱՑՈՒՄՆԵՐԸ
F6: Աղյուսակ N 9.7
F7: Աղյուսակ N 9.1.7
C8: ՀՀ տարածքային կառավարման և ենթակառուցվածնքերի նախարարություն
A10: ՄԱՍ 2. ՊԵՏԱԿԱՆ ՄԱՐՄՆԻ ԳԾՈՎ ԱՐԴՅՈՒՆՔԱՅԻՆ (ԿԱՏԱՐՈՂԱԿԱՆ) ՑՈՒՑԱՆԻՇՆԵՐԸ
B12: Ծրագրի դասիչը | C12: Ծրագրի անվանումը
B13: 1157 | C13: Քաղաքային զարգացում
B14: Ծրագրի միջոցառումները
B15: Ծրագրի դասիչը՝ | C15: 1157 | D15: Ցուցանիշների փոփոխությունը (ավելացումները նշված են դրական նշանով)
B16: Միջոցառման դասիչը՝ | C16: 21031 | D16: ='2'!G9 -> Առաջին կիսամյակ | E16: ինն ամիս | F16: Տարի
B17: Միջոցառման անվանումը՝ | C17: Նոր Խարբերդ թաղամասում գազատարի կառուցման աշխատանքներ
B18: Նկարագրությունը՝ | C18: Նոր Խարբերդ թաղամասում գազատարի և գազաբաշխիչ կայանի (ԳԲԿ) կառուցում
B19: Միջոցառման տեսակը՝ | C19: Հանրության կողմից անմիջականորեն օգտագործվող ակտիվների հետ կապված միջոցառումներ
B20: Շահառուների ընտրության չափանիշները | C20: ՀՀ բնակչություն
B21: Արդյունքի չափորոշիչներ
B22: Գազատարի կառուցում, կմ | D22: 10.6 | E22: 10.6 | F22: 10.6
B27: Միջոցառման վրա կատարվող ծախսը (հազար դրամ) | D27: 104592.7 | E27: 261481.7 | F27: 522963.4
B29: Ծրագրի դասիչը | C29: Ծրագրի անվանումը
B30: 1157 | C30: Քաղաքային զարգացում
B31: Ծրագրի միջոցառումները
B32: Ծրագրի դասիչը՝ | C32: 1157 | D32: =D15 -> Ցուցանիշների փոփոխությունը (ավելացումները նշված են դրական նշանով)
B33: Միջոցառման դասիչը՝ | C33: 21032 | D33: =D16 -> Առաջին կիսամյակ | E33: ինն ամիս | F33: Տարի
B34: Միջոցառման անվանումը՝ | C34: Երևան քաղաքում ճանապարհների կառուցման և միջին նորոգման աշխատանքներ
B35: Նկարագրությունը՝ | C35: Երևան քաղաքաում նոր ճանապարհատվածներիի կառուցում և ճանապարհների պատվածքի մաշված վերին շերտի վերականգնում և շինարարական նորմերով նախատեսված սկզբնական որակական ցուցանիշների ապահովում
B36: Միջոցառման տեսակը՝ | C36: Հանրության կողմից անմիջականորեն օգտագործվող ակտիվների հետ կապված միջոցառումներ
B37: Շահառուների ընտրության չափանիշները | C37: ՀՀ բնակչություն
B38: Արդյունքի չափորոշիչներ
B39: Նոր ճանապարհի կառուցում, կմ | D39: 1.4 | E39: 1.4 | F39: 1.4
B40: Ճանապարհների միջին նորոգում, վարչական շրջանների քանակ | D40: 5 | E40: 5 | F40: 5
B45: Միջոցառման վրա կատարվող ծախսը (հազար դրամ) | D45: 535755.8 | E45: 828308.4 | F45: 1651196
B48: Ծրագրի դասիչը | C48: Ծրագրի անվանումը
B49: 1157 | C49: Քաղաքային զարգացում
B50: Ծրագրի միջոցառումները
B51: Ծրագրի դասիչը՝ | C51: 1157 | D51: =D32 -> Ցուցանիշների փոփոխությունը (ավելացումները նշված են դրական նշանով)
B52: Միջոցառման դասիչը՝ | C52: 21033 | D52: =D33 -> Առաջին կիսամյակ | E52: ինն ամիս | F52: Տարի
B53: Միջոցառման անվանումը՝ | C53: Երևան քաղաքի բազմաբնակարան շենքերի վերելակների արդիականացում
B54: Նկարագրությունը՝ | C54: Երևան քաղաքաի բազմաբնակարան շենքերի շահագործման ոչ պիտանի վերելակների փոխարինում նոր վերելակներով
...

Sheet 7
D1: Հավելված N 7
A2: ՀՀ կառավարության 2023 թվականի
A3: ______________ ի ___Ն որոշման
A5: ՀԱՅԱՍՏԱՆԻ ՀԱՆՐԱՊԵՏՈՒԹՅԱՆ ԿԱՌԱՎԱՐՈՒԹՅԱՆ 2022 ԹՎԱԿԱՆԻ ԴԵԿՏԵՄԲԵՐԻ 29-Ի N 2111-Ն ՈՐՈՇՄԱՆ N 10 ՀԱՎԵԼՎԱԾՈՒՄ ԿԱՏԱՐՎՈՂ ԼՐԱՑՈՒՄՆԵՐԸ
A7: Կոդը | B7: Անվանումը | E7: Գնման ձևը | F7: Չափման միավորը | G7: Ցուցանիշների փոփոխությունը (ավելացումները նշված են դրական նշանով)
G8: Միավորի գինը | H8: Քանակը | I8: Գումարը (հազար դրամ)
A9: 1 | B9: 2 | E9: 3 | F9: 4 | G9: 5 | H9: 6 | I9: 7
A10: ՀՀ տարածքային կառավարման և ենթակառուցվածքների նախարարություն | I10: =+I11+I18+I30+I35++I45+I55+I68 -> 9994024.6
A11: Բաժին N 04 | B11: Խումբ N 03 | C11: Դաս N 02 | D11: Նավթամթերք և բնական գազ | I11: =I12 -> 522963.4
A12: 1057-21031 | B12: Նոր Խարբերդ թաղամասում գազատարի կառուցման աշխատանքներ | I12: =I13+I15 -> 522963.4
B13: ՄԱՍ II. ԱՇԽԱՏԱՆՔՆԵՐ | I13: =I14 -> 517140
A14: 45231116 | B14: Գազի մատակարարման և մագիստրալային խողովակների կառուցման աշխատանքներ | E14: ԲՄ | F14: դրամ | G14: 517140000 | H14: 1 | I14: =G14*H14/1000 -> 517140
B15: ՄԱՍ III. ԾԱՌԱՅՈՒԹՅՈՒՆՆԵՐ | I15: =SUM(I16:I17) -> 5823.4
A16: 71351540 | B16: տեխնիկական հսկողության ծառայություններ | E16: ԲՄ | F16: դրամ | G16: 2928000 | H16: 1 | I16: =G16*H16/1000 -> 2928
A17: 98111140 | B17: հեղինակային հսկողության ծառայություններ | E17: ՄԱ | F17: դրամ | G17: 2895400 | H17: 1 | I17: =G17*H17/1000 -> 2895.4
A18: Բաժին N 04 | B18: Խումբ N 05 | C18: Դաս N 01 | D18: Ճանապարհային տրանսպորտ | I18: =I19 -> 1651196
A19: 1157-21032 | B19: Երևան քաղաքում ճանապարհների կառուցման և միջին նորոգման աշխատանքներ | I19: =I20+I27 -> 1651196
B20: ՄԱՍ II. ԱՇԽԱՏԱՆՔՆԵՐ | I20: =SUM(I21:I26) -> 1644958
A21: 45231188-1 | B21: Ճանապարհային ծածկույթի թարմացման աշխատանքներ | E21: ԲՄ | F21: դրամ | G21: 303993600 | H21: 1 | I21: =G21*H21/1000 -> 303993.6
A22: 45231188-2 | B22: Ճանապարհային ծածկույթի թարմացման աշխատանքներ | E22: ԲՄ | F22: դրամ | G22: 216600000 | H22: 1 | I22: =G22*H22/1000 -> 216600
A23: 45231188-3 | B23: Ճանապարհային ծածկույթի թարմացման աշխատանքներ | E23: ԲՄ | F23: դրամ | G23: 229080000 | H23: 1 | I23: =G23*H23/1000 -> 229080
A24: 45231188-4 | B24: Ճանապարհային ծածկույթի թարմացման աշխատանքներ | E24: ԲՄ | F24: դրամ | G24: 170916000 | H24: 1 | I24: =G24*H24/1000 -> 170916
A25: 45231188-5 | B25: Ճանապարհային ծածկույթի թարմացման աշխատանքներ | E25: ԲՄ | F25: դրամ | G25: 418800000 | H25: 1 | I25: =G25*H25/1000 -> 418800
A26: 45221142 | B26: ընդհանուր շինարարական աշխատանքներ | E26: ԲՄ | F26: դրամ | G26: 305568400 | H26: 1 | I26: =G26*H26/1000 -> 305568.4
B27: ՄԱՍ III. ԾԱՌԱՅՈՒԹՅՈՒՆՆԵՐ | I27: =SUM(I28:I29) -> 6238
A28: 71351540 | B28: տեխնիկական հսկողության ծառայություններ | E28: ԲՄ | F28: դրամ | G28: 4456000 | H28: 1 | I28: =G28*H28/1000 -> 4456
A29: 98111140 | B29: հեղինակային հսկողության ծառայություններ | E29: ՄԱ | F29: դրամ | G29: 1782000 | H29: 1 | I29: =G29*H29/1000 -> 1782
A30: Բաժին N 04 | B30: Խումբ N 05 | C30: Դաս N 05 | D30: Խողովակաշարային և այլ տրանսպորտ | I30: =+I31 -> 4729840
A31: 1157-21033 | B31: Երևան քաղաքի բազմաբնակարան շենքերի վերելակների արդիականացում | I31: =I32 -> 4729840
B32: ՄԱՍ I. ԱՊՐԱՆՔՆԵՐ | I32: =SUM(I33:I34) -> 4729840
A33: 42414700-1 | B33: վերելակներ | E33: ԲՄ | F33: հատ | G33: 9999600 | H33: 400 | I33: =G33*H33/1000 -> 3999840
A34: 42414700-2 | B34: վերելակներ | E34: ԲՄ | F34: հատ | G34: 10000000 | H34: 73 | I34: =G34*H34/1000 -> 730000
A35: Բաժին N 06 | B35: Խումբ N 03 | C35: Դաս N 01 | D35: Ջրամատակարարում | I35: =+I36 -> 452878.1
A36: 1157-21034 | B36: Երևան քաղաքի կոյուղատար համակարգի արդիականացման և ընդլայնման աշխատանքներ | I36: =I37+I40 -> 452878.1
B37: ՄԱՍ II. ԱՇԽԱՏԱՆՔՆԵՐ | I37: =SUM(I38:I39) -> 441868.9
A38: 45231143-1 | B38: Կոյուղիների կառուցման աշխատանքներ | E38: ԲՄ | F38: դրամ | G38: 246432100 | H38: 1 | I38: =G38*H38/1000 -> 246432.1
A39: 45231143-2 | B39: Կոյուղիների կառուցման աշխատանքներ | E39: ԲՄ | F39: դրամ | G39: 195436800 | H39: 1 | I39: =G39*H39/1000 -> 195436.8
B40: ՄԱՍ III. ԾԱՌԱՅՈՒԹՅՈՒՆՆԵՐ | I40: =SUM(I41:I44) -> 11009.2
A41: 71351540-1 | B41: տեխնիկական հսկողության ծառայություններ | E41: ԲՄ | F41: դրամ | G41: 4849000 | H41: 1 | I41: =G41*H41/1000 -> 4849
A42: 71351540-2 | B42: տեխնիկական հսկողության ծառայություններ | E42: ԲՄ | F42: դրամ | G42: 3015100 | H42: 1 | I42: =G42*H42/1000 -> 3015.1
...

Sheet 8
C1: Հավելված N 8
A2: ՀՀ կառավարության 2023 թվականի
A3: ______________ ի ___Ն որոշման
A7: Ց Ա Ն Կ ԵՐԵՎԱՆԻ ՔԱՂԱՔԱՊԵՏԱՐԱՆԻ ԿՈՂՄԻՑ 2022-2023 ԹՎԱԿԱՆՆԵՐԻ ԸՆԹԱՑՔՈՒՄ «ԳՆՈՒՄՆԵՐԻ ՄԱՍԻՆ» ՕՐԵՆՔԻ 15-ՐԴ ՀՈԴՎԱԾԻ 6-ՐԴ ՄԱՍԻ 2-ՐԴ ԿԵՏԻ ՀԻՄԱՆ ՎՐԱ ԿԱԶՄԱԿԵՐՊՎԱԾ ԱՊՐԱՆՔՆԵՐԻ, ԱՇԽԱՏԱՆՔՆԵՐԻ, ԾԱՌԱՅՈՒԹՅՈՒՆՆԵՐԻ ԳՆՄԱՆ ԳՈՐԾԸՆԹԱՑՆԵՐԻ ԱՐԴՅՈՒՆՔՈՒՄ ԿՆՔՎԱԾ ՊԱՅՄԱՆԱԳՐԵՐԻ
A9: NN | B9: Գնման ընթացակարգի ծածկագիրը | C9: Կնքված պայմանագրի ծածկագիրը
A10: 1 | B10: ԵՔ-ԲՄԱՊՁԲ-23/7 | C10: ԵՔ-ԲՄԱՊՁԲ-23/7
A11: 2 | B11: ԵՔ-ԲՄԱՊՁԲ-23/5 | C11: ԵՔ-ԲՄԱՊՁԲ-23/5
A12: 3 | B12: ԵՔ-ԲՄԱՇՁԲ-23/13 | C12: ԵՔ-ԲՄԱՇՁԲ-23/13
A13: 4 | B13: ԵՔ-ՄԱԾՁԲ-23/80
A14: 5 | B14: ԵՔ-ԲՄԽԾՁԲ-23/2 | C14: ԵՔ-ԲՄԽԾՁԲ-23/2-1
A15: 6 | B15: ԵՔ-ԲՄԱՇՁԲ-23/36 | C15: ԵՔ-ԲՄԱՇՁԲ-23/36
A16: 7 | B16: ԵՔ-ՄԱԾՁԲ-23/81
A17: 8 | B17: ԵՔ-ԲՄԽԾՁԲ-23/11 | C17: ԵՔ-ԲՄԽԾՁԲ-23/11-2
A18: 9 | B18: ԵՔ-ԲՄԱՇՁԲ-23/43
A19: 10 | B19: ԵՔ-ՄԱԾՁԲ-23/82
A20: 11 | B20: ԵՔ-ԲՄԽԾՁԲ-23/11
A21: 12 | B21: ԵՔ-ԲՄԱՇՁԲ-23/85
A22: 13 | B22: ԵՔ-ՄԱԾՁԲ-23/83
A23: 14 | B23: ԵՔ-ԲՄԽԾՁԲ-23/28
A24: 15 | B24: ԵՔ-ԲՄԱՇՁԲ-23/61
A25: 16 | B25: ԵՔ-ՄԱԾՁԲ-23/84
A26: 17 | B26: ԵՔ-ԲՄԽԾՁԲ-23/11
A27: 18 | B27: ԵՔ-ԲՄԱՇՁԲ-23/24 | C27: ԵՔ-ԲՄԱՇՁԲ-23/24
A28: 19 | B28: ԵՔ-ՄԱԾՁԲ-23/85
A29: 20 | B29: ԵՔ-ԲՄԽԾՁԲ-23/4 | C29: ԵՔ-ԲՄԽԾՁԲ-23/4-2
A30: 21 | B30: ԵՔ-ԳՀԱՇՁԲ-23/27 | C30: ԵՔ-ԳՀԱՇՁԲ-23/27
A31: 22 | B31: ԵՔ-ՄԱԾՁԲ-23/86
A32: 23 | B32: ԵՔ-ՀԲՄԽԾՁԲ-23/9 | C32: ԵՔ-ՀԲՄԽԾՁԲ-23/9-3
A33: 24 | B33: ԵՔ-ԲՄԱՇՁԲ-23/9 | C33: ԵՔ-ԲՄԱՇՁԲ-23/9
A34: 25 | B34: ԵՔ-ՄԱԾՁԲ-23/87
A35: 26 | B35: ԵՔ-ԲՄԽԾՁԲ-23/2 | C35: ԵՔ-ԲՄԽԾՁԲ-23/2-4
A36: 27 | B36: ԵՔ-ԲՄԱՇՁԲ-23/97
A37: 28 | B37: ԵՔ-ՄԱԾՁԲ-23/90
A38: 29 | B38: ԵՔ-ԲՄԽԾՁԲ-23/43
A39: 30 | B39: ԵՔ-ԲՄԱՇՁԲ-23/98
A40: 31 | B40: ԵՔ-ՄԱԾՁԲ-23/91
A41: 32 | B41: ԵՔ-ԲՄԽԾՁԲ-23/44
A42: 33 | B42: ԵՔ-ԲՄԱՇՁԲ-23/38 | C42: ԵՔ-ԲՄԱՇՁԲ-23/38-1
A43: 34 | B43: ԵՔ-ԲՄԱՇՁԲ-23/38 | C43: ԵՔ-ԲՄԱՇՁԲ-23/38-1
A44: 35 | B44: ԵՔ-ԲՄԱՇՁԲ-23/38 | C44: ԵՔ-ԲՄԱՇՁԲ-23/38-1
...
