Workbook
Name _tab10: #REF!
Name _tab10: #REF!
Name _tab11: #REF!
Name _tab11: #REF!
Name _tab12: #REF!
Name _tab12: #REF!
Name _tab13: #REF!
Name _tab13: #REF!
Name _tab14: #REF!
Name _tab14: #REF!
Name _tab15: #REF!
Name _tab15: #REF!
Name _tab16: #REF!
Name _tab16: #REF!
Name _tab17: #REF!
Name _tab17: #REF!
Name _tab18: #REF!
Name _tab18: #REF!
Name _tab19: #REF!
Name _tab19: #REF!
Name _tab20: #REF!
Name _tab20: #REF!
Name _tab21: #REF!
Name _tab21: #REF!
Name _tab22: #REF!
Name _tab22: #REF!
Name _tab23: #REF!
Name _tab23: #REF!
Name _tab24: #REF!
Name _tab24: #REF!
Name _tab5: #REF!
Name _tab5: #REF!
Name _tab6: #REF!
Name _tab6: #REF!
Name _tab7: #REF!
Name _tab7: #REF!
Name _tab8: #REF!
Name _tab8: #REF!
Name _tab9: #REF!
Name _tab9: #REF!
Name par_count: #REF!,#REF!,#REF!,#REF!,#REF!,#REF!,#REF!,#REF!,#REF!,#REF!,#REF!,#REF!,#REF!,#REF!,#REF!
Name par_count: #REF!,#REF!,#REF!,#REF!,#REF!,#REF!,#REF!,#REF!,#REF!,#REF!,#REF!,#REF!,#REF!,#REF!,#REF!
Name par_qual: #REF!,#REF!,#REF!,#REF!,#REF!
Name par_qual: #REF!,#REF!,#REF!,#REF!,#REF!
Name par_time: #REF!,#REF!,#REF!,#REF!
Name par_time: #REF!,#REF!,#REF!,#REF!
Name par2.12s: #REF!
Name par2.12s: #REF!
Name par2.4s: #REF!,#REF!,#REF!,#REF!,#REF!,#REF!,#REF!,#REF!,#REF!,#REF!,#REF!,#REF!,#REF!,#REF!,#REF!,#REF!
Name par2.4s: #REF!,#REF!,#REF!,#REF!,#REF!,#REF!,#REF!,#REF!,#REF!,#REF!,#REF!,#REF!,#REF!,#REF!,#REF!,#REF!
Name par2.5s: #REF!,#REF!
Name par2.5s: #REF!,#REF!
Name par2.6s: #REF!,#REF!,#REF!,#REF!
Name par2.6s: #REF!,#REF!,#REF!,#REF!
Name par2.7s: #REF!,#REF!
Name par2.7s: #REF!,#REF!
Name par2.9s: #REF!,#REF!,#REF!,#REF!,#REF!,#REF!,#REF!,#REF!,#REF!,#REF!,#REF!,#REF!,#REF!,#REF!,#REF!,#REF!
Name par2.9s: #REF!,#REF!,#REF!,#REF!,#REF!,#REF!,#REF!,#REF!,#REF!,#REF!,#REF!,#REF!,#REF!,#REF!,#REF!,#REF!
Name par4.10s: #REF!,#REF!
Name par4.10s: #REF!,#REF!

Sheet 1
F1: Հավելված N 1
F2: ՀՀ կառավարության 2023 թվականի
C3: -----------------ի N -----------Ն որոշման
A5: ՀԱՅԱՍՏԱՆԻ ՀԱՆՐԱՊԵՏՈՒԹՅԱՆ 2023 ԹՎԱԿԱՆԻ ՊԵՏԱԿԱՆ ԲՅՈՒՋԵԻ ՄԱՍԻՆ» ՕՐԵՆՔԻ N 1 ՀԱՎԵԼՎԱԾԻ N 2 ԱՂՅՈՒՍԱԿՈՒՄ ԿԱՏԱՐՎՈՂ ՎԵՐԱԲԱՇԽՈՒՄԸ ԵՎ ՀԱՅԱՍՏԱՆԻ ՀԱՆՐԱՊԵՏՈՒԹՅԱՆ ԿԱՌԱՎԱՐՈՒԹՅԱՆ 2022 ԹՎԱԿԱՆԻ ԴԵԿՏԵՄԲԵՐԻ 29-Ի N 2111-Ն ՈՐՈՇՄԱՆ N 5 ՀԱՎԵԼՎԱԾԻ N 1 ԱՂՅՈՒՍԱԿՈՒՄ ԿԱՏԱՐՎՈՂ ՓՈՓՈԽՈՒԹՅՈՒՆՆԵՐԸ ԵՎ ԼՐԱՑՈՒՄՆԵՐԸ
F6: (հազար դրամ)
A7: Ծրագրային դասիչը | C7: Բյուջետային հատկացումների գլխավոր կարգադրիչների, ծրագրերի և միջոցառումների անվանումները | D7: Ցուցանիշների փոփոխությունները ավելացումները նշված են դրական նշանով, իսկ նվազեցումները՝ փակագծերում
A8: Ծրագիր | B8: Միջոցառում | D8: Առաջին կիսամյակ | E8: Ինն ամիս | F8: Տարի
C9: ԸՆԴԱՄԵՆԸ | D9: =D10+D37 -> 0 | E9: =E10+E37 -> 0 | F9: =F10+F37 -> 0
C10: ՀՀ աշխատանքի և սոցիալական հարցերի նախարարություն | D10: =D11+D24 -> 0 | E10: =E11+E24 -> 0 | F10: =F11+F24 -> 0
A11: 1005 | C11: Ծրագրի անվանումը` | D11: =D18 -> -21108 | E11: =E18 -> -21108 | F11: =F18 -> -21108
C12: Պարգևավճարներ և պատվովճարներ
C13: Ծրագրի նպատակը`
C14: Պետական հոգածության դրսևորում, առանձին կատեգորիայի քաղաքացիներին և նրանց ընտանիքներին սոցիալական երաշխիքների տրամադրում
C15: Վերջնական արդյունքի նկարագրությունը`
C16: Առանձին կատեգորիայի քաղաքացիներին և նրանց ընտանիքի անդամների սոցիալական պաշտպանվածության մակարդակի բարձրացում
A17: Ծրագրի միջոցառումներ
B18: 12001 | C18: Միջոցառման անվանումը` | D18: -21108 | E18: -21108 | F18: -21108
C19: Զինծառայողներին, ՀՄՊ մասնակիցներին, այլ պետություններում մարտական գործողությունների մասնակիցներին, զոհված (մահացած) զինծառայողի ընտանիքի անդամներին, ընտանիքներին տրվող պարգևավճարներ
C20: Միջոցառման նկարագրությունը`
C21: Զինծառայողներին, ՀՄՊ մասնակիցներին, այլ պետություններում մարտական գործողությունների մասնակիցներին, զոհված (մահացած) զինծառայողի ընտանիքի անդամներին, ընտանիքներին, պարգևավճարների տրամադրում
C22: Միջոցառման տեսակը
C23: Տրանսֆերտների տրամադրում
A24: 1205 | C24: Ծրագրի անվանումը` | D24: =D31 -> 21108 | E24: =E31 -> 21108 | F24: =F31 -> 21108
C25: Սոցիալական ապահովություն
C26: Ծրագրի նպատակը`
C27: Սոցիալական ապահովության իրավունքի իրականացման ապահովում
C28: Վերջնական արդյունքի նկարագրությունը`
C29: Սոցիալական ապահովության իրավունքի իրականացում
A30: Ծրագրի միջոցառումներ
B31: 12024 | C31: Միջոցառման անվանումը` | D31: 21108 | E31: 21108 | F31: 21108
C32: ՀՀ Սյունիքի մարզի Շուռնուխ և Որոտան բնակավայրերում գտնվող և Ադրբեջանի վերահսկողության տակ անցած բնակելի անշարժ գույքի հասցեում հաշվառված կամ այդ հասցեում փաստացի բնակված, սակայն նույն բնակավայրի այլ հասցեում հաշվառված քաղաքացիներին դրամական աջակցություն
C33: Միջոցառման նկարագրությունը`
C34: ՀՀ Սյունիքի մարզի Շուռնուխ և Որոտան բնակավայրերում գտնվող և Ադրբեջանի վերահսկողության տակ անցած բնակելի անշարժ գույքի հասցեում հաշվառված կամ այդ հասցեում փաստացի բնակված, սակայն նույն բնակավայրի այլ հասցեում հաշվառված քաղաքացիներին դրամական աջակցություն
C35: Միջոցառման տեսակը
C36: Տրանսֆերտների տրամադրում
C37: ՀՀ կառավարություն | D37: =D38 -> 0 | E37: =E38 -> 0 | F37: =F38 -> 0
A38: 1139 | C38: Ծրագրի անվանումը` | D38: =D45+D51 -> 0 | E38: =E45+E51 -> 0 | F38: =F45+F51 -> 0
C39: ՀՀ կառավարության պահուստային ֆոնդ
C40: Ծրագրի նպատակը`
C41: Պետական բյուջեում չկանխատեսված, ինչպես նաեւ բյուջետային երաշխիքների ապահովման ծախսերի ֆինանսավորման ապահովում
...

Sheet 2
I1: Հավելված N 2
I2: ՀՀ կառավարության 2023 թվականի
I3: -----------------ի N -----------Ն որոշման
A5: ՀԱՅԱՍՏԱՆԻ ՀԱՆՐԱՊԵՏՈՒԹՅԱՆ ԿԱՌԱՎԱՐՈՒԹՅԱՆ 2022 ԹՎԱԿԱՆԻ ԴԵԿՏԵՄԲԵՐԻ 29-Ի N 2111-Ն ՈՐՈՇՄԱՆ N N 3 ԵՎ 4 ՀԱՎԵԼՎԱԾՆԵՐՈՒՄ ԿԱՏԱՐՎՈՂ ՓՈՓՈԽՈՒԹՅՈՒՆՆԵՐԸ ԵՎ ԼՐԱՑՈՒՄՆԵՐԸ
I6: հազար դրամ
A7: Գործառական դասիչը | D7: Ծրագրային դասիչը | F7: Բյուջետային ծախսերի գործառական դասակարգման բաժինների, խմբերի և դասերի, բյուջետային ծրագրերի միջոցառումների, բյուջետային հատկացումների գլխավոր կարգադրիչների անվանումները | G7: ='1'!D7 -> Ցուցանիշների փոփոխությունները ավելացումները նշված են դրական նշանով, իսկ նվազեցումները՝ փակագծերում
A8: Բաժինը | B8: Խումբը | C8: Դասը | D8: Ծրագիր | E8: Միջոցառում | G8: ='1'!D8 -> Առաջին կիսամյակ | H8: ='1'!E8 -> Ինն ամիս | I8: ='1'!F8 -> Տարի
F9: ԸՆԴԱՄԵՆԸ ԾԱԽՍԵՐ | G9: =G11 -> 0 | H9: =H11 -> 0 | I9: =I11 -> 0
F10: այդ թվում`
F11: ='1'!C10 -> ՀՀ աշխատանքի և սոցիալական հարցերի նախարարություն | G11: =G12 -> 0 | H11: =H12 -> 0 | I11: =I12 -> 0
A12: 10 | F12: ՍՈՑԻԱԼԱԿԱՆ ՊԱՇՏՊԱՆՈՒԹՅՈՒՆ | G12: =G29+G14 -> 0 | H12: =H29+H14 -> 0 | I12: =I29+I14 -> 0
F13: այդ թվում`
B14: 07 | F14: Սոցիալական հատուկ արտոնություններ (այլ դասերին չպատկանող) | G14: =G16 -> -21108 | H14: =H16 -> -21108 | I14: =I16 -> -21108
F15: այդ թվում`
C16: 01 | F16: Սոցիալական հատուկ արտոնություններ (այլ դասերին չպատկանող) | G16: =G18 -> -21108 | H16: =H18 -> -21108 | I16: =I18 -> -21108
F17: այդ թվում`
D18: ='1'!A11 -> 1005 | F18: ='1'!C12 -> Պարգևավճարներ և պատվովճարներ | G18: =G20 -> -21108 | H18: =H20 -> -21108 | I18: =I20 -> -21108
F19: այդ թվում`
E20: ='1'!B18 -> 12001 | F20: ='1'!C19 -> Զինծառայողներին, ՀՄՊ մասնակիցներին, այլ պետություններում մարտական գործողությունների մասնակիցներին, զոհված (մահացած) զինծառայողի ընտանիքի անդամներին, ընտանիքներին տրվող պարգևավճարներ | G20: =G22 -> -21108 | H20: =H22 -> -21108 | I20: =I22 -> -21108
F21: այդ թվում` ըստ կատարողների
F22: ՀՀ աշխատանքի և սոցիալական հարցերի նախարարության միասնական սոցիալական ծառայություն | G22: =G23 -> -21108 | H22: =H23 -> -21108 | I22: =I23 -> -21108
F23: այդ թվում` բյուջետային ծախսերի տնտեսագիտական դասակարգման հոդվածներ | G23: =G24 -> -21108 | H23: =H24 -> -21108 | I23: =I24 -> -21108
F24: ԸՆԴԱՄԵՆԸ ԾԱԽՍԵՐ | G24: =G25 -> -21108 | H24: =H25 -> -21108 | I24: =I25 -> -21108
F25: ԸՆԹԱՑԻԿ ԾԱԽՍԵՐ | G25: =G26 -> -21108 | H25: =H26 -> -21108 | I25: =I26 -> -21108
F26: ՍՈՑԻԱԼԱԿԱՆ ՆՊԱՍՏՆԵՐ ԵՎ ԿԵՆՍԱԹՈՇԱԿՆԵՐ | G26: =G27 -> -21108 | H26: =H27 -> -21108 | I26: =I27 -> -21108
F27: Սոցիալական օգնության դրամական արտահայտությամբ նպաստներ (բյուջեից) | G27: ='1'!D18 -> -21108 | H27: ='1'!E18 -> -21108 | I27: ='1'!F18 -> -21108
F28: - Այլ նպաստներ բյուջեից | G28: ='1'!D18 -> -21108 | H28: ='1'!E18 -> -21108 | I28: ='1'!F18 -> -21108
B29: 09 | F29: Սոցիալական պաշտպանություն (այլ դասերին չպատկանող) | G29: =G31 -> 21108 | H29: =H31 -> 21108 | I29: =I31 -> 21108
F30: այդ թվում՝
C31: 02 | F31: Սոցիալական պաշտպանությանը տրամադրվող օժանդակ ծառայություններ (այլ դասերին չպատկանող) | G31: =G33 -> 21108 | H31: =H33 -> 21108 | I31: =I33 -> 21108
F32: այդ թվում`
D33: ='1'!A24 -> 1205 | F33: ='1'!C25 -> Սոցիալական ապահովություն | G33: =G35 -> 21108 | H33: =H35 -> 21108 | I33: =I35 -> 21108
F34: այդ թվում`
E35: ='1'!B31 -> 12024 | F35: ='1'!C32 -> ՀՀ Սյունիքի մարզի Շուռնուխ և Որոտան բնակավայրերում գտնվող և Ադրբեջանի վերահսկողության տակ անցած բնակելի անշարժ գույքի հասցեում հաշվառված կամ այդ հասցեում փաստացի բնակված, սակայն նույն բնակավայրի այլ հասցեում հաշվառված քաղաքացիներին դրամական աջակցություն | G35: =G37 -> 21108 | H35: =H37 -> 21108 | I35: =I37 -> 21108
F36: այդ թվում` ըստ կատարողների
F37: ՀՀ աշխատանքի և սոցիալական հարցերի նախարարության միասնական սոցիալական ծառայություն | G37: =G39 -> 21108 | H37: =H39 -> 21108 | I37: =I39 -> 21108
F38: այդ թվում` բյուջետային ծախսերի տնտեսագիտական դասակարգման հոդվածներ
F39: ԸՆԴԱՄԵՆԸ ԾԱԽՍԵՐ | G39: =G40 -> 21108 | H39: =H40 -> 21108 | I39: =I40 -> 21108
F40: ԸՆԹԱՑԻԿ ԾԱԽՍԵՐ | G40: =G41 -> 21108 | H40: =H41 -> 21108 | I40: =I41 -> 21108
F41: ՍՈՑԻԱԼԱԿԱՆ ՆՊԱՍՏՆԵՐ ԵՎ ԿԵՆՍԱԹՈՇԱԿՆԵՐ | G41: =G42 -> 21108 | H41: =H42 -> 21108 | I41: =I42 -> 21108
...

Sheet 3
E1: Հավելված N 3
B2: ՀՀ կառավարության 2023 թվականի
B3: -----------------ի N -----------Ն որոշման
A4: ՀԱՅԱՍՏԱՆԻ ՀԱՆՐԱՊԵՏՈՒԹՅԱՆ ԿԱՌԱՎԱՐՈՒԹՅԱՆ 2020 ԹՎԱԿԱՆԻ ԴԵԿՏԵՄԲԵՐԻ 30-Ի N 2215-Ն ՈՐՈՇՄԱՆ N 9 ՀԱՎԵԼՎԱԾԻ N 9.1.20 ԱՂՅՈՒՍԱԿՈՒՄ ԿԱՏԱՐՎՈՂ ՓՈՓՈԽՈՒԹՅՈՒՆՆԵՐԸ
A5: ՀԱՅԱՍՏԱՆԻ ՀԱՆՐԱՊԵՏՈՒԹՅԱՆ ԿԱՌԱՎԱՐՈՒԹՅԱՆ 2022 ԹՎԱԿԱՆԻ ԴԵԿՏԵՄԲԵՐԻ 29-Ի N 2111-Ն ՈՐՈՇՄԱՆ N 9 ՀԱՎԵԼՎԱԾԻ N 9.15 ԵՎ N 9.47 ԱՂՅՈՒՍԱԿՆԵՐՈՒՄ ԿԱՏԱՐՎՈՂ ՓՈՓՈԽՈՒԹՅՈՒՆՆԵՐԸ ԵՎ ԼՐԱՑՈՒՄՆԵՐԸ
A6: ՄԱՍ 2. ՊԵՏԱԿԱՆ ՄԱՐՄՆԻ ԳԾՈՎ ԱՐԴՅՈՒՆՔԱՅԻՆ (ԿԱՏԱՐՈՂԱԿԱՆ) ՑՈՒՑԱՆԻՇՆԵՐԸ
A7: Հայաստանի Հանրապետության աշխատանքի և սոցիալական հարցերի նախարարություն
A9: Ծրագրի դասիչը | B9: Ծրագրի անվանումը
A10: 1005 | B10: Պարգևավճարներ և պատվովճարներ
A11: Ծրագրի միջոցառումներ
A13: Ծրագրի դասիչը` | B13: 1005 | C13: Ցուցանիշների փոփոխությունները նվազեցումները նշված են փակագծերում
A14: Միջոցառման դասիչը` | B14: 12001 | C14: Առաջին կիսամյակ | D14: Ինն ամիս | E14: Տարի
A15: Միջոցառման անվանումը` | B15: Զինծառայողներին, ՀՄՊ մասնակիցներին, այլ պետություններում մարտական գործողությունների մասնակիցներին, զոհված (մահացած) զինծառայողի ընտանիքի անդամներին, ընտանիքներին տրվող պարգևավճարներ
A16: Նկարագրությունը` | B16: Զինծառայողներին, ՀՄՊ մասնակիցներին, այլ պետություններում մարտական գործողությունների մասնակիցներին, զոհված (մահացած) զինծառայողի ընտանիքի անդամներին, ընտանիքներին, պարգևավճարների տրամադրում
A17: Միջոցառման տեսակը` | B17: Տրանսֆերտների տրամադրում
A18: Շահառուների ընտրության չափանիշները | B18: ՀՄՊ մասնակիցներ, ՀՄՊ և այլ պետություններում մարտական գործողությունների ընթացքում զոհված զինծառայողների ընտանիքներ
A19: Արդյունքի չափորոշիչներ
A20: Պարգևավճարներ ստացողների թիվ, ընտանիք | C20: -90 | D20: -90 | E20: -90
A21: Պարգևավճարների վճարման ամսական հաճախականություն, անգամ | C21: 1 | D21: 1 | E21: 1
A22: Միջոցառման վրա կատարվող ծախսը (հազար դրամ) | C22: ='1'!D18 -> -21108 | D22: ='1'!E18 -> -21108 | E22: ='1'!F18 -> -21108
A24: Ծրագրի դասիչը | B24: Ծրագրի անվանումը
A25: ='1'!A24 -> 1205 | B25: ='1'!C25 -> Սոցիալական ապահովություն
A26: Ծրագրի միջոցառումները
A27: Ծրագրի դասիչը` | B27: ='1'!A24 -> 1205 | C27: Ցուցանիշների փոփոխությունները ավելացումները նշված են դրական նշանով
A28: Միջոցառման դասիչը` | B28: ='1'!B31 -> 12024 | C28: Առաջին կիսամյակ | D28: Ինն ամիս | E28: Տարի
A29: Միջոցառման անվանումը` | B29: ='1'!C32 -> ՀՀ Սյունիքի մարզի Շուռնուխ և Որոտան բնակավայրերում գտնվող և Ադրբեջանի վերահսկողության տակ անցած բնակելի անշարժ գույքի հասցեում հաշվառված կամ այդ հասցեում փաստացի բնակված, սակայն նույն բնակավայրի այլ հասցեում հաշվառված քաղաքացիներին դրամական աջակցություն
A30: Նկարագրությունը` | B30: ='1'!C34 -> ՀՀ Սյունիքի մարզի Շուռնուխ և Որոտան բնակավայրերում գտնվող և Ադրբեջանի վերահսկողության տակ անցած բնակելի անշարժ գույքի հասցեում հաշվառված կամ այդ հասցեում փաստացի բնակված, սակայն նույն բնակավայրի այլ հասցեում հաշվառված քաղաքացիներին դրամական աջակցություն
A31: Միջոցառման տեսակը` | B31: Տրանսֆերտների տրամադրում
A32: Շահառուների ընտրության չափանիշները | B32: ՀՀ կառավարության 2021 թ․ փետրվարի 4-ի N 112-Լ որոշման պահանջներին համապատասխան
A33: Արդյունքի չափորոշիչներ
A34: Շահառուների թիվը | C34: 38 | D34: 38 | E34: 38
A35: Միջոցառման վրա կատարվող ծախսը (հազար դրամ) | C35: ='1'!D31 -> 21108 | D35: ='1'!E31 -> 21108 | E35: ='1'!F31 -> 21108
A37: ՀՀ կառավարություն
A39: Ծրագրի դասիչը | B39: Ծրագրի անվանումը
A40: 1139 | B40: ՀՀ կառավարության պահուստային ֆոնդ
A41: Ծրագրի միջոցառումները
A43: Ծրագրի դասիչը` | B43: 1139
A44: Միջոցառման դասիչը` | B44: 11001
A45: Միջոցառման անվանումը` | B45: ՀՀ կառավարության պահուստային ֆոնդ
A46: Նկարագրությունը` | B46: ՀՀ պետական բյուջեում նախատեսված ելքերի լրացուցիչ ֆինանսավորման, պետական բյուջեում չկանխատեսված ելքերի, ինչպես նաև բյուջետային երաշխիքների ապահովման ելքերի ֆինանսավորման ապահովում
...

Sheet 4
E1: Հավելված N 4
E2: ՀՀ կառավարության 2023 թվականի
E3: -----------------ի N -----------Ն որոշման
A4: ՀԱՅԱՍՏԱՆԻ ՀԱՆՐԱՊԵՏՈՒԹՅԱՆ ԿԱՌԱՎԱՐՈՒԹՅԱՆ 2020 ԹՎԱԿԱՆԻ ԴԵԿՏԵՄԲԵՐԻ 30-Ի N 2215-Ն ՈՐՈՇՄԱՆ N 9 ՀԱՎԵԼՎԱԾԻ N 9.1.20 ԱՂՅՈՒՍԱԿՈՒՄ ԿԱՏԱՐՎՈՂ ՓՈՓՈԽՈՒԹՅՈՒՆՆԵՐԸ
A5: ՀԱՅԱՍՏԱՆԻ ՀԱՆՐԱՊԵՏՈՒԹՅԱՆ ԿԱՌԱՎԱՐՈՒԹՅԱՆ 2022 ԹՎԱԿԱՆԻ ԴԵԿՏԵՄԲԵՐԻ 29-Ի N 2111-Ն ՈՐՈՇՄԱՆ N 9.1 ՀԱՎԵԼՎԱԾԻ N 9.1.19 ԵՎ N 9.1.58 ԱՂՅՈՒՍԱԿՆԵՐՈՒՄ ԿԱՏԱՐՎՈՂ ՓՈՓՈԽՈՒԹՅՈՒՆՆԵՐԸ ԵՎ ԼՐԱՑՈՒՄՆԵՐԸ
A7: ՄԱՍ 1. ՊԵՏԱԿԱՆ ՄԱՐՄՆԻ ԳԾՈՎ ԱՐԴՅՈՒՆՔԱՅԻՆ (ԿԱՏԱՐՈՂԱԿԱՆ) ՑՈՒՑԱՆԻՇՆԵՐԸ
A9: ՀՀ աշխատանքի և սոցիալական հարցերի նախարարության միասնական սոցիալական ծառայություն
A11: Ծրագրի դասիչը | B11: Ծրագրի անվանումը
A12: 1005 | B12: Պարգևավճարներ և պատվովճարներ
A13: Ծրագրի միջոցառումներ
A15: Ծրագրի դասիչը` | B15: 1005 | C15: Ցուցանիշների փոփոխությունները նվազեցումները նշված են փակագծերում
A16: Միջոցառման դասիչը` | B16: 12001 | C16: Առաջին կիսամյակ | D16: Ինն ամիս | E16: Տարի
A17: Միջոցառման անվանումը` | B17: Զինծառայողներին, ՀՄՊ մասնակիցներին, այլ պետություններում մարտական գործողությունների մասնակիցներին, զոհված (մահացած) զինծառայողի ընտանիքի անդամներին, ընտանիքներին տրվող պարգևավճարներ
A18: Նկարագրությունը` | B18: Զինծառայողներին, ՀՄՊ մասնակիցներին, այլ պետություններում մարտական գործողությունների մասնակիցներին, զոհված (մահացած) զինծառայողի ընտանիքի անդամներին, ընտանիքներին, պարգևավճարների տրամադրում
A19: Միջոցառման տեսակը` | B19: Տրանսֆերտների տրամադրում
A20: Շահառուների ընտրության չափանիշները | B20: ՀՄՊ մասնակիցներ, ՀՄՊ և այլ պետություններում մարտական գործողությունների ընթացքում զոհված զինծառայողների ընտանիքներ
A21: Արդյունքի չափորոշիչներ
A22: Պարգևավճարներ ստացողների թիվ, ընտանիք | C22: ='3'!C20 -> -90 | D22: ='3'!D20 -> -90 | E22: ='3'!E20 -> -90
A23: Պարգևավճարների վճարման ամսական հաճախականություն, անգամ | C23: ='3'!C21 -> 1 | D23: ='3'!D21 -> 1 | E23: ='3'!E21 -> 1
A24: Միջոցառման վրա կատարվող ծախսը (հազար դրամ) | C24: ='3'!C22 -> -21108 | D24: ='3'!D22 -> -21108 | E24: ='3'!E22 -> -21108
A26: Ծրագրի դասիչը | B26: Ծրագրի անվանումը
A27: ='3'!A25 -> 1205 | B27: ='3'!B25 -> Սոցիալական ապահովություն
A29: Ծրագրի միջոցառումները
A30: Ծրագրի դասիչը` | B30: ='3'!B27 -> 1205 | C30: Ցուցանիշների փոփոխությունները ավելացումները նշված են դրական նշանով
A31: Միջոցառման դասիչը` | B31: ='3'!B28 -> 12024 | C31: Առաջին կիսամյակ | D31: Ինն ամիս | E31: Տարի
A32: Միջոցառման անվանումը` | B32: ='3'!B29 -> ՀՀ Սյունիքի մարզի Շուռնուխ և Որոտան բնակավայրերում գտնվող և Ադրբեջանի վերահսկողության տակ անցած բնակելի անշարժ գույքի հասցեում հաշվառված կամ այդ հասցեում փաստացի բնակված, սակայն նույն բնակավայրի այլ հասցեում հաշվառված քաղաքացիներին դրամական աջակցություն
A33: Նկարագրությունը` | B33: ='3'!B30 -> ՀՀ Սյունիքի մարզի Շուռնուխ և Որոտան բնակավայրերում գտնվող և Ադրբեջանի վերահսկողության տակ անցած բնակելի անշարժ գույքի հասցեում հաշվառված կամ այդ հասցեում փաստացի բնակված, սակայն նույն բնակավայրի այլ հասցեում հաշվառված քաղաքացիներին դրամական աջակցություն
A34: Միջոցառման տեսակը` | B34: ='3'!B31 -> Տրանսֆերտների տրամադրում
A35: Շահառուների ընտրության չափանիշները | B35: ='3'!B32 -> ՀՀ կառավարության 2021 թ․ փետրվարի 4-ի N 112-Լ որոշման պահանջներին համապատասխան
A36: Արդյունքի չափորոշիչներ
A37: Շահառուների թիվը | C37: 38 | D37: 38 | E37: 38
A38: Միջոցառման վրա կատարվող ծախսը (հազար դրամ) | C38: ='1'!D31 -> 21108 | D38: ='1'!E31 -> 21108 | E38: ='1'!F31 -> 21108
A40: ՀՀ կառավարություն
A42: Ծրագրի դասիչը | B42: Ծրագրի անվանումը
A43: 1139 | B43: ՀՀ կառավարության պահուստային ֆոնդ
A44: Ծրագրի միջոցառումները
A46: Ծրագրի դասիչը` | B46: 1139
A47: Միջոցառման դասիչը` | B47: 11001
A48: Միջոցառման անվանումը` | B48: ՀՀ կառավարության պահուստային ֆոնդ
A49: Նկարագրությունը` | B49: ՀՀ պետական բյուջեում նախատեսված ելքերի լրացուցիչ ֆինանսավորման, պետական բյուջեում չկանխատեսված ելքերի, ինչպես նաև բյուջետային երաշխիքների ապահովման ելքերի ֆինանսավորման ապահովում
...
