Workbook
Name _tab10: #REF!
Name _tab11: #REF!
Name _tab12: #REF!
Name _tab13: #REF!
Name _tab14: #REF!
Name _tab15: #REF!
Name _tab16: #REF!
Name _tab17: #REF!
Name _tab18: #REF!
Name _tab19: #REF!
Name _tab20: #REF!
Name _tab21: #REF!
Name _tab22: #REF!
Name _tab23: #REF!
Name _tab24: #REF!
Name _tab5: #REF!
Name _tab6: #REF!
Name _tab7: #REF!
Name _tab8: #REF!
Name _tab9: #REF!
Name AgencyCode: #REF!
Name AgencyName: #REF!
Name åû: #REF!
Name davit: #REF!
Name Functional1: #REF!
Name ggg: #REF!
Name mas: #REF!
Name mass: #REF!
Name PANature: #REF!
Name par_count: #REF!,#REF!,#REF!,#REF!,#REF!,#REF!,#REF!,#REF!,#REF!,#REF!,#REF!,#REF!,#REF!,#REF!,#REF!
Name par_qual: #REF!,#REF!,#REF!,#REF!,#REF!
Name par_time: #REF!,#REF!,#REF!,#REF!
Name par2.12s: #REF!
Name par2.4s: #REF!,#REF!,#REF!,#REF!,#REF!,#REF!,#REF!,#REF!,#REF!,#REF!,#REF!,#REF!,#REF!,#REF!,#REF!,#REF!
Name par2.5s: #REF!,#REF!
Name par2.6s: #REF!,#REF!,#REF!,#REF!
Name par2.7s: #REF!,#REF!
Name par2.9s: #REF!,#REF!,#REF!,#REF!,#REF!,#REF!,#REF!,#REF!,#REF!,#REF!,#REF!,#REF!,#REF!,#REF!,#REF!,#REF!
Name par4.10s: #REF!,#REF!
Name par4.11d: #REF!,#REF!,#REF!,#REF!,#REF!
Name par4.12d: #REF!
Name par4.13s: #REF!
Name par4.14: #REF!,#REF!,#REF!,#REF!,#REF!,#REF!
Name par4.15: #REF!,#REF!,#REF!
Name par4.16: #REF!,#REF!,#REF!
Name par4.17: #REF!,#REF!,#REF!,#REF!
Name par4.18d: #REF!,#REF!
Name par4.19s: #REF!
Name par4.20f: #REF!
Name par4.21f: #REF!
Name par4.22: #REF!
Name par4.4: #REF!
Name par4.5: #REF!
Name par4.6s: #REF!
Name par4.7s: #REF!
Name par4.8: #REF!,#REF!,#REF!,#REF!,#REF!
Name par4.9: #REF!,#REF!,#REF!,#REF!,#REF!,#REF!
Name par5.1: #REF!,#REF!
Name par5.3: #REF!,#REF!,#REF!,#REF!,#REF!,#REF!
Name par5.4: #REF!,#REF!,#REF!,#REF!,#REF!

Sheet 1
A1: Հավելված N 1 ՀՀ կառավարության 2023 թվականի ապրիլի -ի N -Ն որոշման
A3: «ՀԱՅԱՍՏԱՆԻ ՀԱՆՐԱՊԵՏՈՒԹՅԱՆ 2023 ԹՎԱԿԱՆԻ ՊԵՏԱԿԱՆ ԲՅՈՒՋԵԻ ՄԱՍԻՆ» ՀԱՅԱՍՏԱՆԻ ՀԱՆՐԱՊԵՏՈՒԹՅԱՆ ՕՐԵՆՔԻ N 1 ՀԱՎԵԼՎԱԾԻ N 2 ԱՂՅՈՒՍԱԿՈՒՄ ԵՎ ՀԱՅԱՍՏԱՆԻ ՀԱՆՐԱՊԵՏՈՒԹՅԱՆ ԿԱՌԱՎԱՐՈՒԹՅԱՆ 2022 ԹՎԱԿԱՆԻ ԴԵԿՏԵՄԲԵՐԻ 29-Ի N 2111-Ն ՈՐՈՇՄԱՆ N 5 ՀԱՎԵԼՎԱԾԻ N 1 ԱՂՅՈՒՍԱԿՈՒՄ ԿԱՏԱՐՎՈՂ ՓՈՓՈԽՈՒԹՅՈՒՆԸ ԵՎ ԼՐԱՑՈՒՄԸ
F4: հազար դրամ
A5: Ծրագրային դասիչը | C5: Բյուջետային գլխավոր կարգադրիչների, ծրագրերի և միջոցառումների անվանումները | D5: Ցուցանիշների փոփոխությունը (ավելացումները նշված են դրական նշանով, իսկ նվազեցումները փակագծերում)
A6: Ծրագիր | B6: Միջոցառում | D6: Առաջին կիսամյակ | E6: Ինն ամիս | F6: Տարի
C7: ԸՆԴԱՄԵՆԸ ԾԱԽՍԵՐ | D7: =+D8+D22 -> 0 | E7: =+E8+E22 -> 0 | F7: =+F8+F22 -> 0
C8: ՀՀ վարչապետի աշխատակազմ | D8: =+D9 -> 309201.4 | E8: =+E9 -> 649920.2 | F8: =+F9 -> 895514
A9: 1136 | C9: Ծրագրի անվանումը` | D9: =+D16 -> 309201.4 | E9: =+E16 -> 649920.2 | F9: =+F16 -> 895514
C10: ՀՀ Վարչապետի լիազորությունների իրականացման ապահովում
C11: Ծրագրի նպատակը`
C12: Աջակցել կառավարության, վարչապետի և փոխվարչապետերի գործունեությանը
C13: Վերջնական արդյունքի նկարագրությունը`
C14: ՀՀ կառավարության և վարչապետի որոշումների ու հանձնարարականների կատարման վերահսկողության ապահովում
A15: Ծրագրի միջոցառումներ
B16: 11019 | C16: Միջոցառման անվանումը` | D16: =+'2'!G18 -> 309201.4 | E16: =+'2'!H18 -> 649920.2 | F16: =+'2'!I18 -> 895514
C17: Ռազմավարական հետազոտությունների իրականացում և առաջարկությունների ներկայացում
C18: Միջոցառման նկարագրությունը`
C19: Ռազմավարական հետազոտությունների իրականացում և առաջարկությունների ներկայացում
C20: Միջոցառման տեսակը
C21: Ծառայությունների մատուցում
C22: ՀՀ կառավարություն | D22: =+D23 -> -309201.4 | E22: =+E23 -> -649920.2 | F22: =+F23 -> -895514
A23: 1139 | C23: Ծրագրի անվանումը` | D23: =+D30 -> -309201.4 | E23: =+E30 -> -649920.2 | F23: =+F30 -> -895514
C24: ՀՀ կառավարության պահուստային ֆոնդ
C25: Ծրագրի նպատակը`
C26: Պետական բյուջեում չկանխատեսված, ինչպես նաեւ բյուջետային երաշխիքների ապահովման ծախսերի ֆինանսավորման ապահովում
C27: Վերջնական արդյունքի նկարագրությունը`
C28: Պահուստային ֆոնդի կառավարման արդյունավետության և թափանցիկության ապահովում
A29: Ծրագրի միջոցառումներ
B30: 11001 | C30: Միջոցառման անվանումը` | D30: =+'2'!G35 -> -309201.4 | E30: =+'2'!H35 -> -649920.2 | F30: =+'2'!I35 -> -895514
C31: ՀՀ կառավարության պահուստային ֆոնդ
C32: Միջոցառման նկարագրությունը`
C33: ՀՀ պետական բյուջեում նախատեսված ելքերի լրացուցիչ ֆինանսավորման, պետական բյուջեում չկանխատեսված ելքերի, ինչպես նաև բյուջետային երաշխիքների ապահովման ելքերի ֆինանսավորման ապահովում
C34: Միջոցառման տեսակը
C35: Ծառայությունների մատուցում

Sheet 2
A1: Հավելված N 2 ՀՀ կառավարության 2023 թվականի ապրիլի -ի N -Ն որոշման
A3: ՀԱՅԱՍՏԱՆԻ ՀԱՆՐԱՊԵՏՈՒԹՅԱՆ ԿԱՌԱՎԱՐՈՒԹՅԱՆ 2022 ԹՎԱԿԱՆԻ ԴԵԿՏԵՄԲԵՐԻ 29-Ի N 2111-Ն ՈՐՈՇՄԱՆ N 3 ԵՎ 4 ՀԱՎԵԼՎԱԾՆԵՐՈՒՄ ԿԱՏԱՐՎՈՂ ՓՈՓՈԽՈՒԹՅՈՒՆԸ ԵՎ ԼՐԱՑՈՒՄԸ
I4: հազար դրամ
A5: Գործառական դասիչը | D5: Ծրագրային դասիչը | F5: Բյուջետային ծախսերի գործառական դասակարգման բաժինների, խմբերի և դասերի, բյուջետային ծրագրերի միջոցառումների, բյուջետային հատկացումների գլխավոր կարգադրիչների անվանումները | G5: Ցուցանիշների փոփոխությունը (ավելացումները նշված են դրական նշանով, իսկ նվազեցումները փակագծերում)
A6: Բաժին | B6: Խումբ | C6: Դաս | D6: Ծրագիր | E6: Միջոցառում | G6: Առաջին կիսամյակ | H6: Ինն ամիս | I6: Տարի
F7: ԸՆԴԱՄԵՆԸ ԾԱԽՍԵՐ | G7: =+G8+G27 -> 0 | H7: =+H8+H27 -> 0 | I7: =+I8+I27 -> 0
A8: 01 | F8: ԸՆԴՀԱՆՈՒՐ ԲՆՈՒՅԹԻ ՀԱՆՐԱՅԻՆ ԾԱՌԱՅՈՒԹՅՈՒՆՆԵՐ | G8: =SUM(G10) -> 309201.4 | H8: =SUM(H10) -> 649920.2 | I8: =SUM(I10) -> 895514
F9: այդ թվում`
B10: 01 | F10: Օրենսդիր և գործադիր մարմիններ, պետական կառավարում, ֆինանսական և հարկաբյուջետային հարաբերություններ, արտաքին հարաբերություններ | G10: =SUM(G12) -> 309201.4 | H10: =SUM(H12) -> 649920.2 | I10: =SUM(I12) -> 895514
F11: այդ թվում`
C12: 01 | F12: Օրենսդիր և գործադիր մարմիններ, պետական կառավարում | G12: =SUM(G14) -> 309201.4 | H12: =SUM(H14) -> 649920.2 | I12: =SUM(I14) -> 895514
F13: այդ թվում`
D14: 1136 | F14: ՀՀ Վարչապետի լիազորությունների իրականացման ապահովում | G14: =+G17 -> 309201.4 | H14: =+H17 -> 649920.2 | I14: =+I17 -> 895514
F15: այդ թվում`
F16: այդ թվում` ըստ կատարողների
F17: ՀՀ վարչապետի աշխատակազմ | G17: =+G18 -> 309201.4 | H17: =+H18 -> 649920.2 | I17: =+I18 -> 895514
E18: 11019 | F18: =+'1'!C17 -> Ռազմավարական հետազոտությունների իրականացում և առաջարկությունների ներկայացում | G18: =+G20 -> 309201.4 | H18: =+H20 -> 649920.2 | I18: =+I20 -> 895514
F19: այդ թվում` բյուջետային ծախսերի տնտեսագիտական դասակարգման հոդվածներ
F20: ԸՆԴԱՄԵՆԸ ԾԱԽՍԵՐ | G20: =+G21 -> 309201.4 | H20: =+H21 -> 649920.2 | I20: =+I21 -> 895514
F21: ԸՆԹԱՑԻԿ ԾԱԽՍԵՐ | G21: =+G22 -> 309201.4 | H21: =+H22 -> 649920.2 | I21: =+I22 -> 895514
F22: ԴՐԱՄԱՇՆՈՐՀՆԵՐ | G22: =G23+G25 -> 309201.4 | H22: =H23+H25 -> 649920.2 | I22: =I23+I25 -> 895514
F23: Ընթացիկ դրամաշնորհներ պետական հատվածի այլ մակարդակներին | G23: =+G24 -> 169095.3 | H23: =+H24 -> 506814.1 | I23: =+I24 -> 752407.9
F24: - Ընթացիկ դրամաշնորհներ պետական և համայնքների առևտրային կազմակերպություններին | G24: 169095.3 | H24: 506814.1 | I24: 752407.9
F25: Կապիտալ դրամաշնորհներ պետական հատվածի այլ մակարդակներին | G25: =+G26 -> 140106.1 | H25: =+H26 -> 143106.1 | I25: =+I26 -> 143106.1
F26: - Կապիտալ դրամաշնորհներ պետական և համայնքային առևտրային կազմակերպություններին | G26: 140106.1 | H26: 143106.1 | I26: 143106.1
A27: 11 | F27: ՀԻՄՆԱԿԱՆ ԲԱԺԻՆՆԵՐԻՆ ՉԴԱՍՎՈՂ ՊԱՀՈՒՍՏԱՅԻՆ ՖՈՆԴԵՐ | G27: =SUM(G29) -> -309201.4 | H27: =SUM(H29) -> -649920.2 | I27: =SUM(I29) -> -895514
F28: այդ թվում`
B29: 01 | F29: ՀՀ կառավարության և համայնքների պահուստային ֆոնդ | G29: =SUM(G31) -> -309201.4 | H29: =SUM(H31) -> -649920.2 | I29: =SUM(I31) -> -895514
F30: այդ թվում`
C31: 01 | F31: ՀՀ կառավարության պահուստային ֆոնդ | G31: =SUM(G33) -> -309201.4 | H31: =SUM(H33) -> -649920.2 | I31: =SUM(I33) -> -895514
F32: այդ թվում`
D33: 1139 | F33: ՀՀ կառավարության պահուստային ֆոնդ | G33: =+G35 -> -309201.4 | H33: =+H35 -> -649920.2 | I33: =+I35 -> -895514
F34: այդ թվում`
E35: 11001 | F35: ՀՀ կառավարության պահուստային ֆոնդ | G35: =+G37 -> -309201.4 | H35: =+H37 -> -649920.2 | I35: =+I37 -> -895514
F36: այդ թվում` ըստ կատարողների
F37: ՀՀ կառավարություն | G37: =+G39 -> -309201.4 | H37: =+H39 -> -649920.2 | I37: =+I39 -> -895514
F38: այդ թվում` բյուջետային ծախսերի տնտեսագիտական դասակարգման հոդվածներ
F39: ԸՆԴԱՄԵՆԸ ԾԱԽՍԵՐ | G39: =G40 -> -309201.4 | H39: =H40 -> -649920.2 | I39: =I40 -> -895514
F40: ԸՆԹԱՑԻԿ ԾԱԽՍԵՐ | G40: =+G41 -> -309201.4 | H40: =+H41 -> -649920.2 | I40: =+I41 -> -895514
F41: ԱՅԼ ԾԱԽՍԵՐ | G41: =+G42 -> -309201.4 | H41: =+H42 -> -649920.2 | I41: =+I42 -> -895514
F42: - Պահուստային միջոցներ | G42: =+-G20 -> -309201.4 | H42: =+-H20 -> -649920.2 | I42: =+-I20 -> -895514

Sheet 3
A1: Հավելված N 3 ՀՀ կառավարության 2023 թվականի ապրիլի -ի N -Ն որոշման
A3: ՀԱՅԱՍՏԱՆԻ ՀԱՆՐԱՊԵՏՈՒԹՅԱՆ ԿԱՌԱՎԱՐՈՒԹՅԱՆ 2022 ԹՎԱԿԱՆԻ ԴԵԿՏԵՄԲԵՐԻ 29-Ի N 2111-Ն ՈՐՈՇՄԱՆ N 9 ՀԱՎԵԼՎԱԾԻ N 9.3 ԵՎ N 9.1 ՀԱՎԵԼՎԱԾԻ N 9.1.3 ԱՂՅՈՒՍԱԿՆԵՐՈՒՄ ԿԱՏԱՐՎՈՂ ՓՈՓՈԽՈՒԹՅՈՒՆԸ ԵՎ ԼՐԱՑՈՒՄԸ
A4: ՀՀ վարչապետի աշխատակազմ
A5: ՄԱՍ 2. ՊԵՏԱԿԱՆ ՄԱՐՄՆԻ ԳԾՈՎ ԱՐԴՅՈՒՆՔԱՅԻՆ (ԿԱՏԱՐՈՂԱԿԱՆ) ՑՈՒՑԱՆԻՇՆԵՐԸ
A7: Ծրագրի դասիչը | B7: Ծրագրի անվանումը
A8: 1136 | B8: ՀՀ Վարչապետի լիազորությունների իրականացման ապահովում
A10: Ծրագրի միջոցառումները
A12: Ծրագրի դասիչը` | B12: 1136 | C12: Ցուցանիշների փոփոխությունը (ավելացումները նշված են դրական նշանով)
A13: Միջոցառման դասիչը` | B13: =+'1'!B16 -> 11019 | C13: Առաջին կիսամյակ | D13: Ինն ամիս | E13: Տարի
A14: Միջոցառման անվանումը` | B14: =+'1'!C17 -> Ռազմավարական հետազոտությունների իրականացում և առաջարկությունների ներկայացում
A15: Նկարագրությունը` | B15: =+'1'!C19 -> Ռազմավարական հետազոտությունների իրականացում և առաջարկությունների ներկայացում
A16: Միջոցառման տեսակը` | B16: =+'1'!C21 -> Ծառայությունների մատուցում
A17: Միջոցառումն իրականացնողի անվանումը | B17: Մասնագիտացված կազմակերպություն
A18: Արդյունքի չափորոշիչներ
A19: Միջոցառման վրա կատարվող ծախսը (հազար դրամ) | C19: =+'2'!G18 -> 309201.4 | D19: =+'2'!H18 -> 649920.2 | E19: =+'2'!I18 -> 895514
A22: ՀԱՅԱՍՏԱՆԻ ՀԱՆՐԱՊԵՏՈՒԹՅԱՆ ԿԱՌԱՎԱՐՈՒԹՅԱՆ 2022 ԹՎԱԿԱՆԻ ԴԵԿՏԵՄԲԵՐԻ 29-Ի N 2111-Ն ՈՐՈՇՄԱՆ N 9 ՀԱՎԵԼՎԱԾԻ N 9.47 ԵՎ N 9.1 ՀԱՎԵԼՎԱԾԻ N 9.1.58 ԱՂՅՈՒՍԱԿՆԵՐՈՒՄ ԿԱՏԱՐՎՈՂ ՓՈՓՈԽՈՒԹՅՈՒՆԸ
A23: ՀՀ կառավարություն
A24: ՄԱՍ 2. ՊԵՏԱԿԱՆ ՄԱՐՄՆԻ ԳԾՈՎ ԱՐԴՅՈՒՆՔԱՅԻՆ (ԿԱՏԱՐՈՂԱԿԱՆ) ՑՈՒՑԱՆԻՇՆԵՐԸ
A26: Ծրագրի դասիչը | B26: Ծրագրի անվանումը
A27: 1139 | B27: ՀՀ կառավարության պահուստային ֆոնդ
A29: Ծրագրի միջոցառումները
A31: Ծրագրի դասիչը` | B31: 1139 | C31: Ցուցանիշների փոփոխությունը (նվազեցումները նշված են փակագծերում)
A32: Միջոցառման դասիչը` | B32: 11001 | C32: Առաջին կիսամյակ | D32: Ինն ամիս | E32: Տարի
A33: Միջոցառման անվանումը` | B33: ՀՀ կառավարության պահուստային ֆոնդ
A34: Նկարագրությունը` | B34: ՀՀ պետական բյուջեում նախատեսված ելքերի լրացուցիչ ֆինանսավորման, պետական բյուջեում չկանխատեսված ելքերի, ինչպես նաև բյուջետային երաշխիքների ապահովման ելքերի ֆինանսավորման ապահովում
A35: Միջոցառման տեսակը` | B35: Ծառայությունների մատուցում
A36: Միջոցառումն իրականացնողի անվանումը | B36: ՀՀ կառավարություն
A37: Արդյունքի չափորոշիչներ
A38: Միջոցառման վրա կատարվող ծախսը (հազար դրամ) | C38: =+'2'!G35 -> -309201.4 | D38: =+'2'!H35 -> -649920.2 | E38: =+'2'!I35 -> -895514
