Workbook
Name \A: #REF!
Name \A: #REF!
Name \A: #REF!
Name \A: #REF!
Name \A: #REF!
Name _tab10: #REF!
Name _tab10: #REF!
Name _tab11: #REF!
Name _tab11: #REF!
Name _tab12: #REF!
Name _tab12: #REF!
Name _tab13: #REF!
Name _tab13: #REF!
Name _tab14: #REF!
Name _tab14: #REF!
Name _tab15: #REF!
Name _tab15: #REF!
Name _tab16: #REF!
Name _tab16: #REF!
Name _tab17: #REF!
Name _tab17: #REF!
Name _tab18: #REF!
Name _tab18: #REF!
Name _tab19: #REF!
Name _tab19: #REF!
Name _tab20: #REF!
Name _tab20: #REF!
Name _tab21: #REF!
Name _tab21: #REF!
Name _tab22: #REF!
Name _tab22: #REF!
Name _tab23: #REF!
Name _tab23: #REF!
Name _tab24: #REF!
Name _tab24: #REF!
Name _tab5: #REF!
Name _tab5: #REF!
Name _tab6: #REF!
Name _tab6: #REF!
Name _tab7: #REF!
Name _tab7: #REF!
Name _tab8: #REF!
Name _tab8: #REF!
Name _tab9: #REF!
Name _tab9: #REF!
Name AgencyCode: #REF!
Name AgencyCode: #REF!
Name AgencyCode: #REF!
Name AgencyCode: #REF!
Name AgencyCode: #REF!
Name AgencyName: #REF!
Name AgencyName: #REF!
Name AgencyName: #REF!
Name ampop_krchat: #REF!
Name ampop_krchat: #REF!
Name ampop_krchat: #REF!
Name Armata: #REF!
Name Armata: #REF!
Name Armata: #REF!
Name BOP: #REF!

Sheet N1
A1: Հավելված N1 ՀՀ կառավարության 2023 թվականի____________ի N _____-Ն որոշման
A2: «ՀԱՅԱՍՏԱՆԻ ՀԱՆՐԱՊԵՏՈՒԹՅԱՆ 2022 ԹՎԱԿԱՆԻ ՊԵՏԱԿԱՆ ԲՅՈՒՋԵԻ ՄԱՍԻՆ» ՀԱՅԱՍՏԱՆԻ ՀԱՆՐԱՊԵՏՈՒԹՅԱՆ OՐԵՆՔԻ 2-ՐԴ ՀՈԴՎԱԾԻ ԱՂՅՈՒՍԱԿՈՒՄ ԿԱՏԱՐՎՈՂ ՓՈՓՈԽՈՒԹՅՈՒՆԸ
B3: (հազ. դրամ)
B4: Ցուցանիշների փոփոխություն (գումարների ավելացումը նշված է դրական նշանով)
A5: Եկամուտների գծով | B5: 15942.896
A6: Ծախսերի գծով | B6: 15942.896
A7: Դեֆիցիտը (պակասուրդը) | B7: =B5-B6 -> 0

Sheet N2
A1: Հավելված N2 ՀՀ կառավարության 2023 թվականի____________ի N _____-Ն որոշման
A2: «ՀԱՅԱՍՏԱՆԻ ՀԱՆՐԱՊԵՏՈՒԹՅԱՆ 2023 ԹՎԱԿԱՆԻ ՊԵՏԱԿԱՆ ԲՅՈՒՋԵԻ ՄԱՍԻՆ» ՀԱՅԱՍՏԱՆԻ ՀԱՆՐԱՊԵՏՈՒԹՅԱՆ OՐԵՆՔԻ 6-ՐԴ ՀՈԴՎԱԾԻ ԱՂՅՈՒՍԱԿՈՒՄ ԵՎ ՀԱՅԱՍՏԱՆԻ ՀԱՆՐԱՊԵՏՈՒԹՅԱՆ ԿԱՌԱՎԱՐՈՒԹՅԱՆ 2022 ԹՎԱԿԱՆԻ ԴԵԿՏԵՄԲԵՐԻ 29-Ի N2111-Ն ՈՐՈՇՄԱՆ N 2 ՀԱՎԵԼՎԱԾՈՒՄ ԿԱՏԱՐՎՈՂ ՓՈՓՈԽՈՒԹՅՈՒՆԸ
D4: (հազ. դրամ)
A5: Պետական բյուջեի դեֆիցիտի ֆինանսավորման աղբյուրներն ու դրանց տարրերի անվանումները | B5: Ցուցանիշների փոփոխությունը (ծախսերի ավելացումները նշված են դրական նշանով)
B6: Առաջին կիսամյակ | C6: Ինն ամիս | D6: Տարի
A7: ԸՆԴԱՄԵՆԸ | B7: =B9+B10 -> 15942.896 | C7: =C9+C10 -> 15942.896 | D7: =D9+D10 -> 15942.896
A8: այդ թվում՝
A9: Հարկային եկամուտներ և պետական տուրքեր | B9: 6887.206 | C9: =B9 -> 6887.206 | D9: =C9 -> 6887.206
A10: Այլ եկամուտ | B10: =8249.55+806.14 -> 9055.69 | C10: =B10 -> 9055.69 | D10: =C10 -> 9055.69

Sheet N3
C1: Հավելված N3 ՀՀ կառավարության 2023 թվականի____________ի N _____-Ն որոշման
A2: «ՀԱՅԱՍՏԱՆԻ ՀԱՆՐԱՊԵՏՈՒԹՅԱՆ 2023 ԹՎԱԿԱՆԻ ՊԵՏԱԿԱՆ ԲՅՈՒՋԵԻ ՄԱՍԻՆ» ՀԱՅԱՍՏԱՆԻ ՀԱՆՐԱՊԵՏՈՒԹՅԱՆ ՕՐԵՆՔԻ N1 ՀԱՎԵԼՎԱԾԻ N2 ԱՂՅՈՒՍԱԿՈՒՄ ԵՎ ՀԱՅԱՍՏԱՆԻ ՀԱՆՐԱՊԵՏՈՒԹՅԱՆ ԿԱՌԱՎԱՐՈՒԹՅԱՆ 2022 ԹՎԱԿԱՆԻ ԴԵԿՏԵՄԲԵՐԻ 29-Ի N2111-Ն ՈՐՈՇՄԱՆ N5 ՀԱՎԵԼՎԱԾԻ N1 ԱՂՅՈՒՍԱԿՈՒՄ ԿԱՏԱՐՎՈՂ ՓՈՓՈԽՈՒԹՅՈՒՆՆԵՐԸ ԵՎ ԼՐԱՑՈՒՄՆԵՐԸ
F3: (հազ. դրամ)
A4: Ծրագրային դասիչը | C4: Բյուջետային հատկացումների գլխավոր կարգադրիչների, ծրագրերի և միջոցառումների | D4: Ցուցանիշների փոփոխությունը (ծախսերի ավելացումները նշված են դրական նշանով)
A5: ծրագիրը | B5: միջոցառումը | C5: անվանումները | D5: Առաջին կիսամյակ | E5: Ինն ամիս | F5: Տարի
C6: ՀՀ շրջակա միջավայրի նախարարություն | D6: =D7 -> 15942.896 | E6: =E7 -> 15942.896 | F6: =F7 -> 15942.896
A7: 1155 | C7: Ծրագրի անվանումը` | D7: =D14 -> 15942.896 | E7: =E14 -> 15942.896 | F7: =F14 -> 15942.896
C8: Բնական պաշարների և բնության հատուկ պահպանվող տարածքների կառավարում և պահպանում
C9: Ծրագրի նպատակը`
C10: Բնական պաշարների և կենսաբազմազանության արդյունավետ կառավարում և պահպանություն
C11: Վերջնական արդյունքի նկարագրությունը`
C12: Բնական պաշարների և կենսաբազմազանության վերարտադրության աճի ապահովում
C13: Ծրագրի միջոցառումներ
B14: 12005 | C14: Միջոցառման անվանումը` | D14: ='N2'!B7 -> 15942.896 | E14: =D14 -> 15942.896 | F14: =E14 -> 15942.896
C15: «Սևան» ազգային պարկ» ՊՈԱԿ-ին աջակցության տրամադրում
C16: Միջոցառման նկարագրությունը`
C17: «Սևան» ազգային պարկ» ՊՈԱԿ-ին աջակցության տրամադրում՝ դատարանի օրինական ուժի մեջ մտած դատական ակտով սահմանված պարտավորության մարման նպատակով
C18: Միջոցառման տեսակը
C19: Տրանսֆերտների տրամադրում

Sheet N4 
F1: Հավելված N4 ՀՀ կառավարության 2023 թվականի____________ի N _____-Ն որոշման
A3: ՀԱՅԱՍՏԱՆԻ ՀԱՆՐԱՊԵՏՈՒԹՅԱՆ ԿԱՌԱՎԱՐՈՒԹՅԱՆ 2022 ԹՎԱԿԱՆԻ ԴԵԿՏԵՄԲԵՐԻ 29-Ի N2111-Ն ՈՐՈՇՄԱՆ N3 ԵՎ N4 ՀԱՎԵԼՎԱԾՆԵՐՈՒՄ ԿԱՏԱՐՎՈՂ ՓՈՓՈԽՈՒԹՅՈՒՆՆԵՐԸ ԵՎ ԼՐԱՑՈՒՄՆԵՐԸ
H4: (հազ. դրամ)
A5: Բաժին | B5: Խումբ | C5: Դաս | D5: Ծրագրային դասիչը | F5: Բյուջետային հատկացումների գլխավոր կարգադրիչների, ծրագրերի, միջոցառումների և միջոցառումները կատարող պետական մարմինների անվանումները | G5: Ցուցանիշների փոփոխությունը (ծախսերի ավելացումները նշված են դրական նշանով)
D6: Ծրագիր | E6: Միջոցառում | G6: Առաջին կիսամյակ | H6: Ինն ամիս | I6: Տարի
A7: 05 | F7: ՇՐՋԱԿԱ ՄԻՋԱՎԱՅՐԻ ՊԱՇՏՊԱՆՈՒԹՅՈՒՆ այդ թվում` | G7: =G8 -> 15942.896 | H7: =H8 -> 15942.896 | I7: =I8 -> 15942.896
B8: 06 | F8: Շրջակա միջավայրի պաշտպանություն (այլ դասերին չպատկանող) այդ թվում` | G8: =G9 -> 15942.896 | H8: =H9 -> 15942.896 | I8: =I9 -> 15942.896
C9: 01 | F9: Շրջակա միջավայրի պաշտպանություն (այլ դասերին չպատկանող) այդ թվում` | G9: =G10 -> 15942.896 | H9: =H10 -> 15942.896 | I9: =I10 -> 15942.896
F10: ՀՀ շրջակա միջավայրի նախարարություն այդ թվում` | G10: =G11 -> 15942.896 | H10: =H11 -> 15942.896 | I10: =I11 -> 15942.896
D11: 1155 | F11: Շրջակա միջավայրի վրա ազդեցության գնահատում և մոնիթորինգ | G11: =G12 -> 15942.896 | H11: =H12 -> 15942.896 | I11: =I12 -> 15942.896
E12: 12005 | F12: «Սևան» ազգային պարկ» ՊՈԱԿ-ին աջակցության տրամադրում | G12: =G14 -> 15942.896 | H12: =H14 -> 15942.896 | I12: =I14 -> 15942.896
F13: այդ թվում` ըստ կատարողների
F14: ՀՀ շրջակա միջավայրի նախարարություն | G14: =+G16 -> 15942.896 | H14: =+H16 -> 15942.896 | I14: =+I16 -> 15942.896
F15: այդ թվում` բյուջետային ծախսերի տնտեսագիտական դասակարգման հոդվածներ
F16: ԸՆԴԱՄԵՆԸ ԾԱԽՍԵՐ | G16: =G17 -> 15942.896 | H16: =H17 -> 15942.896 | I16: =I17 -> 15942.896
F17: ԸՆԹԱՑԻԿ ԾԱԽՍԵՐ | G17: =G18 -> 15942.896 | H17: =H18 -> 15942.896 | I17: =I18 -> 15942.896
F18: ԴՐԱՄԱՇՆՈՐՀՆԵՐ | G18: =G19 -> 15942.896 | H18: =H19 -> 15942.896 | I18: =I19 -> 15942.896
F19: Այլ ընթացիկ դրամաշնորհներ | G19: =SUM(G20:G20) -> 15942.896 | H19: =SUM(H20:H20) -> 15942.896 | I19: =SUM(I20:I20) -> 15942.896
F20: - Այլ ընթացիկ դրամաշնորհներ | G20: ='N3'!D14 -> 15942.896 | H20: =G20 -> 15942.896 | I20: =H20 -> 15942.896

Sheet N5 
F1: Հավելված N5 ՀՀ կառավարության 2023 թվականի____________ի N _____-Ն որոշման
A2: ՀԱՅԱՍՏԱՆԻ ՀԱՆՐԱՊԵՏՈՒԹՅԱՆ ԿԱՌԱՎԱՐՈՒԹՅԱՆ 2022 ԹՎԱԿԱՆԻ ԴԵԿՏԵՄԲԵՐԻ 29-Ի N2111-Ն ՈՐՈՇՄԱՆ N5 ՀԱՎԵԼՎԱԾԻ N7 ԱՂՅՈՒՍԱԿՈՒՄ ԿԱՏԱՐՎՈՂ ՓՈՓՈԽՈՒԹՅՈՒՆՆԵՐԸ ԵՎ ԼՐԱՑՈՒՄԸ
G3: (հազար դրամ)
A4: Ծրագրային դասիչը | C4: Բյուջետային հատկացումների գլխավոր կարգադրիչների, ծրագրերի, միջոցառումների, ծախսային ուղղությունների անվանումները | F4: Միջոցառումները կատարող պետական մարմինների և դրամաշնորհ ստացող տնտեսվարող սուբյեկտների անվանումները | G4: Ցուցանիշների փոփոխությունը (ավելացումները նշված են դրական նշանով)
A5: ծրագիրը | B5: միջոցառումը | G5: Տարի
A6: ՀՀ շրջակա միջավայրի նախարարություն | G6: =G7 -> 15942.896
A7: 1155 | B7: Բնական պաշարների և բնության հատուկ պահպանվող տարածքների կառավարում և պահպանում | G7: =G8 -> 15942.896
B8: 12005 | C8: ='N3'!C15 -> «Սևան» ազգային պարկ» ՊՈԱԿ-ին աջակցության տրամադրում | F8: ՀՀ շրջակա միջավայրի նախարարություն | G8: =G9 -> 15942.896
F9: «Սևան» ազգային պարկ» ՊՈԱԿ | G9: ='N4 '!I20 -> 15942.896

Sheet  N6
B1: Հավելված N6 ՀՀ կառավարության 2023 թվականի____________ի N _____-Ն որոշման
A3: ՀԱՅԱՍՏԱՆԻ ՀԱՆՐԱՊԵՏՈՒԹՅԱՆ ԿԱՌԱՎԱՐՈՒԹՅԱՆ 2022 ԹՎԱԿԱՆԻ ԴԵԿՏԵՄԲԵՐԻ 29-Ի N 2111-Ն ՈՐՈՇՄԱՆ NN 9 ԵՎ 9.1 ՀԱՎԵԼՎԱԾՆԵՐԻ NN 9.12 ԵՎ 9.1.12 ԱՂՅՈՒՍԱԿՆԵՐՈՒՄ ԿԱՏԱՐՎՈՂ ՓՈՓՈԽՈՒԹՅՈՒՆՆԵՐԸ ԵՎ ԼՐԱՑՈՒՄՆԵՐԸ
A4: ՀՀ շրջակա միջավայրի նախարարություն
A5: ՄԱՍ 1.2
A6: Ծրագրի դասիչը | B6: Ծրագրի անվանումը
A7: 1155 | B7: ='N3'!C8 -> Բնական պաշարների և բնության հատուկ պահպանվող տարածքների կառավարում և պահպանում
A9: Ծրագրի միջոցառումները
A10: Ծրագրի դասիչը` | B10: 1155 | C10: Ցուցանիշների փոփոխությունը (ավելացումները նշված են դրական նշանով)
A11: Միջոցառման դասիչը` | B11: 12005 | C11: Առաջին կիսամյակ | D11: Ինն ամիս | E11: Տարի
A12: Միջոցառման անվանումը` | B12: ='N3'!C15 -> «Սևան» ազգային պարկ» ՊՈԱԿ-ին աջակցության տրամադրում
A13: Նկարագրությունը` | B13: ='N3'!C17 -> «Սևան» ազգային պարկ» ՊՈԱԿ-ին աջակցության տրամադրում՝ դատարանի օրինական ուժի մեջ մտած դատական ակտով սահմանված պարտավորության մարման նպատակով
A14: Միջոցառման տեսակը` | B14: ='N3'!C19 -> Տրանսֆերտների տրամադրում
A15: Շահառուների ընտրության չափանիշները՛ | B15: Դատարանի օրինական ուժի մեջ մտած դատական ակտով սահմանված «Սևան» ազգային պարկ» ՊՈԱԿ
A16: Արդյունքի չափորոշիչներ
A17: Դատարանի օրինական ուժի մեջ մտած դատական ակտով սահմանված պարտավորության մարում, միավոր | C17: 1 | D17: 1 | E17: 1
A18: Միջոցառման վրա կատարվող ծախսը (հազար դրամ) | C18: 15942.896 | D18: 15942.896 | E18: ='N5 '!G9 -> 15942.896

Sheet N7
C1: Հավելված N7 ՀՀ կառավարության 2023 թվականի____________ի N _____-Ն որոշման
A3: ՀԱՅԱՍՏԱՆԻ ՀԱՆՐԱՊԵՏՈՒԹՅԱՆ ԿԱՌԱՎԱՐՈՒԹՅԱՆ 2022 ԹՎԱԿԱՆԻ ԴԵԿՏԵՄԲԵՐԻ 29-Ի N2111-Ն ՈՐՈՇՄԱՆ N6 ՀԱՎԵԼՎԱԾՈՒՄ ԿԱՏԱՐՎՈՂ ՓՈՓՈԽՈՒԹՅՈՒՆՆԵՐԸ ԵՎ ԼՐԱՑՈՒՄՆԵՐԸ
E4: հազար դրամներով
B5: Եկամտատեսակը | C5: Գանձման համար պատասխանատու պետական կառավարման մարմին(ներ)ը | D5: Ցուցանիշների փոփոխությունը (ավելացումները նշված են դրական նշանով)
D6: I կիսամյակ | E6: Ինն ամիս | F6: Տարի
B7: Ա | C7: 1 | D7: 3 | E7: 4 | F7: 5
A8: Պետական տուրք, ընդամենը | D8: =D10 -> 6887.206 | E8: =E10 -> 6887.206 | F8: =F10 -> 6887.206
A9: այդ թվում`
A10: 1 | B10: Դատարան տրվող հայցադիմումների, դիմումների, դատարանի դատական ակտերի դեմ վերաքննիչ և վճռաբեկ բողոքների համար, ինչպես նաև դատարանի կողմից տրվող փաստաթղթերի պատճեններ (կրկնօրինակներ), գործում առկա լուսանկարների (լուսաժապավենների), ձայնագրությունների, տեսագրությունների և դրանց էլեկտրոնային կրիչների բնօրինակից պատճենահանված կրիչ և դատական նիստի համակարգչային ձայնագրման կրկնօրինակ տալու համար | C10: ՀՀ դատական դեպարտամենտ | D10: ='N2'!D9 -> 6887.206 | E10: =D10 -> 6887.206 | F10: =E10 -> 6887.206
A11: Այլ եկամուտներ, ընդամենը | D11: =D13 -> 9055.69 | E11: =E13 -> 9055.69 | F11: =F13 -> 9055.69
B12: այդ թվում`
A13: 5.6 | B13: Ապրանքների մատակարարումից և ծառայությունների մատուցումից եկամուտներ | D13: =D14 -> 9055.69 | E13: =E14 -> 9055.69 | F13: =F14 -> 9055.69
A14: 5.6.2 | C14: ՀՀ արդարադատության նախարարություն | D14: ='N2'!D10 -> 9055.69 | E14: =D14 -> 9055.69 | F14: =E14 -> 9055.69
