Workbook
Name a: #REF!
Name a: #REF!
Name AgencyCode: #REF!
Name AgencyCode: #REF!
Name AgencyCode: #REF!
Name AgencyCode: #REF!
Name AgencyCode: #REF!
Name AgencyCode: #REF!
Name AgencyName: #REF!
Name AgencyName: #REF!
Name AgencyName: #REF!
Name davit: #REF!
Name davit: #REF!
Name Functional1: #REF!
Name Functional1: #REF!
Name Functional1: #REF!
Name ggg: #REF!
Name ggg: #REF!
Name PANature: #REF!
Name PANature: #REF!
Name PANature: #REF!
Name PAType: #REF!
Name PAType: #REF!
Name PAType: #REF!
Name Performance2: #REF!
Name Performance2: #REF!
Name Performance2: #REF!
Name PerformanceType: #REF!
Name PerformanceType: #REF!
Name PerformanceType: #REF!
Name Հավելված: #REF!
Name Հավելված: #REF!
Name Մաս: #REF!
Name Մաս: #REF!
Name շախմատիստ: #REF!
Name շախմատիստ: #REF!

Sheet Հավելված N 1
E1: Հավելված N 1
E2: ՀՀ կառավարության 2023 թվականի
E3: ______________ ի ___Ն որոշման
A6: «ՀԱՅԱUՏԱՆԻ ՀԱՆՐԱՊԵՏՈՒԹՅԱՆ 2023 ԹՎԱԿԱՆԻ ՊԵՏԱԿԱՆ ԲՅՈՒՋԵԻ ՄԱUԻՆ» ՀԱՅԱUՏԱՆԻ ՀԱՆՐԱՊԵՏՈՒԹՅԱՆ OՐԵՆՔԻ N 1 ՀԱՎԵԼՎԱԾԻ N 2 ԱՂՅՈՒՍԱԿՈՒՄ ԿԱՏԱՐՎՈՂ ՎԵՐԱԲԱՇԽՈՒՄԸ ԵՎ ՀԱՅԱՍՏԱՆԻ ՀԱՆՐԱՊԵՏՈՒԹՅԱՆ ԿԱՌԱՎԱՐՈՒԹՅԱՆ 2022 ԹՎԱԿԱՆԻ ԴԵԿՏԵՄԲԵՐԻ 29-Ի N 2111-Ն ՈՐՈՇՄԱՆ N 5 ՀԱՎԵԼՎԱԾԻ N 1 ԱՂՅՈՒՍԱԿՈՒՄ ԿԱՏԱՐՎՈՂ ՓՈՓՈԽՈՒԹՅՈՒՆՆԵՐԸ ԵՎ ԼՐԱՑՈՒՄՆԵՐԸ
F8: հազ. դրամներով
A9: Ծրագրային դասիչը | C9: Բյուջետային հատկացումների գլխավոր կարգադրիչների, ծրագրերի և միջոցառումների անվանումները | D9: Ցուցանիշների փոփոխությունը (ավելացումները նշված են դրական նշանով, իսկ նվազեցումները փակագծերում)
A10: Ծրագիր | B10: Միջոցառում | D10: Առաջին կիսամյակ | E10: Ինն ամիս | F10: Տարի
A11: 1192 | C11: ԸՆԴԱՄԵՆԸ | D11: =+D13+D34 -> 0 | E11: =+E13+E34 -> 0 | F11: =+F13+F34 -> 0
C12: այդ թվում
C13: ՀՀ ԿՐԹՈՒԹՅԱՆ, ԳԻՏՈՒԹՅԱՆ, ՄՇԱԿՈՒՅԹԻ ԵՎ ՍՊՈՐՏԻ ՆԱԽԱՐԱՐՈՒԹՅՈՒՆ | D13: =+D15 -> 0 | E13: =+E15 -> 0 | F13: =+F15 -> 0
A14: 1183 | C14: Ծրագրի անվանումը`
C15: Մասսայական սպորտ | D15: =+D22+D28 -> 0 | E15: =+E22+E28 -> 0 | F15: =+F22+F28 -> 0
C16: Ծրագրի նպատակը`
C17: Բնակչության շրջանում առողջ ապրելակերպի արմատավորում, անհատի բազմակողմանի ու ներդաշնակ զարգացման գործում ֆիզիկական կուլտուրայի և սպորտի դերի բարձրացում
C18: Վերջնական արդյունքի նկարագրությունը`
C19: Սպորտի նկատմամբ հետաքրքրվածության և մասնակցության ընդլայնում
C20: Ծրագրի միջոցառումներ
B21: 32003 | C21: Միջոցառման անվանումը`
C22: Փոքրաքանակ երեխաներով համալրված հանրակրթական դպրոցների և կրթահամալիրներ մոդուլային շենքերի կառուցում | D22: =+'Հավելված N 2'!G24 -> -25440 | E22: =+'Հավելված N 2'!H24 -> -432690 | F22: =+'Հավելված N 2'!I24 -> -440290
C23: Միջոցառման նկարագրությունը`
C24: Կրթական հաստատությունների կառուցում համայնքային կենտրոնների մոդելով
C25: Միջոցառման տեսակը
C26: Այլ պետական կազմակերպությունների կողմից օգտագործվող ոչ ֆինանսական ակտիվների հետ գործառնություններ
B27: 32013 | C27: Միջոցառման անվանումը`
C28: ՀՀ մարզերում կրթական որակյալ ծառայությունների հասանելիության ապահովման ծրագրի շրջանակներում կրթական կենտրոնների ստեղծում | D28: =+'Հավելված N 2'!G42 -> 25440 | E28: =+'Հավելված N 2'!H42 -> 432690 | F28: =+'Հավելված N 2'!I42 -> 440290
C29: Միջոցառման նկարագրությունը`
C30: ՀՀ մարզերում կրթական որակյալ ծառայությունների հասանելիության ապահովման ծրագրի շրջանակներում հանրակրթական և նախադպրոցական կրթության հասանելիության ապահովման նպատակով կրթական կենտրոնների կառուցում
C31: Միջոցառման տեսակը
C32: Այլ պետական կազմակերպությունների կողմից օգտագործվող ոչ ֆինանսական ակտիվների հետ գործառնություններ
C34: ՀՀ ԿԱՌԱՎԱՐՈՒԹՅՈՒՆ | D34: =+D36 -> 0 | E34: =+E36 -> 0 | F34: =+F36 -> 0
A35: 1139 | C35: Ծրագրի անվանումը`
C36: ՀՀ կառավարության պահուստային ֆոնդ | D36: =+D42+D48 -> 0 | E36: =+E42+E48 -> 0 | F36: =+F42+F48 -> 0
C37: Ծրագրի նպատակը`
C38: Պետական բյուջեում չկանխատեսված, ինչպես նաև բյուջետային երաշխիքների ապահովման ծախսերի ֆինանսավորման ապահովում
C39: Վերջնական արդյունքի նկարագրությունը`
C40: Պահուստային ֆոնդի կառավարման արդյունավետության և թափանցիկության ապահովում
B41: 11001 | C41: Միջոցառման անվանումը`
C42: ՀՀ կառավարության պահուստային ֆոնդ | D42: =+'Հավելված N 2'!G63 -> 25440 | E42: =+'Հավելված N 2'!H63 -> 432690 | F42: =+'Հավելված N 2'!I63 -> 440290
C43: Միջոցառման նկարագրությունը`
C44: ՀՀ պետական բյուջեում նախատեսված ելքերի լրացուցիչ ֆինանսավորման՝ պետական բյուջեում չկանխատեսված ելքերի, ինչպես նաև բյուջետային երաշխիքների ապահովման ելքերի ֆինանսավորման ապահովում
C45: Միջոցառման տեսակը
C46: Ծառայությունների մատուցում
B47: 11001 | C47: Միջոցառման անվանումը`
C48: ՀՀ կառավարության պահուստային ֆոնդ | D48: =+'Հավելված N 2'!G72 -> -25440 | E48: =+'Հավելված N 2'!H72 -> -432690 | F48: =+'Հավելված N 2'!I72 -> -440290
C49: Միջոցառման նկարագրությունը`
C50: ՀՀ պետական բյուջեում նախատեսված ելքերի լրացուցիչ ֆինանսավորման՝ պետական բյուջեում չկանխատեսված ելքերի, ինչպես նաև բյուջետային երաշխիքների ապահովման ելքերի ֆինանսավորման ապահովում
C51: Միջոցառման տեսակը
C52: Ծառայությունների մատուցում

Sheet Հավելված N 2
F1: Հավելված N 2
F2: ՀՀ կառավարության 2023 թվականի
F3: ______________ ի ___Ն որոշման
A6: ՀԱՅԱՍՏԱՆԻ ՀԱՆՐԱՊԵՏՈՒԹՅԱՆ ԿԱՌԱՎԱՐՈՒԹՅԱՆ 2022 ԹՎԱԿԱՆԻ ԴԵԿՏԵՄԲԵՐԻ 29-Ի N2111-Ն ՈՐՈՇՄԱՆ N 3 ԵՎ N 4 ՀԱՎԵԼՎԱԾՆԵՐՈՒՄ ԿԱՏԱՐՎՈՂ ՓՈՓՈԽՈՒԹՅՈՒՆՆԵՐԸ ԵՎ ԼՐԱՑՈՒՄՆԵՐԸ
I8: հազ. դրամներով
A9: Գործառական դասիչը | D9: Ծրագրային դասիչը | F9: Բյուջետային հատկացումների գլխավոր կարգադրիչների, ծրագրերի, միջոցառումների և միջոցառումները կատարող պետական մարմինների անվանումները | G9: Ցուցանիշների փոփոխությունը (ավելացումները նշված են դրական նշանով, իսկ նվազեցումները փակագծերում)
A10: Բաժին | B10: Խումբ | C10: Դաս | D10: Ծրագիր | E10: Միջոցառում | G10: Առաջին կիսամյակ | H10: Ինն ամիս | I10: Տարի
F11: ԸՆԴԱՄԵՆԸ | G11: =+G13+G52 -> 0 | H11: =+H13+H52 -> 0 | I11: =+I13+I52 -> 0
F12: այդ թվում
F13: ՀՀ ԿՐԹՈՒԹՅԱՆ, ԳԻՏՈՒԹՅԱՆ, ՄՇԱԿՈՒՅԹԻ ԵՎ ՍՊՈՐՏԻ ՆԱԽԱՐԱՐՈՒԹՅՈՒՆ | G13: =+G14 -> 0 | H13: =+H14 -> 0 | I13: =+I14 -> 0
A14: 09 | F14: ԿՐԹՈՒԹՅՈՒՆ | G14: =+G16 -> 0 | H14: =+H16 -> 0 | I14: =+I16 -> 0
F15: այդ թվում`
B16: 06 | F16: Կրթությանը տրամադրվող օժանդակ ծառայություններ | G16: =+G18 -> 0 | H16: =+H18 -> 0 | I16: =+I18 -> 0
F17: այդ թվում`
C18: 01 | F18: Կրթությանը տրամադրվող օժանդակ ծառայություններ | G18: =+G20 -> 0 | H18: =+H20 -> 0 | I18: =+I20 -> 0
F19: այդ թվում`
F20: ՀՀ կրթության, գիտության, մշակույթի և սպորտի նախարարություն | G20: =+G22 -> 0 | H20: =+H22 -> 0 | I20: =+I22 -> 0
F21: այդ թվում`
D22: 1183 | E22: Ապահով դպրոց | G22: =+G24+G42 -> 0 | H22: =+H24+H42 -> 0 | I22: =+I24+I42 -> 0
F23: այդ թվում`
E24: 32003 | F24: Փոքրաքանակ երեխաներով համալրված հանրակրթական դպրոցների և կրթահամալիրների մոդուլային շենքերի կառուցում | G24: =+G26+G35 -> -25440 | H24: =+H26+H35 -> -432690 | I24: =+I26+I35 -> -440290
F25: այդ թվում` ըստ կատարողների
F26: ՀՀ քաղաքաշինության կոմիտե | G26: =+G28 -> -142256 | H26: =+H28 -> -397190 | I26: =+I28 -> -752830
F27: այդ թվում՝ բյուջետային ծախսերի տնտեսագիտական դասակարգման հոդվածներ
F28: ԸՆԴԱՄԵՆԸ ԾԱԽՍԵՐ | G28: =+G29 -> -142256 | H28: =+H29 -> -397190 | I28: =+I29 -> -752830
F29: ՈՉ ՖԻՆԱՆՍԱԿԱՆ ԱԿՏԻՎՆԵՐԻ ԳԾՈՎ ԾԱԽՍԵՐ | G29: =+G30 -> -142256 | H29: =+H30 -> -397190 | I29: =+I30 -> -752830
F30: ՀԻՄՆԱԿԱՆ ՄԻՋՈՑՆԵՐ | G30: =+G31+G33 -> -142256 | H30: =+H31+H33 -> -397190 | I30: =+I31+I33 -> -752830
F31: ՇԵՆՔԵՐ ԵՎ ՇԻՆՈՒԹՅՈՒՆՆԵՐ | G31: =+G32 -> -142256 | H31: =+H32 -> -355640 | I31: =+I32 -> -711280
F32: - Շենքերի և շինությունների շինարարություն | G32: =+SUM('Հավելված N 4'!E17:E18) -> -142256 | H32: =+SUM('Հավելված N 4'!F17:F18) -> -355640 | I32: =+SUM('Հավելված N 4'!G17:G18) -> -711280
F33: ԱՅԼ ՀԻՄՆԱԿԱՆ ՄԻՋՈՑՆԵՐ | G33: =+G34 -> 0 | H33: =+H34 -> -41550 | I33: =+I34 -> -41550
F34: - Նախագծահետազոտական ծախսեր | G34: =+SUM('Հավելված N 4'!E19:E29) -> 0 | H34: =+SUM('Հավելված N 4'!F19:F29) -> -41550 | I34: =+SUM('Հավելված N 4'!G19:G29) -> -41550
F35: ՀՀ կառավարություն | G35: =+G37 -> 116816 | H35: =+H37 -> -35500 | I35: =+I37 -> 312540
F36: այդ թվում՝ բյուջետային ծախսերի տնտեսագիտական դասակարգման հոդվածներ
F37: ԸՆԴԱՄԵՆԸ ԾԱԽՍԵՐ | G37: =+G38 -> 116816 | H37: =+H38 -> -35500 | I37: =+I38 -> 312540
F38: ՈՉ ՖԻՆԱՆՍԱԿԱՆ ԱԿՏԻՎՆԵՐԻ ԳԾՈՎ ԾԱԽՍԵՐ | G38: =+G39 -> 116816 | H38: =+H39 -> -35500 | I38: =+I39 -> 312540
F39: ՀԻՄՆԱԿԱՆ ՄԻՋՈՑՆԵՐ | G39: =+G40+G51 -> 116816 | H39: =+H40+H51 -> -35500 | I39: =+I40+I51 -> 312540
F40: ՇԵՆՔԵՐ ԵՎ ՇԻՆՈՒԹՅՈՒՆՆԵՐ | G40: =+G41 -> 116816 | H40: =+H41 -> -35500 | I40: =+I41 -> 312540
F41: - Շենքերի և շինությունների շինարարություն | G41: =+'Հավելված N 4'!E30 -> 116816 | H41: =+'Հավելված N 4'!F30 -> -35500 | I41: =+'Հավելված N 4'!G30 -> 312540
E42: 32013 | F42: ՀՀ մարզերում կրթական որակյալ ծառայությունների հասանելիության ապահովման ծրագրի շրջանակներում կրթական կենտրոնների ստեղծում | G42: =+G44+G51 -> 25440 | H42: =+H44+H51 -> 432690 | I42: =+I44+I51 -> 440290
F43: այդ թվում` ըստ կատարողների
F44: ՀՀ քաղաքաշինության կոմիտե | G44: =+G46 -> 25440 | H44: =+H46 -> 432690 | I44: =+I46 -> 440290
F45: այդ թվում՝ բյուջետային ծախսերի տնտեսագիտական դասակարգման հոդվածներ
F46: ԸՆԴԱՄԵՆԸ ԾԱԽՍԵՐ | G46: =+G47 -> 25440 | H46: =+H47 -> 432690 | I46: =+I47 -> 440290
F47: ՈՉ ՖԻՆԱՆՍԱԿԱՆ ԱԿՏԻՎՆԵՐԻ ԳԾՈՎ ԾԱԽՍԵՐ | G47: =+G48 -> 25440 | H47: =+H48 -> 432690 | I47: =+I48 -> 440290
F48: ՀԻՄՆԱԿԱՆ ՄԻՋՈՑՆԵՐ | G48: =+G49 -> 25440 | H48: =+H49 -> 432690 | I48: =+I49 -> 440290
F49: ԱՅԼ ՀԻՄՆԱԿԱՆ ՄԻՋՈՑՆԵՐ | G49: =+G50 -> 25440 | H49: =+H50 -> 432690 | I49: =+I50 -> 440290
F50: - Նախագծահետազոտական ծախսեր | G50: =+'Հավելված N 4'!E33 -> 25440 | H50: =+'Հավելված N 4'!F33 -> 432690 | I50: =+'Հավելված N 4'!G33 -> 440290
F52: ՀՀ ԿԱՌԱՎԱՐՈՒԹՅՈՒՆ | G52: =+G53 -> 0 | H52: =+H53 -> 0 | I52: =+I53 -> 0
A53: 11 | F53: ՀԻՄՆԱԿԱՆ ԲԱԺԻՆՆԵՐԻՆ ՉԴԱՍՎՈՂ ՊԱՀՈՒՍՏԱՅԻՆ ՖՈՆԴԵՐ | G53: =+G55 -> 0 | H53: =+H55 -> 0 | I53: =+I55 -> 0
F54: այդ թվում`
B55: 01 | F55: ՀՀ կառավարության և համայնքների պահուստային ֆոնդ | G55: =+G57 -> 0 | H55: =+H57 -> 0 | I55: =+I57 -> 0
F56: այդ թվում`
C57: 01 | F57: ՀՀ կառավարության պահուստային ֆոնդ | G57: =+G59 -> 0 | H57: =+H59 -> 0 | I57: =+I59 -> 0
F58: այդ թվում`
F59: ՀՀ կառավարություն | G59: =+G61 -> 0 | H59: =+H61 -> 0 | I59: =+I61 -> 0
F60: այդ թվում`
D61: 1139 | E61: ՀՀ կառավարության պահուստային ֆոնդ | F61: ՀՀ կառավարության պահուստային ֆոնդ | G61: =+G63+G72 -> 0 | H61: =+H63+H72 -> 0 | I61: =+I63+I72 -> 0
F62: այդ թվում`
E63: 11001 | F63: ՀՀ կառավարության պահուստային ֆոնդ | G63: =+G65 -> 25440 | H63: =+H65 -> 432690 | I63: =+I65 -> 440290
F64: այդ թվում` ըստ կատարողների
F65: ՀՀ կառավարություն | G65: =+G67 -> 25440 | H65: =+H67 -> 432690 | I65: =+I67 -> 440290
F66: այդ թվում` բյուջետային ծախսերի տնտեսագիտական դասակարգման հոդվածներ
F67: ԸՆԴԱՄԵՆԸ ԾԱԽՍԵՐ | G67: =+G68 -> 25440 | H67: =+H68 -> 432690 | I67: =+I68 -> 440290
F68: ՈՉ ՖԻՆԱՆՍԱԿԱՆ ԱԿՏԻՎՆԵՐԻ ԳԾՈՎ ԾԱԽՍԵՐ | G68: =+G69 -> 25440 | H68: =+H69 -> 432690 | I68: =+I69 -> 440290
F69: ՀԻՄՆԱԿԱՆ ՄԻՋՈՑՆԵՐ | G69: =+G70 -> 25440 | H69: =+H70 -> 432690 | I69: =+I70 -> 440290
F70: ՇԵՆՔԵՐ ԵՎ ՇԻՆՈՒԹՅՈՒՆՆԵՐ | G70: =+G71 -> 25440 | H70: =+H71 -> 432690 | I70: =+I71 -> 440290
F71: - Շենքերի և շինությունների շինարարություն | G71: =+G42 -> 25440 | H71: =+H42 -> 432690 | I71: =+I42 -> 440290
E72: 11001 | F72: ՀՀ կառավարության պահուստային ֆոնդ | G72: =+G74 -> -25440 | H72: =+H74 -> -432690 | I72: =+I74 -> -440290
F73: այդ թվում` ըստ կատարողների
F74: ՀՀ կառավարություն | G74: =+G76 -> -25440 | H74: =+H76 -> -432690 | I74: =+I76 -> -440290
F75: այդ թվում` բյուջետային ծախսերի տնտեսագիտական դասակարգման հոդվածներ
F76: ԸՆԴԱՄԵՆԸ ԾԱԽՍԵՐ | G76: =+G77 -> -25440 | H76: =+H77 -> -432690 | I76: =+I77 -> -440290
F77: ՈՉ ՖԻՆԱՆՍԱԿԱՆ ԱԿՏԻՎՆԵՐԻ ԳԾՈՎ ԾԱԽՍԵՐ | G77: =+G78 -> -25440 | H77: =+H78 -> -432690 | I77: =+I78 -> -440290
F78: ՀԻՄՆԱԿԱՆ ՄԻՋՈՑՆԵՐ | G78: =+G79 -> -25440 | H78: =+H79 -> -432690 | I78: =+I79 -> -440290
F79: ՇԵՆՔԵՐ ԵՎ ՇԻՆՈՒԹՅՈՒՆՆԵՐ | G79: =+G80 -> -25440 | H79: =+H80 -> -432690 | I79: =+I80 -> -440290
F80: - Շենքերի և շինությունների շինարարություն | G80: =-G71 -> -25440 | H80: =-H71 -> -432690 | I80: =-I71 -> -440290

Sheet Հավելված N 3
F1: Հավելված N 3
F2: ՀՀ կառավարության 2023 թվականի
F3: ______________ ի ___Ն որոշման
A5: «ՀԱՅԱUՏԱՆԻ ՀԱՆՐԱՊԵՏՈՒԹՅԱՆ 2023 ԹՎԱԿԱՆԻ ՊԵՏԱԿԱՆ ԲՅՈՒՋԵԻ ՄԱUԻՆ» ՀԱՅԱUՏԱՆԻ ՀԱՆՐԱՊԵՏՈՒԹՅԱՆ OՐԵՆՔԻ N 1 ՀԱՎԵԼՎԱԾԻ N 3 ԱՂՅՈՒՍԱԿՈՒՄ ԿԱՏԱՐՎՈՂ ՓՈՓՈԽՈՒԹՅՈՒՆՆԵՐԸ ԵՎ ԼՐԱՑՈՒՄՆԵՐԸ
G8: հազ. դրամներով
A9: Ծրագրային դասիչ | C9: Բյուջետային գլխավոր կարգադրիչների, ծրագրերի, միջոցառումների, միջոցառումները կատարող պետական մարմինների և ուղղությունների անվանումները | D9: Ընդամենը | E9: Ցուցանիշների փոփոխությունը (ավելացումները նշված են դրական նշանով, իսկ նվազեցումները՝ փակագծերում)
A10: Ծրագիր | B10: Միջոցառում | E10: Կառուցման աշխատանքներ | F10: Վերակառուցման, վերանորոգման և վերականգնման աշխատանքներ | G10: Նախագծահե- տազոտական, գեոդեզիա- քարտեզագրա- կան աշխա- տանքներ | H10: Ոչ ֆինանսական այլ ակտիվների ձեռքբերում
C11: ԸՆԴԱՄԵՆԸ | D11: =SUM(E11:H11) -> 0 | E11: =+E13 -> -398740 | F11: =+F13 -> 0 | G11: =+G13 -> 398740 | H11: =+H13 -> 0
C12: այդ թվում՝
C13: ՀՀ ԿՐԹՈՒԹՅԱՆ, ԳԻՏՈՒԹՅԱՆ, ՄՇԱԿՈՒՅԹԻ ԵՎ ՍՊՈՐՏԻ ՆԱԽԱՐԱՐՈՒԹՅՈՒՆ | D13: =SUM(E13:H13) -> 0 | E13: =+E15+E32 -> -398740 | F13: =+F15+F32 -> 0 | G13: =+G15+G32 -> 398740 | H13: =+H15+H32 -> 0
C14: այդ թվում`
A15: 1183 | B15: 32003 | C15: Փոքրաքանակ երեխաներով համալրված հանրակրթական դպրոցների և կրթահամալիրների մոդուլային շենքերի կառուցում | D15: =SUM(E15:H15) -> -440290 | E15: =+E17+E31 -> -398740 | F15: =+F17+F31 -> 0 | G15: =+G17+G31 -> -41550 | H15: =+H17+H31 -> 0
C16: այդ թվում`
C17: ՀՀ Սյունիքի մարզ | D17: =SUM(E17:H17) -> -752830 | E17: =SUM(E18:E30) -> -711280 | F17: =SUM(F18:F30) -> 0 | G17: =SUM(G18:G30) -> -41550 | H17: =SUM(H18:H30) -> 0
C18: «Վերին Խոտանանի միջնակարգ դպրոց» ՊՈԱԿ | D18: =+E18+F18+G18+H18 -> -355640 | E18: =+'Հավելված N 7'!I17+'Հավելված N 7'!I20+'Հավելված N 7'!I22 -> -355640
C19: «Դավիթ Բեկի միջնակարգ դպրոց» ՊՈԱԿ | D19: =+E19+F19+G19+H19 -> -355640 | E19: =+'Հավելված N 7'!I18+'Հավելված N 7'!I21+'Հավելված N 7'!I23 -> -355640
C20: «Եղվարդի միջնակարգ դպրոց» ՊՈԱԿ | D20: =+E20+F20+G20+H20 -> -4800 | G20: =+'Հավելված N 7'!I24+'Հավելված N 7'!I35 -> -4800
C21: «Աճանանի միջնակարգ դպրոց» ՊՈԱԿ | D21: =+E21+F21+G21+H21 -> -3675 | G21: =+'Հավելված N 7'!I25+'Հավելված N 7'!I36 -> -3675
C22: «Օխտարի միջնակարգ դպրոց» ՊՈԱԿ | D22: =+E22+F22+G22+H22 -> -3675 | G22: =+'Հավելված N 7'!I26+'Հավելված N 7'!I37 -> -3675
C23: «Արծվանիկի միջնակարգ դպրոց» ՊՈԱԿ | D23: =+E23+F23+G23+H23 -> -3675 | G23: =+'Հավելված N 7'!I27+'Հավելված N 7'!I38 -> -3675
C24: «Գեղանուշի միջնակարգ դպրոց» ՊՈԱԿ | D24: =+E24+F24+G24+H24 -> -3675 | G24: =+'Հավելված N 7'!I28+'Հավելված N 7'!I39 -> -3675
C25: «Սյունիքի միջնակարգ դպրոց» ՊՈԱԿ | D25: =+E25+F25+G25+H25 -> -3675 | G25: =+'Հավելված N 7'!I29+'Հավելված N 7'!I40 -> -3675
C26: «Եղեգի միջնակարգ դպրոց» ՊՈԱԿ | D26: =+E26+F26+G26+H26 -> -3675 | G26: =+'Հավելված N 7'!I30+'Հավելված N 7'!I41 -> -3675
C27: «Ծավի միջնակարգ դպրոց» ՊՈԱԿ | D27: =+E27+F27+G27+H27 -> -3675 | G27: =+'Հավելված N 7'!I31+'Հավելված N 7'!I42 -> -3675
C28: «Ճակատենի հիմնական դպրոց» ՊՈԱԿ | D28: =+E28+F28+G28+H28 -> -3675 | G28: =+'Հավելված N 7'!I32+'Հավելված N 7'!I43 -> -3675
C29: «Ներքին Հանդի հիմնական դպրոց» ՊՈԱԿ | D29: =+E29+F29+G29+H29 -> -3675 | G29: =+'Հավելված N 7'!I33+'Հավելված N 7'!I44 -> -3675
C30: «Շիկահողի միջնակարգ դպրոց» ՊՈԱԿ | D30: =+E30+F30+G30+H30 -> -3675 | G30: =+'Հավելված N 7'!I34+'Հավելված N 7'!I45 -> -3675
C31: Փոքրաքանակ երեխաներով համալրված հանրակրթական դպրոցների և կրթահամալիրների մոդուլային շենքերի կառուցում | D31: =+E31+F31+G31+H31 -> 312540 | E31: 312540
A32: 1183 | B32: 32013 | C32: ՀՀ մարզերում կրթական որակյալ ծառայությունների հասանելիության ապահովման ծրագրի շրջանակներում կրթական կենտրոնների ստեղծում | D32: =SUM(E32:H32) -> 440290 | E32: =+E34+E35 -> 0 | F32: =+F34+F35 -> 0 | G32: =+G34+G35 -> 440290 | H32: =+H34+H35 -> 0
C33: այդ թվում`
C34: Մոդուլային դպրոցների բազմակի օգտագործման օրինակելի նախագծանախահաշվային փաստաթղթերի լրամշակում՝ մոդուլային կրթահամալիրների նախագծման համար | D34: =SUM(E34:H34) -> 25440 | E34: =SUM(E35:E36) -> 0 | F34: =SUM(F35:F36) -> 0 | G34: =+'Հավելված N 7'!I48+'Հավելված N 7'!I85 -> 25440 | H34: =SUM(H35:H36) -> 0
C35: ՀՀ Սյունիքի մարզ | D35: =SUM(E35:H35) -> 414850 | E35: =SUM(E36:E71) -> 0 | F35: =SUM(F36:F71) -> 0 | G35: =SUM(G36:G71) -> 414850 | H35: =SUM(H36:H71) -> 0
C36: Կապան համայնքի Սյունիքի կրթահամալիր | D36: =+E36+F36+G36+H36 -> 3675 | G36: =+'Հավելված N 7'!I55+'Հավելված N 7'!I92 -> 3675
C37: Կապան համայնքի Արծվանիկի կրթահամալիր | D37: =+E37+F37+G37+H37 -> 3675 | G37: =+'Հավելված N 7'!I56+'Հավելված N 7'!I93 -> 3675
C38: Կապան համայնքի Նորաշենիկի կրթահամալիր | D38: =+E38+F38+G38+H38 -> 3675 | G38: =+'Հավելված N 7'!I57+'Հավելված N 7'!I94 -> 3675
C39: Կապան համայնքի Աճանանի կրթահամալիր | D39: =+E39+F39+G39+H39 -> 3675 | G39: =+'Հավելված N 7'!I58+'Հավելված N 7'!I95 -> 3675
C40: Կապան համայնքի Գեղանուշի կրթահամալիր | D40: =+E40+F40+G40+H40 -> 3675 | G40: =+'Հավելված N 7'!I59+'Հավելված N 7'!I96 -> 3675
C41: Կապան համայնքի Ծավի կրթահամալիր | D41: =+E41+F41+G41+H41 -> 3675 | G41: =+'Հավելված N 7'!I60+'Հավելված N 7'!I97 -> 3675
C42: Կապան համայնքի Եղվարդի կրթահամալիր | D42: =+E42+F42+G42+H42 -> 4800 | G42: =+'Հավելված N 7'!I61+'Հավելված N 7'!I98 -> 4800
C43: Գորայք համայնքի Գորայքի կրթահամալիր | D43: =+E43+F43+G43+H43 -> 4800 | G43: =+'Հավելված N 7'!I62+'Հավելված N 7'!I99 -> 4800
C44: Գորայք համայնքի Սառնակունքի կրթահամալիր | D44: =+E44+F44+G44+H44 -> 4800 | G44: =+'Հավելված N 7'!I63+'Հավելված N 7'!I100 -> 4800
C45: Սիսիան համայնքի Աշոտավանի կրթահամալիր | D45: =+E45+F45+G45+H45 -> 4800 | G45: =+'Հավելված N 7'!I64+'Հավելված N 7'!I101 -> 4800
C46: Սիսիան համայնքի Շաղաթի կրթահամալիր | D46: =+E46+F46+G46+H46 -> 37000 | G46: =+'Հավելված N 7'!I49+'Հավելված N 7'!I86 -> 37000
C47: Սիսիան համայնքի Նորավանի կրթահամալիր | D47: =+E47+F47+G47+H47 -> 4800 | G47: =+'Հավելված N 7'!I65+'Հավելված N 7'!I102 -> 4800
C48: Սիսիան համայնքի Ախլաթյանի կրթահամալիր | D48: =+E48+F48+G48+H48 -> 4800 | G48: =+'Հավելված N 7'!I66+'Հավելված N 7'!I103 -> 4800
C49: Սիսիան համայնքի Իշխանասարի կրթահամալիր | D49: =+E49+F49+G49+H49 -> 22700 | G49: =+'Հավելված N 7'!I50+'Հավելված N 7'!I87 -> 22700
C50: Սիսիան համայնքի Ույծի կրթահամալիր | D50: =+E50+F50+G50+H50 -> 4800 | G50: =+'Հավելված N 7'!I67+'Հավելված N 7'!I104 -> 4800
C51: Սիսիան համայնքի Շաքիի կրթահամալիր | D51: =+E51+F51+G51+H51 -> 32900 | G51: =+'Հավելված N 7'!I51+'Հավելված N 7'!I88 -> 32900
C52: Սիսիան համայնքի Անգեղակոթի կրթահամալիր | D52: =+E52+F52+G52+H52 -> 4800 | G52: =+'Հավելված N 7'!I68+'Հավելված N 7'!I105 -> 4800
C53: Սիսիան համայնքի Բռնակոթի կրթահամալիր | D53: =+E53+F53+G53+H53 -> 4800 | G53: =+'Հավելված N 7'!I69+'Հավելված N 7'!I106 -> 4800
C54: Տաթև համայնքի Տաթևի կրթահամալիր | D54: =+E54+F54+G54+H54 -> 4800 | G54: =+'Հավելված N 7'!I70+'Հավելված N 7'!I107 -> 4800
C55: Տաթև համայնքի Հալիձորի կրթահամալիր | D55: =+E55+F55+G55+H55 -> 4800 | G55: =+'Հավելված N 7'!I71+'Հավելված N 7'!I108 -> 4800
C56: Տաթև համայնքի Շինուհայրի կրթահամալիր | D56: =+E56+F56+G56+H56 -> 65800 | G56: =+'Հավելված N 7'!I52+'Հավելված N 7'!I89 -> 65800
C57: Տաթև համայնքի Խոտի կրթահամալիր | D57: =+E57+F57+G57+H57 -> 4800 | G57: =+'Հավելված N 7'!I72+'Հավելված N 7'!I109 -> 4800
C58: Գորիս համայնքի Ակների կրթահամալիր | D58: =+E58+F58+G58+H58 -> 4800 | G58: =+'Հավելված N 7'!I73+'Հավելված N 7'!I110 -> 4800
C59: Գորիս համայնքի Որոտանի կրթահամալիր | D59: =+E59+F59+G59+H59 -> 4800 | G59: =+'Հավելված N 7'!I74+'Հավելված N 7'!I111 -> 4800
C60: Գորիս համայնքի Խնձորեսկի կրթահամալիր | D60: =+E60+F60+G60+H60 -> 57500 | G60: ='Հավելված N 7'!I53+'Հավելված N 7'!I90 -> 57500
C61: Գորիս համայնքի Հարթաշենի կրթահամալիր | D61: =+E61+F61+G61+H61 -> 4800 | G61: =+'Հավելված N 7'!I75+'Հավելված N 7'!I112 -> 4800
C62: Գորիս համայնքի Վերիշենի կրթահամալիր | D62: =+E62+F62+G62+H62 -> 4800 | G62: =+'Հավելված N 7'!I76+'Հավելված N 7'!I113 -> 4800
C63: Գորիս համայնքի Քարահունջի կրթահամալիր | D63: =+E63+F63+G63+H63 -> 4800 | G63: =+'Հավելված N 7'!I77+'Հավելված N 7'!I114 -> 4800
C64: Տեղ համայնքի Տեղի թիվ 2 կրթահամալիր | D64: =+E64+F64+G64+H64 -> 4800 | G64: =+'Հավելված N 7'!I78+'Հավելված N 7'!I115 -> 4800
C65: Տեղ համայնքի Խնածախի կրթահամալիր | D65: =+E65+F65+G65+H65 -> 4800 | G65: =+'Հավելված N 7'!I79+'Հավելված N 7'!I116 -> 4800
C66: Տեղ համայնքի Կորնիձորի կրթահամալիր | D66: =+E66+F66+G66+H66 -> 4800 | G66: =+'Հավելված N 7'!I80+'Հավելված N 7'!I117 -> 4800
C67: Տեղ համայնքի Քարաշենի կրթահամալիր | D67: =+E67+F67+G67+H67 -> 4800 | G67: =+'Հավելված N 7'!I81+'Հավելված N 7'!I118 -> 4800
C68: Քաջարան համայնքի Ձագիկավանի կրթահամալիր | D68: =+E68+F68+G68+H68 -> 4800 | G68: =+'Հավելված N 7'!I82+'Հավելված N 7'!I119 -> 4800
C69: Մեղրի համայնքի Լեհվազի կրթահամալիր | D69: =+E69+F69+G69+H69 -> 4800 | G69: =+'Հավելված N 7'!I83+'Հավելված N 7'!I120 -> 4800
C70: Մեղրի համայնքի Շվանիձորի կրթահամալիր | D70: =+E70+F70+G70+H70 -> 4800 | G70: =+'Հավելված N 7'!I84+'Հավելված N 7'!I121 -> 4800
C71: Մեղրի համայնքի Ագարակի կրթահամալիր | D71: =+E71+F71+G71+H71 -> 61700 | G71: =+'Հավելված N 7'!I54+'Հավելված N 7'!I91 -> 61700

Sheet Հավելված N 4
E1: Հավելված N 4
E2: ՀՀ կառավարության 2023 թվականի
E3: ______________ ի ___Ն որոշման
B5: ՀԱՅԱՍՏԱՆԻ ՀԱՆՐԱՊԵՏՈՒԹՅԱՆ ԿԱՌԱՎԱՐՈՒԹՅԱՆ 2022 ԹՎԱԿԱՆԻ ԴԵԿՏԵՄԲԵՐԻ 29-Ի N 2111-Ն ՈՐՈՇՄԱՆ N 5 ՀԱՎԵԼՎԱԾԻ N 2 ԱՂՅՈՒՍԱԿՈՒՄ ԿԱՏԱՐՎՈՂ ՓՈՓՈԽՈՒԹՅՈՒՆՆԵՐԸ ԵՎ ԼՐԱՑՈՒՄՆԵՐԸ
G7: հազ. դրամներով
B8: Ծրագրային դասիչ | D8: Բյուջետային գլխավոր կարգադրիչների, ծրագրերի, միջոցառումների, միջոցառումները կատարող պետական մարմինների և ուղղությունների անվանումները | E8: Ցուցանիշների փոփոխությունը (ավելացումները նշված են դրական նշանով, իսկ նվազեցումները փակագծերում)
B9: Ծրագիր | C9: Միջոցառում | E9: Առաջին կիսամյակ | F9: Ինն ամիս | G9: Տարի
D10: ՀՀ ԿՐԹՈՒԹՅԱՆ, ԳԻՏՈՒԹՅԱՆ, ՄՇԱԿՈՒՅԹԻ ԵՎ ՍՊՈՐՏԻ ՆԱԽԱՐԱՐՈՒԹՅՈՒՆ | E10: =+E12+E31 -> 0 | F10: =+F12+F31 -> 0 | G10: =+G12+G31 -> 0
D11: այդ թվում՝
B12: 1183 | C12: 32003 | D12: Փոքրաքանակ երեխաներով համալրված հանրակրթական դպրոցների և կրթահամալիրների մոդուլային շենքերի կառուցում | E12: =+E14+E30 -> -25440 | F12: =+F14+F30 -> -432690 | G12: =+G14+G30 -> -440290
D13: այդ թվում` ըստ կատարողների
D14: ՀՀ քաղաքաշինության կոմիտե | E14: =+E16 -> -142256 | F14: =+F16 -> -397190 | G14: =+G16 -> -752830
D15: այդ թվում՝ ըստ ուղղությունների
D16: ՀՀ Սյունիքի մարզ | E16: =SUM(E17:E29) -> -142256 | F16: =SUM(F17:F29) -> -397190 | G16: =SUM(G17:G29) -> -752830
D17: «Վերին Խոտանանի միջնակարգ դպրոց» ՊՈԱԿ | E17: -71128 | F17: -177820 | G17: =+'Հավելված N 3'!D18 -> -355640
D18: «Դավիթ Բեկի միջնակարգ դպրոց» ՊՈԱԿ | E18: -71128 | F18: -177820 | G18: =+'Հավելված N 3'!D19 -> -355640
D19: «Եղվարդի միջնակարգ դպրոց» ՊՈԱԿ | E19: 0 | F19: =+'Հավելված N 3'!D20 -> -4800 | G19: =+F19 -> -4800
D20: «Աճանանի միջնակարգ դպրոց» ՊՈԱԿ | E20: 0 | F20: =+'Հավելված N 3'!D21 -> -3675 | G20: =+F20 -> -3675
D21: «Օխտարի միջնակարգ դպրոց» ՊՈԱԿ | E21: 0 | F21: =+'Հավելված N 3'!D22 -> -3675 | G21: =+F21 -> -3675
D22: «Արծվանիկի միջնակարգ դպրոց» ՊՈԱԿ | E22: 0 | F22: =+'Հավելված N 3'!D23 -> -3675 | G22: =+F22 -> -3675
D23: «Գեղանուշի միջնակարգ դպրոց» ՊՈԱԿ | E23: 0 | F23: =+'Հավելված N 3'!D24 -> -3675 | G23: =+F23 -> -3675
D24: «Սյունիքի միջնակարգ դպրոց» ՊՈԱԿ | E24: 0 | F24: =+'Հավելված N 3'!D25 -> -3675 | G24: =+F24 -> -3675
D25: «Եղեգի միջնակարգ դպրոց» ՊՈԱԿ | E25: 0 | F25: =+'Հավելված N 3'!D26 -> -3675 | G25: =+F25 -> -3675
D26: «Ծավի միջնակարգ դպրոց» ՊՈԱԿ | E26: 0 | F26: =+'Հավելված N 3'!D27 -> -3675 | G26: =+F26 -> -3675
D27: «Ճակատենի հիմնական դպրոց» ՊՈԱԿ | E27: 0 | F27: =+'Հավելված N 3'!D28 -> -3675 | G27: =+F27 -> -3675
D28: «Ներքին Հանդի հիմնական դպրոց» ՊՈԱԿ | E28: 0 | F28: =+'Հավելված N 3'!D29 -> -3675 | G28: =+F28 -> -3675
D29: «Շիկահողի միջնակարգ դպրոց» ՊՈԱԿ | E29: 0 | F29: =+'Հավելված N 3'!D30 -> -3675 | G29: =+F29 -> -3675
D30: ՀՀ կառավարություն | E30: 116816 | F30: -35500 | G30: =+'Հավելված N 3'!D31 -> 312540
B31: 1183 | C31: 32013 | D31: ՀՀ մարզերում կրթական որակյալ ծառայությունների հասանելիության ապահովման ծրագրի շրջանակներում կրթական կենտրոնների ստեղծում | E31: =+E33 -> 25440 | F31: =+F33 -> 432690 | G31: =+G33 -> 440290
D32: այդ թվում` ըստ կատարողների
D33: ՀՀ քաղաքաշինության կոմիտե | E33: =+E35+E36 -> 25440 | F33: =+F35+F36 -> 432690 | G33: =+G35+G36 -> 440290
D34: այդ թվում՝ ըստ ուղղությունների
D35: Մոդուլային դպրոցների բազմակի օգտագործման օրինակելի նախագծանախահաշվային փաստաթղթերի լրամշակում՝ մոդուլային կրթահամալիրների նախագծման համար | E35: =+'Հավելված N 3'!D34 -> 25440 | F35: =+E35 -> 25440 | G35: =+F35 -> 25440
D36: ՀՀ Սյունիքի մարզ | E36: =SUM(E37:E72) -> 0 | F36: =SUM(F37:F72) -> 407250 | G36: =SUM(G37:G72) -> 414850
D37: Կապան համայնքի Սյունիքի կրթահամալիր | E37: 0 | F37: =+'Հավելված N 3'!D36 -> 3675 | G37: =+'Հավելված N 3'!D36 -> 3675
D38: Կապան համայնքի Արծվանիկի կրթահամալիր | E38: 0 | F38: =+'Հավելված N 3'!D37 -> 3675 | G38: =+'Հավելված N 3'!D37 -> 3675
D39: Կապան համայնքի Նորաշենիկի կրթահամալիր | E39: 0 | F39: =+'Հավելված N 3'!D38 -> 3675 | G39: =+'Հավելված N 3'!D38 -> 3675
D40: Կապան համայնքի Եղվարդի կրթահամալիր | E40: 0 | F40: =+'Հավելված N 3'!D39 -> 3675 | G40: =+'Հավելված N 3'!D39 -> 3675
D41: Կապան համայնքի Գեղանուշի կրթահամալիր | E41: 0 | F41: =+'Հավելված N 3'!D40 -> 3675 | G41: =+'Հավելված N 3'!D40 -> 3675
D42: Կապան համայնքի Ծավի կրթահամալիր | E42: 0 | F42: =+'Հավելված N 3'!D41 -> 3675 | G42: =+'Հավելված N 3'!D41 -> 3675
D43: Կապան համայնքի Աճանանի կրթահամալիր | E43: 0 | F43: =+'Հավելված N 3'!D42 -> 4800 | G43: =+'Հավելված N 3'!D42 -> 4800
D44: Գորայք համայնքի Գորայքի կրթահամալիր | E44: 0 | F44: =+'Հավելված N 3'!D43 -> 4800 | G44: =+'Հավելված N 3'!D43 -> 4800
D45: Գորայք համայնքի Սառնակունքի կրթահամալիր | E45: 0 | F45: =+'Հավելված N 3'!D44 -> 4800 | G45: =+'Հավելված N 3'!D44 -> 4800
D46: Սիսիան համայնքի Աշոտավանի կրթահամալիր | E46: 0 | F46: =+'Հավելված N 3'!D45 -> 4800 | G46: =+'Հավելված N 3'!D45 -> 4800
D47: Սիսիան համայնքի Շաղաթի կրթահամալիր | F47: 36000 | G47: =+'Հավելված N 3'!D46 -> 37000
D48: Սիսիան համայնքի Նորավանի կրթահամալիր | E48: 0 | F48: =+'Հավելված N 3'!D47 -> 4800 | G48: =+'Հավելված N 3'!D47 -> 4800
D49: Սիսիան համայնքի Ախլաթյանի կրթահամալիր | E49: 0 | F49: =+'Հավելված N 3'!D48 -> 4800 | G49: =+'Հավելված N 3'!D48 -> 4800
D50: Սիսիան համայնքի Իշխանասարի կրթահամալիր | F50: 22000 | G50: =+'Հավելված N 3'!D49 -> 22700
D51: Սիսիան համայնքի Ույծի կրթահամալիր | E51: 0 | F51: =+'Հավելված N 3'!D50 -> 4800 | G51: =+'Հավելված N 3'!D50 -> 4800
D52: Սիսիան համայնքի Շաքիի կրթահամալիր | E52: 0 | F52: 32000 | G52: =+'Հավելված N 3'!D51 -> 32900
D53: Սիսիան համայնքի Անգեղակոթի կրթահամալիր | E53: 0 | F53: =+'Հավելված N 3'!D52 -> 4800 | G53: =+'Հավելված N 3'!D52 -> 4800
D54: Սիսիան համայնքի Բռնակոթի կրթահամալիր | E54: 0 | F54: =+'Հավելված N 3'!D53 -> 4800 | G54: =+'Հավելված N 3'!D53 -> 4800
D55: Տաթև համայնքի Տաթևի կրթահամալիր | E55: 0 | F55: =+'Հավելված N 3'!D54 -> 4800 | G55: =+'Հավելված N 3'!D54 -> 4800
D56: Տաթև համայնքի Հալիձորի կրթահամալիր | E56: 0 | F56: =+'Հավելված N 3'!D55 -> 4800 | G56: =+'Հավելված N 3'!D55 -> 4800
D57: Տաթև համայնքի Շինուհայրի կրթահամալիր | E57: 0 | F57: 64000 | G57: =+'Հավելված N 3'!D56 -> 65800
D58: Տաթև համայնքի Խոտի կրթահամալիր | E58: 0 | F58: =+'Հավելված N 3'!D57 -> 4800 | G58: =+'Հավելված N 3'!D57 -> 4800
D59: Գորիս համայնքի Ակների կրթահամալիր | E59: 0 | F59: =+'Հավելված N 3'!D58 -> 4800 | G59: =+'Հավելված N 3'!D58 -> 4800
D60: Գորիս համայնքի Որոտանի կրթահամալիր | E60: 0 | F60: =+'Հավելված N 3'!D59 -> 4800 | G60: =+'Հավելված N 3'!D59 -> 4800
D61: Գորիս համայնքի Խնձորեսկի կրթահամալիր | E61: 0 | F61: 56000 | G61: =+'Հավելված N 3'!D60 -> 57500
D62: Գորիս համայնքի Հարթաշենի կրթահամալիր | E62: 0 | F62: =+'Հավելված N 3'!D61 -> 4800 | G62: =+'Հավելված N 3'!D61 -> 4800
D63: Գորիս համայնքի Վերիշենի կրթահամալիր | E63: 0 | F63: =+'Հավելված N 3'!D62 -> 4800 | G63: =+'Հավելված N 3'!D62 -> 4800
D64: Գորիս համայնքի Քարահունջի կրթահամալիր | E64: 0 | F64: =+'Հավելված N 3'!D63 -> 4800 | G64: =+'Հավելված N 3'!D63 -> 4800
D65: Տեղ համայնքի Տեղի թիվ 2 կրթահամալիր | E65: 0 | F65: =+'Հավելված N 3'!D64 -> 4800 | G65: =+'Հավելված N 3'!D64 -> 4800
D66: Տեղ համայնքի Խնածախի կրթահամալիր | E66: 0 | F66: =+'Հավելված N 3'!D65 -> 4800 | G66: =+'Հավելված N 3'!D65 -> 4800
D67: Տեղ համայնքի Կորնիձորի կրթահամալիր | E67: 0 | F67: =+'Հավելված N 3'!D66 -> 4800 | G67: =+'Հավելված N 3'!D66 -> 4800
D68: Տեղ համայնքի Քարաշենի կրթահամալիր | E68: 0 | F68: =+'Հավելված N 3'!D67 -> 4800 | G68: =+'Հավելված N 3'!D67 -> 4800
D69: Քաջարան համայնքի Ձագիկավանի կրթահամալիր | E69: 0 | F69: =+'Հավելված N 3'!D68 -> 4800 | G69: =+'Հավելված N 3'!D68 -> 4800
D70: Մեղրի համայնքի Լեհվազի կրթահամալիր | E70: 0 | F70: =+'Հավելված N 3'!D69 -> 4800 | G70: =+'Հավելված N 3'!D69 -> 4800
D71: Մեղրի համայնքի Շվանիձորի կրթահամալիր | E71: 0 | F71: =+'Հավելված N 3'!D70 -> 4800 | G71: =+'Հավելված N 3'!D70 -> 4800
D72: Մեղրի համայնքի Ագարակի կրթահամալիր | E72: 0 | F72: 60000 | G72: =+'Հավելված N 3'!D71 -> 61700

Sheet Հավելված N 5
C1: Հավելված N 5
C2: ՀՀ կառավարության 2023 թվականի
C3: ______________ ի ___Ն որոշման
B6: ՀԱՅԱՍՏԱՆԻ ՀԱՆՐԱՊԵՏՈՒԹՅԱՆ ԿԱՌԱՎԱՐՈՒԹՅԱՆ 2022 ԹՎԱԿԱՆԻ ԴԵԿՏԵՄԲԵՐԻ 29-Ի N 2111-Ն ՈՐՈՇՄԱՆ N 9 ՀԱՎԵԼՎԱԾԻ N 9.13 ԵՎ 9.47 ԱՂՅՈՒՍԱԿՆԵՐՈՒՄ ԿԱՏԱՐՎՈՂ ՓՈՓՈԽՈՒԹՅՈՒՆՆԵՐԸ ԵՎ ԼՐԱՑՈՒՄՆԵՐԸ
A8: Աղյուսակ 9․13
C9: ՀՀ կրթության, գիտության, մշակույթի և սպորտի նախարարություն
B10: ՄԱՍ 2. ՊԵՏԱԿԱՆ ՄԱՐՄՆԻ ԳԾՈՎ ԱՐԴՅՈՒՆՔԱՅԻՆ (ԿԱՏԱՐՈՂԱԿԱՆ) ՑՈՒՑԱՆԻՇՆԵՐԸ
B13: Ծրագրի դասիչը | C13: Ծրագրի անվանումը
B14: 1183 | C14: Ապահով դպրոց
B16: Ծրագրի միջոցառումները
B17: Ծրագրի դասիչը՝ | C17: 1183 | D17: Ցուցանիշների փոփոխությունը (նվազեցումները նշված են փակագծերում)
B18: Միջոցառման դասիչը՝ | C18: 32003 | D18: Առաջին կիսամյակ | E18: Ինն ամիս | F18: Տարի
B19: Միջոցառման անվանումը՝ | C19: Փոքրաքանակ երեխաներով համալրված հանրակրթական դպրոցների մոդուլային շենքերի կառուցում
B20: Նկարագրությունը՝ | C20: Կրթական հաստատությունների կառուցում համայնքային կենտրոնների մոդելով
B21: Միջոցառման տեսակը՝ | C21: Այլ պետական կազմակերպությունների կողմից օգտագործվող ոչ ֆինանսական ակտիվների հետ գործառնություններ
B22: Ակտիվն օգտագործող կազմակերպությունների անվանում | C22: Փոքրաքանակ երեխաներով համալրված հանրակրթական դպրոցներ
B23: Արդյունքի չափորոշիչներ
B24: Կառուցվող ուսումնական հաստատությունների քանակ, հատ | D24: -2 | E24: -2 | F24: -2
B25: Նախագծանախահաշվային փաստաթղթերի քանակ, հատ | D25: 0 | E25: -11 | F25: -11
B26: Միջոցառման վրա կատարվող ծախսը (հազար դրամ) | D26: =+'Հավելված N 1'!D22 -> -25440 | E26: =+'Հավելված N 1'!E22 -> -432690 | F26: =+'Հավելված N 1'!F22 -> -440290
B28: Ծրագրի միջոցառումները
B29: Ծրագրի դասիչը՝ | C29: 1183 | D29: Ցուցանիշների փոփոխությունը (ավելացումները նշված են դրական նշանով)
B30: Միջոցառման դասիչը՝ | C30: 32013 | D30: Առաջին կիսամյակ | E30: Ինն ամիս | F30: Տարի
B31: Միջոցառման անվանումը՝ | C31: ՀՀ մարզերում կրթական որակյալ ծառայությունների հասանելիության ապահովման ծրագրի շրջանակներում կրթական կենտրոնների ստեղծում
B32: Նկարագրությունը՝ | C32: ՀՀ մարզերում կրթական որակյալ ծառայությունների հասանելիության ապահովման ծրագրի շրջանակներում հանրակրթական և նախադպրոցական կրթության հասանելիության ապահովման նպատակով կրթական կենտրոնների կառուցում
B33: Միջոցառման տեսակը՝ | C33: Այլ պետական կազմակերպությունների կողմից օգտագործվող ոչ ֆինանսական ակտիվների հետ գործառնություններ
B34: Ակտիվն օգտագործող կազմակերպությունների անվանում | C34: ՀՀ մարզերում տեղակայված կրթահամալիրներ
B35: Արդյունքի չափորոշիչներ
B36: Նախագծանախահաշվային փաստաթղթերի քանակ, հատ | D36: 37 | E36: 37 | F36: 37
B37: Միջոցառման վրա կատարվող ծախսը (հազար դրամ) | D37: =+'Հավելված N 1'!D28 -> 25440 | E37: =+'Հավելված N 1'!E28 -> 432690 | F37: =+'Հավելված N 1'!F28 -> 440290
A43: Աղյուսակ 9․47
C44: ՀՀ կառավարություն
B45: ՄԱՍ 2. ՊԵՏԱԿԱՆ ՄԱՐՄՆԻ ԳԾՈՎ ԱՐԴՅՈՒՆՔԱՅԻՆ (ԿԱՏԱՐՈՂԱԿԱՆ) ՑՈՒՑԱՆԻՇՆԵՐԸ
B48: Ծրագրի դասիչը | C48: Ծրագրի անվանումը
B49: 1139 | C49: ՀՀ կառավարության պահուստային ֆոնդ
B51: Ծրագրի միջոցառումները
B52: Ծրագրի դասիչը՝ | C52: 1139 | D52: Ցուցանիշների փոփոխությունը (ավելացումները նշված են դրական նշանով)
B53: Միջոցառման դասիչը՝ | C53: 11001 | D53: Առաջին կիսամյակ | E53: Ինն ամիս | F53: Տարի
B54: Միջոցառման անվանումը՝ | C54: ՀՀ կառավարության պահուստային ֆոնդ
B55: Նկարագրությունը՝ | C55: ՀՀ պետական բյուջեում նախատեսված ելքերի լրացուցիչ ֆինանսավորման՝ պետական բյուջեում չկանխատեսված ելքերի, ինչպես նաև բյուջետային երաշխիքների ապահովման ելքերի ֆինանսավորման ապահովում
B56: Միջոցառման տեսակը՝ | C56: Ծառայությունների մատուցում
B57: Միջոցառումն իրականացնողի անվանումը | C57: ՀՀ կառավարություն
C58: Արդյունքի չափորոշիչներ
B59: Միջոցառման վրա կատարվող ծախսը (հազար դրամ) | D59: =+'Հավելված N 1'!D42 -> 25440 | E59: =+'Հավելված N 1'!E42 -> 432690 | F59: =+'Հավելված N 1'!F42 -> 440290
B61: Ծրագրի միջոցառումները
B62: Ծրագրի դասիչը՝ | C62: 1139 | D62: Ցուցանիշների փոփոխությունը (նվազեցումները նշված են փակագծերում)
B63: Միջոցառման դասիչը՝ | C63: 11001 | D63: Առաջին կիսամյակ | E63: Ինն ամիս | F63: Տարի
B64: Միջոցառման անվանումը՝ | C64: ՀՀ կառավարության պահուստային ֆոնդ
B65: Նկարագրությունը՝ | C65: ՀՀ պետական բյուջեում նախատեսված ելքերի լրացուցիչ ֆինանսավորման՝ պետական բյուջեում չկանխատեսված ելքերի, ինչպես նաև բյուջետային երաշխիքների ապահովման ելքերի ֆինանսավորման ապահովում
B66: Միջոցառման տեսակը՝ | C66: Ծառայությունների մատուցում
B67: Միջոցառումն իրականացնողի անվանումը | C67: ՀՀ կառավարություն
C68: Արդյունքի չափորոշիչներ
B69: Միջոցառման վրա կատարվող ծախսը (հազար դրամ) | D69: =+'Հավելված N 1'!D48 -> -25440 | E69: =+'Հավելված N 1'!E48 -> -432690 | F69: =+'Հավելված N 1'!F48 -> -440290

Sheet Հավելված N 6
C1: Հավելված N 6
C2: ՀՀ կառավարության 2023 թվականի
C3: ______________ ի ___Ն որոշման
B6: ՀԱՅԱՍՏԱՆԻ ՀԱՆՐԱՊԵՏՈՒԹՅԱՆ ԿԱՌԱՎԱՐՈՒԹՅԱՆ 2022 ԹՎԱԿԱՆԻ ԴԵԿՏԵՄԲԵՐԻ 29-Ի N 2111-Ն ՈՐՈՇՄԱՆ N 9.1 ՀԱՎԵԼՎԱԾԻ N 9.1.41 ԵՎ 9.1.58 ԱՂՅՈՒՍԱԿՆԵՐՈՒՄ ԿԱՏԱՐՎՈՂ ՓՈՓՈԽՈՒԹՅՈՒՆՆԵՐԸ ԵՎ ԼՐԱՑՈՒՄՆԵՐԸ
A8: Աղյուսակ 9․1.41
C9: ՀՀ քաղաքաշինության կոմիտե
B10: ՄԱՍ 1. ՊԵՏԱԿԱՆ ՄԱՐՄՆԻ ԳԾՈՎ ԱՐԴՅՈՒՆՔԱՅԻՆ (ԿԱՏԱՐՈՂԱԿԱՆ) ՑՈՒՑԱՆԻՇՆԵՐԸ
B13: Ծրագրի դասիչը | C13: Ծրագրի անվանումը
B14: 1183 | C14: Ապահով դպրոց
B16: Ծրագրի միջոցառումները
B17: Ծրագրի դասիչը՝ | C17: 1183 | D17: Ցուցանիշների փոփոխությունը (նվազեցումները նշված են փակագծերում)
B18: Միջոցառման դասիչը՝ | C18: 32003 | D18: Առաջին կիսամյակ | E18: Ինն ամիս | F18: Տարի
B19: Միջոցառման անվանումը՝ | C19: Փոքրաքանակ երեխաներով համալրված հանրակրթական դպրոցների մոդուլային շենքերի կառուցում
B20: Նկարագրությունը՝ | C20: Կրթական հաստատությունների կառուցում համայնքային կենտրոնների մոդելով
B21: Միջոցառման տեսակը՝ | C21: Այլ պետական կազմակերպությունների կողմից օգտագործվող ոչ ֆինանսական ակտիվների հետ գործառնություններ
B22: Ակտիվն օգտագործող կազմակերպությունների անվանում | C22: Փոքրաքանակ երեխաներով համալրված հանրակրթական դպրոցներ
B23: Արդյունքի չափորոշիչներ
B24: Կառուցվող ուսումնական հաստատությունների քանակ, հատ | D24: -2 | E24: -2 | F24: -2
B25: Նախագծանախահաշվային փաստաթղթերի քանակ, հատ | D25: 0 | E25: -11 | F25: -11
B26: Միջոցառման վրա կատարվող ծախսը (հազար դրամ) | D26: =+'Հավելված N 2'!G26 -> -142256 | E26: =+'Հավելված N 2'!H26 -> -397190 | F26: =+'Հավելված N 2'!I26 -> -752830
B28: Ծրագրի միջոցառումները
B29: Ծրագրի դասիչը՝ | C29: 1183 | D29: Ցուցանիշների փոփոխությունը (ավելացումները նշված են դրական նշանով)
B30: Միջոցառման դասիչը՝ | C30: 32013 | D30: Առաջին կիսամյակ | E30: Ինն ամիս | F30: Տարի
B31: Միջոցառման անվանումը՝ | C31: ՀՀ մարզերում կրթական որակյալ ծառայությունների հասանելիության ապահովման ծրագրի շրջանակներում կրթական կենտրոնների ստեղծում
B32: Նկարագրությունը՝ | C32: ՀՀ մարզերում կրթական որակյալ ծառայությունների հասանելիության ապահովման ծրագրի շրջանակներում հանրակրթական և նախադպրոցական կրթության հասանելիության ապահովման նպատակով կրթական կենտրոնների կառուցում
B33: Միջոցառման տեսակը՝ | C33: Այլ պետական կազմակերպությունների կողմից օգտագործվող ոչ ֆինանսական ակտիվների հետ գործառնություններ
B34: Ակտիվն օգտագործող կազմակերպությունների անվանում | C34: ՀՀ մարզերում տեղակայված կրթահամալիրներ
B35: Արդյունքի չափորոշիչներ
B36: Նախագծանախահաշվային փաստաթղթերի քանակ, հատ | D36: 37 | E36: 37 | F36: 37
B37: Միջոցառման վրա կատարվող ծախսը (հազար դրամ) | D37: =+'Հավելված N 2'!G44 -> 25440 | E37: =+'Հավելված N 2'!H44 -> 432690 | F37: =+'Հավելված N 2'!I44 -> 440290
A43: Աղյուսակ 9․47
C44: ՀՀ կառավարություն
B45: ՄԱՍ 2. ՊԵՏԱԿԱՆ ՄԱՐՄՆԻ ԳԾՈՎ ԱՐԴՅՈՒՆՔԱՅԻՆ (ԿԱՏԱՐՈՂԱԿԱՆ) ՑՈՒՑԱՆԻՇՆԵՐԸ
B48: Ծրագրի դասիչը | C48: Ծրագրի անվանումը
B49: 1139 | C49: ՀՀ կառավարության պահուստային ֆոնդ
B51: Ծրագրի միջոցառումները
B52: Ծրագրի դասիչը՝ | C52: 1139 | D52: Ցուցանիշների փոփոխությունը (ավելացումները նշված են դրական նշանով)
B53: Միջոցառման դասիչը՝ | C53: 11001 | D53: Առաջին կիսամյակ | E53: Ինն ամիս | F53: Տարի
B54: Միջոցառման անվանումը՝ | C54: ՀՀ կառավարության պահուստային ֆոնդ
B55: Նկարագրությունը՝ | C55: ՀՀ պետական բյուջեում նախատեսված ելքերի լրացուցիչ ֆինանսավորման՝ պետական բյուջեում չկանխատեսված ելքերի, ինչպես նաև բյուջետային երաշխիքների ապահովման ելքերի ֆինանսավորման ապահովում
B56: Միջոցառման տեսակը՝ | C56: Ծառայությունների մատուցում
B57: Միջոցառումն իրականացնողի անվանումը | C57: ՀՀ կառավարություն
C58: Արդյունքի չափորոշիչներ
B59: Միջոցառման վրա կատարվող ծախսը (հազար դրամ) | D59: =+'Հավելված N 2'!G65 -> 25440 | E59: =+'Հավելված N 2'!H65 -> 432690 | F59: =+'Հավելված N 2'!I65 -> 440290
B61: Ծրագրի միջոցառումները
B62: Ծրագրի դասիչը՝ | C62: 1139 | D62: Ցուցանիշների փոփոխությունը (նվազեցումները նշված են փակագծերում)
B63: Միջոցառման դասիչը՝ | C63: 11001 | D63: Առաջին կիսամյակ | E63: Ինն ամիս | F63: Տարի
B64: Միջոցառման անվանումը՝ | C64: ՀՀ կառավարության պահուստային ֆոնդ
B65: Նկարագրությունը՝ | C65: ՀՀ պետական բյուջեում նախատեսված ելքերի լրացուցիչ ֆինանսավորման՝ պետական բյուջեում չկանխատեսված ելքերի, ինչպես նաև բյուջետային երաշխիքների ապահովման ելքերի ֆինանսավորման ապահովում
B66: Միջոցառման տեսակը՝ | C66: Ծառայությունների մատուցում
B67: Միջոցառումն իրականացնողի անվանումը | C67: ՀՀ կառավարություն
C68: Արդյունքի չափորոշիչներ
B69: Միջոցառման վրա կատարվող ծախսը (հազար դրամ) | D69: =+'Հավելված N 2'!G74 -> -25440 | E69: =+'Հավելված N 2'!H74 -> -432690 | F69: =+'Հավելված N 2'!I74 -> -440290
B71: Ծրագրի դասիչը | C71: Ծրագրի անվանումը
B72: 1183 | C72: Ապահով դպրոց
B74: Ծրագրի միջոցառումները
B75: Ծրագրի դասիչը՝ | C75: 1183 | D75: Ցուցանիշների փոփոխությունը (ավելացումները նշված են դրական նշանով)
B76: Միջոցառման դասիչը՝ | C76: 32003 | D76: Առաջին կիսամյակ | E76: Ինն ամիս | F76: Տարի
B77: Միջոցառման անվանումը՝ | C77: Փոքրաքանակ երեխաներով համալրված հանրակրթական դպրոցների մոդուլային շենքերի կառուցում
B78: Նկարագրությունը՝ | C78: Կրթական հաստատությունների կառուցում համայնքային կենտրոնների մոդելով
B79: Միջոցառման տեսակը՝ | C79: Այլ պետական կազմակերպությունների կողմից օգտագործվող ոչ ֆինանսական ակտիվների հետ գործառնություններ
B80: Ակտիվն օգտագործող կազմակերպությունների անվանում | C80: Փոքրաքանակ երեխաներով համալրված հանրակրթական դպրոցներ
B81: Արդյունքի չափորոշիչներ
B82: Միջոցառման վրա կատարվող ծախսը (հազար դրամ) | D82: =+'Հավելված N 2'!G35 -> 116816 | E82: =+'Հավելված N 2'!H35 -> -35500 | F82: =+'Հավելված N 2'!I35 -> 312540

Sheet Հավելված N 7
H1: Հավելված N 7
H2: ՀՀ կառավարության 2023 թվականի
H3: ______________ ի ___Ն որոշման
A6: ՀԱՅԱՍՏԱՆԻ ՀԱՆՐԱՊԵՏՈՒԹՅԱՆ ԿԱՌԱՎԱՐՈՒԹՅԱՆ 2022 ԹՎԱԿԱՆԻ ԴԵԿՏԵՄԲԵՐԻ 29-Ի N 2111-Ն N 10 ՀԱՎԵԼՎԱԾՈՒՄ ԿԱՏԱՐՎՈՂ ՓՈՓՈԽՈՒԹՅՈՒՆՆԵՐԸ ԵՎ ԼՐԱՑՈՒՄՆԵՐԸ
A10: Կոդը | B10: Անվանումը | E10: Գնման ձևը | F10: Չափման միավորը | G10: Միավորի գինը | H10: Ցուցանիշների փոփոխությունը (ավելացումները նշված են դրական նշանով, իսկ նվազեցումները՝ փակագծերում)
H11: Քանակը | I11: Գումարը (հազար դրամ)
A12: 1 | B12: 2 | E12: 3 | F12: 4 | G12: 5 | H12: 6 | I12: 7
A13: ՀՀ քաղաքաշինության կոմիտե | I13: =+I14 -> -752830
A14: Բաժին N 09 | B14: Խումբ N 06 | C14: Դաս N 01 | D14: Կրթությանը տրամադրվող օժանդակ ծառայություններ | I14: =+I15 -> -752830
A15: 1183-32003 | B15: Փոքրաքանակ երեխաներով համալրված հանրակրթական դպրոցների և կրթահամալիրների մոդուլային շենքերի կառուցում | I15: =+I16+I19 -> -752830
B16: ՄԱՍ II. ԱՇԽԱՏԱՆՔՆԵՐ | I16: =SUM(I17:I18) -> -680000
A17: 45221142-1 | B17: ընդհանուր շինարարական աշխատանքներ | E17: ԲՄ | F17: դրամ | G17: 340000000 | H17: -1 | I17: =+H17*G17/1000 -> -340000
A18: 45221142-2 | B18: ընդհանուր շինարարական աշխատանքներ | E18: ԲՄ | F18: դրամ | G18: 340000000 | H18: -1 | I18: =+H18*G18/1000 -> -340000
B19: ՄԱՍ III. ԾԱՌԱՅՈՒԹՅՈՒՆՆԵՐ | I19: =SUM(I20:I45) -> -72830
A20: 71351540-1 | B20: տեխնիկական հսկողության ծառայություններ | E20: ԳՀ | F20: դրամ | G20: 13600000 | H20: -1 | I20: =+H20*G20/1000 -> -13600
A21: 71351540-2 | B21: տեխնիկական հսկողության ծառայություններ | E21: ԳՀ | F21: դրամ | G21: 13600000 | H21: -1 | I21: =+H21*G21/1000 -> -13600
A22: 98111140-1 | B22: տեխնիկական հսկողության ծառայություններ | E22: ՄԱ | F22: դրամ | G22: 2040000 | H22: -1 | I22: =+H22*G22/1000 -> -2040
A23: 98111140-2 | B23: տեխնիկական հսկողության ծառայություններ | E23: ՄԱ | F23: դրամ | G23: 2040000 | H23: -1 | I23: =+H23*G23/1000 -> -2040
A24: 71241200-1 | B24: նախագծերի պատրաստում, ծախսերի գնահատում | E24: ՄԱ | F24: դրամ | G24: 4500000 | H24: -1 | I24: =+H24*G24/1000 -> -4500
A25: 71241200-2 | B25: նախագծերի պատրաստում, ծախսերի գնահատում | E25: ՄԱ | F25: դրամ | G25: 3375000 | H25: -1 | I25: =+H25*G25/1000 -> -3375
A26: 71241200-3 | B26: նախագծերի պատրաստում, ծախսերի գնահատում | E26: ՄԱ | F26: դրամ | G26: 3375000 | H26: -1 | I26: =+H26*G26/1000 -> -3375
A27: 71241200-4 | B27: նախագծերի պատրաստում, ծախսերի գնահատում | E27: ՄԱ | F27: դրամ | G27: 3375000 | H27: -1 | I27: =+H27*G27/1000 -> -3375
A28: 71241200-5 | B28: նախագծերի պատրաստում, ծախսերի գնահատում | E28: ՄԱ | F28: դրամ | G28: 3375000 | H28: -1 | I28: =+H28*G28/1000 -> -3375
A29: 71241200-6 | B29: նախագծերի պատրաստում, ծախսերի գնահատում | E29: ՄԱ | F29: դրամ | G29: 3375000 | H29: -1 | I29: =+H29*G29/1000 -> -3375
A30: 71241200-7 | B30: նախագծերի պատրաստում, ծախսերի գնահատում | E30: ՄԱ | F30: դրամ | G30: 3375000 | H30: -1 | I30: =+H30*G30/1000 -> -3375
A31: 71241200-8 | B31: նախագծերի պատրաստում, ծախսերի գնահատում | E31: ՄԱ | F31: դրամ | G31: 3375000 | H31: -1 | I31: =+H31*G31/1000 -> -3375
... A45: 50531140-11 | B45: փորձաքննության ծառայություններ | E45: ԳՀ | F45: դրամ | G45: 300000 | H45: -1 | I45: =+H45*G45/1000 -> -300
A46: 1183-32013 | B46: ՀՀ մարզերում կրթական որակյալ ծառայությունների հասանելիության ապահովման ծրագրի շրջանակներում կրթական կենտրոնների ստեղծում | I46: =+I47 -> 440290
B47: ՄԱՍ III. ԾԱՌԱՅՈՒԹՅՈՒՆՆԵՐ | I47: =SUM(I48:I121) -> 440290
A48: 71241200 | B48: նախագծերի պատրաստում, ծախսերի գնահատում | E48: ՄԱ | F48: դրամ | G48: 24000000 | H48: 1 | I48: =+H48*G48/1000 -> 24000
A49: 71241200 | B49: նախագծերի պատրաստում, ծախսերի գնահատում | E49: ԳՀ | F49: դրամ | G49: =36000000 -> 36000000 | H49: 1 | I49: =+H49*G49/1000 -> 36000
A50: 71241200 | B50: նախագծերի պատրաստում, ծախսերի գնահատում | E50: ԳՀ | F50: դրամ | G50: 22000000 | H50: 1 | I50: =+H50*G50/1000 -> 22000
A51: 71241200 | B51: նախագծերի պատրաստում, ծախսերի գնահատում | E51: ԳՀ | F51: դրամ | G51: 32000000 | H51: 1 | I51: =+H51*G51/1000 -> 32000
A52: 71241200 | B52: նախագծերի պատրաստում, ծախսերի գնահատում | E52: ԳՀ | F52: դրամ | G52: 64000000 | H52: 1 | I52: =+H52*G52/1000 -> 64000
A53: 71241200 | B53: նախագծերի պատրաստում, ծախսերի գնահատում | E53: ԳՀ | F53: դրամ | G53: 56000000 | H53: 1 | I53: =+H53*G53/1000 -> 56000
A54: 71241200 | B54: նախագծերի պատրաստում, ծախսերի գնահատում | E54: ԳՀ | F54: դրամ | G54: 60000000 | H54: 1 | I54: =+H54*G54/1000 -> 60000
A55: 71241200 | B55: նախագծերի պատրաստում, ծախսերի գնահատում | E55: ՄԱ | F55: դրամ | G55: 3375000 | H55: 1 | I55: =+H55*G55/1000 -> 3375
A56: 71241200 | B56: նախագծերի պատրաստում, ծախսերի գնահատում | E56: ՄԱ | F56: դրամ | G56: 3375000 | H56: 1 | I56: =+H56*G56/1000 -> 3375
A57: 71241200 | B57: նախագծերի պատրաստում, ծախսերի գնահատում | E57: ՄԱ | F57: դրամ | G57: 3375000 | H57: 1 | I57: =+H57*G57/1000 -> 3375
A58: 71241200 | B58: նախագծերի պատրաստում, ծախսերի գնահատում | E58: ՄԱ | F58: դրամ | G58: 3375000 | H58: 1 | I58: =+H58*G58/1000 -> 3375
A59: 71241200 | B59: նախագծերի պատրաստում, ծախսերի գնահատում | E59: ՄԱ | F59: դրամ | G59: 3375000 | H59: 1 | I59: =+H59*G59/1000 -> 3375
A60: 71241200 | B60: նախագծերի պատրաստում, ծախսերի գնահատում | E60: ՄԱ | F60: դրամ | G60: 3375000 | H60: 1 | I60: =+H60*G60/1000 -> 3375
A61: 71241200 | B61: նախագծերի պատրաստում, ծախսերի գնահատում | E61: ՄԱ | F61: դրամ | G61: 4500000 | H61: 1 | I61: =+H61*G61/1000 -> 4500
... A121: 50531140 | B121: փորձաքննության ծառայություններ | E121: ԳՀ | F121: դրամ | G121: 300000 | H121: 1 | I121: =+H121*G121/1000 -> 300
