Workbook
Name AgencyCode: #REF!
Name AgencyCode: #REF!
Name AgencyCode: #REF!
Name AgencyCode: #REF!
Name AgencyCode: #REF!
Name AgencyName: #REF!
Name AgencyName: #REF!
Name AgencyName: #REF!
Name AgencyName: #REF!
Name AgencyName: #REF!
Name alisa: #REF!
Name alisa: #REF!
Name Functional1: #REF!
Name Functional1: #REF!
Name Functional1: #REF!
Name Functional1: #REF!
Name Functional1: #REF!
Name havelvac: #REF!
Name havelvac: #REF!
Name havelvac: #REF!
Name havelvac: #REF!
Name havelvac50: #REF!
Name havelvac7: #REF!
Name havelvac7: #REF!
Name PANature: #REF!
Name PANature: #REF!
Name PANature: #REF!
Name PANature: #REF!
Name PANature: #REF!
Name PAType: #REF!
Name PAType: #REF!
Name PAType: #REF!
Name PAType: #REF!
Name PAType: #REF!
Name Performance2: #REF!
Name Performance2: #REF!
Name Performance2: #REF!
Name Performance2: #REF!
Name Performance2: #REF!
Name PerformanceType: #REF!
Name PerformanceType: #REF!
Name PerformanceType: #REF!
Name PerformanceType: #REF!
Name PerformanceType: #REF!
Name sheet1: #REF!
Name sheet1: #REF!
Name sheet4: #REF!
Name sheet4: #REF!
Name sheet7: #REF!
Name sheet7: #REF!
Name գնումներ: #REF!
Name գնումներ: #REF!
Name հավ5: #REF!
Name հավ5: #REF!

Sheet 1
F1: Հավելված N 1
E2: ՀՀ կառավարության 2023 թվականի
E3: _____ ___-ի N _______ -Ն որոշման
A5: «ՀԱՅԱUՏԱՆԻ ՀԱՆՐԱՊԵՏՈՒԹՅԱՆ 2023 ԹՎԱԿԱՆԻ ՊԵՏԱԿԱՆ ԲՅՈՒՋԵԻ ՄԱUԻՆ» ՀԱՅԱUՏԱՆԻ ՀԱՆՐԱՊԵՏՈՒԹՅԱՆ OՐԵՆՔԻ N 1 ՀԱՎԵԼՎԱԾԻ N 2 ԱՂՅՈՒՍԱԿՈՒՄ ԿԱՏԱՐՎՈՂ ՎԵՐԱԲԱՇԽՈՒՄԸ ԵՎ ՀԱՅԱՍՏԱՆԻ ՀԱՆՐԱՊԵՏՈՒԹՅԱՆ ԿԱՌԱՎԱՐՈՒԹՅԱՆ 2022 ԹՎԱԿԱՆԻ ԴԵԿՏԵՄԲԵՐԻ 29-Ի N2111-Ն ՈՐՈՇՄԱՆ N5 ՀԱՎԵԼՎԱԾԻ N1 ԱՂՅՈՒՍԱԿՈՒՄ ԿԱՏԱՐՎՈՂ ՓՈՓՈԽՈՒԹՅՈՒՆՆԵՐԸ ԵՎ ԼՐԱՑՈՒՄՆԵՐԸ
D6: հազար դրամներով
A7: Ծրագրային դասիչը | C7: Բյուջետային հատկացումների գլխավոր կարգադրիչների, ծրագրերի և միջոցառումների անվանումները | D7: Ցուցանիշների փոփոխությունները (Ավելացումները նշված են դրական նշանով, իսկ նվազեցումները՝ փակագծերում)
A8: Ծրագիր | B8: Միջոցառում | D8: Առաջին կիսամյակ | E8: Ինն ամիս | F8: Տարի
C9: ԸՆԴԱՄԵՆԸ | D9: =+D10+D36 -> 0 | E9: =+E10+E36 -> 0 | F9: =+F10+F36 -> 0
B10: ՀՀ արտակարգ իրավիճակների նախարարություն | D10: =+D11+D24 -> 218894.6 | E10: =+E11+E24 -> 218894.6 | F10: =+F11+F24 -> 218894.6
A11: 1090 | C11: Ծրագրի անվանումը` | D11: =+D19 -> 207203.5 | E11: =+E19 -> 207203.5 | F11: =+F19 -> 207203.5
C12: Փրկարարական ծառայություններ
C13: Ծրագրի նպատակը`
C14: Արտակարգ իրավիճակների արդյունավետ արձագանք
C15: Վերջնական արդյունքի նկարագրությունը`
C16: Արտակարգ իրավիճակների հնարավոր դեպքերի կանխում՝ դրանց ժամանակին արձագանքում՝ հետևանքների նվազեցում և բնակչության պաշտպանություն
C17: Ծրագրի միջոցառումներ
B18: 31007 | C18: Միջոցառման անվանումը՝
C19: ԱԻՆ Փրկարար ծառայության շենքային ապահովվածության և պայմանների բարելավում | D19: =+'2'!G20 -> 207203.5 | E19: =+'2'!H20 -> 207203.5 | F19: =+'2'!I20 -> 207203.5
C20: Միջոցառման նկարագրությունը՝
C21: Փրկարար ծառայության շենքերի, շինությունների կառուցում և կապիտալ վերանորոգում
C22: Միջոցառման տեսակը՝
C23: Պետական մարմինների կողմից օգտագործվող ոչ ֆինանասական ակտիվների հետ գործառնություններ
A24: 1112 | C24: Ծրագրի անվանումը` | D24: =+D31 -> 11691.1 | E24: =+E31 -> 11691.1 | F24: =+F31 -> 11691.1
C25: Արտակարգ իրավիճակների բնագավառի պետական քաղաքականության մշակում, ծրագրերի համակարգում և մոնիտորինգ
C26: Ծրագրի նպատակը`
C27: Արտակարգ իրավիճակների բնագավառում պետական արդյունավետ քաղաքականության մշակման և իրականացման ապահովում
C28: Վերջնական արդյունքի նկարագրությունը`
C29: Արտակարգ իրավիճակների քաղաքականության իրագործմանն ուղղված ծրագրերի ազդեցության և արդյունավետության բարելավում
B30: 31002 | C30: Միջոցառման անվանումը՝
C31: ՀՀ արտակարգ իրավիճակների նախարարության շենքային պայմանների բարելավում | D31: =+'2'!G32 -> 11691.1 | E31: =+'2'!H32 -> 11691.1 | F31: =+'2'!I32 -> 11691.1
C32: Միջոցառման նկարագրությունը՝
C33: ՀՀ արտակարգ իրավիճակների նախարարության շենքերի և շինությունների վերակառուցման, վերանորոգման և վերականգնման աշխատանք¬ների իրականացում և դրանց նախագծանախահաշվային փաստաթղթերի ձեռքբերում
C34: Միջոցառման տեսակը՝
C35: Պետական մարմինների կողմից օգտագործվող ոչ ֆինանասական ակտիվների հետ գործառույթներ
C36: ՀՀ կառավարություն | D36: =D37 -> -218894.6 | E36: =E37 -> -218894.6 | F36: =F37 -> -218894.6
A37: 1139 | C37: Ծրագրի անվանումը` | D37: =D44 -> -218894.6 | E37: =E44 -> -218894.6 | F37: =F44 -> -218894.6
C38: ՀՀ կառավարության պահուստային ֆոնդ
C39: Ծրագրի նպատակը`
C40: Պետական բյուջեում չկանխատեսված, ինչպես նաեւ բյուջետային երաշխիքների ապահովման ծախսերի ֆինանսավորման ապահովում
C41: Վերջնական արդյունքի նկարագրությունը`
...

Sheet 2
I1: Հավելված N 2
H2: ՀՀ կառավարության 2023 թվականի
H3: ___________ ___-ի N _______ -Ն որոշման
A5: ՀԱՅԱՍՏԱՆԻ ՀԱՆՐԱՊԵՏՈՒԹՅԱՆ ԿԱՌԱՎԱՐՈՒԹՅԱՆ 2022 ԹՎԱԿԱՆԻ ԴԵԿՏԵՄԲԵՐԻ 29-Ի N 2111-Ն ՈՐՈՇՄԱՆ N 3 ԵՎ N 4 ՀԱՎԵԼՎԱԾՆԵՐՈՒՄ ԿԱՏԱՐՎՈՂ ՓՈՓՈԽՈՒԹՅՈՒՆՆԵՐԸ ԵՎ ԼՐԱՑՈՒՄՆԵՐԸ
H6: հազար դրամներով
A7: Գործառական դասիչը | D7: Ծրագրային դասիչը | F7: Բյուջետային ծախսերի գործառական դասակարգման բաժինների, խմբերի և դասերի, բյուջետային հատկացումների գլխավոր կարգադրիչների, ծրագրերի, միջոցառումների և միջոցառումները կատարող պետական մարմինների անվանումները | G7: Ցուցանիշների փոփոխությունները (Ավելացումները նշված են դրական նշանով, իսկ նվազեցումները՝ փակագծերում)
A8: Բաժին | B8: Խումբ | C8: Դաս | D8: Ծրագիր | E8: Միջոցառում | G8: Առաջին կիսամյակ | H8: Ինն ամիս | I8: Տարի
F9: Ընդամենը | G9: =+G10+G41 -> 0 | H9: =+G9 -> 0 | I9: =+H9 -> 0
A10: 03 | F10: ՀԱՍԱՐԱԿԱԿԱՆ ԿԱՐԳ, ԱՆՎՏԱՆԳՈՒԹՅՈՒՆ ԵՎ ԴԱՏԱԿԱՆ ԳՈՐԾՈՒՆԵՈՒԹՅՈՒՆ | G10: =+G12 -> 218894.6 | H10: =+G10 -> 218894.6 | I10: =+H10 -> 218894.6
F11: այդ թվում`
B12: 02 | F12: Փրկարար ծառայություն | G12: =+G14 -> 218894.6 | H12: =+G12 -> 218894.6 | I12: =+H12 -> 218894.6
F13: այդ թվում`
C14: 01 | F14: Փրկարար ծառայություն | G14: =+G16 -> 218894.6 | H14: =+G14 -> 218894.6 | I14: =+H14 -> 218894.6
F15: այդ թվում`
F16: ՀՀ արտակարգ իրավիճակների նախարարություն | G16: =+G18+G30 -> 218894.6 | H16: =+G16 -> 218894.6 | I16: =+H16 -> 218894.6
F17: այդ թվում`
D18: 1090 | F18: Փրկարարական ծառայություններ | G18: =+G20 -> 207203.5 | H18: =+G18 -> 207203.5 | I18: =+H18 -> 207203.5
F19: այդ թվում`
E20: 31007 | F20: ԱԻՆ Փրկարար ծառայության շենքային ապահովվածության և պայմանների բարելավում | G20: =+G22 -> 207203.5 | H20: =+G20 -> 207203.5 | I20: =+H20 -> 207203.5
F21: այդ թվում` ըստ կատարողների
F22: ՀՀ արտակարգ իրավիճակների նախարարություն | G22: 207203.5 | H22: =+G22 -> 207203.5 | I22: =+H22 -> 207203.5
F23: այդ թվում` բյուջետային ծախսերի տնտեսագիտական դասակարգման հոդվածներ
F24: ԸՆԴԱՄԵՆԸ ԾԱԽՍԵՐ | G24: =+G25 -> 207203.5 | H24: =+H25 -> 207203.5 | I24: =+I25 -> 207203.5
F25: ՈՉ ՖԻՆԱՆՍԱԿԱՆ ԱԿՏԻՎՆԵՐԻ ԳԾՈՎ ԾԱԽՍԵՐ | G25: =+G26 -> 207203.5 | H25: =+H26 -> 207203.5 | I25: =+I26 -> 207203.5
F26: ՀԻՄՆԱԿԱՆ ՄԻՋՈՑՆԵՐ | G26: =+G27 -> 207203.5 | H26: =+H27 -> 207203.5 | I26: =+I27 -> 207203.5
F27: ՇԵՆՔԵՐ ԵՎ ՇԻՆՈՒԹՅՈՒՆՆԵՐ | G27: =+G28+G29 -> 207203.5 | H27: =+H28+H29 -> 207203.5 | I27: =+I28+I29 -> 207203.5
F28: - Շենքերի և շինությունների շինարարություն | G28: 6178.9 | H28: 6178.9 | I28: 6178.9
F29: - Շենքերի և շինությունների կապիտալ վերանորոգում | G29: 201024.6 | H29: 201024.6 | I29: 201024.6
D30: 1112 | F30: Արտակարգ իրավիճակների բնագավառի պետական քաղաքականության մշակում, ծրագրերի համակարգում և մոնիտորինգ | G30: =+G32 -> 11691.1 | H30: =+H32 -> 11691.1 | I30: =+I32 -> 11691.1
F31: այդ թվում`
E32: 31002 | F32: ՀՀ արտակարգ իրավիճակների նախարարության շենքային պայմանների բարելավում | G32: =+G34 -> 11691.1 | H32: =+H34 -> 11691.1 | I32: =+I34 -> 11691.1
F33: այդ թվում` ըստ կատարողների
F34: ՀՀ արտակարգ իրավիճակների նախարարություն | G34: =+G36 -> 11691.1 | H34: =+H36 -> 11691.1 | I34: =+I36 -> 11691.1
F35: այդ թվում` բյուջետային ծախսերի տնտեսագիտական դասակարգման հոդվածներ
F36: ԸՆԴԱՄԵՆԸ ԾԱԽՍԵՐ | G36: =+G37 -> 11691.1 | H36: =+H37 -> 11691.1 | I36: =+I37 -> 11691.1
F37: ՈՉ ՖԻՆԱՆՍԱԿԱՆ ԱԿՏԻՎՆԵՐԻ ԳԾՈՎ ԾԱԽՍԵՐ | G37: =+G38 -> 11691.1 | H37: =+H38 -> 11691.1 | I37: =+I38 -> 11691.1
F38: ՀԻՄՆԱԿԱՆ ՄԻՋՈՑՆԵՐ | G38: =+G39 -> 11691.1 | H38: =+H39 -> 11691.1 | I38: =+I39 -> 11691.1
F39: ՇԵՆՔԵՐ ԵՎ ՇԻՆՈՒԹՅՈՒՆՆԵՐ | G39: =+G40 -> 11691.1 | H39: =+H40 -> 11691.1 | I39: =+I40 -> 11691.1
F40: - Շենքերի և շինությունների կապիտալ վերանորոգում | G40: 11691.1 | H40: 11691.1 | I40: 11691.1
A41: 11 | F41: ՀԻՄՆԱԿԱՆ ԲԱԺԻՆՆԵՐԻՆ ՉԴԱՍՎՈՂ ՊԱՀՈՒՍՏԱՅԻՆ ՖՈՆԴԵՐ | G41: =+G43 -> -218894.6 | H41: =+G41 -> -218894.6 | I41: =+H41 -> -218894.6
...

Sheet 3
A1: Հավելված N 3
F2: ՀՀ կառավարության 2023 թվականի -ի N -Ն որոշման
C3: «ՀԱՅԱՍՏԱՆԻ ՀԱՆՐԱՊԵՏՈՒԹՅԱՆ 2023 ԹՎԱԿԱՆԻ ՊԵՏԱԿԱՆ ԲՅՈՒՋԵԻ ՄԱՍԻՆ» ՀԱՅԱՍՏԱՆԻ ՀԱՆՐԱՊԵՏՈՒԹՅԱՆ ՕՐԵՆՔԻ N 1 ՀԱՎԵԼՎԱԾԻ N3 ԱՂՅՈՒՍԱԿՈՒՄ ԿԱՏԱՐՎՈՂ ՓՈՓՈԽՈՒԹՅՈՒՆՆԵՐԸ ԵՎ ԼՐԱՑՈՒՄՆԵՐԸ
G4: հազար դրամներով
A5: Ծրագրային դասիչ | C5: Բյուջետային գլխավոր կարգադրիչների, ծրագրերի, միջոցառումների և ուղղությունների անվանումները | D5: Ընդամենը, | E5: Ցուցանիշների փոփոխությունը (ավելացումները նշված են դրական նշանով)
A6: Ծրագիր | B6: Միջոցառում | E6: Կառուցման աշխատանքներ | F6: Վերակառուցման, վերանորոգման և վերականգնման աշխատանքներ | G6: Նախագծահե- տազոտական, գեոդեզիա- քարտեզագրա- կան աշխա- տանքներ | H6: Ոչ ֆինանսական այլ ակտիվների ձեռքբերում
C7: ԸՆԴԱՄԵՆԸ | D7: =+D9+D13 -> 0 | E7: =+E9+E13 -> 0 | F7: =+F9+F13 -> 0 | G7: =+G9+G13 -> 0 | H7: =+H9+H13 -> 0
C8: այդ թվում`
C9: ՀՀ ԱՐՏԱԿԱՐԳ ԻՐԱՎԻՃԱԿՆԵՐԻ ՆԱԽԱՐԱՐՈՒԹՅՈՒՆ | D9: =+F9+G9+H9 -> 218894.6 | E9: 0 | F9: =+F11+F12 -> 218894.6 | G9: =+G11+G12 -> 0 | H9: 0
C10: այդ թվում`
A11: 1090 | B11: 31007 | C11: ԱԻՆ Փրկարար ծառայության շենքային ապահովվածության և պայմանների բարելավում | D11: =+F11+G11 -> 207203.5 | E11: 0 | F11: 207203.5 | G11: 0 | H11: 0
A12: 1112 | B12: 31002 | C12: ՀՀ արտակարգ իրավիճակների նախարարության շենքային պայմանների բարելավում | D12: =+F12+G12 -> 11691.1 | E12: 0 | F12: 11691.1 | G12: 0 | H12: 0
C13: ՀՀ ԿԱՌԱՎԱՐՈՒԹՅՈՒՆ | D13: =D15 -> -218894.6 | E13: =E15 -> 0 | F13: =F15 -> -218894.6 | G13: =G15 -> 0 | H13: =H15 -> 0
C14: այդ թվում`
A15: 1139 | B15: 11001 | C15: ՀՀ կառավարության պահուստային ֆոնդ | D15: -218894.6 | E15: =+-E9 -> 0 | F15: -218894.6 | G15: =+-G9 -> 0 | H15: =+-H9 -> 0
A19: ՀԱՅԱՍՏԱՆԻ ՀԱՆՐԱՊԵՏՈՒԹՅԱՆ ՎԱՐՉԱՊԵՏԻ ԱՇԽԱՏԱԿԱԶՄԻ
A20: ՂԵԿԱՎԱՐ Ա. ՀԱՐՈՒԹՅՈՒՆՅԱՆ

Sheet 4
E1: Հավելված N 4 ՀՀ կառավարության 2023 թվականի __________-ի ____-ի N _____-Ն որոշման
A3: ՀԱՅԱՍՏԱՆԻ ՀԱՆՐԱՊԵՏՈՒԹՅԱՆ ԿԱՌԱՎԱՐՈՒԹՅԱՆ 2022 ԹՎԱԿԱՆԻ ԴԵԿՏԵՄԲԵՐԻ 29-Ի N 2111-Ն ՈՐՈՇՄԱՆ N 5 ՀԱՎԵԼՎԱԾԻ N 2 ԱՂՅՈՒՍԱԿՈՒՄ ԿԱՏԱՐՎՈՂ ՓՈՓՈԽՈՒԹՅՈՒՆՆԵՐԸ ԵՎ ԼՐԱՑՈՒՄՆԵՐԸ
F4: հազար դրամներով
A5: Ծրագրային դասիչ | C5: Բյուջետային գլխավոր կարգադրիչների, ծրագրերի, միջոցառումների, միջոցառումները կատարող պետական մարմինների և ուղղությունների անվանումները | D5: Ցուցանիշների փոփոխությունները (Ավելացումները նշված են դրական նշանով, իսկ նվազեցումները՝ փակագծերում)
A6: Ծրագիր | B6: Միջոցառում | D6: Առաջին կիսամյակ | E6: Ինն ամիս | F6: Տարի
C7: ԸՆԴԱՄԵՆԸ
C8: այդ թվում՝
C9: ՀՀ ԱՐՏԱԿԱՐԳ ԻՐԱՎԻՃԱԿՆԵՐԻ ՆԱԽԱՐԱՐՈՒԹՅՈՒՆ
C10: այդ թվում`
A11: 1090 | B11: 31001 | C11: Փրկարար ծառայության տեխնիկական հագեցվածության բարելավում
C12: այդ թվում` ըստ կատարողների
C13: ՀՀ արտակարգ իրավիճակների նախարարություն
C14: Տրանսպորտային միջոցների և սարքավորումների ձեռքբերում
C15: ԸՆԴԱՄԵՆԸ | D15: =+D16+D35 -> 0 | E15: =+E16+E35 -> 0 | F15: =+F16+F35 -> 0
C16: ՀՀ ԱՐՏԱԿԱՐԳ ԻՐԱՎԻՃԱԿՆԵՐԻ ՆԱԽԱՐԱՐՈՒԹՅՈՒՆ | D16: =+D18+D31 -> 218894.6 | E16: =+E18+E31 -> 218894.6 | F16: =+F18+F31 -> 218894.6
A17: 1090 | C17: Փրկարարական ծառայություններ
B18: 31007 | C18: ԱԻՆ Փրկարար ծառայության շենքային ապահովվածության և պայմանների բարելավում | D18: =+SUM(D20:D27) -> 207203.5 | E18: =+D18 -> 207203.5 | F18: =+E18 -> 207203.5
C19: այդ թվում`
C20: Վանաձորի N 1 ՀՓՋ, Լոռու մարզ ք.Վանաձոր,Երևանյան խճուղի 62, շենքի 1200քմ մակերեսի ներքին հարդարման աշխատանքներ, դուռ-լուսամուտների փոխարինում, ջեռուցման համակարգի իրականացում, տանիքի նորոգում | D20: 22369.6 | E20: =+D20 -> 22369.6 | F20: =+E20 -> 22369.6
C21: N9 ՀՓՋ,ք. Երևան, Գյուլիքևխյան 12/2, շենքի 730 քմ մակերեսով ներքին հարդարման աշխատանքներ, դուռ-լուսամուտների փոխարինում, ջեռուցման համակարգի իրականացում տանիքի նորոգում | D21: 2618.4 | E21: =+D21 -> 2618.4 | F21: =+E21 -> 2618.4
C22: Եղվարդի ՀՓՋ-ի ավտոկայանատեղի,Կոտայքի մարզ ք.Եղվարդ - շենքի 223,50 քմ մակերեսի ներքին հարդարման աշխատանքներ, դուռ-լուսամուտների փոխարինում, ջեռուցման համակարգի իրականացում, տանիքի նորոգում | D22: 6671 | E22: =+D22 -> 6671 | F22: =+E22 -> 6671
C23: Տավուշի ՀՓՋ, Տավուշի մարզ ք.Իջևան, Արցախյան փ. 4 հասցեում 392 քմ մակերեսով ավտոկայանատեղիի կառուցում, ներքին հարդարման աշխատանքներ, դուռ-լուսամուտների փոխարինում, ջեռուցման համակարգի իրականացում, տանիքի նորոգում | D23: 59407.9 | E23: =+D23 -> 59407.9 | F23: =+E23 -> 59407.9
C24: N7 ՀՓՋ,ք. Երևան, Հասրաթյան փ. 9/1, շենքի 632.65 քմ մակերեսով ներքին հարդարման աշխատանքներ, դուռ-լուսամուտների փոխարինում, ջեռուցման համակարգի իրականացում, տանիքի նորոգում | D24: 16866.4 | E24: =+D24 -> 16866.4 | F24: =+E24 -> 16866.4
C25: N2 ՀՓՋ, ք.Երևան, Սևանի փ. 124, շենքի 558,9 քմ մակերեսով 1-ին և 2-րդ հարկերի ներքին հարդարման աշխատանքներ, դուռ-լուսամուտների փոխարինում, ջեռուցման համակարգի իրականացում,տանիքի նորոգում | D25: 64273.2 | E25: =+D25 -> 64273.2 | F25: =+E25 -> 64273.2
C26: N11 ՀՓՋ,ք. Երևան, Աճառյան 44/5, շենքի 475 քմ մակերեսով ներքին հարդարման աշխատանքներ, դուռ-լուսամուտների փոխարինում, ջեռուցման համակարգի իրականացում | D26: 28818.1 | E26: =+D26 -> 28818.1 | F26: =+E26 -> 28818.1
C27: ԱԻՆ ՓԾ Շիրակի մարզի Աշոցք,ի ՀՓՋ 3-րդ թաղամաս, 9-րդ փողոց, 2/1)հ ասցեում գազի մատակարարման մագիստրալային խողովակների անցկացում | D27: 6178.9 | E27: 6178.9 | F27: 6178.9
C28: այդ թվում` ըստ կատարողների
C29: ՀՀ արտակարգ իրավիճակների նախարարություն
A30: 1112 | C30: Արտակարգ իրավիճակների բնագավառի պետական քաղաքականության մշակում, ծրագրերի համակարգում և մոնիտորինգ
B31: 31002 | C31: ՀՀ արտակարգ իրավիճակների նախարարության շենքային պայմանների բարելավում | D31: =+D32 -> 11691.1 | E31: =+D31 -> 11691.1 | F31: =+E31 -> 11691.1
C32: ԱԻՆ վարչական համալիրի երկրորդ մասնաշենքի տանիքի կապիտալ վերանորոգում (ք. Երևան, Դավիթաշեն 4, Ա. Միկոյան 109/8) | D32: 11691.1 | E32: =+D32 -> 11691.1 | F32: =+E32 -> 11691.1
C33: այդ թվում` ըստ կատարողների
C34: ՀՀ արտակարգ իրավիճակների նախարարություն
C35: ՀՀ ԿԱՌԱՎԱՐՈՒԹՅՈՒՆ | D35: =D37 -> -218894.6 | E35: =E37 -> -218894.6 | F35: =F37 -> -218894.6
C36: այդ թվում`
A37: 1139 | B37: 11001 | C37: Պահուստային ֆոնդ | D37: =+'2'!G59 -> -218894.6 | E37: =+'2'!H59 -> -218894.6 | F37: =+'2'!I59 -> -218894.6
A40: ՀԱՅԱՍՏԱՆԻ ՀԱՆՐԱՊԵՏՈՒԹՅԱՆ ՎԱՐՉԱՊԵՏԻ ԱՇԽԱՏԱԿԱԶՄԻ
A41: ՂԵԿԱՎԱՐ Ա. ՀԱՐՈՒԹՅՈՒՆՅԱՆ

Sheet 5
C1: Հավելված N 5 ՀՀ կառավարության 2023 թվականի __________-ի ____-ի N _____-Ն որոշման
A3: ՀԱՅԱՍՏԱՆԻ ՀԱՆՐԱՊԵՏՈՒԹՅԱՆ ԿԱՌԱՎԱՐՈՒԹՅԱՆ 2022 ԹՎԱԿԱՆԻ ԴԵԿՏԵՄԲԵՐԻ 29-Ի N 2111-Ն ՈՐՈՇՄԱՆ N9 ՀԱՎԵԼՎԱԾԻ 9.18 ԵՎ 9.47 ԱՂՅՈՒՍԱԿՆԵՐՈՒՄ ԿԱՏԱՐՎՈՂ ՓՈՓՈԽՈՒԹՅՈՒՆՆԵՐԸ ԵՎ ԼՐԱՑՈՒՄՆԵՐԸ
A5: ՀՀ արտակարգ իրավիճակների նախարարություն
A6: ՄԱՍ 2. ՊԵՏԱԿԱՆ ՄԱՐՄՆԻ ԳԾՈՎ ԱՐԴՅՈՒՆՔԱՅԻՆ (ԿԱՏԱՐՈՂԱԿԱՆ) ՑՈՒՑԱՆԻՇՆԵՐԸ
A7: Ծրագրի դասիչը | B7: Ծրագրի անվանումը
A8: 1090 | B8: Փրկարարական ծառայություններ
A9: Ծրագրի միջոցառումները
A10: Ծրագրի դասիչը՝ | B10: 1090 | C10: Ցուցանիշների փոփոխությունները (Ավելացումները նշված են դրական նշանով)
A11: Միջոցառման դասիչը՝ | B11: 31007 | C11: Առաջին կիսամյակ | D11: Ինն ամիս | E11: Տարի
A12: Միջոցառման անվանումը՝ | B12: ԱԻՆ Փրկարար ծառայության շենքային ապահովվածության և պայմանների բարելավում
A13: Նկարագրությունը՝ | B13: Փրկարար ծառայության շենքերի, շինությունների կառուցում և կապիտալ վերանորոգում
A14: Միջոցառման տեսակը՝ | B14: Պետական մարմինների կողմից օգտագործվող ոչ ֆինանասական ակտիվների հետ գործառույթներ
A15: Միջոցառումն իրականացնողի անվանումը` | B15: ՀՀ արտակարգ իրավիճակների նախարարություն
A16: Արդյունքի չափորոշիչներ
A17: Քանակական | B17: Կապիտալ վերանորոգման ենթակա օբյեկտների թիվը, հատ | C17: 7 | D17: 7 | E17: 7
B18: Վերանորոգման ենթակա մակերես, քմ | C18: 4212.1 | D18: 4212.1 | E18: 4212.1
B19: Գազի մատակարարման մագիստրալային խողովակների երկարությունը, մետր | C19: 400 | D19: 400 | E19: 400
A20: Միջոցառման վրա կատարվող ծախսը (հազար դրամ) | C20: =+'2'!G20 -> 207203.5 | D20: =+'2'!H20 -> 207203.5 | E20: =+'2'!I20 -> 207203.5
A21: Ծրագրի դասիչը | B21: Ծրագրի անվանումը
A22: 1112 | B22: Արտակարգ իրավիճակների բնագավառի պետական քաղաքականության մշակում՝ ծրագրերի համակարգում և մոնիտորինգ
A23: Ծրագրի միջոցառումները
A24: Ծրագրի դասիչը՝ | B24: 1112 | C24: Ցուցանիշների փոփոխությունները (Ավելացումները նշված են դրական նշանով)
A25: Միջոցառման դասիչը՝ | B25: 31002 | C25: Առաջին կիսամյակ | D25: Ինն ամիս | E25: Տարի
A26: Միջոցառման անվանումը՝ | B26: ՀՀ արտակարգ իրավիճակների նախարարության շենքային պայմանների բարելավում
A27: Նկարագրությունը՝ | B27: ՀՀ արտակարգ իրավիճակների նախարարության շենքերի և շինությունների վերակառուցման, վերանորոգման և վերականգնման աշխատանք¬ների իրականացում և դրանց նախագծանախահաշվային փաստաթղթերի ձեռքբերում
A28: Միջոցառման տեսակը՝ | B28: Պետական մարմինների կողմից օգտագործվող ոչ ֆինանասական ակտիվների հետ գործառույթներ
A29: Միջոցառումն իրականացնողի անվանումը` | B29: ՀՀ արտակարգ իրավիճակների նախարարություն
A30: Արդյունքի չափորոշիչներ
A31: Քանակական | B31: Կապիտալ վերանորոգման ենթակա օբյեկտների թիվը, հատ | C31: 1 | D31: 1 | E31: 1
A32: Քանակական | B32: Վերանորոգման ենթակա մակերես, քմ | C32: 1734.2 | D32: 1734.2 | E32: 1734.2
A33: Միջոցառման վրա կատարվող ծախսը (հազար դրամ) | C33: =+'2'!G32 -> 11691.1 | D33: =+'2'!H32 -> 11691.1 | E33: =+'2'!I32 -> 11691.1
A35: ՀՀ կառավարություն
A36: ՄԱՍ 2. ՊԵՏԱԿԱՆ ՄԱՐՄՆԻ ԳԾՈՎ ԱՐԴՅՈՒՆՔԱՅԻՆ (ԿԱՏԱՐՈՂԱԿԱՆ) ՑՈՒՑԱՆԻՇՆԵՐԸ
A38: Ծրագրի դասիչը | B38: Ծրագրի անվանումը
A39: 1139 | B39: ՀՀ կառավարության պահուստային ֆոնդ
A41: Ծրագրի միջոցառումները
A43: Ծրագրի դասիչը` | B43: 1139 | C43: Ցուցանիշների փոփոխությունները (Նվազեցումները նշված են փակագծերում)
A44: Միջոցառման դասիչը` | B44: 11001 | C44: Առաջին կիսամյակ | D44: Ինն ամիս | E44: Տարի
A45: Միջոցառման անվանումը` | B45: ՀՀ կառավարության պահուստային ֆոնդ
A46: Նկարագրությունը` | B46: ՀՀ պետական բյուջեում նախատեսված ելքերի լրացուցիչ ֆինանսավորման, պետական բյուջեում չկանխատեսված ելքերի, ինչպես նաև բյուջետային երաշխիքների ապահովման ելքերի ֆինանսավորման ապահովում
...

Sheet 6
B1: Հավելված N 6 ՀՀ կառավարության 2023 թվականի __________-ի ____-ի N _____-Ն որոշման
A2: ՀԱՅԱՍՏԱՆԻ ՀԱՆՐԱՊԵՏՈՒԹՅԱՆ ԿԱՌԱՎԱՐՈՒԹՅԱՆ 2022 ԹՎԱԿԱՆԻ ԴԵԿՏԵՄԲԵՐԻ 29-Ի N 2111-Ն ՈՐՈՇՄԱՆ N9.1 ՀԱՎԵԼՎԱԾԻ 9.1.18 ԵՎ 9.1.58 ԱՂՅՈՒՍԱԿՆԵՐՈՒՄ ԿԱՏԱՐՎՈՂ ՓՈՓՈԽՈՒԹՅՈՒՆՆԵՐԸ ԵՎ ԼՐԱՑՈՒՄՆԵՐԸ
A3: ՀՀ արտակարգ իրավիճակների նախարարություն
A5: ՄԱՍ 1 ՊԵՏԱԿԱՆ ՄԱՐՄՆԻ ԳԾՈՎ ԱՐԴՅՈՒՆՔԱՅԻՆ (ԿԱՏԱՐՈՂԱԿԱՆ) ՑՈՒՑԱՆԻՇՆԵՐԸ
A6: Ծրագրի դասիչը | B6: Ծրագրի անվանումը
A7: 1090 | B7: Փրկարարական ծառայություններ
A8: Ծրագրի միջոցառումները
A9: Ծրագրի դասիչը՝ | B9: 1090 | C9: Ցուցանիշների փոփոխությունները (Ավելացումները նշված են դրական նշանով)
A10: Միջոցառման դասիչը՝ | B10: 31007 | C10: Առաջին կիսամյակ | D10: Ինն ամիս | E10: Տարի
A11: Միջոցառման անվանումը՝ | B11: ԱԻՆ Փրկարար ծառայության շենքային ապահովվածության և պայմանների բարելավում
A12: Նկարագրությունը՝ | B12: Փրկարար ծառայության շենքերի, շինությունների կառուցում և կապիտալ վերանորոգում
A13: Միջոցառման տեսակը՝ | B13: Պետական մարմինների կողմից օգտագործվող ոչ ֆինանասական ակտիվների հետ գործառույթներ
A14: Միջոցառումն իրականացնողի անվանումը` | B14: ՀՀ արտակարգ իրավիճակների նախարարություն
A15: Արդյունքի չափորոշիչներ
A16: Քանակական | B16: Կապիտալ վերանորոգման ենթակա օբյեկտների թիվը, հատ | C16: 7 | D16: 7 | E16: 7
B17: Վերանորոգման ենթակա մակերես, քմ | C17: 4212.1 | D17: 4212.1 | E17: 4212.1
B18: Գազի մատակարարման մագիստրալային խողովակների երկարությունը, մետր | C18: 400 | D18: 400 | E18: 400
A19: Միջոցառման վրա կատարվող ծախսը (հազար դրամ) | C19: =+'5'!C20 -> 207203.5 | D19: =+'5'!D20 -> 207203.5 | E19: =+'5'!E20 -> 207203.5
A20: Ծրագրի դասիչը | B20: Ծրագրի անվանումը
A21: 1112 | B21: Արտակարգ իրավիճակների բնագավառի պետական քաղաքականության մշակում՝ ծրագրերի համակարգում և մոնիտորինգ
A22: Ծրագրի միջոցառումները
A23: Ծրագրի դասիչը՝ | B23: 1112 | C23: Ցուցանիշների փոփոխությունները (Ավելացումները նշված են դրական նշանով)
A24: Միջոցառման դասիչը՝ | B24: 31002 | C24: Առաջին կիսամյակ | D24: Ինն ամիս | E24: Տարի
A25: Միջոցառման անվանումը՝ | B25: ՀՀ արտակարգ իրավիճակների նախարարության շենքային պայմանների բարելավում
A26: Նկարագրությունը՝ | B26: ՀՀ արտակարգ իրավիճակների նախարարության շենքերի և շինությունների վերակառուցման, վերանորոգման և վերականգնման աշխատանք¬ների իրականացում և դրանց նախագծանախահաշվային փաստաթղթերի ձեռքբերում
A27: Միջոցառման տեսակը՝ | B27: Պետական մարմինների կողմից օգտագործվող ոչ ֆինանասական ակտիվների հետ գործառույթներ
A28: Միջոցառումն իրականացնողի անվանումը` | B28: ՀՀ արտակարգ իրավիճակների նախարարություն
A29: Արդյունքի չափորոշիչներ
A30: Քանակական | B30: Կապիտալ վերանորոգման ենթակա օբյեկտների թիվը, հատ | C30: 1 | D30: 1 | E30: 1
A31: Քանակական | B31: Վերանորոգման ենթակա մակերես, քմ | C31: 1734.2 | D31: 1734.2 | E31: 1734.2
A32: Միջոցառման վրա կատարվող ծախսը (հազար դրամ) | C32: =+'5'!C33 -> 11691.1 | D32: =+'5'!D33 -> 11691.1 | E32: =+'5'!E33 -> 11691.1
A34: ՀՀ կառավարություն
A35: ՄԱՍ 1 ՊԵՏԱԿԱՆ ՄԱՐՄՆԻ ԳԾՈՎ ԱՐԴՅՈՒՆՔԱՅԻՆ (ԿԱՏԱՐՈՂԱԿԱՆ) ՑՈՒՑԱՆԻՇՆԵՐԸ
A37: Ծրագրի դասիչը | B37: Ծրագրի անվանումը
A38: 1139 | B38: ՀՀ կառավարության պահուստային ֆոնդ
A40: Ծրագրի միջոցառումները
A42: Ծրագրի դասիչը` | B42: 1139 | C42: Ցուցանիշների փոփոխությունները (Նվազեցումները նշված են փակագծերում)
A43: Միջոցառման դասիչը` | B43: 11001 | C43: Առաջին կիսամյակ | D43: Ինն ամիս | E43: Տարի
A44: Միջոցառման անվանումը` | B44: ՀՀ կառավարության պահուստային ֆոնդ
A45: Նկարագրությունը` | B45: ՀՀ պետական բյուջեում նախատեսված ելքերի լրացուցիչ ֆինանսավորման, պետական բյուջեում չկանխատեսված ելքերի, ինչպես նաև բյուջետային երաշխիքների ապահովման ելքերի ֆինանսավորման ապահովում
...

Sheet 7
F1: Հավելված N 7
E2: ՀՀ կառավարության 2023 թվականի
E3: ______________ ի ___Ն որոշման
A4: ՀԱՅԱՍՏԱՆԻ ՀԱՆՐԱՊԵՏՈՒԹՅԱՆ ԿԱՌԱՎԱՐՈՒԹՅԱՆ 2021 ԹՎԱԿԱՆԻ ԴԵԿՏԵՄԲԵՐԻ 29-Ի N 2111-Ն ՈՐՈՇՄԱՆ N 10 ՀԱՎԵԼՎԱԾՈՒՄ ԿԱՏԱՐՎՈՂ ՓՈՓՈԽՈՒԹՅՈՒՆՆԵՐԸ
A5: Գնման առարկայի | G5: Գումարը (հազար դրամով) Ցուցանիշների փոփոխությունը (ավելացումները նշված են դրական նշանով, իսկ նվազեցումները՝ փակագծերում)
A6: Կոդը | B6: Անվանումը | C6: Գնման ձև | D6: Չափման միավորը | E6: Միավորի գինը | F6: Քանակը
A8: ՀՀ արտակարգ իրավիճակների նախարարություն | G8: =+G9+G36 -> 218894.58
A9: Բաժին N 03 | B9: Խումբ N 02 | C9: Դաս N 01 | D9: Փրկարար ծառայություն | G9: =+G10 -> 207203.48
A10: 1090 | B10: Փրկարարական ծառայություններ | G10: =+G11 -> 207203.48
A11: 1090 31007 | B11: ԱԻՆ Փրկարար ծառայության շենքային ապահովվածության և պայմանների բարելավում | G11: =+G12+G21 -> 207203.48
A12: ՄԱՍII. ԱՇԽԱՏԱՆՔՆԵՐ | G12: =SUM(G13:G19,G20) -> 202528.08
A13: 45611300 | B13: այլ շենքերի ու շինությունների հիմնանորոգում | C13: ԳՀ | D13: դրամ | E13: 21601379 | F13: 1 | G13: =+E13*F13/1000 -> 21601.379
A14: 45611300 | B14: այլ շենքերի ու շինությունների հիմնանորոգում | C14: ԳՀ | D14: դրամ | E14: 1937368 | F14: 1 | G14: =+E14*F14/1000 -> 1937.368
A15: 45611300 | B15: այլ շենքերի ու շինությունների հիմնանորոգում | C15: ԳՀ | D15: դրամ | E15: 6104529 | F15: 1 | G15: =+E15*F15/1000 -> 6104.529
A16: 45611300 | B16: այլ շենքերի ու շինությունների հիմնանորոգում | C16: ԳՀ | D16: դրամ | E16: 58344206 | F16: 1 | G16: =+E16*F16/1000 -> 58344.206
A17: 45611300 | B17: այլ շենքերի ու շինությունների հիմնանորոգում | C17: ԳՀ | D17: դրամ | E17: 16495728 | F17: 1 | G17: =+E17*F17/1000 -> 16495.728
A18: 45611300 | B18: այլ շենքերի ու շինությունների հիմնանորոգում | C18: ԳՀ | D18: դրամ | E18: 63513000 | F18: 1 | G18: =+E18*F18/1000 -> 63513
A19: 45611300 | B19: այլ շենքերի ու շինությունների հիմնանորոգում | C19: ԳՀ | D19: դրամ | E19: 28353000 | F19: 1 | G19: =+E19*F19/1000 -> 28353
A20: 45231116 | B20: Գազի մատակարարաման մագիստրալային խողովակների կառուցման աշխատանքներ | C20: ՀՄԱ | D20: դրամ | E20: 6178870 | F20: 1 | G20: =F20*E20/1000 -> 6178.87
A21: ՄԱՍIII. ԾԱՌԱՅՈՒԹՅՈՒՆՆԵՐ | G21: =SUM(G22:G35) -> 4675.4
A22: 71351540 | B22: տեխնիկական հսկողության ծառայություններ | C22: ԳՀ | D22: դրամ | E22: 540000 | F22: 1 | G22: =+E22*F22/1000 -> 540
A23: 71351540 | B23: տեխնիկական հսկողության ծառայություններ | C23: ԳՀ | D23: դրամ | E23: 480000 | F23: 1 | G23: =+E23*F23/1000 -> 480
A24: 71351540 | B24: տեխնիկական հսկողության ծառայություններ | C24: ԳՀ | D24: դրամ | E24: 350000 | F24: 1 | G24: =+E24*F24/1000 -> 350
A25: 71351540 | B25: տեխնիկական հսկողության ծառայություններ | C25: ԳՀ | D25: դրամ | E25: 653000 | F25: 1 | G25: =+E25*F25/1000 -> 653
A26: 71351540 | B26: տեխնիկական հսկողության ծառայություններ | C26: ԳՀ | D26: դրամ | E26: 235000 | F26: 1 | G26: =+E26*F26/1000 -> 235
A27: 71351540 | B27: տեխնիկական հսկողության ծառայություններ | C27: ԳՀ | D27: դրամ | E27: 400000 | F27: 1 | G27: =+E27*F27/1000 -> 400
A28: 71351540 | B28: տեխնիկական հսկողության ծառայություններ | C28: ԳՀ | D28: դրամ | E28: 330000 | F28: 1 | G28: =+E28*F28/1000 -> 330
A29: 98111140 | B29: հեղինակային հսկողության ծառայություններ | C29: ՄԱ | D29: դրամ | E29: 228220 | F29: 1 | G29: =+E29*F29/1000 -> 228.22
A30: 98111140 | B30: հեղինակային հսկողության ծառայություններ | C30: ՄԱ | D30: դրամ | E30: 201050 | F30: 1 | G30: =+E30*F30/1000 -> 201.05
A31: 98111140 | B31: հեղինակային հսկողության ծառայություններ | C31: ՄԱ | D31: դրամ | E31: 216510 | F31: 1 | G31: =+E31*F31/1000 -> 216.51
A32: 98111140 | B32: հեղինակային հսկողության ծառայություններ | C32: ՄԱ | D32: դրամ | E32: 410650 | F32: 1 | G32: =+E32*F32/1000 -> 410.65
A33: 98111140 | B33: հեղինակային հսկողության ծառայություններ | C33: ՄԱ | D33: դրամ | E33: 135670 | F33: 1 | G33: =+E33*F33/1000 -> 135.67
... A35: 98111140 | B35: հեղինակային հսկողության ծառայություններ | C35: ՄԱ | D35: դրամ | E35: 135110 | F35: 1 | G35: =+E35*F35/1000 -> 135.11
A36: 1112 | B36: Արտակարգ իրավիճակների բնագավառի պետական քաղաքականության մշակում, ծրագրերի համակարգում և մոնիտորինգ | G36: =G37 -> 11691.1
A37: 1112 31002 | B37: ՀՀ արտակարգ իրավիճակների նախարարության շենքային պայմանների բարելավում | G37: =+G38+G40 -> 11691.1
A38: ՄԱՍII. ԱՇԽԱՏԱՆՔՆԵՐ | G38: =+G39 -> 11339
A39: 45611300/504 | B39: այլ շենքերի ու շինությունների հիմնանորոգում | C39: ԳՀ | D39: դրամ | E39: 11339000 | F39: 1 | G39: =+E39*F39/1000 -> 11339
A40: ՄԱՍIII. ԾԱՌԱՅՈՒԹՅՈՒՆՆԵՐ | G40: =+SUM(G41:G42) -> 352.1
A41: 71351540 | B41: տեխնիկական հսկողության ծառայություններ | C41: ԳՀ | D41: դրամ | E41: 120000 | F41: 1 | G41: =+E41*F41/1000 -> 120
A42: 98111140 | B42: հեղինակային հսկողության ծառայություններ | C42: ՄԱ | D42: դրամ | E42: 232100 | F42: 1 | G42: =+E42*F42/1000 -> 232.1
...
