Workbook
Name a: #REF!
Name a: #REF!
Name AgencyCode: #REF!
Name AgencyCode: #REF!
Name AgencyCode: #REF!
Name AgencyCode: #REF!
Name AgencyCode: #REF!
Name AgencyName: #REF!
Name AgencyName: #REF!
Name AgencyName: #REF!
Name AgencyName: #REF!
Name AgencyName: #REF!
Name davit: #REF!
Name davit: #REF!
Name davit: #REF!
Name davit: #REF!
Name Functional1: #REF!
Name Functional1: #REF!
Name Functional1: #REF!
Name Functional1: #REF!
Name Functional1: #REF!
Name ggg: #REF!
Name ggg: #REF!
Name ggg: #REF!
Name ggg: #REF!
Name HAVELVAC10: #REF!
Name PANature: #REF!
Name PANature: #REF!
Name PANature: #REF!
Name PANature: #REF!
Name PANature: #REF!
Name PAType: #REF!
Name PAType: #REF!
Name PAType: #REF!
Name PAType: #REF!
Name PAType: #REF!
Name Performance2: #REF!
Name Performance2: #REF!
Name Performance2: #REF!
Name Performance2: #REF!
Name Performance2: #REF!
Name PerformanceType: #REF!
Name PerformanceType: #REF!
Name PerformanceType: #REF!
Name PerformanceType: #REF!
Name PerformanceType: #REF!
Name Հավելված: #REF!
Name Հավելված: #REF!
Name Հավելված: #REF!
Name Հավելված: #REF!
Name Մաս: #REF!
Name Մաս: #REF!
Name Մաս: #REF!
Name Մաս: #REF!
Name շախմատիստ: #REF!
Name շախմատիստ: #REF!
Name շախմատիստ: #REF!
Name շախմատիստ: #REF!

Sheet Havelvats 1
D1: Հավելված N 1
D2: ՀՀ կառավարության 2023 թվականի
E3: ______________ ի ___Ն որոշման
A5: «ՀԱՅԱUՏԱՆԻ ՀԱՆՐԱՊԵՏՈՒԹՅԱՆ 2023 ԹՎԱԿԱՆԻ ՊԵՏԱԿԱՆ ԲՅՈՒՋԵԻ ՄԱUԻՆ» ՀԱՅԱUՏԱՆԻ ՀԱՆՐԱՊԵՏՈՒԹՅԱՆ OՐԵՆՔԻ N 1 ՀԱՎԵԼՎԱԾԻ N 2 ԱՂՅՈՒՍԱԿՈՒՄ ԿԱՏԱՐՎՈՂ ՎԵՐԱԲԱՇԽՈՒՄԸ ԵՎ ՀԱՅԱՍՏԱՆԻ ՀԱՆՐԱՊԵՏՈՒԹՅԱՆ ԿԱՌԱՎԱՐՈՒԹՅԱՆ 2022 ԹՎԱԿԱՆԻ ԴԵԿՏԵՄԲԵՐԻ 29-Ի N 2111-Ն ՈՐՈՇՄԱՆ N 5 ՀԱՎԵԼՎԱԾԻ N 1 ԱՂՅՈՒՍԱԿՈՒՄ ԿԱՏԱՐՎՈՂ ՓՈՓՈԽՈՒԹՅՈՒՆՆԵՐԸ
E6: հազ. դրամներով
A7: Ծրագրային դասիչը | C7: Բյուջետային հատկացումների գլխավոր կարգադրիչների, ծրագրերի և միջոցառումների անվանումները | D7: Ցուցանիշների փոփոխությունը (ավելացումները նշված են դրական նշանով, իսկ նվազեցումները՝ փակագծերում)
A8: Ծրագիր | B8: Միջոցառում | D8: Առաջին կիսամյակ | E8: Ինն ամիս | F8: Տարի
C9: ԸՆԴԱՄԵՆԸ | D9: =+D11+D25 -> 0 | E9: =+E11+E25 -> 0 | F9: =+F11+F25 -> 0
C10: այդ թվում
C11: ՀՀ ԿՐԹՈՒԹՅԱՆ, ԳԻՏՈՒԹՅԱՆ, ՄՇԱԿՈՒՅԹԻ ԵՎ ՍՊՈՐՏԻ ՆԱԽԱՐԱՐՈՒԹՅՈՒՆ | D11: =D12 -> 1043686.9 | E11: =E12 -> 1053967.5 | F11: =F12 -> 1056530.7
A12: 1041 | C12: Ծրագրի անվանումը` | D12: =D19 -> 1043686.9 | E12: =E19 -> 1053967.5 | F12: =F19 -> 1056530.7
C13: Մեծ նվաճումների սպորտ
C14: Ծրագրի նպատակը`
C15: Նպաստել Հայաստանում մեծ սպորտի շարունակական զարգացմանը և միջազգային հարթակներում ՀՀ դիրքի բարելավմանը
C16: Վերջնական արդյունքի նկարագրությունը`
C17: ՀՀ առաջնությունների ընդլայնում, միջազգային սպորտային միջոցառումներին մասնակցության և նվաճումների ապահովում
C18: Ծրագրի միջոցառումներ
B19: 11041 | C19: Միջոցառման անվանումը` | D19: =1007070.5+36616.4 -> 1043686.9 | E19: =D19+10280.6 -> 1053967.5 | F19: =E19+2563.2 -> 1056530.7
C20: Միջազգային մրցաշարերին մասնակցության և մասնագիտական մարզահագուստով ապահովման նպատակով մարզական ֆեդերացիաներին լրացուցիչ աջակցության հատկացում
C21: Միջոցառման նկարագրությունը`
C22: Մարզական ֆեդերացիաներին միջազգային մրցաշարերի մասնակցության և մասնագիտական մարզահագուստով ապահովում
C23: Միջոցառման տեսակը
C24: Ծառայությունների մատուցում
C25: ՀՀ ԿԱՌԱՎԱՐՈՒԹՅՈՒՆ | D25: =D26 -> -1043686.9 | E25: =E26 -> -1053967.5 | F25: =F26 -> -1056530.7
A26: 1139 | C26: Ծրագրի անվանումը` | D26: =D32 -> -1043686.9 | E26: =E32 -> -1053967.5 | F26: =F32 -> -1056530.7
C27: ՀՀ կառավարության պահուստային ֆոնդ
C28: Ծրագրի նպատակը`
C29: Պետական բյուջեում չկանխատեսված, ինչպես նաև բյուջետային երաշխիքների ապահովման ծախսերի ֆինանսավորման ապահովում
C30: Վերջնական արդյունքի նկարագրությունը`
C31: Պահուստային ֆոնդի կառավարման արդյունավետության և թափանցիկության ապահովում
B32: 11001 | C32: Միջոցառման անվանումը` | D32: -1043686.9 | E32: -1053967.5 | F32: -1056530.7
C33: ՀՀ կառավարության պահուստային ֆոնդ
C34: Միջոցառման նկարագրությունը`
C35: ՀՀ պետական բյուջեում նախատեսված ելքերի լրացուցիչ ֆինանսավորման՝ պետական բյուջեում չկանխատեսված ելքերի, ինչպես նաև բյուջետային երաշխիքների ապահովման ելքերի ֆինանսավորման ապահովում
C36: Միջոցառման տեսակը
C37: Ծառայությունների մատուցում

Sheet Havelvats 2 
G1: Հավելված N 2
G2: ՀՀ կառավարության 2023 թվականի
G3: ______________ ի ___Ն որոշման
A5: ՀԱՅԱՍՏԱՆԻ ՀԱՆՐԱՊԵՏՈՒԹՅԱՆ ԿԱՌԱՎԱՐՈՒԹՅԱՆ 2022 ԹՎԱԿԱՆԻ ԴԵԿՏԵՄԲԵՐԻ 29-Ի N 2111-Ն ՈՐՈՇՄԱՆ N 3 ԵՎ N 4 ՀԱՎԵԼՎԱԾՆԵՐՈՒՄ ԿԱՏԱՐՎՈՂ ՓՈՓՈԽՈՒԹՅՈՒՆՆԵՐԸ
A9: Գործառական դասիչը | D9: Ծրագրային դասիչը | F9: Բյուջետային հատկացումների գլխավոր կարգադրիչների, ծրագրերի, միջոցառումների և միջոցառումները կատարող պետական մարմինների անվանումները | G9: Ցուցանիշների փոփոխությունը (ավելացումները նշված են դրական նշանով, իսկ նվազեցումները՝ փակագծերում)
A10: Բաժին | B10: Խումբ | C10: Դաս | D10: Ծրագիր | E10: Միջոցառում | G10: Առաջին կիսամյակ | H10: Ինն ամիս | I10: Տարի
F11: ԸՆԴԱՄԵՆԸ | G11: =G13+G33 -> 0 | H11: =H13+H33 -> 0 | I11: =I13+I33 -> 0
F12: այդ թվում
F13: ՀՀ ԿՐԹՈՒԹՅԱՆ, ԳԻՏՈՒԹՅԱՆ, ՄՇԱԿՈՒՅԹԻ ԵՎ ՍՊՈՐՏԻ ՆԱԽԱՐԱՐՈՒԹՅՈՒՆ | G13: =G22 -> 1043686.9 | H13: =+H22 -> 1053967.5 | I13: =+I22 -> 1056530.7
A14: 08 | F14: ՀԱՆԳԻՍՏ, ՄՇԱԿՈՒՅԹ ԵՎ ԿՐՈՆ | G14: =G13 -> 1043686.9 | H14: =H13 -> 1053967.5 | I14: =I13 -> 1056530.7
F15: այդ թվում`
B16: 01 | F16: Հանգստի և սպորտի ծառայություններ | G16: =G14 -> 1043686.9 | H16: =H14 -> 1053967.5 | I16: =I14 -> 1056530.7
F17: այդ թվում`
C18: 01 | F18: Հանգստի և սպորտի ծառայություններ | G18: =G16 -> 1043686.9 | H18: =H16 -> 1053967.5 | I18: =I16 -> 1056530.7
F19: այդ թվում`
F20: ՀՀ կրթության, գիտության, մշակույթի և սպորտի նախարարություն | G20: =G18 -> 1043686.9 | H20: =H18 -> 1053967.5 | I20: =I18 -> 1056530.7
F21: այդ թվում`
D22: 1041 | E22: Մեծ նվաճումների սպորտ | G22: =+G24 -> 1043686.9 | H22: =+H24 -> 1053967.5 | I22: =+I24 -> 1056530.7
F23: այդ թվում`
E24: 11041 | F24: Միջազգային մրցաշարերին մասնակցության և մասնագիտական մարզահագուստով ապահովման նպատակով մարզական ֆեդերացիաներին լրացուցիչ աջակցության հատկացում | G24: =G26 -> 1043686.9 | H24: =H26 -> 1053967.5 | I24: =I26 -> 1056530.7
F25: այդ թվում` ըստ կատարողների
F26: ՀՀ կրթության, գիտության, մշակույթի և սպորտի նախարարություն | G26: =G28 -> 1043686.9 | H26: =H28 -> 1053967.5 | I26: =I28 -> 1056530.7
F27: այդ թվում՝ բյուջետային ծախսերի տնտեսագիտական դասակարգման հոդվածներ
F28: ԸՆԴԱՄԵՆԸ ԾԱԽՍԵՐ | G28: =G29 -> 1043686.9 | H28: =H29 -> 1053967.5 | I28: =I29 -> 1056530.7
F29: ԸՆԹԱՑԻԿ ԾԱԽՍԵՐ | G29: =+G30 -> 1043686.9 | H29: =+H30 -> 1053967.5 | I29: =+I30 -> 1056530.7
F30: ԴՐԱՄԱՇՆՈՐՀՆԵՐ | G30: =G31 -> 1043686.9 | H30: =H31 -> 1053967.5 | I30: =I31 -> 1056530.7
F31: Ընթացիկ դրամաշնորհներ պետական հատվածի այլ մակարդակներին | G31: =G32 -> 1043686.9 | H31: =H32 -> 1053967.5 | I31: =I32 -> 1056530.7
F32: - Այլ ընթացիկ դրամաշնորհներ | G32: ='Havelvats 1'!D19 -> 1043686.9 | H32: ='Havelvats 1'!E19 -> 1053967.5 | I32: ='Havelvats 1'!F19 -> 1056530.7
F33: ՀՀ ԿԱՌԱՎԱՐՈՒԹՅՈՒՆ | G33: =+G34 -> -1043686.9 | H33: =+H34 -> -1053967.5 | I33: =+I34 -> -1056530.7
A34: 11 | F34: ՀԻՄՆԱԿԱՆ ԲԱԺԻՆՆԵՐԻՆ ՉԴԱՍՎՈՂ ՊԱՀՈՒՍՏԱՅԻՆ ՖՈՆԴԵՐ | G34: =+G36 -> -1043686.9 | H34: =+H36 -> -1053967.5 | I34: =+I36 -> -1056530.7
F35: այդ թվում`
B36: 01 | F36: ՀՀ կառավարության և համայնքների պահուստային ֆոնդ | G36: =+G38 -> -1043686.9 | H36: =+H38 -> -1053967.5 | I36: =+I38 -> -1056530.7
F37: այդ թվում`
C38: 01 | F38: ՀՀ կառավարության պահուստային ֆոնդ | G38: =+G42 -> -1043686.9 | H38: =+H42 -> -1053967.5 | I38: =+I42 -> -1056530.7
F39: այդ թվում`
F40: ՀՀ կառավարություն | G40: =+G42 -> -1043686.9 | H40: =+H42 -> -1053967.5 | I40: =+I42 -> -1056530.7
F41: այդ թվում`
D42: 1139 | E42: ՀՀ կառավարության պահուստային ֆոնդ | F42: ՀՀ կառավարության պահուստային ֆոնդ | G42: =+G51 -> -1043686.9 | H42: =+H51 -> -1053967.5 | I42: =+I51 -> -1056530.7
F43: այդ թվում`
E44: 11001 | F44: ՀՀ կառավարության պահուստային ֆոնդ | G44: =+G46 -> -1043686.9 | H44: =+H46 -> -1053967.5 | I44: =+I46 -> -1056530.7
F45: այդ թվում` ըստ կատարողների
F46: ՀՀ կառավարություն | G46: =+G48 -> -1043686.9 | H46: =+H48 -> -1053967.5 | I46: =+I48 -> -1056530.7
F47: այդ թվում` բյուջետային ծախսերի տնտեսագիտական դասակարգման հոդվածներ
F48: ԸՆԴԱՄԵՆԸ ԾԱԽՍԵՐ | G48: =+G49 -> -1043686.9 | H48: =+H49 -> -1053967.5 | I48: =+I49 -> -1056530.7
F49: ԸՆԹԱՑԻԿ ԾԱԽՍԵՐ | G49: =+G50 -> -1043686.9 | H49: =+H50 -> -1053967.5 | I49: =+I50 -> -1056530.7
F50: ԱՅԼ ԾԱԽՍԵՐ | G50: =+G51 -> -1043686.9 | H50: =+H51 -> -1053967.5 | I50: =+I51 -> -1056530.7
F51: Պահուստային միջոցներ | G51: ='Havelvats 1'!D32 -> -1043686.9 | H51: ='Havelvats 1'!E32 -> -1053967.5 | I51: ='Havelvats 1'!F32 -> -1056530.7

Sheet Havelvac 3
F1: Հավելված N 3
F2: ՀՀ կառավարության 2023 թվականի
F3: ______________ ի ___Ն որոշման
A6: ՀԱՅԱՍՏԱՆԻ ՀԱՆՐԱՊԵՏՈՒԹՅԱՆ ԿԱՌԱՎԱՐՈՒԹՅԱՆ 2022 ԹՎԱԿԱՆԻ ԴԵԿՏԵՄԲԵՐԻ 29-Ի N 2111-Ն ՈՐՈՇՄԱՆ N 5 ՀԱՎԵԼՎԱԾԻ N 7 ԱՂՅՈՒՍԱԿՈՒՄ ԿԱՏԱՐՎՈՂ ԼՐԱՑՈՒՄՆԵՐԸ
G7: հազ. դրամներով
A8: Ծրագրային դասիչը | C8: Բյուջետային հատկացումների գլխավոր կարգադրիչների, ծրագրերի, միջոցառումների և միջոցառումները կատարող պետական մարմինների անվանումները | F8: Միջոցառումները կատարող պետական մարմինների և դրամաշնորհ ստացող տնտեսվարող սուբյեկտների անվանումները | G8: Ցուցանիշների փոփոխությունը (ավելացումները նշված են դրական նշանով)
A9: Ծրագիր | B9: Միջոցառում | G9: Տարի
A10: ՀՀ կրթության, գիտության, մշակույթի և սպորտի նախարարություն | G10: =+G11 -> 1056530.7
A11: 1041 | B11: Մեծ նվաճումների սպորտ | G11: =+G12 -> 1056530.7
B12: 11041 | C12: Միջազգային մրցաշարերին մասնակցության և մասնագիտական մարզահագուստով ապահովման նպատակով մարզական ֆեդերացիաներին լրացուցիչ աջակցության հատկացում | F12: ՀՀ կրթության, գիտության, մշակույթի և սպորտի նախարարություն | G12: =SUM(G13:G17) -> 1056530.7
F13: «Հայաստանի բասկետբոլի ֆեդերացիա» ՀԿ | G13: 40974.7
F14: «Հայաստանի բադմինթոնի ֆեդերացիա» ՀԿ | G14: 577.5
F15: «Հայաստանի ըմբշամարտի ֆեդերացիա» ՀԿ | G15: 12650
F16: «Հայաստանի վոլեյբոլի ֆեդերացիա» ՀԿ | G16: 2328.5
F17: «Հայաստանի ֆուտբոլի ֆեդերացիա» ՀԿ | G17: 1000000

Sheet Havelvats 4
A1: Հավելված N 4
A2: ՀՀ կառավարության 2023 թվականի
A3: ______________ ի ___Ն որոշման
B5: ՀԱՅԱՍՏԱՆԻ ՀԱՆՐԱՊԵՏՈՒԹՅԱՆ ԿԱՌԱՎԱՐՈՒԹՅԱՆ 2022 ԹՎԱԿԱՆԻ ԴԵԿՏԵՄԲԵՐԻ 29-Ի N 2111-Ն ՈՐՈՇՄԱՆ N 9 ՀԱՎԵԼՎԱԾԻ N 9.13 ԵՎ 9․47 ԱՂՅՈՒՍԱԿՆԵՐՈՒՄ ԿԱՏԱՐՎՈՂ ԼՐԱՑՈՒՄՆԵՐԸ ԵՎ ՓՈՓՈԽՈՒԹՅՈՒՆՆԵՐԸ
A7: Աղյուսակ 9․13
C8: ՀՀ կրթության, գիտության, մշակույթի և սպորտի նախարարություն
B9: ՄԱՍ 2. ՊԵՏԱԿԱՆ ՄԱՐՄՆԻ ԳԾՈՎ ԱՐԴՅՈՒՆՔԱՅԻՆ (ԿԱՏԱՐՈՂԱԿԱՆ) ՑՈՒՑԱՆԻՇՆԵՐԸ
B13: Ծրագրի դասիչը | C13: Ծրագրի անվանումը
B14: 1041 | C14: Մեծ նվաճումների սպորտ
B16: Ծրագրի միջոցառումները
B17: Ծրագրի դասիչը՝ | C17: 1041 | D17: Ցուցանիշների փոփոխությունը (ավելացումները նշված են դրական նշանով)
B18: Միջոցառման դասիչը՝ | C18: 11041 | D18: Առաջին կիսամյակ | E18: Ինն ամիս | F18: Տարի
B19: Միջոցառման անվանումը՝ | C19: Միջազգային մրցաշարերին մասնակցության և մասնագիտական մարզահագուստով ապահովման նպատակով մարզական ֆեդերացիաներին լրացուցիչ աջակցության հատկացում
B20: Նկարագրությունը՝ | C20: Մարզական ֆեդերացիաներին միջազգային մրցաշարերի մասնակցության և մասնագիտական մարզահագուստով ապահովում
B21: Միջոցառման տեսակը՝ | C21: Ծառայությունների մատուցում
B22: Միջոցառումն իրականացնողի անվանումը | C22: Մասնագիտացված կազմակերպություններ
B23: Արդյունքի չափորոշիչներ
B24: ՀՀ առաջնությունների թիվ, հատ | D24: 3 | E24: 5 | F24: 7
B25: ՈՒսումնամարզական հավաքների թիվ, հատ | D25: 3 | E25: =D25 -> 3 | F25: =E25 -> 3
B26: Միջազգային միջոցառումների թիվ, հատ | D26: 4 | E26: =D26+1 -> 5 | F26: =E26+1 -> 6
B27: ՀՀ առաջնությունների մասնակիցների թիվ, մարդ | D27: 203 | E27: =D27+84+7+8+11 -> 313 | F27: =E27+52+7+8+8 -> 388
B28: ՈՒսումնամարզական հավաքների մասնակիցների թիվ, մարդ | D28: 34 | E28: =D28 -> 34 | F28: =E28 -> 34
B29: Միջազգային միջոցառումների մասնակիցների թիվ, մարդ | D29: 4 | E29: =D29+1 -> 5 | F29: =E29+1 -> 6
B30: Մասնագիտական մարզահագուստ, լրակազմ/հատ/զույգ | D30: 421 | E30: =D30 -> 421 | F30: =E30 -> 421
B31: Ֆուտբոլի Հայաստանի ազգային հավաքականի կողմից իրականացված միջոցառումների թիվը , հատ | D31: 10 | E31: =D31 -> 10 | F31: =E31 -> 10
B32: Միջոցառման վրա կատարվող ծախսը (հազար դրամ) | D32: ='Havelvats 1'!D19 -> 1043686.9 | E32: ='Havelvats 1'!E19 -> 1053967.5 | F32: ='Havelvats 1'!F19 -> 1056530.7
A35: Աղյուսակ 9․47
C37: ՀՀ կառավարություն
B38: ՄԱՍ 2. ՊԵՏԱԿԱՆ ՄԱՐՄՆԻ ԳԾՈՎ ԱՐԴՅՈՒՆՔԱՅԻՆ (ԿԱՏԱՐՈՂԱԿԱՆ) ՑՈՒՑԱՆԻՇՆԵՐԸ
B41: Ծրագրի դասիչը | C41: Ծրագրի անվանումը
B42: 1139 | C42: ՀՀ կառավարության պահուստային ֆոնդ
B43: Ծրագրի միջոցառումները
B44: Ծրագրի դասիչը՝ | C44: 1139 | D44: Ցուցանիշների փոփոխությունը (նվազեցումները նշված են փակագծերում)
B45: Միջոցառման դասիչը՝ | C45: 11001 | D45: Առաջին կիսամյակ | E45: Ինն ամիս | F45: Տարի
B46: Միջոցառման անվանումը՝ | C46: ՀՀ կառավարության պահուստային ֆոնդ
B47: Նկարագրությունը՝ | C47: ՀՀ պետական բյուջեում նախատեսված ելքերի լրացուցիչ ֆինանսավորման՝ պետական բյուջեում չկանխատեսված ելքերի, ինչպես նաև բյուջետային երաշխիքների ապահովման ելքերի ֆինանսավորման ապահովում
B48: Միջոցառման տեսակը՝ | C48: Ծառայությունների մատուցում
B49: Միջոցառումն իրականացնողի անվանումը | C49: ՀՀ կառավարություն
C50: Արդյունքի չափորոշիչներ
B51: Միջոցառման վրա կատարվող ծախսը (հազար դրամ) | D51: ='Havelvats 1'!D32 -> -1043686.9 | E51: ='Havelvats 1'!E32 -> -1053967.5 | F51: ='Havelvats 1'!F32 -> -1056530.7

Sheet Havelvats 5
D1: Հավելված N 5
C2: ՀՀ կառավարության 2023 թվականի
C3: ______________ ի ___Ն որոշման
B5: ՀԱՅԱՍՏԱՆԻ ՀԱՆՐԱՊԵՏՈՒԹՅԱՆ ԿԱՌԱՎԱՐՈՒԹՅԱՆ 2022 ԹՎԱԿԱՆԻ ԴԵԿՏԵՄԲԵՐԻ 29-Ի N 2111-Ն ՈՐՈՇՄԱՆ N 9․1 ՀԱՎԵԼՎԱԾԻ N 9.1․13 ԵՎ 9․1․58 ԱՂՅՈՒՍԱԿՆԵՐՈՒՄ ԿԱՏԱՐՎՈՂ ԼՐԱՑՈՒՄՆԵՐԸ ԵՎ ՓՈՓՈԽՈՒԹՅՈՒՆՆԵՐԸ
A7: Աղյուսակ 9․1․13
C9: ՀՀ կրթության, գիտության, մշակույթի և սպորտի նախարարություն
B10: ՄԱՍ 2. ՊԵՏԱԿԱՆ ՄԱՐՄՆԻ ԳԾՈՎ ԱՐԴՅՈՒՆՔԱՅԻՆ (ԿԱՏԱՐՈՂԱԿԱՆ) ՑՈՒՑԱՆԻՇՆԵՐԸ
B12: Ծրագրի դասիչը | C12: Ծրագրի անվանումը
B13: 1041 | C13: Մեծ նվաճումների սպորտ
B15: Ծրագրի միջոցառումները
B16: Ծրագրի դասիչը՝ | C16: 1041 | D16: Ցուցանիշների փոփոխությունը (ավելացումները նշված են դրական նշանով)
B17: Միջոցառման դասիչը՝ | C17: 11041 | D17: Առաջին կիսամյակ | E17: Ինն ամիս | F17: Տարի
B18: Միջոցառման անվանումը՝ | C18: Միջազգային մրցաշարերին մասնակցության և մասնագիտական մարզահագուստով ապահովման նպատակով մարզական ֆեդերացիաներին լրացուցիչ աջակցության հատկացում
B19: Նկարագրությունը՝ | C19: Մարզական ֆեդերացիաներին միջազգային մրցաշարերի մասնակցության և մասնագիտական մարզահագուստով ապահովում
B20: Միջոցառման տեսակը՝ | C20: Ծառայությունների մատուցում
B21: Միջոցառումն իրականացնողի անվանումը | C21: Մասնագիտացված կազմակերպություններ
B22: Արդյունքի չափորոշիչներ
B23: ՀՀ առաջնությունների թիվ, հատ | D23: 3 | E23: 5 | F23: 7
B24: ՈՒսումնամարզական հավաքների թիվ, հատ | D24: 3 | E24: =D24 -> 3 | F24: =E24 -> 3
B25: Միջազգային միջոցառումների թիվ, հատ | D25: 4 | E25: =D25+1 -> 5 | F25: =E25+1 -> 6
B26: ՀՀ առաջնությունների մասնակիցների թիվ, մարդ | D26: 203 | E26: =D26+84+7+8+11 -> 313 | F26: =E26+52+7+8+8 -> 388
B27: ՈՒսումնամարզական հավաքների մասնակիցների թիվ, մարդ | D27: 34 | E27: =D27 -> 34 | F27: =E27 -> 34
B28: Միջազգային միջոցառումների մասնակիցների թիվ, մարդ | D28: 4 | E28: =D28+1 -> 5 | F28: =E28+1 -> 6
B29: Մասնագիտական մարզահագուստ, հատ | D29: 421 | E29: =D29 -> 421 | F29: =E29 -> 421
B30: Ֆուտբոլի Հայաստանի ազգային հավաքականի կողմից իրականացված միջոցառումների թիվը , հատ | D30: 10 | E30: =D30 -> 10 | F30: =E30 -> 10
B31: Միջոցառման վրա կատարվող ծախսը (հազար դրամ) | D31: ='Havelvats 1'!D19 -> 1043686.9 | E31: ='Havelvats 1'!E19 -> 1053967.5 | F31: ='Havelvats 1'!F19 -> 1056530.7
A34: Աղյուսակ 9․1․58
C36: ՀՀ կառավարություն
B37: ՄԱՍ 2. ՊԵՏԱԿԱՆ ՄԱՐՄՆԻ ԳԾՈՎ ԱՐԴՅՈՒՆՔԱՅԻՆ (ԿԱՏԱՐՈՂԱԿԱՆ) ՑՈՒՑԱՆԻՇՆԵՐԸ
B40: Ծրագրի դասիչը | C40: Ծրագրի անվանումը
B41: 1139 | C41: ՀՀ կառավարության պահուստային ֆոնդ
B42: Ծրագրի միջոցառումները
B43: Ծրագրի դասիչը՝ | C43: 1139 | D43: Ցուցանիշների փոփոխությունը (նվազեցումները նշված են փակագծերում)
B44: Միջոցառման դասիչը՝ | C44: 11001 | D44: Առաջին կիսամյակ | E44: Ինն ամիս | F44: Տարի
B45: Միջոցառման անվանումը՝ | C45: ՀՀ կառավարության պահուստային ֆոնդ
B46: Նկարագրությունը՝ | C46: ՀՀ պետական բյուջեում նախատեսված ելքերի լրացուցիչ ֆինանսավորման՝ պետական բյուջեում չկանխատեսված ելքերի, ինչպես նաև բյուջետային երաշխիքների ապահովման ելքերի ֆինանսավորման ապահովում
B47: Միջոցառման տեսակը՝ | C47: Ծառայությունների մատուցում
B48: Միջոցառումն իրականացնողի անվանումը | C48: ՀՀ կառավարություն
C49: Արդյունքի չափորոշիչներ
B50: Միջոցառման վրա կատարվող ծախսը (հազար դրամ) | D50: ='Havelvats 1'!D32 -> -1043686.9 | E50: ='Havelvats 1'!E32 -> -1053967.5 | F50: ='Havelvats 1'!F32 -> -1056530.7

Sheet Havelvats 6
G1: Հավելված N 6
G2: ՀՀ կառավարության 2023 թվականի
G3: ______________ ի ___Ն որոշման
A6: ՀԱՅԱՍՏԱՆԻ ՀԱՆՐԱՊԵՏՈՒԹՅԱՆ 2023 ԹՎԱԿԱՆԻ ՊԵՏԱԿԱՆ ԲՅՈՒՋԵՈՎ ՆԱԽԱՏԵՍՎԱԾ՝ ՀԱՅԱՍՏԱՆԻ ՀԱՆՐԱՊԵՏՈՒԹՅԱՆ ԿԱՌԱՎԱՐՈՒԹՅԱՆ ՊԱՀՈՒՍՏԱՅԻՆ ՖՈՆԴԻՑ ՀԱՏԿԱՑՈՒՄՆԵՐ ԿԱՏԱՐԵԼՈՒ ՎԵՐԱԲԵՐՅԱԼ
H8: հազ. դրամներով
A9: Գործառական դասիչը | D9: Ծրագրային դասիչը | F9: Բյուջետային հատկացումների գլխավոր կարգադրիչների, ծրագրերի, միջոցառումների և միջոցառումները կատարող պետական մարմինների անվանումները | G9: Ցուցանիշների փոփոխությունը (ավելացումները նշված են դրական նշանով, իսկ նվազեցումները՝ փակագծերում)
A10: Բաժին | B10: Խումբ | C10: Դաս | D10: Ծրագիր | E10: Միջոցառում | G10: Առաջին կիսամյակ | H10: Ինն ամիս | I10: Տարի
F11: ԸՆԴԱՄԵՆԸ | G11: =+G33+G13 -> 0 | H11: =+H33+H13 -> 0 | I11: =+I33+I13 -> 0
F12: այդ թվում
F13: ՀՀ կրթության, գիտության, մշակույթի և սպորտի նախարարություն | G13: =+G14 -> 1043686.9 | H13: =+H14 -> 1053967.5 | I13: =+I14 -> 1056530.7
A14: 08 | F14: ՀԱՆԳԻՍՏ, ՄՇԱԿՈՒՅԹ ԵՎ ԿՐՈՆ | G14: =+G16 -> 1043686.9 | H14: =+H16 -> 1053967.5 | I14: =+I16 -> 1056530.7
F15: այդ թվում`
B16: 01 | F16: Հանգստի և սպորտի ծառայություններ | G16: =+G18 -> 1043686.9 | H16: =+H18 -> 1053967.5 | I16: =+I18 -> 1056530.7
F17: այդ թվում`
C18: 01 | F18: Հանգստի և սպորտի ծառայություններ | G18: =+G20 -> 1043686.9 | H18: =+H20 -> 1053967.5 | I18: =+I20 -> 1056530.7
F19: այդ թվում`
F20: ՀՀ կրթության, գիտության, մշակույթի և սպորտի նախարարություն | G20: =+G22 -> 1043686.9 | H20: =+H22 -> 1053967.5 | I20: =+I22 -> 1056530.7
F21: այդ թվում`
D22: 1041 | E22: Մեծ նվաճումների սպորտ | G22: =+G24 -> 1043686.9 | H22: =+H24 -> 1053967.5 | I22: =+I24 -> 1056530.7
E23: 11041 | F23: այդ թվում`
F24: Միջազգային մրցաշարերին մասնակցության և մասնագիտական մարզահագուստով ապահովման նպատակով մարզական ֆեդերացիաներին լրացուցիչ աջակցության հատկացում | G24: =+G26 -> 1043686.9 | H24: =+H26 -> 1053967.5 | I24: =+I26 -> 1056530.7
F25: այդ թվում` ըստ կատարողների
F26: ՀՀ կրթության, գիտության, մշակույթի և սպորտի նախարարություն | G26: =+G28 -> 1043686.9 | H26: =+H28 -> 1053967.5 | I26: =+I28 -> 1056530.7
F27: այդ թվում՝ բյուջետային ծախսերի տնտեսագիտական դասակարգման հոդվածներ
F28: ԸՆԴԱՄԵՆԸ ԾԱԽՍԵՐ | G28: =+G29 -> 1043686.9 | H28: =+H29 -> 1053967.5 | I28: =+I29 -> 1056530.7
F29: ԸՆԹԱՑԻԿ ԾԱԽՍԵՐ | G29: =+G30 -> 1043686.9 | H29: =+H30 -> 1053967.5 | I29: =+I30 -> 1056530.7
F30: ԴՐԱՄԱՇՆՈՐՀՆԵՐ | G30: =G31 -> 1043686.9 | H30: =H31 -> 1053967.5 | I30: =I31 -> 1056530.7
F31: Ընթացիկ դրամաշնորհներ պետական հատվածի այլ մակարդակներին | G31: =G32 -> 1043686.9 | H31: =H32 -> 1053967.5 | I31: =I32 -> 1056530.7
F32: - Այլ ընթացիկ դրամաշնորհներ | G32: ='Havelvats 1'!D19 -> 1043686.9 | H32: ='Havelvats 1'!E19 -> 1053967.5 | I32: ='Havelvats 1'!F19 -> 1056530.7
F33: ՀՀ կառավարություն | G33: =G34 -> -1043686.9 | H33: =+H34 -> -1053967.5 | I33: =+I34 -> -1056530.7
A34: 11 | F34: ՀԻՄՆԱԿԱՆ ԲԱԺԻՆՆԵՐԻՆ ՉԴԱՍՎՈՂ ՊԱՀՈՒՍՏԱՅԻՆ ՖՈՆԴԵՐ | G34: =G36 -> -1043686.9 | H34: =+H36 -> -1053967.5 | I34: =+I36 -> -1056530.7
F35: այդ թվում`
B36: 01 | F36: ՀՀ կառավարության և համայնքների պահուստային ֆոնդ | G36: =G38 -> -1043686.9 | H36: =+H38 -> -1053967.5 | I36: =+I38 -> -1056530.7
F37: այդ թվում`
C38: 01 | F38: ՀՀ կառավարության պահուստային ֆոնդ | G38: =G40 -> -1043686.9 | H38: =+H40 -> -1053967.5 | I38: =+I40 -> -1056530.7
F39: այդ թվում`
F40: ՀՀ կառավարություն | G40: =G42 -> -1043686.9 | H40: =+H42 -> -1053967.5 | I40: =+I42 -> -1056530.7
F41: այդ թվում`
D42: 1139 | E42: ՀՀ կառավարության պահուստային ֆոնդ | F42: ՀՀ կառավարության պահուստային ֆոնդ | G42: =G44 -> -1043686.9 | H42: =+H44 -> -1053967.5 | I42: =+I44 -> -1056530.7
F43: այդ թվում`
E44: 11001 | F44: ՀՀ կառավարության պահուստային ֆոնդ | G44: =G46 -> -1043686.9 | H44: =+H46 -> -1053967.5 | I44: =+I46 -> -1056530.7
F45: այդ թվում` ըստ կատարողների
F46: ՀՀ կառավարություն | G46: =G48 -> -1043686.9 | H46: =+H48 -> -1053967.5 | I46: =+I48 -> -1056530.7
F47: այդ թվում` բյուջետային ծախսերի տնտեսագիտական դասակարգման հոդվածներ
F48: ԸՆԴԱՄԵՆԸ ԾԱԽՍԵՐ | G48: =G49 -> -1043686.9 | H48: =+H49 -> -1053967.5 | I48: =+I49 -> -1056530.7
F49: ԸՆԹԱՑԻԿ ԾԱԽՍԵՐ | G49: =G50 -> -1043686.9 | H49: =+H50 -> -1053967.5 | I49: =+I50 -> -1056530.7
F50: ԱՅԼ ԾԱԽՍԵՐ | G50: =G51 -> -1043686.9 | H50: =+H51 -> -1053967.5 | I50: =+I51 -> -1056530.7
F51: Պահուստային միջոցներ | G51: ='Havelvats 1'!D32 -> -1043686.9 | H51: ='Havelvats 1'!E32 -> -1053967.5 | I51: ='Havelvats 1'!F32 -> -1056530.7
